Workbook
Name Auxiliar: #REF!
Name Auxiliar: #REF!
Name Auxiliar: #REF!
Name Auxiliar: #REF!
Name Auxiliar: #REF!
Name Auxiliar: #REF!
Name Auxiliar: #REF!
Name Auxiliar: #REF!
Name Auxiliar: #REF!
Name Auxiliar: #REF!
Name Auxiliar: #REF!
Name CUSTO_VALE_TRANSPORTE: #REF!
Name CUSTO_VALE_TRANSPORTE: #REF!
Name CUSTO_VALE_TRANSPORTE: #REF!
Name CUSTO_VALE_TRANSPORTE: #REF!
Name CUSTO_VALE_TRANSPORTE: #REF!
Name CUSTO_VALE_TRANSPORTE: #REF!
Name CUSTO_VALE_TRANSPORTE: #REF!
Name CUSTO_VALE_TRANSPORTE: #REF!
Name CUSTO_VALE_TRANSPORTE: #REF!
Name CUSTO_VALE_TRANSPORTE: #REF!
Name CUSTO_VALE_TRANSPORTE: #REF!
Name ecwece4c: #REF!
Name ecwece4c: #REF!
Name ecwece4c: #REF!
Name ecwece4c: #REF!
Name ecwece4c: #REF!
Name ecwece4c: #REF!
Name ecwece4c: #REF!
Name ecwece4c: #REF!
Name ecwece4c: #REF!
Name ecwece4c: #REF!
Name ecwece4c: #REF!
Name MOMB4: '[1]SERVENTE MANUTENCAO'!$I$144
Name MONA1: #REF!
Name MONA1: #REF!
Name MONA1: #REF!
Name MONA1: #REF!
Name MONA1: #REF!
Name MONA1: #REF!
Name MONA1: #REF!
Name MONA1: #REF!
Name MONA1: #REF!
Name MONA1: #REF!
Name MONA1: #REF!
Name MONA2: #REF!
Name MONA2: #REF!
Name MONA2: #REF!
Name MONA2: #REF!
Name MONA2: #REF!
Name MONA2: #REF!
Name MONA2: #REF!
Name MONA2: #REF!
Name MONA2: #REF!
Name MONA2: #REF!
Name MONA2: #REF!
Name MONA3: [2]HIDRAULICO!$I$138
Name MONA4: '[2]SERVENTE (AUX PRODUCAO)'!$I$138
Name MONA5: #REF!
Name MONA5: #REF!

Sheet Supervisor
A1: PLANILHA DE CUSTOS E FORMAÇÃO DE PREÇOS DE SERVIÇOS CONTINUADOS COM DEDICAÇÃO EXCLUSIVA DE MÃO DE OBRA (ANEXO III - DECRETO 52.768 de 15.12.2015)
A2: PROCESSO: | C2: 24/4501-0000254-7 | E2: REGIME DE TRIBUTAÇÃO: LUCRO REAL
A3: LICITAÇÃO/EDITAL | E3: ABERTURA:
A5: Cargo/Função: | D5: Supervisor | G5: =IF(D6="12x36","Regime de trabalho:","Quantidade de HORAS/MÊS") -> Quantidade de HORAS/MÊS | I5: =IF(D6="12x36",D6,5*D6) -> 220
A6: =IF(D6="12x36","Regime de trabalho:","Regime de trabalho (horas semanais):") -> Regime de trabalho (horas semanais): | D6: 44
A7: Convenção Coletiva de Trabalho: | D7: CCT RS000041/2026 | G7: INSALUBRIDADE (10%, 20%, 40%) | I7: Não aplicável
A8: Origem do salário: | D8: CCT RS000041/2026
A9: Cidade: | D9: Porto Alegre | G9: PERICULOSIDADE (30%) | I9: Não aplicável
A10: Salário Normativo | G10: Vlr. do salário e nº de horas correspondentes | H10: 220 | I10: 2307.83
A11: ISS | G11: =D9 -> Porto Alegre | H11: Alíquota | I11: 0.05
A12: Tarifa Transporte | G12: CCT | H12: Vr. Unitário | I12: 5.3
H13: Dias | I13: 22
H14: Desconto | I14: 0.06
A15: Auxílio Alimentação | G15: CCT | H15: Vr. Unitário | I15: 27.15
H16: Dias | I16: 22
H17: Desconto | I17: 0.19
A18: Auxílio Lanche | G18: CCT | H18: Vr. Unitário | I18: 0
H19: Dias | I19: 0
H20: Desconto | I20: 0
A21: PLANO DE BENEFÍCIO SOCIAL FAMILIAR (Cláusla 31ª) | G21: CCT | H21: Valor mensal | I21: 25.52
A23: Prêmio Assiduidade (Cláusual 19ª) | G23: CCT | H23: Valor mensal | I23: 80
A25: Adicional de Supervisor (37%) | H25: Porcentagem | I25: 0.37
A26: Base de cálculo da insalubridade | H26: Valor | I26: Não aplicável
A27: Quantitativo de horas trabalhadas em feriados no mês (estimado) - Não aplicável para postos 12x36 | H27: Horas por mês | I27: 8
H28: Acréscimo da hora extra | I28: 1
A29: Hora Intervalar (somente para postos 12x36, quando for o caso) | H29: Horas por mês | I29: Não aplicável
A30: Sem fornecimento de materiais ou apenas fornecimento de EPIs ou uniformes, utilizar 10%. Com fornecimento de materiais ou equipamentos, utilizar 20%. (Decreto 52.768/2015, alterado pelo Decreto 53.424/2017) | H30: Porcentagem | I30: 0.1
I31: Não aplicável
A37: MONTANTE A
A38: I | B38: Remuneração - Grupo I | H38: % | I38: Valor Mensal/unidade de serviço (R$)
A39: 1 | B39: Salário | H39: =I39/$I$47 -> 0.67287267 | I39: =IF(D6="12x36",I10,I10/H10*I5) -> 2307.83
A40: =A39+1 -> 2 | B40: Adicional Periculosidade 30% (Ver súmulas 364, 132 e 191 do TST) | H40: =I40/$I$47 -> 0 | I40: =IF(I9=30%,I39*I9,0) -> 0
A41: =A40+1 -> 3 | B41: Adicional Insalubridade 10% (Ver súmula 228 e 139 TST) | H41: =I41/$I$47 -> 0 | I41: =IF(I7=10%,I26*I7,0) -> 0
A42: =A41+1 -> 4 | B42: Adicional Insalubridade 20% (Ver súmula 228 e 139 TST) | H42: =I42/$I$47 -> 0 | I42: =IF(I7=20%,I26*I7,0) -> 0
A43: =A42+1 -> 5 | B43: Adicional Insalubridade 40% (Ver súmula 228 e 139 TST) | H43: =I43/$I$47 -> 0 | I43: =IF(I7=40%,I26*I7,0) -> 0
A44: =A43+1 -> 6 | B44: Adicional de Supervisor (IN 05/2017 MPOG SLTI) | H44: =I44/$I$47 -> 0.24896289 | I44: =IF(I25="Não aplicável",0,I39*I25) -> 853.8971
A45: =A44+1 -> 7 | B45: Feriados | H45: =I45/$I$47 -> 0.067042586 | I45: =IF(I27="Não aplicável",0,(I39+I40+I41+I42+I43+I44)/I5*I27*(1+I28)) -> 229.94379
A46: =A45+1 -> 8 | B46: DSR = número total das horas extras do mês / número de dias úteis X domingos e feriados do mês X valor da hora extra com acréscimo | H46: =I46/$I$47 -> 0.011121862 | I46: =IF(I27="Não aplicável",0,I27/I13*5*(I10/H10*(1+I28))) -> 38.14595
A47: Total de Remuneração | H47: =SUM(H39:H46) -> 1 | I47: =SUM(I39:I46) -> 3429.8168
A58: II | B58: Encargos Sociais - Grupo II: Obrigações Sociais | H58: % | I58: Valor Mensal/unidade de serviço (R$)
...

Sheet Auxiliar de Supervisor
A1: PLANILHA DE CUSTOS E FORMAÇÃO DE PREÇOS DE SERVIÇOS CONTINUADOS COM DEDICAÇÃO EXCLUSIVA DE MÃO DE OBRA (ANEXO III - DECRETO 52.768 de 15.12.2015)
A2: PROCESSO: | C2: 24/4501-0000254-7 | E2: REGIME DE TRIBUTAÇÃO: LUCRO REAL
A3: LICITAÇÃO/EDITAL | E3: ABERTURA:
A5: Cargo/Função: | D5: Auxiliar de Supervisor | G5: =IF(D6="12x36","Regime de trabalho:","Quantidade de HORAS/MÊS") -> Quantidade de HORAS/MÊS | I5: =IF(D6="12x36",D6,5*D6) -> 220
A6: =IF(D6="12x36","Regime de trabalho:","Regime de trabalho (horas semanais):") -> Regime de trabalho (horas semanais): | D6: 44
A7: Convenção Coletiva de Trabalho: | D7: CCT RS000041/2026 | G7: INSALUBRIDADE (10%, 20%, 40%) | I7: Não aplicável
A8: Origem do salário: | D8: CCT RS000041/2026
A9: Cidade: | D9: Porto Alegre | G9: PERICULOSIDADE (30%) | I9: Não aplicável
A10: Salário Normativo | G10: Vlr. do salário e nº de horas correspondentes | H10: 220 | I10: 2307.83
A11: ISS | G11: =D9 -> Porto Alegre | H11: Alíquota | I11: 0.05
A12: Tarifa Transporte | G12: CCT | H12: Vr. Unitário | I12: 5.3
H13: Dias | I13: 22
H14: Desconto | I14: 0.06
A15: Auxílio Alimentação | G15: CCT | H15: Vr. Unitário | I15: 27.15
H16: Dias | I16: 22
H17: Desconto | I17: 0.19
A18: Auxílio Lanche | G18: CCT | H18: Vr. Unitário | I18: 0
H19: Dias | I19: 0
H20: Desconto | I20: 0
A21: PLANO DE BENEFÍCIO SOCIAL FAMILIAR (Cláusla 31ª) | G21: CCT | H21: Valor mensal | I21: 25.52
A23: Prêmio Assiduidade (Cláusual 19ª) | G23: CCT | H23: Valor mensal | I23: 80
A25: Adicional de Supervisor (37%) | H25: Porcentagem | I25: Não aplicável
A26: Base de cálculo da insalubridade | H26: Valor | I26: Não aplicável
A27: Quantitativo de horas trabalhadas em feriados no mês (estimado) - Não aplicável para postos 12x36 | H27: Horas por mês | I27: 8
H28: Acréscimo da hora extra | I28: 1
A29: Hora Intervalar (somente para postos 12x36, quando for o caso) | H29: Horas por mês | I29: Não aplicável
A30: Sem fornecimento de materiais ou apenas fornecimento de EPIs ou uniformes, utilizar 10%. Com fornecimento de materiais ou equipamentos, utilizar 20%. (Decreto 52.768/2015, alterado pelo Decreto 53.424/2017) | H30: Porcentagem | I30: 0.1
I31: Não aplicável
A37: MONTANTE A
A38: I | B38: Remuneração - Grupo I | H38: % | I38: Valor Mensal/unidade de serviço (R$)
A39: 1 | B39: Salário | H39: =I39/$I$47 -> 0.91805766 | I39: =IF(D6="12x36",I10,I10/H10*I5) -> 2307.83
A40: =A39+1 -> 2 | B40: Adicional Periculosidade 30% (Ver súmulas 364, 132 e 191 do TST) | H40: =I40/$I$47 -> 0 | I40: =IF(I9=30%,I39*I9,0) -> 0
A41: =A40+1 -> 3 | B41: Adicional Insalubridade 10% (Ver súmula 228 e 139 TST) | H41: =I41/$I$47 -> 0 | I41: =IF(I7=10%,I26*I7,0) -> 0
A42: =A41+1 -> 4 | B42: Adicional Insalubridade 20% (Ver súmula 228 e 139 TST) | H42: =I42/$I$47 -> 0 | I42: =IF(I7=20%,I26*I7,0) -> 0
A43: =A42+1 -> 5 | B43: Adicional Insalubridade 40% (Ver súmula 228 e 139 TST) | H43: =I43/$I$47 -> 0 | I43: =IF(I7=40%,I26*I7,0) -> 0
A44: =A43+1 -> 6 | B44: Adicional de Supervisor (IN 05/2017 MPOG SLTI) | H44: =I44/$I$47 -> 0 | I44: =IF(I25="Não aplicável",0,I39*I25) -> 0
A45: =A44+1 -> 7 | B45: Feriados | H45: =I45/$I$47 -> 0.06676783 | I45: =IF(I27="Não aplicável",0,(I39+I40+I41+I42+I43+I44)/I5*I27*(1+I28)) -> 167.84218
A46: =A45+1 -> 8 | B46: DSR = número total das horas extras do mês / número de dias úteis X domingos e feriados do mês X valor da hora extra com acréscimo | H46: =I46/$I$47 -> 0.015174507 | I46: =IF(I27="Não aplicável",0,I27/I13*5*(I10/H10*(1+I28))) -> 38.14595
A47: Total de Remuneração | H47: =SUM(H39:H46) -> 1 | I47: =SUM(I39:I46) -> 2513.8181
A58: II | B58: Encargos Sociais - Grupo II: Obrigações Sociais | H58: % | I58: Valor Mensal/unidade de serviço (R$)
...

Sheet Auxiliar de Serviços Adm
A1: PLANILHA DE CUSTOS E FORMAÇÃO DE PREÇOS DE SERVIÇOS CONTINUADOS COM DEDICAÇÃO EXCLUSIVA DE MÃO DE OBRA (ANEXO III - DECRETO 52.768 de 15.12.2015)
A2: PROCESSO: | C2: 24/4501-0000254-7 | E2: REGIME DE TRIBUTAÇÃO: LUCRO REAL
A3: LICITAÇÃO/EDITAL | E3: ABERTURA:
A5: Cargo/Função: | D5: Auxiliar de Serviços Administrativos | G5: =IF(D6="12x36","Regime de trabalho:","Quantidade de HORAS/MÊS") -> Quantidade de HORAS/MÊS | I5: =IF(D6="12x36",D6,5*D6) -> 200
A6: =IF(D6="12x36","Regime de trabalho:","Regime de trabalho (horas semanais):") -> Regime de trabalho (horas semanais): | D6: 40
A7: Convenção Coletiva de Trabalho: | D7: CCT RS000041/2026 | G7: INSALUBRIDADE (10%, 20%, 40%) | I7: Não aplicável
A8: Origem do salário: | D8: CCT RS000041/2026
A9: Cidade: | D9: Porto Alegre | G9: PERICULOSIDADE (30%) | I9: Não aplicável
A10: Salário Normativo | G10: Vlr. do salário e nº de horas correspondentes | H10: 220 | I10: 2307.83
A11: ISS | G11: =D9 -> Porto Alegre | H11: Alíquota | I11: 0.05
A12: Tarifa Transporte | G12: CCT | H12: Vr. Unitário | I12: 5.3
H13: Dias | I13: 22
H14: Desconto | I14: 0.06
A15: Auxílio Alimentação | G15: CCT | H15: Vr. Unitário | I15: 27.15
H16: Dias | I16: 22
H17: Desconto | I17: 0.19
A18: Auxílio Lanche | G18: CCT | H18: Vr. Unitário | I18: 0
H19: Dias | I19: 0
H20: Desconto | I20: 0
A21: PLANO DE BENEFÍCIO SOCIAL FAMILIAR (Cláusla 31ª) | G21: CCT | H21: Valor mensal | I21: 25.52
A23: Prêmio Assiduidade (Cláusual 19ª) | G23: CCT | H23: Valor mensal | I23: 80
A25: Adicional de Supervisor (37%) | H25: Porcentagem | I25: Não aplicável
A26: Base de cálculo da insalubridade | H26: Valor | I26: Não aplicável
A27: Quantitativo de horas trabalhadas em feriados no mês (estimado) - Não aplicável para postos 12x36 | H27: Horas por mês | I27: 8
H28: Acréscimo da hora extra | I28: 1
A29: Hora Intervalar (somente para postos 12x36, quando for o caso) | H29: Horas por mês | I29: Não aplicável
A30: Sem fornecimento de materiais ou apenas fornecimento de EPIs ou uniformes, utilizar 10%. Com fornecimento de materiais ou equipamentos, utilizar 20%. (Decreto 52.768/2015, alterado pelo Decreto 53.424/2017) | H30: Porcentagem | I30: 0.1
I31: Não aplicável
A37: MONTANTE A
A38: I | B38: Remuneração - Grupo I | H38: % | I38: Valor Mensal/unidade de serviço (R$)
A39: 1 | B39: Salário | H39: =I39/$I$47 -> 0.91059603 | I39: =IF(D6="12x36",I10,I10/H10*I5) -> 2098.0273
A40: =A39+1 -> 2 | B40: Adicional Periculosidade 30% (Ver súmulas 364, 132 e 191 do TST) | H40: =I40/$I$47 -> 0 | I40: =IF(I9=30%,I39*I9,0) -> 0
A41: =A40+1 -> 3 | B41: Adicional Insalubridade 10% (Ver súmula 228 e 139 TST) | H41: =I41/$I$47 -> 0 | I41: =IF(I7=10%,I26*I7,0) -> 0
A42: =A41+1 -> 4 | B42: Adicional Insalubridade 20% (Ver súmula 228 e 139 TST) | H42: =I42/$I$47 -> 0 | I42: =IF(I7=20%,I26*I7,0) -> 0
A43: =A42+1 -> 5 | B43: Adicional Insalubridade 40% (Ver súmula 228 e 139 TST) | H43: =I43/$I$47 -> 0 | I43: =IF(I7=40%,I26*I7,0) -> 0
A44: =A43+1 -> 6 | B44: Adicional de Supervisor (IN 05/2017 MPOG SLTI) | H44: =I44/$I$47 -> 0 | I44: =IF(I25="Não aplicável",0,I39*I25) -> 0
A45: =A44+1 -> 7 | B45: Feriados | H45: =I45/$I$47 -> 0.072847682 | I45: =IF(I27="Não aplicável",0,(I39+I40+I41+I42+I43+I44)/I5*I27*(1+I28)) -> 167.84218
A46: =A45+1 -> 8 | B46: DSR = número total das horas extras do mês / número de dias úteis X domingos e feriados do mês X valor da hora extra com acréscimo | H46: =I46/$I$47 -> 0.016556291 | I46: =IF(I27="Não aplicável",0,I27/I13*5*(I10/H10*(1+I28))) -> 38.14595
A47: Total de Remuneração | H47: =SUM(H39:H46) -> 1 | I47: =SUM(I39:I46) -> 2304.0154
A58: II | B58: Encargos Sociais - Grupo II: Obrigações Sociais | H58: % | I58: Valor Mensal/unidade de serviço (R$)
...

Sheet Recepcionista
A1: PLANILHA DE CUSTOS E FORMAÇÃO DE PREÇOS DE SERVIÇOS CONTINUADOS COM DEDICAÇÃO EXCLUSIVA DE MÃO DE OBRA (ANEXO III - DECRETO 52.768 de 15.12.2015)
A2: PROCESSO: | C2: 24/4501-0000254-7 | E2: REGIME DE TRIBUTAÇÃO: LUCRO REAL
A3: LICITAÇÃO/EDITAL | E3: ABERTURA:
A5: Cargo/Função: | D5: Recepcionista | G5: =IF(D6="12x36","Regime de trabalho:","Quantidade de HORAS/MÊS") -> Quantidade de HORAS/MÊS | I5: =IF(D6="12x36",D6,5*D6) -> 200
A6: =IF(D6="12x36","Regime de trabalho:","Regime de trabalho (horas semanais):") -> Regime de trabalho (horas semanais): | D6: 40
A7: Convenção Coletiva de Trabalho: | D7: CCT RS000041/2026 | G7: INSALUBRIDADE (10%, 20%, 40%) | I7: Não aplicável
A8: Origem do salário: | D8: CCT RS000041/2026
A9: Cidade: | D9: Porto Alegre | G9: PERICULOSIDADE (30%) | I9: Não aplicável
A10: Salário Normativo | G10: Vlr. do salário e nº de horas correspondentes | H10: 220 | I10: 1996.44
A11: ISS | G11: =D9 -> Porto Alegre | H11: Alíquota | I11: 0.05
A12: Tarifa Transporte | G12: CCT | H12: Vr. Unitário | I12: 5.3
H13: Dias | I13: 22
H14: Desconto | I14: 0.06
A15: Auxílio Alimentação | G15: CCT | H15: Vr. Unitário | I15: 27.15
H16: Dias | I16: 22
H17: Desconto | I17: 0.19
A18: Auxílio Lanche | G18: CCT | H18: Vr. Unitário | I18: 0
H19: Dias | I19: 0
H20: Desconto | I20: 0
A21: PLANO DE BENEFÍCIO SOCIAL FAMILIAR (Cláusla 31ª) | G21: CCT | H21: Valor mensal | I21: 25.52
A23: Prêmio Assiduidade (Cláusual 19ª) | G23: CCT | H23: Valor mensal | I23: 80
A25: Adicional de Supervisor (37%) | H25: Porcentagem | I25: Não aplicável
A26: Base de cálculo da insalubridade | H26: Valor | I26: Não aplicável
A27: Quantitativo de horas trabalhadas em feriados no mês (estimado) - Não aplicável para postos 12x36 | H27: Horas por mês | I27: 8
H28: Acréscimo da hora extra | I28: 1
A29: Hora Intervalar (somente para postos 12x36, quando for o caso) | H29: Horas por mês | I29: Não aplicável
A30: Sem fornecimento de materiais ou apenas fornecimento de EPIs ou uniformes, utilizar 10%. Com fornecimento de materiais ou equipamentos, utilizar 20%. (Decreto 52.768/2015, alterado pelo Decreto 53.424/2017) | H30: Porcentagem | I30: 0.1
I31: Não aplicável
A37: MONTANTE A
A38: I | B38: Remuneração - Grupo I | H38: % | I38: Valor Mensal/unidade de serviço (R$)
A39: 1 | B39: Salário | H39: =I39/$I$47 -> 0.91059603 | I39: =IF(D6="12x36",I10,I10/H10*I5) -> 1814.9455
A40: =A39+1 -> 2 | B40: Adicional Periculosidade 30% (Ver súmulas 364, 132 e 191 do TST) | H40: =I40/$I$47 -> 0 | I40: =IF(I9=30%,I39*I9,0) -> 0
A41: =A40+1 -> 3 | B41: Adicional Insalubridade 10% (Ver súmula 228 e 139 TST) | H41: =I41/$I$47 -> 0 | I41: =IF(I7=10%,I26*I7,0) -> 0
A42: =A41+1 -> 4 | B42: Adicional Insalubridade 20% (Ver súmula 228 e 139 TST) | H42: =I42/$I$47 -> 0 | I42: =IF(I7=20%,I26*I7,0) -> 0
A43: =A42+1 -> 5 | B43: Adicional Insalubridade 40% (Ver súmula 228 e 139 TST) | H43: =I43/$I$47 -> 0 | I43: =IF(I7=40%,I26*I7,0) -> 0
A44: =A43+1 -> 6 | B44: Adicional de Supervisor (IN 05/2017 MPOG SLTI) | H44: =I44/$I$47 -> 0 | I44: =IF(I25="Não aplicável",0,I39*I25) -> 0
A45: =A44+1 -> 7 | B45: Feriados | H45: =I45/$I$47 -> 0.072847682 | I45: =IF(I27="Não aplicável",0,(I39+I40+I41+I42+I43+I44)/I5*I27*(1+I28)) -> 145.19564
A46: =A45+1 -> 8 | B46: DSR = número total das horas extras do mês / número de dias úteis X domingos e feriados do mês X valor da hora extra com acréscimo | H46: =I46/$I$47 -> 0.016556291 | I46: =IF(I27="Não aplicável",0,I27/I13*5*(I10/H10*(1+I28))) -> 32.999008
A47: Total de Remuneração | H47: =SUM(H39:H46) -> 1 | I47: =SUM(I39:I46) -> 1993.1401
A58: II | B58: Encargos Sociais - Grupo II: Obrigações Sociais | H58: % | I58: Valor Mensal/unidade de serviço (R$)
...

Sheet Auxiliar de Limpeza
A1: PLANILHA DE CUSTOS E FORMAÇÃO DE PREÇOS DE SERVIÇOS CONTINUADOS COM DEDICAÇÃO EXCLUSIVA DE MÃO DE OBRA (ANEXO III - DECRETO 52.768 de 15.12.2015)
A2: PROCESSO: | C2: 24/4501-0000254-7 | E2: REGIME DE TRIBUTAÇÃO: LUCRO REAL
A3: LICITAÇÃO/EDITAL | E3: ABERTURA:
A5: Cargo/Função: | D5: Auxiliar de Limpeza | G5: =IF(D6="12x36","Regime de trabalho:","Quantidade de HORAS/MÊS") -> Quantidade de HORAS/MÊS | I5: =IF(D6="12x36",D6,5*D6) -> 200
A6: =IF(D6="12x36","Regime de trabalho:","Regime de trabalho (horas semanais):") -> Regime de trabalho (horas semanais): | D6: 40
A7: Convenção Coletiva de Trabalho: | D7: CCT RS000041/2026 | G7: INSALUBRIDADE (10%, 20%, 40%) | I7: 0.4
A8: Origem do salário: | D8: CCT RS000041/2026
A9: Cidade: | D9: Porto Alegre | G9: PERICULOSIDADE (30%) | I9: Não aplicável
A10: Salário Normativo | G10: Vlr. do salário e nº de horas correspondentes | H10: 220 | I10: 1765.86
A11: ISS | G11: =D9 -> Porto Alegre | H11: Alíquota | I11: 0.05
A12: Tarifa Transporte | G12: CCT | H12: Vr. Unitário | I12: 5.3
H13: Dias | I13: 22
H14: Desconto | I14: 0.06
A15: Auxílio Alimentação | G15: CCT | H15: Vr. Unitário | I15: 27.15
H16: Dias | I16: 22
H17: Desconto | I17: 0.19
A18: Auxílio Lanche | G18: CCT | H18: Vr. Unitário | I18: 0
H19: Dias | I19: 0
H20: Desconto | I20: 0
A21: PLANO DE BENEFÍCIO SOCIAL FAMILIAR (Cláusla 31ª) | G21: CCT | H21: Valor mensal | I21: 25.52
A23: Prêmio Assiduidade (Cláusual 19ª) | G23: CCT | H23: Valor mensal | I23: 80
A25: Adicional de Supervisor (37%) | H25: Porcentagem | I25: Não aplicável
A26: Base de cálculo da insalubridade | H26: Valor | I26: 1605.33
A27: Quantitativo de horas trabalhadas em feriados no mês (estimado) - Não aplicável para postos 12x36 | H27: Horas por mês | I27: 8
H28: Acréscimo da hora extra | I28: 1
A29: Hora Intervalar (somente para postos 12x36, quando for o caso) | H29: Horas por mês | I29: Não aplicável
A30: Sem fornecimento de materiais ou apenas fornecimento de EPIs ou uniformes, utilizar 10%. Com fornecimento de materiais ou equipamentos, utilizar 20%. (Decreto 52.768/2015, alterado pelo Decreto 53.424/2017) | H30: Porcentagem | I30: 0.2
I31: Não aplicável
A37: MONTANTE A
A38: I | B38: Remuneração - Grupo I | H38: % | I38: Valor Mensal/unidade de serviço (R$)
A39: 1 | B39: Salário | H39: =I39/$I$47 -> 0.6535168 | I39: =IF(D6="12x36",I10,I10/H10*I5) -> 1605.3273
A40: =A39+1 -> 2 | B40: Adicional Periculosidade 30% (Ver súmulas 364, 132 e 191 do TST) | H40: =I40/$I$47 -> 0 | I40: =IF(I9=30%,I39*I9,0) -> 0
A41: =A40+1 -> 3 | B41: Adicional Insalubridade 10% (Ver súmula 228 e 139 TST) | H41: =I41/$I$47 -> 0 | I41: =IF(I7=10%,I26*I7,0) -> 0
A42: =A41+1 -> 4 | B42: Adicional Insalubridade 20% (Ver súmula 228 e 139 TST) | H42: =I42/$I$47 -> 0 | I42: =IF(I7=20%,I26*I7,0) -> 0
A43: =A42+1 -> 5 | B43: Adicional Insalubridade 40% (Ver súmula 228 e 139 TST) | H43: =I43/$I$47 -> 0.26140716 | I43: =IF(I7=40%,I26*I7,0) -> 642.132
A44: =A43+1 -> 6 | B44: Adicional de Supervisor (IN 05/2017 MPOG SLTI) | H44: =I44/$I$47 -> 0 | I44: =IF(I25="Não aplicável",0,I39*I25) -> 0
A45: =A44+1 -> 7 | B45: Feriados | H45: =I45/$I$47 -> 0.073193917 | I45: =IF(I27="Não aplicável",0,(I39+I40+I41+I42+I43+I44)/I5*I27*(1+I28)) -> 179.79674
A46: =A45+1 -> 8 | B46: DSR = número total das horas extras do mês / número de dias úteis X domingos e feriados do mês X valor da hora extra com acréscimo | H46: =I46/$I$47 -> 0.011882124 | I46: =IF(I27="Não aplicável",0,I27/I13*5*(I10/H10*(1+I28))) -> 29.187769
A47: Total de Remuneração | H47: =SUM(H39:H46) -> 1 | I47: =SUM(I39:I46) -> 2456.4438
A58: II | B58: Encargos Sociais - Grupo II: Obrigações Sociais | H58: % | I58: Valor Mensal/unidade de serviço (R$)
...

Sheet Auxiliar de Serv Adm Canoas
A1: PLANILHA DE CUSTOS E FORMAÇÃO DE PREÇOS DE SERVIÇOS CONTINUADOS COM DEDICAÇÃO EXCLUSIVA DE MÃO DE OBRA (ANEXO III - DECRETO 52.768 de 15.12.2015)
A2: PROCESSO: | C2: 24/4501-0000254-7 | E2: REGIME DE TRIBUTAÇÃO: LUCRO REAL
A3: LICITAÇÃO/EDITAL | E3: ABERTURA:
A5: Cargo/Função: | D5: Auxiliar de Serviços Administrativos Canoas | G5: =IF(D6="12x36","Regime de trabalho:","Quantidade de HORAS/MÊS") -> Quantidade de HORAS/MÊS | I5: =IF(D6="12x36",D6,5*D6) -> 200
A6: =IF(D6="12x36","Regime de trabalho:","Regime de trabalho (horas semanais):") -> Regime de trabalho (horas semanais): | D6: 40
A7: Convenção Coletiva de Trabalho: | D7: CCT RS000041/2026 | G7: INSALUBRIDADE (10%, 20%, 40%) | I7: Não aplicável
A8: Origem do salário: | D8: CCT RS000041/2026
A9: Cidade: | D9: Canoas | G9: PERICULOSIDADE (30%) | I9: Não aplicável
A10: Salário Normativo | G10: Vlr. do salário e nº de horas correspondentes | H10: 220 | I10: 2307.83
A11: ISS | G11: =D9 -> Canoas | H11: Alíquota | I11: 0.03
A12: Tarifa Transporte | G12: CCT | H12: Vr. Unitário | I12: 4.8
H13: Dias | I13: 22
H14: Desconto | I14: 0.06
A15: Auxílio Alimentação | G15: CCT | H15: Vr. Unitário | I15: 27.15
H16: Dias | I16: 22
H17: Desconto | I17: 0.19
A18: Auxílio Lanche | G18: CCT | H18: Vr. Unitário | I18: 0
H19: Dias | I19: 0
H20: Desconto | I20: 0
A21: PLANO DE BENEFÍCIO SOCIAL FAMILIAR (Cláusla 31ª) | G21: CCT | H21: Valor mensal | I21: 25.52
A23: Prêmio Assiduidade (Cláusual 19ª) | G23: CCT | H23: Valor mensal | I23: 80
A25: Adicional de Supervisor (37%) | H25: Porcentagem | I25: Não aplicável
A26: Base de cálculo da insalubridade | H26: Valor | I26: Não aplicável
A27: Quantitativo de horas trabalhadas em feriados no mês (estimado) - Não aplicável para postos 12x36 | H27: Horas por mês | I27: 8
H28: Acréscimo da hora extra | I28: 1
A29: Hora Intervalar (somente para postos 12x36, quando for o caso) | H29: Horas por mês | I29: Não aplicável
A30: Sem fornecimento de materiais ou apenas fornecimento de EPIs ou uniformes, utilizar 10%. Com fornecimento de materiais ou equipamentos, utilizar 20%. (Decreto 52.768/2015, alterado pelo Decreto 53.424/2017) | H30: Porcentagem | I30: 0.1
I31: Não aplicável
A37: MONTANTE A
A38: I | B38: Remuneração - Grupo I | H38: % | I38: Valor Mensal/unidade de serviço (R$)
A39: 1 | B39: Salário | H39: =I39/$I$47 -> 0.91059603 | I39: =IF(D6="12x36",I10,I10/H10*I5) -> 2098.0273
A40: =A39+1 -> 2 | B40: Adicional Periculosidade 30% (Ver súmulas 364, 132 e 191 do TST) | H40: =I40/$I$47 -> 0 | I40: =IF(I9=30%,I39*I9,0) -> 0
A41: =A40+1 -> 3 | B41: Adicional Insalubridade 10% (Ver súmula 228 e 139 TST) | H41: =I41/$I$47 -> 0 | I41: =IF(I7=10%,I26*I7,0) -> 0
A42: =A41+1 -> 4 | B42: Adicional Insalubridade 20% (Ver súmula 228 e 139 TST) | H42: =I42/$I$47 -> 0 | I42: =IF(I7=20%,I26*I7,0) -> 0
A43: =A42+1 -> 5 | B43: Adicional Insalubridade 40% (Ver súmula 228 e 139 TST) | H43: =I43/$I$47 -> 0 | I43: =IF(I7=40%,I26*I7,0) -> 0
A44: =A43+1 -> 6 | B44: Adicional de Supervisor (IN 05/2017 MPOG SLTI) | H44: =I44/$I$47 -> 0 | I44: =IF(I25="Não aplicável",0,I39*I25) -> 0
A45: =A44+1 -> 7 | B45: Feriados | H45: =I45/$I$47 -> 0.072847682 | I45: =IF(I27="Não aplicável",0,(I39+I40+I41+I42+I43+I44)/I5*I27*(1+I28)) -> 167.84218
A46: =A45+1 -> 8 | B46: DSR = número total das horas extras do mês / número de dias úteis X domingos e feriados do mês X valor da hora extra com acréscimo | H46: =I46/$I$47 -> 0.016556291 | I46: =IF(I27="Não aplicável",0,I27/I13*5*(I10/H10*(1+I28))) -> 38.14595
A47: Total de Remuneração | H47: =SUM(H39:H46) -> 1 | I47: =SUM(I39:I46) -> 2304.0154
A58: II | B58: Encargos Sociais - Grupo II: Obrigações Sociais | H58: % | I58: Valor Mensal/unidade de serviço (R$)
...

Sheet Aux. Supervisor Canoas
A1: PLANILHA DE CUSTOS E FORMAÇÃO DE PREÇOS DE SERVIÇOS CONTINUADOS COM DEDICAÇÃO EXCLUSIVA DE MÃO DE OBRA (ANEXO III - DECRETO 52.768 de 15.12.2015)
A2: PROCESSO: | C2: 24/4501-0000254-7 | E2: REGIME DE TRIBUTAÇÃO: LUCRO REAL
A3: LICITAÇÃO/EDITAL | E3: ABERTURA:
A5: Cargo/Função: | D5: Auxiliar de Supervisor Canoas | G5: =IF(D6="12x36","Regime de trabalho:","Quantidade de HORAS/MÊS") -> Quantidade de HORAS/MÊS | I5: =IF(D6="12x36",D6,5*D6) -> 220
A6: =IF(D6="12x36","Regime de trabalho:","Regime de trabalho (horas semanais):") -> Regime de trabalho (horas semanais): | D6: 44
A7: Convenção Coletiva de Trabalho: | D7: CCT RS000041/2026 | G7: INSALUBRIDADE (10%, 20%, 40%) | I7: Não aplicável
A8: Origem do salário: | D8: CCT RS000041/2026
A9: Cidade: | D9: Canoas | G9: PERICULOSIDADE (30%) | I9: Não aplicável
A10: Salário Normativo | G10: Vlr. do salário e nº de horas correspondentes | H10: 220 | I10: 2307.83
A11: ISS | G11: =D9 -> Canoas | H11: Alíquota | I11: 0.03
A12: Tarifa Transporte | G12: CCT | H12: Vr. Unitário | I12: 4.8
H13: Dias | I13: 22
H14: Desconto | I14: 0.06
A15: Auxílio Alimentação | G15: CCT | H15: Vr. Unitário | I15: 27.15
H16: Dias | I16: 22
H17: Desconto | I17: 0.19
A18: Auxílio Lanche | G18: CCT | H18: Vr. Unitário | I18: 0
H19: Dias | I19: 0
H20: Desconto | I20: 0
A21: PLANO DE BENEFÍCIO SOCIAL FAMILIAR (Cláusla 31ª) | G21: CCT | H21: Valor mensal | I21: 25.52
A23: Prêmio Assiduidade (Cláusual 19ª) | G23: CCT | H23: Valor mensal | I23: 80
A25: Adicional de Supervisor (37%) | H25: Porcentagem | I25: Não aplicável
A26: Base de cálculo da insalubridade | H26: Valor | I26: Não aplicável
A27: Quantitativo de horas trabalhadas em feriados no mês (estimado) - Não aplicável para postos 12x36 | H27: Horas por mês | I27: 8
H28: Acréscimo da hora extra | I28: 1
A29: Hora Intervalar (somente para postos 12x36, quando for o caso) | H29: Horas por mês | I29: Não aplicável
A30: Sem fornecimento de materiais ou apenas fornecimento de EPIs ou uniformes, utilizar 10%. Com fornecimento de materiais ou equipamentos, utilizar 20%. (Decreto 52.768/2015, alterado pelo Decreto 53.424/2017) | H30: Porcentagem | I30: 0.1
I31: Não aplicável
A37: MONTANTE A
A38: I | B38: Remuneração - Grupo I | H38: % | I38: Valor Mensal/unidade de serviço (R$)
A39: 1 | B39: Salário | H39: =I39/$I$47 -> 0.91805766 | I39: =IF(D6="12x36",I10,I10/H10*I5) -> 2307.83
A40: =A39+1 -> 2 | B40: Adicional Periculosidade 30% (Ver súmulas 364, 132 e 191 do TST) | H40: =I40/$I$47 -> 0 | I40: =IF(I9=30%,I39*I9,0) -> 0
A41: =A40+1 -> 3 | B41: Adicional Insalubridade 10% (Ver súmula 228 e 139 TST) | H41: =I41/$I$47 -> 0 | I41: =IF(I7=10%,I26*I7,0) -> 0
A42: =A41+1 -> 4 | B42: Adicional Insalubridade 20% (Ver súmula 228 e 139 TST) | H42: =I42/$I$47 -> 0 | I42: =IF(I7=20%,I26*I7,0) -> 0
A43: =A42+1 -> 5 | B43: Adicional Insalubridade 40% (Ver súmula 228 e 139 TST) | H43: =I43/$I$47 -> 0 | I43: =IF(I7=40%,I26*I7,0) -> 0
A44: =A43+1 -> 6 | B44: Adicional de Supervisor (IN 05/2017 MPOG SLTI) | H44: =I44/$I$47 -> 0 | I44: =IF(I25="Não aplicável",0,I39*I25) -> 0
A45: =A44+1 -> 7 | B45: Feriados | H45: =I45/$I$47 -> 0.06676783 | I45: =IF(I27="Não aplicável",0,(I39+I40+I41+I42+I43+I44)/I5*I27*(1+I28)) -> 167.84218
A46: =A45+1 -> 8 | B46: DSR = número total das horas extras do mês / número de dias úteis X domingos e feriados do mês X valor da hora extra com acréscimo | H46: =I46/$I$47 -> 0.015174507 | I46: =IF(I27="Não aplicável",0,I27/I13*5*(I10/H10*(1+I28))) -> 38.14595
A47: Total de Remuneração | H47: =SUM(H39:H46) -> 1 | I47: =SUM(I39:I46) -> 2513.8181
A58: II | B58: Encargos Sociais - Grupo II: Obrigações Sociais | H58: % | I58: Valor Mensal/unidade de serviço (R$)
...

Sheet Motorista
A1: PLANILHA DE CUSTOS E FORMAÇÃO DE PREÇOS DE SERVIÇOS CONTINUADOS COM DEDICAÇÃO EXCLUSIVA DE MÃO DE OBRA (ANEXO III - DECRETO 52.768 de 15.12.2015)
A2: PROCESSO: | C2: 24/4501-0000254-7 | E2: REGIME DE TRIBUTAÇÃO: LUCRO REAL
A3: LICITAÇÃO/EDITAL | E3: ABERTURA:
A5: Cargo/Função: | D5: Motorista | G5: =IF(D6="12x36","Regime de trabalho:","Quantidade de HORAS/MÊS") -> Quantidade de HORAS/MÊS | I5: =IF(D6="12x36",D6,5*D6) -> 220
A6: =IF(D6="12x36","Regime de trabalho:","Regime de trabalho (horas semanais):") -> Regime de trabalho (horas semanais): | D6: 44
A7: Convenção Coletiva de Trabalho: | D7: CCT RS004627/2024 | G7: INSALUBRIDADE (10%, 20%, 40%) | I7: Não aplicável
A8: Origem do salário: | D8: CCT RS004627/2024
A9: Cidade: | D9: Porto Alegre | G9: PERICULOSIDADE (30%) | I9: Não aplicável
A10: Salário Normativo | G10: Vlr. do salário e nº de horas correspondentes | H10: 220 | I10: 2323.27
A11: ISS | G11: =D9 -> Porto Alegre | H11: Alíquota | I11: 0.05
A12: Tarifa Transporte | G12: CCT | H12: Vr. Unitário | I12: 5.3
H13: Dias | I13: 22
H14: Desconto | I14: 0.06
A15: Auxílio Alimentação | G15: CCT | H15: Vr. Unitário | I15: 31.69
H16: Dias | I16: 22
H17: Desconto | I17: 0.2
A18: CLÁUSULA DÉCIMA QUARTA - CESTA BÁSICA | G18: CCT | H18: Vr. Unitário | I18: 198.64
H19: Dias | I19: 1
H20: Desconto | I20: 0.2
A21: Outros Benefícios | G21: CCT | H21: Valor mensal | I21: 0
A25: Adicional de Supervisor (37%) | H25: Porcentagem | I25: Não aplicável
A26: Base de cálculo da insalubridade | H26: Valor | I26: Não aplicável
A27: Quantitativo de horas trabalhadas em feriados no mês (estimado) - Não aplicável para postos 12x36 | H27: Horas por mês | I27: 8
H28: Acréscimo da hora extra | I28: 1
A29: Hora Intervalar (somente para postos 12x36, quando for o caso) | H29: Horas por mês | I29: Não aplicável
A30: Sem fornecimento de materiais ou apenas fornecimento de EPIs ou uniformes, utilizar 10%. Com fornecimento de materiais ou equipamentos, utilizar 20%. (Decreto 52.768/2015, alterado pelo Decreto 53.424/2017) | H30: Porcentagem | I30: 0.1
I31: Não aplicável
A37: MONTANTE A
A38: I | B38: Remuneração - Grupo I | H38: % | I38: Valor Mensal/unidade de serviço (R$)
A39: 1 | B39: Salário | H39: =I39/$I$47 -> 0.91805766 | I39: =IF(D6="12x36",I10,I10/H10*I5) -> 2323.27
A40: =A39+1 -> 2 | B40: Adicional Periculosidade 30% (Ver súmulas 364, 132 e 191 do TST) | H40: =I40/$I$47 -> 0 | I40: =IF(I9=30%,I39*I9,0) -> 0
A41: =A40+1 -> 3 | B41: Adicional Insalubridade 10% (Ver súmula 228 e 139 TST) | H41: =I41/$I$47 -> 0 | I41: =IF(I7=10%,I26*I7,0) -> 0
A42: =A41+1 -> 4 | B42: Adicional Insalubridade 20% (Ver súmula 228 e 139 TST) | H42: =I42/$I$47 -> 0 | I42: =IF(I7=20%,I26*I7,0) -> 0
A43: =A42+1 -> 5 | B43: Adicional Insalubridade 40% (Ver súmula 228 e 139 TST) | H43: =I43/$I$47 -> 0 | I43: =IF(I7=40%,I26*I7,0) -> 0
A44: =A43+1 -> 6 | B44: Adicional de Supervisor (IN 05/2017 MPOG SLTI) | H44: =I44/$I$47 -> 0 | I44: =IF(I25="Não aplicável",0,I39*I25) -> 0
A45: =A44+1 -> 7 | B45: Feriados | H45: =I45/$I$47 -> 0.06676783 | I45: =IF(I27="Não aplicável",0,(I39+I40+I41+I42+I43+I44)/I5*I27*(1+I28)) -> 168.96509
A46: =A45+1 -> 8 | B46: DSR = número total das horas extras do mês / número de dias úteis X domingos e feriados do mês X valor da hora extra com acréscimo | H46: =I46/$I$47 -> 0.015174507 | I46: =IF(I27="Não aplicável",0,I27/I13*5*(I10/H10*(1+I28))) -> 38.401157
A47: Total de Remuneração | H47: =SUM(H39:H46) -> 1 | I47: =SUM(I39:I46) -> 2530.6362
A58: II | B58: Encargos Sociais - Grupo II: Obrigações Sociais | H58: % | I58: Valor Mensal/unidade de serviço (R$)
A59: 1 | B59: INSS (art. 22, inc. I, Lei nº 8.212/91) | H59: 0.2 | I59: =$I$47*H59 -> 506.12725
...

Sheet Materiais Equipamentos
A1: ATENÇÃO: SOMENTE PREENCHER QUANDO HOUVER FORNECIMENTO DE MATERIAIS E/OU EQUIPAMENTOS (NÃO INCLUÍDO EPIs E UNIFORMES)
A2: PLANILHA DE MATERIAIS E EQUIPAMENTOS A SER PREENCHIDA PELO LICITANTE COM BASE NO TERMO DE REFERÊNCIA (CGL 7.2 DO EDITAL)
A3: Material/Equipamento (não incluir EPIs e uniformes) | B3: Quantidade | C3: Valor unitário | D3: Valor total
A35: VALOR TOTAL MENSAL DE MATERIAIS/EQUIPAMENTOS: | D35: =SUM(D4:D33) -> 0

Sheet Resumo 
A1: Função | B1: Cidade | C1: Carga Horária | D1: Dias da semana | E1: Nº de Postos | F1: Valor unitário mensal de MATERIAL/EQUIPAMENTO | G1: Valor total mensal de MATERIAL/EQUIPAMENTO | H1: Valor unitário mensal de retenção para a CONTA VINCULADA | I1: Valor total mensal de retenção para a CONTA VINCULADA | J1: Valor unitário mensal do posto | K1: Valor total mensal do posto
A2: Supervisor POA | B2: Porto Alegre | C2: 44h | D2: seg-sex | E2: 1 | F2: =OFFSET(INDIRECT(SUBSTITUTE(_xlfn.FORMULATEXT(J2),"=","")), -6, 0) -> 0 | G2: =F2*E2 -> 0 | H2: =OFFSET(INDIRECT(SUBSTITUTE(_xlfn.FORMULATEXT(J2),"=","")), -3, 0) -> 1320.5557 | I2: =H2*E2 -> 1320.5557 | J2: =Supervisor!I194 -> 7949.0475 | K2: =E2*J2 -> 7949.0475
A3: Auxiliar de Supervisor | B3: Porto Alegre | C3: 44h | D3: seg-sex | E3: 18 | F3: =OFFSET(INDIRECT(SUBSTITUTE(_xlfn.FORMULATEXT(J3),"=","")), -6, 0) -> 0 | G3: =F3*E3 -> 0 | H3: =OFFSET(INDIRECT(SUBSTITUTE(_xlfn.FORMULATEXT(J3),"=","")), -3, 0) -> 967.87587 | I3: =H3*E3 -> 17421.766 | J3: ='Auxiliar de Supervisor'!I194 -> 6039.1534 | K3: =E3*J3 -> 108704.76
A4: Motorista | B4: Porto Alegre | C4: 44h | D4: seg-sex | E4: 3 | F4: =OFFSET(INDIRECT(SUBSTITUTE(_xlfn.FORMULATEXT(J4),"=","")), -6, 0) -> 0 | G4: =F4*E4 -> 0 | H4: =OFFSET(INDIRECT(SUBSTITUTE(_xlfn.FORMULATEXT(J4),"=","")), -3, 0) -> 974.35122 | I4: =H4*E4 -> 2923.0536 | J4: =Motorista!I193 -> 6221.6211 | K4: =E4*J4 -> 18664.863
A5: Auxiliar de Serviços Administrativos | B5: Porto Alegre | C5: 40h | D5: seg-sex | E5: 76 | F5: =OFFSET(INDIRECT(SUBSTITUTE(_xlfn.FORMULATEXT(J5),"=","")), -6, 0) -> 0 | G5: =F5*E5 -> 0 | H5: =OFFSET(INDIRECT(SUBSTITUTE(_xlfn.FORMULATEXT(J5),"=","")), -3, 0) -> 887.09715 | I5: =H5*E5 -> 67419.384 | J5: ='Auxiliar de Serviços Adm'!I194 -> 5616.3863 | K5: =E5*J5 -> 426845.36
A6: Recepcionista | B6: Porto Alegre | C6: 40h | D6: seg-sex | E6: 1 | F6: =OFFSET(INDIRECT(SUBSTITUTE(_xlfn.FORMULATEXT(J6),"=","")), -6, 0) -> 0 | G6: =F6*E6 -> 0 | H6: =OFFSET(INDIRECT(SUBSTITUTE(_xlfn.FORMULATEXT(J6),"=","")), -3, 0) -> 767.40325 | I6: =H6*E6 -> 767.40325 | J6: =Recepcionista!I194 -> 4988.0062 | K6: =E6*J6 -> 4988.0062
A7: Auxiliar de Limpeza | B7: Porto Alegre | C7: 40h | D7: seg-sex | E7: 8 | F7: ='Auxiliar de Limpeza'!I123 -> 0 | G7: =F7*E7 -> 0 | H7: =OFFSET(INDIRECT(SUBSTITUTE(_xlfn.FORMULATEXT(J7),"=","")), -3, 0) -> 945.78547 | I7: =H7*E7 -> 7566.2837 | J7: ='Auxiliar de Limpeza'!I194 -> 5968.6802 | K7: =E7*J7 -> 47749.442
A8: Auxiliar de Serviços Administrativos | B8: Canoas | C8: 44h | D8: seg-sex | E8: 4 | F8: =OFFSET(INDIRECT(SUBSTITUTE(_xlfn.FORMULATEXT(J8),"=","")), -6, 0) -> 0 | G8: =F8*E8 -> 0 | H8: =OFFSET(INDIRECT(SUBSTITUTE(_xlfn.FORMULATEXT(J8),"=","")), -3, 0) -> 887.09715 | I8: =H8*E8 -> 3548.3886 | J8: ='Auxiliar de Serv Adm Canoas'!I194 -> 5463.3063 | K8: =E8*J8 -> 21853.225
A9: Auxiliar de Supervisor | B9: Canoas | C9: 44h | D9: seg-sex | E9: 1 | F9: =OFFSET(INDIRECT(SUBSTITUTE(_xlfn.FORMULATEXT(J9),"=","")), -6, 0) -> 0 | G9: =F9*E9 -> 0 | H9: =OFFSET(INDIRECT(SUBSTITUTE(_xlfn.FORMULATEXT(J9),"=","")), -3, 0) -> 967.87587 | I9: =H9*E9 -> 967.87587 | J9: ='Aux. Supervisor Canoas'!I194 -> 5876.4376 | K9: =E9*J9 -> 5876.4376
A11: TOTAL DE POSTOS: | E11: =SUM(E2:E9) -> 112 | F11: VALOR TOTAL MENSAL DE MATERIAIS/EQUIPAMENTOS: | G11: =SUM(G2:G9) -> 0 | H11: VALOR MENSAL PARA RETENÇÃO EM CONTA VINCULADA: | I11: =SUM(I2:I9) -> 101934.71 | J11: PORCENTAGEM CORRESPONDENTE EM RELAÇÃO AO VALOR TOTAL PARA RETENÇÃO EM CONTA VINCULADA: | K11: =I11/K13 -> 0.15862087
A13: VALOR GLOBAL MENSAL: | K13: =SUM(K2:K9) -> 642631.14
