Workbook

Sheet COMPOSIÇÕES
B1: Data: | C1: 46054 | E1: Prazo: | F1: 30 DIAS
B2: SERVICO DE CONFECCAO, INSTALACAO, PRODUCAO E MONTAGEM EM GERAL - DO TIPO CONFECCAO E INSTALACAO DE ESCADA METALICA,EM CHAPA DE ACO XADREZ ,COM ESPESSURA DE 6,30MM, ESTRUTURA EM TUBO DE ACO GALVANIZADO 2"X8", COM CORRIMAO EM TUBO DE ACO GALVANIZADO DE 1 1/2" | G2: DESONERADO | I2: ONERADO
G3: P UNIT (R$) (Desonerado) | H3: P TOTAL (R$) (Desonerado) | I3: P UNIT (R$) (onerado) | J3: P TOTAL (R$) (onerado)
B4: ITEM | C4: FONTE | D4: DESCRIÇÃO | E4: UND. | F4: QUANT. INICIAL
B5: 1 | C5: SINAPI/90777 | D5: ENGENHEIRO CIVIL DE OBRA JUNIOR COM ENCARGOS COMPLEMENTARES | E5: H | F5: 1 | G5: 116.95 | H5: =F5*G5 -> 116.95 | I5: 130.42 | J5: =I5*F5 -> 130.42
B6: 2 | C6: Taxa CREA RS | D6: ANOTAÇÃO DE RESPONSABILIDADE TÉCNICA DE EXECUÇÃO | E6: UNID | F6: 1 | G6: 108.39 | H6: =F6*G6 -> 108.39 | I6: 108.39 | J6: =I6*F6 -> 108.39
C7: SINAPI/90778 | D7: ENGENHEIRO CALCULISTA | E7: H | F7: 20 | G7: 123.07 | H7: =F7*G7 -> 2461.4 | I7: 130.43 | J7: =I7*F7 -> 2608.6
C8: Taxa CREA RS | D8: ANOTAÇÃO DE RESPONSABILIDADE TÉCNICA DE PROJETO EM ESTRUTURA METÁLICA | E8: UNID | F8: 1 | G8: 108.39 | H8: =F8*G8 -> 108.39 | I8: 108.39 | J8: =I8*F8 -> 108.39
B9: 3 | C9: SINAPI/88315 | D9: SERRALHEIRO | E9: H | F9: 11 | G9: 26.71 | H9: =F9*G9 -> 293.81 | I9: 29.17 | J9: =I9*F9 -> 320.87
B10: 4 | C10: SINAPI/88251 | D10: AUXILIAR DE SERRALHEIRO | E10: H | F10: 11 | G10: 23.52 | H10: =F10*G10 -> 258.72 | I10: 25.6 | J10: =I10*F10 -> 281.6
B11: 5 | C11: SINAPI/10998 | D11: ELETRODO REVESTIDO AWS – E7018, D= 4MM | E11: KG | F11: 12 | G11: 71.88 | H11: =F11*G11 -> 862.56 | I11: 71.88 | J11: =I11*F11 -> 862.56
B12: 6 | C12: SINAPI 1337 | D12: CHAPA DE AÇO XADREZ PARA PISO ¼. ESPESSURA 6,30MM 54,53 kg/m² | E12: KG | F12: =MEMÓRIA!F28 -> 583.03476 | G12: 11.21 | H12: =F12*G12 -> 6535.8197 | I12: 11.21 | J12: =I12*F12 -> 6535.8197
B13: 7 | C13: SINAPI 43692 | D13: TUBO DE AÇO GALVANIZADO 2”X8” (5CM X 20CM), ESPESSURA 6,30MM – EQUIVALENTE TÉCNICO: PERFIL “U” EM CHAPA DOBRADA, E=3,04 MM, H=20 CM, ABAS= 5 CM (6,83 KG/M) | E13: KG | F13: =MEMÓRIA!F35 -> 163.40775 | G13: 9.56 | H13: =F13*G13 -> 1562.1781 | I13: 9.56 | J13: =I13*F13 -> 1562.1781
B14: 8 | C14: SINAPI/7697 | D14: TUBO DE AÇO GALVANIZADO D= 1 ½”, E=3,25MM, 3,61 KG/M | E14: M | F14: =MEMÓRIA!F39 -> 18.15 | G14: 50.77 | H14: =F14*G14 -> 921.4755 | I14: 50.77 | J14: =I14*F14 -> 921.4755
B15: 9 | C15: SINAPI/ 559 | D15: BARRA CHATA DE AÇO RETANGULAR, 50,8X6,35 MM (L X E), 2,53 KG/M | E15: M | F15: =MEMÓRIA!F45 -> 13.2 | G15: 21.28 | H15: =F15*G15 -> 280.896 | I15: 21.28 | J15: =I15*F15 -> 280.896
B16: 10 | C16: SINAPI/92716 | D16: APARELHO PARA CORTE E SOLDA OXI-ACETILENO SOBRE RODAS, INCLUSIVE CILÍNDORS E MAÇARICOS | E16: H | F16: 11 | G16: 115.24 | H16: =F16*G16 -> 1267.64 | I16: 115.24 | J16: =I16*F16 -> 1267.64
B17: 11 | C17: SINAPI/ 100752 | D17: PINTURA COM TINTA EPOXÍDICA DE ACABAMENTO APLICADA A ROLO OU PINCEL SOBRE PERFIL METALICO EM 2 DEMÃOS | E17: M² | F17: =(MEMÓRIA!F53+MEMÓRIA!F57+MEMÓRIA!F61)*1.1 -> 12.999181 | G17: 48.52 | H17: =F17*G17 -> 630.72027 | I17: 49.52 | J17: =I17*F17 -> 643.71946
B18: 12 | C18: SINAPI/ 100753 | D18: PINTURA COM TINTA EPOXÍDICA DE ACABAMENTO APLICADA A ROLO OU PINCEL SOBRE SUPERFÍCIE METÁLICA EM 2 DEMÃOS | E18: M² | F18: =1.1*MEMÓRIA!F48 -> 10.692 | G18: 22.11 | H18: =F18*G18 -> 236.40012 | I18: 23.6 | J18: =I18*F18 -> 252.3312
E20: BDI | G20: 0.2248 | H20: =SUM(H9:H14)*G20 -> 2345.6898 | I20: 0.2871 | J20: =SUM(J9:J14)*I20 -> 3010.1009
B21: VALOR TOTAL = | G21: =SUM(H5:H20) -> 17991.039 | I21: =SUM(J5:J20) -> 18894.991
B23: OBS.: PARA A ELABORAÇÃO DESTE ORÇAMENTO FOI TOMADO COMO BASE O ORÇAMENTO DO PREGÃO ELETRÔNICO N° 0374.2024.CPL.PE.0007.MPPE - ESCADA METÁLICA ROBERTO LIRA

Sheet MEMÓRIA
B7: Data: | D7: 44796 | F7: Prazo:
B8: ESCADA METÁLICA
B10: ITEM | C10: EFISCO | D10: FONTE | E10: DESCRIÇÃO | F10: UND.
B11: 1 | C11: 442917-6 | D11: SINAPI 90777 | E11: ENGENHEIRO CIVIL DE OBRA JUNIOR COM ENCARGOS COMPLEMENTARES | F11: H
B12: 2 | C12: 282788-3 | D12: CP-Tax-3809 | E12: ANOTAÇÃO DE RESPONSABILIDADE TÉCNICA DE EXECUÇÃO | F12: UD
B13: 3 | C13: 405901-8 | D13: =MEMÓRIA!A2 -> 0 | E13: SERRALHEIRO | F13: M²
B14: 4 | C14: 418969-8 | D14: =MEMÓRIA!A7 -> 0 | E14: AJUDANTE | F14: M²
B15: 5 | C15: 438920- 4 | D15: SINAPI/10998 | E15: ELETRODO REVESTIDO AWS – E7018, D= 4MM | F15: M²
D17: SINAPI 1337 | E17: CHAPA DE AÇO XADREZ PARA PISO ¼. ESPESSURA 6,30MM 54,53 kg/m² | F17: KG
E18: largura dos degraus = | F18: 0.28
E19: comprimento dos degraus = | F19: 1.2
E20: quantidade de degraus = | F20: 15
E21: área dos degraus01 = | F21: =F20*F19*F18 -> 5.04
E22: área do patamar = | F22: 1.44
E23: altura do espelho = | F23: 0.18
E24: comprimento dos degraus = | F24: 1.2
E25: quantidade de degraus = | F25: 15
E26: área dos degraus 02 = | F26: =F25*F24*F23 -> 3.24
E27: ÁREA TOTAL = | F27: =F26+F22+F21 -> 9.72
E28: PESO TOTAL = | F28: =F27*54.53*1.1 -> 583.03476
D30: ORSE/ 13129 | E30: TUBO DE AÇO GALVANIZADO 2”X8” (5CM X 20CM), ESPESSURA 6,30MM – EQUIVALENTE TÉCNICO PERFIL AÇO LAMINADO H-W200X 35,9 KG/M, ASTM A 572 GRAU 50 | F30: KG
E31: primeiro lance de vigas x 3= | F31: =3.15*3 -> 9.45 | G31: m
E32: vigas do patamar x 3 = | F32: =1.2*3 -> 3.6 | G32: m
E33: segundo lance de vigas x 3= | F33: =2.1*3 -> 6.3 | G33: m
E34: demais vigas= | F34: =2*1.2 -> 2.4 | G34: m
E35: PESO TOTAL = | F35: =SUM(F31:F34)*6.83*1.1 -> 163.40775 | G35: kg | H35: =SUM(F31:F34)*35.9*1.1 -> 858.9075
B38: 7 | C38: 553527-1 | D38: SINAPI/7697 | E38: TUBO DE AÇO GALVANIZADO D= 1 ½”, E=3,25MM, 3,61 KG/M | F38: M | G38: corrimão
E39: comprimento total das barras = | F39: 18.15
D42: SIANPI/ 559 | E42: BARRA CHATA DE AÇO RETANGULAR, 50,8X6,35 MM (L X E), 2,53 KG/M | F42: M
E43: altura da barra = | F43: 1
E44: quantidade de barras = | F44: 12
E45: comprimento total = | F45: =F44*F43*1.1 -> 13.2
E47: PINTURA EPOXÍDICA PARA PISO
E48: igual a de cima= | F48: =F27 -> 9.72 | G48: m²
E50: PINTURA EPOXÍDICA PARA PERFIS
E51: comprimento do tubo = | F51: =SUM(F31:F33) -> 19.35
E52: perímetro da seção = | F52: =0.5 -> 0.5
E53: área total = | F53: =F52*F51 -> 9.675 | G53: m²
E55: comprimento do tubo = | F55: =F39 -> 18.15
E56: comprimento da circunferência = | F56: =0.01875*2*PI() -> 0.11780972 | G56: m
E57: área total = | F57: =F56*F55 -> 2.1382465 | G57: m²
E59: comprimento das barras chatas = | F59: =F45 -> 13.2
E60: área da seção da barra = | F60: =0.05*0.00635 -> 0.0003175
E61: área total = | F61: =F59*F60 -> 0.004191 | G61: m²

Sheet ORÇAMENTO
J1: ONERADO C/ BDI | L1: DESONERADO C/ BDI
B2: Data: | D2: 46054 | F2: Prazo: | G2: 30 DIAS | H2: UND. | I2: QUANT. INICIAL | J2: P UNIT (R$) (onerado) | K2: P TOTAL (R$) (onerado) | L2: P UNIT (R$) (desonerado) | M2: P TOTAL (R$) (desonerado)
B3: SERVICO DE CONFECCAO, INSTALACAO, PRODUCAO E MONTAGEM EM GERAL - DO TIPO CONFECCAO E INSTALACAO DE ESCADA METALICA,EM CHAPA DE ACO XADREZ ,COM ESPESSURA DE 6,30MM, ESTRUTURA EM TUBO DE ACO GALVANIZADO 2"X8", COM CORRIMAO EM TUBO DE ACO GALVANIZADO DE 1 1/2",MEDINDO 1,21X5,24M (LXC) | H3: UD | I3: 1 | J3: =COMPOSIÇÕES!G21 -> 17991.039 | K3: =I3*J3 -> 17991.039 | L3: =COMPOSIÇÕES!I21 -> 18894.991 | M3: =L3*I3 -> 18894.991
B4: VALOR TOTAL = | J4: =SUM(K3:K3) -> 17991.039 | L4: =SUM(M3:M3) -> 18894.991
