Workbook

Sheet Planilha orçamentária
F4: Comprimento (m) | G4: 155
A5: Contrato de Repasse: 929510/2022 | D5: Hermes Pereira de Souza | F5: Largura (m) | G5: 7
A6: ART Nº 12340112 | F6: Área Total (m²) | G6: 1193.44
A7: Item | B7: Referência | C7: Código | D7: Descrição dos Serviços | E7: Un | F7: Quantitativo | G7: R$ unit. | H7: Preço total | I7: R$ unit. Sem BDI
A8: 1 | D8: Administração Local | H8: =TRUNC(SUM(H9:H9),2) -> 4459.24
A9: 1.1 | B9: COMPOSIÇÃO PMA | C9: 4 | D9: Administração local | E9: un | F9: ='Memoriade calculo'!D11 -> 1 | G9: =ROUND(I9*(1+$B$63),2) -> 4459.24 | H9: =ROUND(F9*G9,2) -> 4459.24 | I9: 3653.92
A11: 2 | D11: Serviços Iniciais | H11: =TRUNC(SUM(H12:H14),2) -> 6893.18
A12: 2.1 | B12: SINAPI | C12: 4813 | D12: Placa de obra | E12: m² | F12: ='Memoriade calculo'!D14 -> 4.5 | G12: =ROUND(I12*(1+$B$63),2) -> 366.12 | H12: =ROUND(F12*G12,2) -> 1647.54 | I12: 300
A13: 2.2 | B13: COMPOSIÇÃO PMA | C13: 10 | D13: Aluguel container | E13: un | F13: ='Memoriade calculo'!D15 -> 1 | G13: =ROUND(I13*(1+$B$63),2) -> 4410.53 | H13: =ROUND(F13*G13,2) -> 4410.53 | I13: 3614
A14: 2.3 | B14: COMPOSIÇÃO PMA | C14: 14 | D14: Serviços Topográficos para pavimentação | E14: m² | F14: ='Memoriade calculo'!D16 -> 1670.22 | G14: =ROUND(I14*(1+$B$63),2) -> 0.5 | H14: =ROUND(F14*G14,2) -> 835.11 | I14: 0.41
A16: 3 | D16: Terraplenagem | H16: =TRUNC(SUM(H17:H20),2) -> 18733.78
A17: 3.1 | B17: COMPOSIÇÃO PMA | C17: 18 | D17: Escavação mecânica, a céu aberto, em material de 1a categoria, com escavadeira hidráulica, capacidade de 0,78 m³ | E17: m³ | F17: ='Memoriade calculo'!D19 -> 543.53 | G17: =ROUND(I17*(1+$B$63),2) -> 4.75 | H17: =ROUND(F17*G17,2) -> 2581.77 | I17: 3.89
A18: 3.2 | B18: SINAPI | C18: 97914 | D18: Transporte em caminhão Basculante DMT = 3,4 km | E18: m³xKm | F18: ='Memoriade calculo'!D20 -> 2193 | G18: =ROUND(I18*(1+$B$63),2) -> 3.32 | H18: =TRUNC(F18*G18,2) -> 7280.76 | I18: 2.72
A19: 3.3 | B19: SINAPI | C19: 100973 | D19: Carga e descarga mecanizada de solo utilizando caminhão basculante 6,0 m³ e pá carregadeira | E19: m³ | F19: ='Memoriade calculo'!D21 -> 516 | G19: =ROUND(I19*(1+$B$63),2) -> 10.3 | H19: =TRUNC(F19*G19,2) -> 5314.8 | I19: 8.44
A20: 3.4 | B20: SINAPI | C20: 100576 | D20: Regularização e compactação do sub-leito | E20: m² | F20: ='Memoriade calculo'!D22 -> 1193.44 | G20: =ROUND(I20*(1+$B$63),2) -> 2.98 | H20: =TRUNC(F20*G20,2) -> 3556.45 | I20: 2.44
A22: 4 | D22: Estrutura do Pavimento | H22: =TRUNC(SUM(H23:H25),2) -> 70015.48
A23: 4.1 | B23: SINAPI | C23: 96396 | D23: Fornecimento, execução e compactação de brita graduada para pavimentação, e= 20 cm | E23: m³ | F23: ='Memoriade calculo'!D25 -> 238.68 | G23: =TRUNC(I23*(1+$B$63),2) -> 153.12 | H23: =TRUNC(F23*G23,2) -> 36546.68 | I23: 125.47
A24: 4.2 | B24: SINAPI | C24: 95875 | D24: Transporte de brita graduada com caminhão basculante 10m³, via urbana pavimentada, DMT 17,1Km | E24: m³xKm | F24: ='Memoriade calculo'!D26 -> 4081.42 | G24: =ROUND(I24*(1+$B$63),2) -> 2.81 | H24: =ROUND(F24*G24,2) -> 11468.79 | I24: 2.3
A25: 4.3 | B25: SINAPI | C25: 94273 | D25: Fornecimento e colocação de meio-fio de concreto (0,15x0,30x1,00)m | E25: m | F25: ='Memoriade calculo'!D27 -> 343 | G25: =TRUNC(I25*(1+$B$63),2) -> 64.14 | H25: =TRUNC(F25*G25,2)-0.01 -> 22000.01 | I25: 52.56
A27: 5 | D27: Revestimento em CBUQ | H27: =TRUNC(SUM(H28:H29),2) -> 188852.69
A28: 5.1 | B28: COMPOSIÇÃO PMA | C28: 13 | D28: Execução de imprimação com asfalto diluído CM-30 | E28: m² | F28: ='Memoriade calculo'!D30 -> 1193.44 | G28: =TRUNC(I28*(1+$B$63),2) -> 9.04 | H28: =ROUND(F28*G28,2) -> 10788.7 | I28: 7.41
A29: 5.2 | B29: SINAPI | C29: 95995 | D29: Construção de pavimento com aplicação de concreto betuminoso usinado a quente (CBUQ), camada de rolamento, com espessura de 6,0 cm - exclusive transporte. | E29: m³ | F29: ='Memoriade calculo'!D31 -> 71.61 | G29: =ROUND(I29*(1+$B$63),2) -> 2486.58 | H29: =TRUNC(F29*G29,2) -> 178063.99 | I29: 2037.51
A31: 6 | D31: Drenagem Pluvial | H31: =TRUNC(SUM(H32:H39),2) -> 33647.01
A32: 6.1 | B32: SINAPI | C32: 90106 | D32: Escavação mecânica de valas em material de 1ª categoria | E32: m³ | F32: ='Memoriade calculo'!D34 -> 125.66 | G32: =ROUND(I32*(1+$B$63),2) -> 9.46 | H32: =TRUNC(F32*G32,2) -> 1188.74 | I32: 7.75
A33: 6.2 | B33: SINAPI | C33: 7785 | D33: Fornecimento de Tubo Conc. Simples PS2 PB, para águas pluviaisNBR8890 DN 400mm | E33: m | F33: ='Memoriade calculo'!D35 -> 78 | G33: =TRUNC(I33*(1+$B$63),2) -> 75.59 | H33: =TRUNC(F33*G33,2) -> 5896.02 | I33: 61.94
A34: 6.3 | B34: SINAPI | C34: 92809 | D34: Assentamento Tubo Conc. Simples PS2 PB, para águas pluviaisNBR8890 DN 400mm | E34: m | F34: ='Memoriade calculo'!D36 -> 78 | G34: =TRUNC(I34*(1+$B$63),2) -> 71.22 | H34: =TRUNC(F34*G34,2) -> 5555.16 | I34: 58.36
A35: 6.4 | B35: SINAPI | C35: 92210 | D35: Fornec. e Assent. Tubo Conc. Armado para redes coletoras de águas pluviais PS2 PB NBR8890 DN 400mm, instalado em local com baixo nível de interferências. | E35: m | F35: ='Memoriade calculo'!D37 -> 31 | G35: =ROUND(I35*(1+$B$63),2) -> 217.16 | H35: =TRUNC(F35*G35,2) -> 6731.96 | I35: 177.94
A36: 6.5 | B36: SINAPI | C36: 93381 | D36: Reaterro mecânico de valas com material local | E36: m³ | F36: ='Memoriade calculo'!D38 -> 105.94 | G36: =TRUNC(I36*(1+$B$63),2) -> 13.52 | H36: =ROUND(F36*G36,2) -> 1432.31 | I36: 11.08
A37: 6.6 | B37: SINAPI | C37: 100973 | D37: Carga e descarga mecanizada de solo utilizando caminhão basculante 6,0 m³ e pá carregadeira | E37: m³ | F37: ='Memoriade calculo'!D39 -> 19.72 | G37: =TRUNC(I37*(1+$B$63),2) -> 10.3 | H37: =ROUND(F37*G37,2) -> 203.12 | I37: 8.44
A38: 6.7 | B38: SINAPI | C38: 97914 | D38: Transporte de material escavado DMT 3,4 Km | E38: m³xKm | F38: ='Memoriade calculo'!D40 -> 83.81 | G38: =ROUND(I38*(1+$B$63),2) -> 3.32 | H38: =ROUND(F38*G38,2) -> 278.25 | I38: 2.72
A39: 6.8 | B39: COMPOSIÇÃO PMA | C39: 3 | D39: Execução de caixa coletora (1,20x1,20) prof. média 1,60m, com fundo de concreto magro e tampa de concreto armado e paredes em alvenaria de pedra grês | E39: un | F39: ='Memoriade calculo'!D41 -> 5 | G39: =ROUND(I39*(1+$B$63),2) -> 2472.29 | H39: =TRUNC(F39*G39,2) -> 12361.45 | I39: 2025.8
A41: 7 | D41: Drenagem Pluvial - Boca de Lobo | H41: =TRUNC(SUM(H42:H42),2) -> 12311.19
A42: 7.1 | B42: COMPOSIÇÃO PMA | C42: 12 | D42: Boca de lobo em alvenaria de tijolo maciço revestida com argamassa cimento e areia 1:3, sobre lastro de concreto 10 cm e tampa de concreto armado com colocação de artefatos | E42: un | F42: ='Memoriade calculo'!D44 -> 9 | G42: =ROUND(I42*(1+$B$63),2) -> 1367.91 | H42: =TRUNC(F42*G42,2) -> 12311.19 | I42: 1120.87
A44: 8 | D44: Sinalização Viária | H44: =TRUNC(SUM(H45:H48),2) -> 2542.11
A45: 8.1 | B45: SINAPI | C45: 102512 | D45: Pintura de eixo viário sobre asfalto com tinta retrorrefletiva a base de resina acrílica com microesferas de vidro, aplicação mecânica com demarcadora autopropelida. af_05/2021 | E45: m | F45: ='Memoriade calculo'!D47 -> 56.7 | G45: =ROUND(I45*(1+$B$63),2) -> 6.09 | H45: =TRUNC(F45*G45,2) -> 345.3 | I45: 4.99
A46: 8.2 | B46: SINAPI | C46: 102509 | D46: Pintura de faixa de pedestre com tinta retrorefletiva a base de resina acrilica com microesferas de vidro - BRANCO | E46: m² | F46: ='Memoriade calculo'!D48 -> 44.8 | G46: =TRUNC(I46*(1+$B$63),2) -> 27.76 | H46: =ROUND(F46*G46,2) -> 1243.65 | I46: 22.75
A47: 8.3 | B47: COMPOSIÇÃO PMA | C47: 11 | D47: Conjunto de placa de sinalização semi-refletiva r1 (PARE) 0,3m², incluindo suporte, acessórios de fixação e implantação | E47: m² | F47: ='Memoriade calculo'!D49 -> 0.9 | G47: =ROUND(I47*(1+$B$63),2) -> 669.27 | H47: =ROUND(F47*G47,2) -> 602.34 | I47: 548.4
A48: 8.4 | B48: COMPOSIÇÃO PMA | C48: 17 | D48: Placa regulamentadora de velocidade (40Km/h) retrorefletiva Ø 50cm | E48: m² | F48: ='Memoriade calculo'!D50 -> 0.6 | G48: =ROUND(I48*(1+$B$63),2) -> 584.69 | H48: =ROUND(F48*G48,2)+0.01 -> 350.82 | I48: 479.1
A50: 9 | H50: =SUM(H51:H57) -> 46670.79
A51: 9.1 | B51: SINAPI | C51: 94991 | D51: Execução de Passeios (calçadas) e rampas com concreto moldado in loco, Usinado, acabamento convencional, não armado, resistência C2O, espessura 7 cm | E51: m³ | F51: ='Memoriade calculo'!D53 -> 33.37 | G51: =ROUND(I51*(1+$B$63),2) -> 837.94 | H51: =ROUND(F51*G51,2) -> 27962.06 | I51: 686.61
A52: 9.2 | B52: INSUMO | C52: 4721 | D52: Pedra britada Nº 1 (9,5 à 19 mm), lastro de brita para os passeios espessura 3 cm | E52: m³ | F52: ='Memoriade calculo'!D54 -> 14.3 | G52: =ROUND(I52*(1+$B$63),2) -> 85.2 | H52: =TRUNC(F52*G52,2) -> 1218.36 | I52: 69.81
A53: 9.3 | B53: SINAPI | C53: 95875 | D53: Transporte de pedra britada Nº 1 (9,5 à 19 mm), lastro de brita para os passeios espessura 3 cm, DT 17,1 km | E53: m³xKm | F53: ='Memoriade calculo'!D55 -> 244.58 | G53: =ROUND(I53*(1+$B$63),2) -> 2.81 | H53: =TRUNC(F53*G53,2) -> 687.26 | I53: 2.3
A54: 9.4 | B54: COMPOSIÇÃO PMA | C54: 2 | D54: Conjunto de placa de identificação de logradouro público, com duas placas 50x25, face dupla, incluindo suporte, acessórios de fixação e implantação | E54: un. | F54: ='Memoriade calculo'!D56 -> 3 | G54: =ROUND(I54*(1+$B$63),2) -> 658.67 | H54: =ROUND(F54*G54,2) -> 1976.01 | I54: 539.72
A55: 9.5 | B55: COMPOSIÇÃO PMA | C55: 1 | D55: Fornecimento e assentamento de piso tátil de alerta em concreto 40x40x2,5 | E55: m² | F55: ='Memoriade calculo'!D57 -> 16 | G55: =ROUND(I55*(1+$B$63),2) -> 114.21 | H55: =TRUNC(F55*G55,2) -> 1827.36 | I55: 93.58
A56: 9.6 | B56: COMPOSIÇÃO PMA | C56: 7 | D56: Fornecimento e assentamento de piso tátil direcional em concreto 40x40x2,5 | E56: m² | F56: ='Memoriade calculo'!D58 -> 110.4 | G56: =ROUND(I56*(1+$B$63),2) -> 114.21 | H56: =ROUND(F56*G56,2) -> 12608.78 | I56: 93.58
A57: 9.7 | B57: SINAPI | C57: 97084 | D57: Compactação mecânica de solo para execução de radier, piso de concreto ou laje sobre solo, com compactador de solos tipo placa vibratória | E57: m² | F57: ='Memoriade calculo'!D59 -> 476.78 | G57: =ROUND(I57*(1+$B$63),2) -> 0.82 | H57: =ROUND(F57*G57,2) -> 390.96 | I57: 0.67
G58: TOTAL | H58: =TRUNC(SUM(H8,H11,H16,H22,H27,H31,H41,H44,H50),2) -> 384125.47
A59: Extensão: 155,00m
A60: Ref de preços - SINAPI - JANEIRO 2023 NÃO DESONERADO
A61: BDI =22,04% Conforme Acórdão - Lei 13161/2015-TCU
A63: BDI | B63: 0.2204

Sheet Planilha1
A4: Rua Hermes Pereira de Souza
A6: VOLUME DE CORTE
A8: Estaca | B8: Seção Transversal de Corte na Pista (m²) | C8: Seção Transversal Média de Corte na Pista (m²) | D8: Distância (m) | E8: Volume de Corte na Pista (m³) | F8: Seção Transversal de Corte no Passeio (m²) | G8: Seção Transversal Média de Corte no Passeio (m²) | H8: Distância (m) | I8: Volume de Corte no Passeio (m³)
A9: 0 | B9: 3.06 | C9: =(B9+B10)/2 -> 2.91 | D9: 20 | E9: =ROUND(C9*D9,2) -> 58.2 | F9: =0.6+0.55 -> 1.15 | G9: =(F9+F10)/2 -> 0.955 | H9: 20 | I9: =ROUND(G9*H9,2) -> 19.1
A10: 1 | B10: 2.76 | C10: =(B10+B11)/2 -> 2.76 | D10: 20 | E10: =ROUND(C10*D10,2) -> 55.2 | F10: =0.12+0.64 -> 0.76 | G10: =(F10+F11)/2 -> 0.76 | H10: 20 | I10: =ROUND(G10*H10,2) -> 15.2
A11: 2 | B11: 2.76 | C11: =(B11+B12)/2 -> 2.64 | D11: 10.7 | E11: =ROUND(C11*D11,2) -> 28.25 | F11: =0.12+0.64 -> 0.76 | G11: =(F11+F12)/2 -> 0.68 | H11: 10.7 | I11: =ROUND(G11*H11,2) -> 7.28
A12: 2+10,70 A | B12: 2.52 | C12: =(B12+B13)/2 -> 1.26 | D12: 0 | E12: =ROUND(C12*D12,2) -> 0 | F12: 0.6 | G12: =(F12+F13)/2 -> 0.3 | H12: 0 | I12: =ROUND(G12*H12,2) -> 0
I13: =ROUND(G13*H13,2) -> 0
A14: 2+10,70 B | B14: 2.33 | C14: =(B14+B15)/2 -> 2.395 | D14: 9.3 | E14: =ROUND(C14*D14,2) -> 22.27 | F14: 0.6 | G14: =(F14+F15)/2 -> 0.76 | H14: 20 | I14: =ROUND(G14*H14,2) -> 15.2
A15: 3 | B15: 2.46 | C15: =(B15+B16)/2 -> 2.6 | D15: 20 | E15: =ROUND(C15*D15,2) -> 52 | F15: 0.92 | G15: =(F15+F16)/2 -> 0.755 | H15: 20 | I15: =ROUND(G15*H15,2) -> 15.1
A16: 4 | B16: 2.74 | C16: =(B16+B17)/2 -> 2.965 | D16: 20 | E16: =ROUND(C16*D16,2) -> 59.3 | F16: 0.59 | G16: =(F16+F17)/2 -> 0.415 | H16: 20 | I16: =ROUND(G16*H16,2) -> 8.3
A17: 5 | B17: 3.19 | C17: =(B17+B18)/2 -> 3.055 | D17: 20 | E17: =ROUND(C17*D17,2) -> 61.1 | F17: 0.24 | G17: =(F17+F18)/2 -> 0.455 | H17: 20 | I17: =ROUND(G17*H17,2) -> 9.1
A18: 6 | B18: 2.92 | C18: =(B18+B19)/2 -> 2.93 | D18: 20 | E18: =ROUND(C18*D18,2) -> 58.6 | F18: 0.67 | G18: =(F18+F19)/2 -> 0.585 | H18: 20 | I18: =ROUND(G18*H18,2) -> 11.7
A19: 7 | B19: 2.94 | C19: =(B19+B20)/2 -> 2.675 | D19: 15 | E19: =ROUND(C19*D19,2) -> 40.13 | F19: 0.5 | G19: =(F19+F20)/2 -> 0.375 | H19: 20 | I19: =ROUND(G19*H19,2) -> 7.5
A20: 7+15 | B20: 2.41 | C20: =(B20+B21)/2 -> 1.205 | D20: 0 | E20: =ROUND(C20*D20,2) -> 0 | F20: 0.25 | G20: =(F20+F21)/2 -> 0.125 | H20: 0 | I20: =ROUND(G20*H20,2) -> 0
A22: SUB TOTAL | E22: =SUM(E9:E20) -> 435.05 | I22: =SUM(I9:I20) -> 108.48
A23: TOTAL | B23: =E22+I22 -> 543.53
A25: VOLUME DE ATERRO
A26: Estaca | B26: Seção Transversal de Aterro na Pista (m²) | C26: Seção Transversal Média de Aterro na Pista (m²) | D26: Distância (m) | E26: Volume de Aterro na Pista (m³) | F26: Seção Transversal de Aterro no Passeio (m²) | G26: Seção Transversal Média de Aterro no Passeio (m²) | H26: Distância (m) | I26: Volume de Aterro no Passeio (m³)
A27: 0 | B27: 0 | C27: =(B27+B28)/2 -> 0 | D27: 20 | E27: =ROUND(C27*D27,2) -> 0 | F27: =D27*E27 -> 0 | G27: =(F27+F28)/2 -> 0 | H27: 20 | I27: =ROUND(G27*H27,2) -> 0
A28: 1 | B28: 0 | C28: =(B28+B29)/2 -> 0 | D28: 20 | E28: =ROUND(C28*D28,2) -> 0 | F28: =D28*E28 -> 0 | G28: =(F28+F29)/2 -> 0 | H28: 20 | I28: =ROUND(G28*H28,2) -> 0
A29: 2 | B29: 0 | C29: =(B29+B30)/2 -> 0 | D29: 10.7 | E29: =ROUND(C29*D29,2) -> 0 | F29: =D29*E29 -> 0 | G29: =(F29+F30)/2 -> 0.08 | H29: 10.7 | I29: =ROUND(G29*H29,2) -> 0.86
A30: 2+10,70 A | B30: 0 | C30: =(B30+B32)/2 -> 0 | D30: 0 | E30: =ROUND(C30*D30,2) -> 0 | F30: 0.16 | G30: =(F30+F31)/2 -> 0.08 | H30: 0 | I30: =ROUND(G30*H30,2) -> 0
A32: 2+10,70 B | B32: 0 | C32: =(B32+B33)/2 -> 0 | D32: 9.3 | E32: =ROUND(C32*D32,2) -> 0 | F32: 0.36 | G32: =(F32+F33)/2 -> 0.225 | H32: 9.3 | I32: =ROUND(G32*H32,2) -> 2.09
A33: 3 | B33: 0 | C33: =(B33+B34)/2 -> 0 | D33: 20 | E33: =ROUND(C33*D33,2) -> 0 | F33: 0.09 | G33: =(F33+F34)/2 -> 0.045 | H33: 20 | I33: =ROUND(G33*H33,2) -> 0.9
A34: 4 | B34: 0 | C34: =(B34+B35)/2 -> 0 | D34: 20 | E34: =ROUND(C34*D34,2) -> 0 | F34: 0 | G34: =(F34+F35)/2 -> 0.04 | H34: 20 | I34: =ROUND(G34*H34,2) -> 0.8
A35: 5 | B35: 0 | C35: =(B35+B36)/2 -> 0 | D35: 20 | E35: =ROUND(C35*D35,2) -> 0 | F35: 0.08 | G35: =(F35+F36)/2 -> 0.315 | H35: 20 | I35: =ROUND(G35*H35,2) -> 6.3
A36: 6 | B36: 0 | C36: =(B36+B37)/2 -> 0 | D36: 20 | E36: =ROUND(C36*D36,2) -> 0 | F36: 0.55 | G36: =(F36+F37)/2 -> 0.48 | H36: 20 | I36: =ROUND(G36*H36,2) -> 9.6
A37: 7 | B37: 0 | C37: =(B37+B38)/2 -> 0 | D37: 15 | E37: =ROUND(C37*D37,2) -> 0 | F37: 0.41 | G37: =(F37+F38)/2 -> 0.465 | H37: 15 | I37: =ROUND(G37*H37,2) -> 6.98
A38: 7+15 | B38: 0 | D38: 0 | E38: =ROUND(C38*D38,2) -> 0 | F38: 0.52 | G38: =(F38+F39)/2 -> 0.26 | H38: 0 | I38: =ROUND(G38*H38,2) -> 0
A41: SUB TOTAL | E41: =SUM(E27:E38) -> 0 | I41: =SUM(I27:I40) -> 27.53
A42: TOTAL | B42: =E41+I41 -> 27.53
A44: BOTA FORA (m³) | I44: =B23-B42 -> 516
A45: ART Nº 12574865
A46: CONTRATO DE REPASSE Nº 929510/2022/MDR/CAIXA
A47: PROPOSTA Nº 4284/2022

Sheet Memoriade calculo
B6: Memória de Cálculo | D6: Comprimento (m) | E6: ='Planilha orçamentária'!G4 -> 155
B7: ='Planilha orçamentária'!D5 -> Hermes Pereira de Souza | D7: Largura (m) | E7: ='Planilha orçamentária'!G5 -> 7
D8: Área Total (m²) | E8: ='Planilha orçamentária'!G6 -> 1193.44
A9: Item | B9: Descrição dos Serviços | C9: Un | D9: Quantitativo | E9: Discriminado
A10: 1 | B10: Administração Local
A11: 1.1 | B11: Administração local, engenheiro civil e técnico em segurança do trabalho | C11: un. | D11: 1 | E11: 1 unidade
A13: 2 | B13: Serviços Iniciais
A14: 2.1 | B14: Placa de Obra | C14: m² | D14: =TRUNC(3*1.5,2) -> 4.5 | E14: 3,0 x 1,5
A15: 2.2 | B15: Aluguel container/escr, larg= 2,30 m, compr= 6,00 m, altura 2,50 m, com um sanitário, para escritório, completo, sem divisórias. | C15: un. | D15: 1 | E15: 1 unidade
A16: 2.3 | B16: Serviços Topográficos | C16: m² | D16: 1670.22 | E16: Área de abrangência (pista + Passeios) Conforme planta de pavimentação
A18: 3 | B18: Terraplenagem
A19: 3.1 | B19: Escavação mecânica, a céu aberto, em material de 1a categoria, com escavadeira hidráulica, capacidade de 0,78 m³ | C19: m³ | D19: 543.53 | E19: Conforme planilha de corte e aterro
A20: 3.2 | B20: Transporte em caminhão Basculante DMT = 3,4 km | C20: m³xKm | D20: =ROUND((D21)*3.4*1.25,2) -> 2193 | E20: 516,00*1,25*3,4Km
A21: 3.3 | B21: Carga e descarga mecanizada de solo utilizando caminhão basculante 6,0 m³ e pá carregadeira | C21: m³ | D21: 516 | E21: Conforme planilha de corte e aterro
A22: 3.4 | B22: Regularização e compactação do sub-leito | C22: m² | D22: =E8 -> 1193.44 | E22: Conforme planta de pavimentação
A24: 4 | B24: Estrutura do Pavimento
A25: 4.1 | B25: Fornecimento, execução e compactação de brita graduada, e= 20 cm | C25: m³ | D25: =TRUNC(E8*0.2,2) -> 238.68 | E25: 1.193,44 * 0,20
A26: 4.2 | B26: Transporte de brita graduada com caminhão basculante 10m³, via urbana pavimentada, DT 17,1Km | C26: m³xKm | D26: =TRUNC(D25*17.1,2) -> 4081.42 | E26: 238,68*17,1Km | AL26: =TRUNC(70.98*21,2) -> 1490.58 | AN26: =TRUNC(354.9*0.2,2) -> 70.98 | AO26: =TRUNC(70.98*21,2) -> 1490.58
A27: 4.3 | B27: Fornecimento e colocação de meio-fio de concreto (0,15x0,30x1,00)m | C27: m | D27: 343 | E27: 343 MF | AL27: =TRUNC(41.02*21,2) -> 861.42 | AN27: =TRUNC(205.1*0.2,2) -> 41.02 | AO27: =TRUNC(41.02*21,2) -> 861.42
AL28: =TRUNC(56*21,2) -> 1176 | AN28: =TRUNC(280*0.2,2) -> 56 | AO28: =TRUNC(56*21,2) -> 1176
A29: 5 | B29: Revestimento em CBUQ | AL29: =TRUNC(70.98*21,2) -> 1490.58 | AN29: =TRUNC(353.44*0.2,2) -> 70.68 | AO29: =TRUNC(70.68*21,2) -> 1484.28
A30: 5.1 | B30: Imprimação asfáltica com CM-30, taxa 1,5 l/m² | C30: m² | D30: =E8 -> 1193.44 | E30: Conforme planta de pavimentação
A31: 5.2 | B31: Revestimento com CBUQ, esp 6 cm | C31: m³ | D31: =ROUND(E8*0.06,2) -> 71.61 | E31: 1.193,44 * 0,06
A33: 6 | B33: Drenagem Pluvial
A34: 6.1 | B34: Escavação mecânica de valas em material de 1ª categoria | C34: m³ | D34: 125.66 | E34: (125,66 m³) Conforme planilha de escavação de drenagem pluvial
A35: 6.2 | B35: Fornecimento de Tubo Conc. Simples PS2 PB, para águas pluviaisNBR8890 DN 400mm | C35: m | D35: 78 | E35: 78 m tubo Ø 400mm
A36: 6.3 | B36: Assentamento Tubo Conc. Simples PS2 PB, para águas pluviaisNBR8890 DN 400mm | C36: m | D36: =D35 -> 78 | E36: =E35 -> 78 m tubo Ø 400mm
A37: 6.4 | B37: Fornec. e Assent. Tubo Conc. Armado para redes coletoras de águas pluviais PS2 PB NBR8890 DN 400mm, instalado em local com baixo nível de interferências. | C37: m | D37: 31 | E37: 31m tubo Ø 400mm
A38: 6.5 | B38: Reaterro mecânico de valas com material local | C38: m³ | D38: =TRUNC(D34-D39,2) -> 105.94 | E38: Escavado -volume dos tubos (125,66 -19,72)
A39: 6.6 | B39: Carga e descarga mecanizada de solo utilizando caminhão basculante 6,0 m³ e pá carregadeira | C39: m³ | D39: =TRUNC((D35+D37)*3.1416*0.48*0.48/4,2) -> 19.72 | E39: (78+31)* 3,1416 * 0,48 * 0,48 / 4
A40: 6.7 | B40: Transporte de material escavado DMT 3,4 Km | C40: m³xKm | D40: =TRUNC((D39)*1.25*3.4,2) -> 83.81 | E40: ((78+31) * 3,1416 * 0,48 * 0,48 / 4)* 1,25*3,4 Km
A41: 6.8 | B41: Execução de caixa coletora (1,20x1,20) prof. média 1,60m, com fundo de concreto magro e tampa de concreto armado e paredes em alvenaria de pedra grês | C41: un | D41: 5 | E41: 5 PV
A43: 7 | B43: Drenagem Pluvial - Boca de Lobo
A44: 7.1 | B44: Boca-de-Lobo com Fornec. com colocação de Artefatos | C44: un | D44: 9 | E44: 9 BL
A46: 8 | B46: Sinalização Viária
A47: 8.1 | B47: Sinalização Horizontal com tinta refletiva | C47: m | D47: 56.7 | E47: Conforme planta de sinalização
A48: 8.2 | B48: Pintura de faixa de pedestre com tinta retrorefletiva a base de resina acrilica com microesferas de vidro - BRANCO | C48: m² | D48: 44.8 | E48: Conforme planta de sinalização
A49: 8.3 | B49: Conjunto de Placa de Sinalizacao SEMI-REFLETIVA R1 (PARE) 0,3M², incluindo suporte, acessorios de fixação e implantação | C49: m² | D49: =ROUND(3*0.3,2) -> 0.9 | E49: 3 Placas*0,3 m²
A50: 8.4 | B50: Placa regulamentadora de velocidade (40Km/h) retrorefletiva Ø 50cm | C50: m² | D50: =ROUND(3*0.2,2) -> 0.6 | E50: 3 Placas*0,2 m²
A52: 9 | B52: Serviços Urbanisticos e Mobilidade Urbana
A53: 9.1 | B53: Execução de Passeios (calçadas) e rampas com concreto moldado in loco, Usinado, acabamento convencional, não armado, resistência C2O, espessura 7 cm | C53: m³ | D53: =TRUNC(476.78*0.07,2) -> 33.37 | E53: 476,78*0,07
A54: 9.2 | B54: Pedra britada Nº 1 (9,5 à 19 mm), lastro de brita para os passeios espessura 3 cm | C54: m³ | D54: =TRUNC(476.78*0.03,2) -> 14.3 | E54: 476,78*0,03
A55: 9.3 | B55: Transporte em caminhão basculante de pedra britada Nº 1 (9,5 à 19 mm) em via urbana pavimentada, lastro de brita dos passeios, DT 17,1 km | C55: m³xKm | D55: =TRUNC(476.78*0.03*17.1,2) -> 244.58 | E55: 476,78*0,03*17,1 Km
A56: 9.4 | B56: Placa de Identificação de Logradouro Público 50X25 cm, com suporte | C56: un. | D56: 3 | E56: 3 Placas
A57: 9.5 | B57: Fornecimento e Colocação de piso Podotatil de Alerta 40x40x2,5 | C57: m² | D57: =TRUNC(40*0.4,2) -> 16 | E57: 40*0,4 Conforme planta de acessibilidade
A58: 9.6 | B58: Fornecimento e Colocação de piso Podotatil direcional 40x40x2,5 | C58: m² | D58: =TRUNC(276*0.4,2) -> 110.4 | E58: 276*0,4 Conforme planta de acessibilidade
A59: 9.7 | B59: Execução e compactação de aterro com solo predominantemente argiloso, exclusive solo, escavação, carga e transporte. | C59: m² | D59: 476.78 | E59: Conforme planta de pavimentação
A63: BDI

Sheet RESUMO
B6: Hermes Pereira de Souza
A9: ITEM | B9: DESCRIÇÃO DOS SERVIÇOS | C9: Valor R$
A10: 1 | B10: Administração Local | C10: ='Planilha orçamentária'!H8 -> 4459.24
A11: 2 | B11: Serviços Iniciais | C11: ='Planilha orçamentária'!H11 -> 6893.18
A12: 3 | B12: Terraplenagem | C12: ='Planilha orçamentária'!H16 -> 18733.78
A13: 4 | B13: Estrutura do Pavimento | C13: ='Planilha orçamentária'!H22 -> 70015.48
A14: 5 | B14: Revestimento em CBUQ | C14: ='Planilha orçamentária'!H27 -> 188852.69
A15: 6 | B15: Drenagem Pluvial | C15: ='Planilha orçamentária'!H31 -> 33647.01
A16: 7 | B16: Drenagem Pluvial - Boca de Lobo | C16: ='Planilha orçamentária'!H41 -> 12311.19
A17: 8 | B17: Sinalização Viária | C17: ='Planilha orçamentária'!H44 -> 2542.11
A18: 9 | B18: Serviços Urbanisticos e Mobilidade Urbana | C18: ='Planilha orçamentária'!H50 -> 46670.79
B19: Total da Obra | C19: =SUM(C10:C18) -> 384125.47
