Workbook

Sheet Memoria de calculo
A1: Memória de Cálculo - Vias Manaus, Francelino Santos, Feijó e Vista Alegre
A6: Item | B6: Descrição dos Serviços | C6: Un | D6: Quantitativo | E6: Discriminado
A7: 1 | B7: Administração Local
A8: 1.1 | B8: Administração local, engenheiro civil e técnico em segurança do trabalho | C8: un | D8: 1 | E8: 1 Unidade
A10: 2 | B10: Serviços Iniciais - Via Manaus
A11: 2.1 | B11: Placa de obra | C11: m² | D11: 4.5 | E11: 3*1,5
A12: 2.2 | B12: Aluguel container/escr, larg= 2,30 m, compr= 6,00 m, altura 2,50 m, com um sanitário, para escritório, completo, sem divisórias. | C12: mês | D12: 2 | E12: 2 meses
A13: 2.3 | B13: Serviços Topográficos Para Pavimentação | C13: m² | D13: 517.82 | E13: Área de abrangência (pista + Passeio) conforme plnata de pavimentação
A15: 3 | B15: Terraplenagem - Via Manaus
A16: 3.1 | B16: Escavação Mecânica a céu aberto, em material de 1a categoria, com escavadeira hidráulica, capacidade de 0,78 m³ | C16: m³ | D16: 125.7 | E16: 373,30*0,33+112,00MF*0,15*0,15
A17: 3.2 | B17: Transporte do material escavado até 1,6 Km | C17: m³xKm | D17: 251.4 | E17: (373,30*0,33+112,00MF*0,15*0,15)1,25*1,6
A18: 3.3 | B18: Carga e descarga mecanizada de solo utilizando caminhão basculante 6,0m³ e pá carregadeira | C18: m³ | D18: 125.7 | E18: 373,30*0,33+112,00MF*0,15*0,15
A19: 3.4 | B19: Regularização e compactação do sub-leito | C19: m² | D19: 373.3 | E19: Conforme planta de pavimentação
A21: 4 | B21: Estrutura do Pavimento - Via Manaus
A22: 4.1 | B22: Fornecimento e compactação de brita graduada, e= 20 cm | C22: m³ | D22: 74.66 | E22: 373,30*0,20
A23: 4.2 | B23: Transporte de brita graduada em caminhão Basculante em via urbana pavimentada DMT = 18 Km | C23: m³xKm | D23: 1343.88 | E23: 373,30*0,20*18Km
A24: 4.3 | B24: Fornecimento e colocação de meio-fio de concreto (0,15x0,30x1,00)m | C24: m | D24: 112 | E24: 112 MF
A26: 5 | B26: Pavimentação em Bloco - Via Manaus
A27: 5.1 | B27: Execução de via em bloco de concreto intertravado 16 faces 22x11 cm, e=8 cm | C27: m² | D27: 373.3 | E27: Conforme projeto de Pavimentação
A28: 5.2 | B28: Transporte de pó de pedra em caminhão Basculante em via urbana pavimentada DMT = 18 Km | C28: m³xKm | D28: 376.28 | E28: 373,30*0,056*18 Km
A29: 5.3 | B29: Transporte de areia média em caminhão Basculante em via urbana pavimentada DMT = 18 Km | C29: m³xKm | D29: 57.11 | E29: 373,30*0,0085*18 Km
A31: 6 | B31: Drenagem Pluvial - Via Manaus
A32: 6.1 | B32: Escavação mecânica de valas em material de 1ª categoria | C32: m³ | D32: 94.95 | E32: Conforme planilha de cálculo de volume de escavação
A33: 6.2 | B33: Fornecimento Tubo Conc. Simples PS2 PB, para águas pluviaisNBR8890 DN 400mm | C33: m | D33: 79 | E33: 79 tubos DN 400mm
A34: 6.3 | B34: Assentamento Tubo Conc. Simples PS2 PB, para águas pluviaisNBR8890 DN 400mm | C34: m | D34: 79 | E34: 79 tubos DN 400mm
A35: 6.4 | B35: Reaterro mecânico de valas com material local | C35: m³ | D35: 80.66 | E35: 94,95 - 14,29
A36: 6.5 | B36: Carga e descarga mecanizada de solo utilizando caminhão basculante e pá carregadeira | C36: m³ | D36: 14.29 | E36: 79*3,1416*0,48*0,48/4
A37: 6.6 | B37: Transporte de material escavado DMT 1,6 Km | C37: m³xKm | D37: 28.58 | E37: 79*3,1416*0,48*0,48/4*1,25*1,6Km
A38: 6.7 | B38: Execução de caixa coletora(1,20X1,20) prof. média 1,20m paredes em alvenaria de pedra gres com fundo e tampa de concreto armado | C38: un | D38: 4 | E38: 4 PV
A39: 6.8 | B39: Boca-de-Lobo com Fornec. com colocação de Artefatos | C39: un | D39: 4 | E39: 4BL
A41: 7 | B41: Sinalização Viária - Via Manaus
A42: 7.1 | B42: Pintura sobre eixo viário sobre asfalto com tinta retrorefletiva a base de resina acrilica com microesferas de vidro, aplicação mecãnica com demarcadora autopropelida - AMARELO | C42: m | D42: 18 | E42: Conforme projeto de sinalização
A43: 7.2 | B43: Pintura de faixa de pedestre com tinta retrorefletiva a base de resina acrilica com microesferas de vidro - BRANCO | C43: m² | D43: 10.8 | E43: Conforme projeto de sinalização
A44: 7.3 | B44: Conjunto de Placa sinalização semi-refletiva R1 (PARE) 0,3m², incluindo suporte, acessórios de fixação e implantação | C44: m² | D44: 0.6 | E44: 0,3m²*2 placas
A45: 7.4 | B45: Conjunto de Placa de Sinalizacao SEMI-REFLETIVA R19 (VELOCIDADE MÁXIMA PERMITIDA) 0,20M², incluindo suporte, acessorios de fixacao e implantacao | C45: m² | D45: 0.4 | E45: 0,2m²*2 placas
A47: 8 | B47: Serviços Urbanisticos e Mobilidade Urbana - Via Manaus
A48: 8.1 | B48: Execução de Passeios (calçadas) e rampas com concreto moldado in loco, Usinado, acabamento convencional, não armado, resistência C2O, espessura 7 cm | C48: m³ | D48: 8.79 | E48: 144,52*0,07-(10,60+84,02)*0,4*0,035
A49: 8.2 | B49: Camada de lastro de brita para os passeios, espessura 3cm, incluso compactação | C49: m³ | D49: 4.33 | E49: 144,52*0,03
A50: 8.3 | B50: Transporte comercial de Pó de pedra com caminhão basculante 10,0 m³, rodovia pavimentada, DMT 18Km | C50: m³xKm | D50: 78.04 | E50: 144,52*0,03*18
A51: 8.4 | B51: Conjunto de placa de Identificação de Logradouro Público, com duas placas 50X25 cm, face dupla,incluindo suporte, acessorios de fixação e implantação | C51: un. | D51: 2 | E51: 2 placas
A52: 8.5 | B52: Fornecimento e Colocação de piso tátil de Alerta 40x40x2,5 | C52: m² | D52: 4.24 | E52: 10,60*0,4
A53: 8.6 | B53: Fornecimento e Colocação de piso tátil direcional 40x40x2,5 | C53: m² | D53: 33.6 | E53: 84,02*0,4
A55: 9 | B55: Serviços Iniciais - Via Francelino Santos
A56: 9.1 | B56: Placa de obra | C56: m² | D56: 4.5 | E56: 3*1,5
A57: 9.2 | B57: Aluguel container/escr, larg= 2,30 m, compr= 6,00 m, altura 2,50 m, com um sanitário, para escritório, completo, sem divisórias. | C57: un | D57: 3 | E57: 3 meses
A58: 9.3 | B58: Serviços Topográficos Para Pavimentação | C58: m² | D58: 1488.8 | E58: Área de abrangência (pista + Passeio) conforme plnata de pavimentação
A60: 10 | B60: Terraplenagem - Via Francelino Santos
A61: 10.1 | B61: Escavação Mecânica a céu aberto, em material de 1a categoria, com escavadeira hidráulica, capacidade de 0,78 m³ | C61: m³ | D61: 471.6 | E61: 56*7*0,3+1051,82*0,33+306,90MF*0,15*0,15
A62: 10.2 | B62: Transporte do material escavado até 1,7 Km | C62: m³xKm | D62: 1002.15 | E62: (56*7*0,3+1051,82*0,33+306,90MF*0,15*0,15)*1,25*1,7km
A63: 10.3 | B63: Carga e descarga mecanizada de solo utilizando caminhão basculante 6,0m³ e pá carregadeira | C63: m³ | D63: 471.6 | E63: 56*7*0,3+1051,82*0,33+306,90MF*0,15*0,15
A64: 10.4 | B64: Regularização e compactação do sub-leito | C64: m² | D64: 1051.82 | E64: Conforme planta de pavimentação
A66: 11 | B66: Estrutura do Pavimento - Via Francelino Santos
A67: 11.1 | B67: Fornecimento e compactação de brita graduada, e= 20 cm | C67: m³ | D67: 210.36 | E67: 1051,82*0,20
A68: 11.2 | B68: Transporte de brita graduada em caminhão Basculante em via urbana pavimentada DMT = 17,8Km | C68: m³xKm | D68: 3744.4 | E68: 1051,82*0,20*17,8Km
A69: 11.3 | B69: Reforço do sub-leito com pedra britada nº 3 e=30cm | C69: m³ | D69: 117.6 | E69: 56*7*0,30 reforço do subleito da Est 0 até Est 2+16
A70: 11.4 | B70: Transporte de pedra com caminhão basculante 10m³, via urbana pavimentada, DT 17,8Km | C70: m³xKm | D70: 2093.28 | E70: (56*7*0,30 reforço do subleito da Est 0 até Est 2+16)*17,8Km
A71: 11.5 | B71: Fornecimento e compactação de camada de bloqueio com pó de pedra, e= 3 cm | C71: m³ | D71: 11.76 | E71: 56*7*0,03 bloqueio com pó de pedra da Est 0 até Est 2+16
A72: 11.6 | B72: Transporte de pó de pedra com caminhão basculante 10m³, via urbana pavimentada, DMT 17,8 Km | C72: m³xKm | D72: 209.32 | E72: (56*7*0,03 bloqueio com pó de pedra da Est 0 até Est 2+16)*17,8Km
A73: 11.7 | B73: Fornecimento e colocação de meio-fio de concreto (0,15x0,30x1,00)m | C73: m | D73: 306.9 | E73: 306,90 MF
A75: 12 | B75: Pavimentação em Bloco - Via Francelino Santos
A76: 12.1 | B76: Execução de via em bloco de concreto intertravado 16 faces 22x11 cm, e=8 cm | C76: m² | D76: 1051.82 | E76: Conforme planta de pavimentação
A77: 12.2 | B77: Transporte de pó de pedra em caminhão Basculante em via urbana pavimentada DMT = 17,8 Km | C77: m³xKm | D77: 1048.45 | E77: 1051,82*0,056*17,8Km
A78: 12.3 | B78: Transporte de areia média em caminhão Basculante em via urbana pavimentada DMT = 17,8 Km | C78: m³xKm | D78: 159.14 | E78: 1051,82*0,0085*17,8Km
A80: 13 | B80: Drenagem Pluvial - Via Francelino Santos
A81: 13.1 | B81: Escavação mecânica de valas em material de 1ª categoria | C81: m³ | D81: 132.59 | E81: Conforme planilha de cálculo de volume de escavação
A82: 13.2 | B82: Fornecimento Tubo Conc. Simples PS2 PB, para águas pluviaisNBR8890 DN 400mm | C82: m | D82: 76 | E82: 76 tubos DN 400mm
A83: 13.3 | B83: Assentamento Tubo Conc. Simples PS2 PB, para águas pluviaisNBR8890 DN 400mm | C83: m | D83: 76 | E83: 76 tubos DN 400mm
A84: 13.4 | B84: Fornec. e Assent. Tubo Conc. Armado para redes coletoras de águas pluviais PS2 PB NBR8890 DN 500mm, instalado em local com baixo nível de interferências. | C84: m | D84: 10 | E84: 10 tubos DN 500mm
A85: 13.5 | B85: Fornecimento de Tubo Conc. simples para redes coletoras de águas pluviais PS2 PB NBR8890 DN 600mm, instalado em local com baixo nível de interferências. | C85: m | D85: 25 | E85: 25 tubos DN 600mm
A86: 13.6 | B86: Assentamento Tubo Conc. simples para redes coletoras de águas pluviais PS2 PB NBR8890 DN 600mm, instalado em local com baixo nível de interferências. | C86: m | D86: 25 | E86: 25 tubos DN 600mm
A87: 13.7 | B87: Fornec. e Assent. Tubo Conc. Armado para redes coletoras de águas pluviais PS2 PB NBR8890 DN 1000mm, instalado em local com baixo nível de interferências. | C87: m | D87: 2 | E87: 2 tubos DN 1000mm
A88: 13.8 | B88: Reaterro mecânico de valas com material local | C88: m³ | D88: 103.94 | E88: 132,59 - 28,65
A89: 13.9 | B89: Carga e descarga mecanizada de solo utilizando caminhão basculante e pá carregadeira | C89: m³ | D89: 28.65 | E89: 76*3,1416*0,48*0,48/4+10*3,1416*0,6*0,6/4+25*3,1416*0,72*0,72/4+2*3,1416*1,1*1,1/4
A90: 13.10 | B90: Transporte de material escavado DMT 1,7 Km | C90: m³xKm | D90: 60.88 | E90: (76*3,1416*0,48*0,48/4+10*3,1416*0,6*0,6/4+25*3,1416*0,72*0,72/4+2*3,1416*1,1*1,1/4)*1,25*1,7
A91: 13.11 | B91: Execução de caixa coletora(1,20X1,20) prof. média 1,20m paredes em alvenaria de pedra gres com fundo e tampa de concreto armado | C91: un | D91: 5 | E91: 5PV
A92: 13.12 | B92: Execução de caixa coletora(1,20X2,00) prof. 1,20m paredes em alvenaria de pedra gres com fundo e tampa de concreto armado | C92: un | D92: 1 | E92: 1PV
A93: 13.13 | B93: Boca-de-Lobo com Fornec. com colocação de Artefatos | C93: un | D93: 8 | E93: 8 BL
A95: 14 | B95: Sinalização Viária - Via Francelino Santos
A96: 14.1 | B96: Pintura sobre eixo viário sobre asfalto com tinta retrorefletiva a base de resina acrilica com microesferas de vidro, aplicação mecãnica com demarcadora autopropelida - AMARELO | C96: m | D96: 50 | E96: Conforme planta de pavimentação
A97: 14.2 | B97: Pintura de faixa de pedestre com tinta retrorefletiva a base de resina acrilica com microesferas de vidro - BRANCO | C97: m² | D97: 10.8 | E97: Conforme planta de pavimentação
A98: 14.3 | B98: Placa sinalização semi-refletiva R1 (PARE) 0,3m² | C98: m² | D98: 0.6 | E98: 0,3m²*2 placas
A99: 14.4 | B99: Conjunto de Placa de Sinalizacao SEMI-REFLETIVA R19 (VELOCIDADE MÁXIMA PERMITIDA) 0,20M², incluindo suporte, acessorios de fixacao e implantacao | C99: m² | D99: 0.4 | E99: 0,2m²*2 placas
A101: 15 | B101: Serviços Urbanisticos e Mobilidade Urbana - Via Francelino Santos
A102: 15.1 | B102: Execução de Passeios (calçadas) e rampas com concreto moldado in loco, Usinado, acabamento convencional, não armado, resistência C2O, espessura 7 cm | C102: m³ | D102: 26.51 | E102: 436,98*0,07-(11,6+279,76)*0,4*0,035
A103: 15.2 | B103: Camada de lastro de brita para os passeios, espessura 3cm, incluso compactação | C103: m³ | D103: 13.1 | E103: 436,98*0,03
A104: 15.3 | B104: Transporte comercial de Pó de pedra com caminhão basculante 10,0 m³, rodovia pavimentada, DMT 17,8 Km | C104: m³xKm | D104: 233.34 | E104: 436,98*0,03*17,8
A105: 15.4 | B105: Conjunto de placa de Identificação de Logradouro Público, com duas placas 50X25 cm, face dupla,incluindo suporte, acessorios de fixação e implantação | C105: un. | D105: 2 | E105: 2 placas
A106: 15.5 | B106: Fornecimento e Colocação de piso tátil de Alerta 40x40x2,5 | C106: m² | D106: 4.64 | E106: 11,60*0,4
A107: 15.6 | B107: Fornecimento e Colocação de piso tátil direcional 40x40x2,5 | C107: m² | D107: 111.9 | E107: 279,76*0,4
A109: 16 | B109: Serviços Iniciais - Via Feijó
A110: 16.1 | B110: Placa de obra | C110: m² | D110: 4.5 | E110: 3*1,5
A111: 16.2 | B111: Aluguel container/escr, larg= 2,30 m, compr= 6,00 m, altura 2,50 m, com um sanitário, para escritório, completo, sem divisórias. | C111: un | D111: 3 | E111: 3 meses
A112: 16.3 | B112: Serviços Topográficos Para Pavimentação | C112: m² | D112: 2019.49 | E112: Área de abrangência (pista + Passeio) conforme plnata de pavimentação
A114: 17 | B114: Terraplenagem - Via Feijó
A115: 17.1 | B115: Escavação Mecânica a céu aberto, em material de 1a categoria, com escavadeira hidráulica, capacidade de 0,78 m³ | C115: m³ | D115: 454.77 | E115: 1352,27*0,33+379*0,15*0,15
A116: 17.2 | B116: Transporte do material escavado até 1,3 Km | C116: m³xKm | D116: 739 | E116: (1352,27*0,33+379*0,15*0,15)*1,25*1,3Km
A117: 17.3 | B117: Carga e descarga mecanizada de solo utilizando caminhão basculante 6,0m³ e pá carregadeira | C117: m³ | D117: 454.77 | E117: 1352,27*0,33+379*0,15*0,15
A118: 17.4 | B118: Regularização e compactação do sub-leito | C118: m² | D118: 1352.27 | E118: Conforme planta de pavimentação
A120: 18 | B120: Estrutura do Pavimento - Via Feijó
A121: 18.1 | B121: Fornecimento e compactação de brita graduada, e= 20 cm | C121: m³ | D121: 270.45 | E121: 1352,27*0,20
...

Sheet Resumo
A1: Pavimentação das Vias Manaus, Francelino Santos, Feijó e Vista Alegre
A3: ITEM | B3: DESCRIÇÃO DOS SERVIÇOS | C3: Valor R$
A4: 1 | B4: Administração Local | C4: =GERAL!H7 -> 14587.73
A5: 2 | B5: Serviços Iniciais - Via Manaus | C5: =GERAL!H10 -> 3854.29
A6: 3 | B6: Terraplenagem - Via Manaus | C6: =GERAL!H15 -> 3972.99
A7: 4 | B7: Estrutura do Pavimento - Via Manaus | C7: =GERAL!H21 -> 23389.79
A8: 5 | B8: Pavimentação em Bloco - Via Manaus | C8: =GERAL!H26 -> 35658.23
A9: 6 | B9: Drenagem Pluvial -Via Manaus | C9: =GERAL!H31 -> 29681.17
A10: 7 | B10: Sinalização Viária - Via Manaus | C10: =GERAL!H41 -> 1026.23
A11: 8 | B11: Serviços Urbanisticos e Mobilidade Urbana - Via Manaus | C11: =GERAL!H47 -> 14059.33
A12: 9 | B12: Serviços Iniciais - Via Francelino Santos | C12: =GERAL!H55 -> 5396.54
A13: 10 | B13: Terraplenagem - Via Francelino Santos | C13: =GERAL!H60 -> 14040.43
A14: 11 | B14: Estrutura do Pavimento - Via Francelino Santos | C14: =GERAL!H66 -> 87447.87
A15: 12 | B15: Pavimentação em Bloco - Via Francelino Santos | C15: =GERAL!H75 -> 100431.9
A16: 13 | B16: Drenagem Pluvial -Via Francelino Santos | C16: =GERAL!H80 -> 50470.95
A17: 14 | B17: Sinalização Viária - Via Francelino Santos | C17: =GERAL!H95 -> 1241.27
A18: 15 | B18: Serviços Urbanisticos e Mobilidade Urbana - Via Francelino Santos | C18: =GERAL!H101 -> 40170.36
A19: 16 | B19: Serviços Iniciais - Via Feijó | C19: =GERAL!H109 -> 5672.49
A20: 17 | B20: Terraplenagem - Via Feijó | C20: =GERAL!H114 -> 13775.42
A21: 18 | B21: Estrutura do Pavimento - Via Feijó | C21: =GERAL!H120 -> 85208.52
A22: 19 | B22: Pavimentação em Bloco - Via Feijó | C22: =GERAL!H125 -> 129912.26
A23: 20 | B23: Drenagem Pluvial -Via Feijó | C23: =GERAL!H130 -> 32837.27
A24: 21 | B24: Sinalização Viária - Via Feijó | C24: =GERAL!H141 -> 1869.51
A25: 22 | B25: Serviços Urbanisticos e Mobilidade Urbana - Via Feijó | C25: =GERAL!H147 -> 61339.2
A26: 23 | B26: Serviços Iniciais - Via Vista Alegre | C26: =GERAL!H156 -> 10877.91
A27: 24 | B27: Terraplenagem - Via Vista Alegre | C27: =GERAL!H161 -> 118572.66
A28: 25 | B28: Estrutura do Pavimento - Via Vista Alegre | C28: =GERAL!H168 -> 813694.93
A29: 26 | B29: Revestimento em CBUQ - Vista Alegre | C29: =GERAL!H177 -> 985543.37
A30: 27 | B30: Drenagem Pluvial -Via Vista Alegre | C30: =GERAL!H182 -> 112621.2
A31: 28 | B31: Sinalização Viária - Via Vista Alegre | C31: =GERAL!H192 -> 6664.65
A32: 29 | B32: Serviços Urbanisticos e Mobilidade Urbana - Via Vista Alegre | C32: =GERAL!H198 -> 155677.84
B33: Total da Obra | C33: =SUM(C4:C32) -> 2959696.3

Sheet GERAL
A1: Vias Manaus, Francelino Santos, Feijó e Vista Alegre | E1: Via | F1: Manaus | G1: Francelino Santos | H1: Feijó | I1: Vista Alegre
E2: Comprimento (m) | F2: 53 | G2: 150.26 | H2: 191 | I2: 448,00 cada lado
E3: Largura (m) | F3: 7 | G3: 7 | H3: 7 | I3: 6,50 cada lado | K3: Área (m²) | L3: Área (m²) | M3: Área Total(m²) | N3: Área (m²) | O3: Área (m²) | P3: Área Total(m²)
E4: Área de Pavimentação (m²) | F4: 373.3 | G4: 1051.82 | H4: 1352.27 | I4: 6296.84 | K4: 640 | L4: 640 | M4: =K4+L4 -> 1280 | N4: =H4/2 -> 676.135 | O4: =H4/2 -> 676.135 | P4: =N4+O4 -> 1352.27
E5: Área de Terraplenagem (m²) | I5: 6565.3
A6: Item | B6: Referência | C6: Código | D6: Descrição dos Serviços | E6: Un | F6: Quantitativo | G6: R$ unit. | H6: Preço total | I6: PREÇO SEM BDI | K6: Quantitativo Trecho 1 | L6: Quantitativo Trecho 2 | M6: Quantitativo Total - Rua 116 | N6: Quantitativo Trecho 3 | O6: Quantitativo Trecho 4 | P6: Quantitativo Total - Rua São Paulo
A7: 1 | D7: Administração Local | H7: =TRUNC(SUM(H8:H8),2) -> 14587.73 | Q7: =TRUNC(SUM(Q8:Q8),2) -> 14587.73
A8: 1.1 | B8: COMPOSIÇÃO PMA | C8: 4 | D8: Administração local, engenheiro civil e técnico em segurança do trabalho | E8: un | F8: =M8+P8 -> 1 | G8: =ROUND(I8*(1+$B$212),2) -> 14587.73 | H8: =ROUND(F8*G8,2) -> 14587.73 | I8: =1838.96+2758.44+2758.44+4597.4 -> 11953.24 | K8: 0.24 | L8: 0.26 | M8: =K8+L8 -> 0.5 | N8: 0.24 | O8: 0.26 | P8: =N8+O8 -> 0.5 | Q8: ='[1]Planilha orçamentária'!$H$9+'[2]Planilha orçamentária'!$H$9+'[3]Planilha orçamentária'!$H$10+'[4]Planilha orçamentária'!$H$10 -> 14587.73
A10: 2 | D10: Serviços Iniciais - Via Manaus | H10: =TRUNC(SUM(H11:H13),2) -> 3854.29
A11: 2.1 | B11: COMPOSIÇÃO PMA | C11: 23 | D11: Placa de obra | E11: m² | F11: =TRUNC(3*1.5,2) -> 4.5 | G11: =ROUND(I11*(1+$B$212),2) -> 335.63 | H11: =ROUND(F11*G11,2) -> 1510.34 | I11: 275.02 | K11: 4.5 | L11: 0 | M11: =K11+L11 -> 4.5 | N11: 0 | O11: 0 | P11: =N11+O11 -> 0
A12: 2.2 | B12: SINAPI | C12: 10775 | D12: Aluguel container/escr, larg= 2,30 m, compr= 6,00 m, altura 2,50 m, com um sanitário, para escritório, completo, sem divisórias. | E12: mês | F12: 2 | G12: =ROUND(I12*(1+$B$212),2) -> 1037.34 | H12: =ROUND(F12*G12,2) -> 2074.68 | I12: 850 | K12: 0.24 | L12: 0.26 | M12: =K12+L12 -> 0.5 | N12: 0.24 | O12: 0.26 | P12: =N12+O12 -> 0.5
A13: 2.3 | B13: COMPOSIÇÃO PMA | C13: 14 | D13: Serviços Topográficos Para Pavimentação | E13: m² | F13: 517.82 | G13: =ROUND(I13*(1+$B$212),2) -> 0.52 | H13: =ROUND(F13*G13,2) -> 269.27 | I13: 0.43 | K13: =K4+499.56/2 -> 889.78 | L13: =L4+499.56/2 -> 889.78 | M13: =K13+L13 -> 1779.56 | N13: =N4+752.58/2 -> 1052.425 | O13: =O4+752.58/2 -> 1052.425 | P13: =N13+O13 -> 2104.85
A15: 3 | D15: Terraplenagem - Via Manaus | H15: =TRUNC(SUM(H16:H19),2) -> 3972.99
A16: 3.1 | B16: COMPOSIÇÃO PMA | C16: 18 | D16: Escavação Mecânica a céu aberto, em material de 1a categoria, com escavadeira hidráulica, capacidade de 0,78 m³ | E16: m³ | F16: =TRUNC(F4*0.33+F24*0.15*0.15,2) -> 125.7 | G16: =ROUND(I16*(1+$B$212),2) -> 4.58 | H16: =ROUND(F16*G16,2) -> 575.71 | I16: 3.75 | K16: =TRUNC(K4*0.25+#REF!*0.15*0.15,2)-0.01 -> #REF! | L16: =ROUND(L4*0.25+#REF!*0.15*0.15,2) -> #REF! | M16: =K16+L16 -> #REF!
A17: 3.2 | B17: SINAPI | C17: 97914 | D17: Transporte do material escavado até 1,6 Km | E17: m³xKm | F17: =TRUNC(F16*1.6*1.25,2) -> 251.4 | G17: =ROUND(I17*(1+$B$212),2) -> 3.54 | H17: =ROUND(F17*G17,2) -> 889.96 | I17: 2.9 | K17: =ROUND(K16*1.6*1.25,2) -> #REF! | L17: =TRUNC(L16*1.6*1.25,2) -> #REF! | M17: =K17+L17 -> #REF!
A18: 3.3 | B18: SINAPI | C18: 100973 | D18: Carga e descarga mecanizada de solo utilizando caminhão basculante 6,0m³ e pá carregadeira | E18: m³ | F18: =F16 -> 125.7 | G18: =TRUNC(I18*(1+$B$212),2) -> 10.8 | H18: =ROUND(F18*G18,2) -> 1357.56 | I18: 8.85 | K18: =K16 -> #REF! | L18: =L16 -> #REF! | M18: =K18+L18 -> #REF!
A19: 3.4 | B19: SINAPI | C19: 100576 | D19: Regularização e compactação do sub-leito | E19: m² | F19: =F4 -> 373.3 | G19: =ROUND(I19*(1+$B$212),2) -> 3.08 | H19: =TRUNC(F19*G19,2) -> 1149.76 | I19: 2.52 | K19: =K4 -> 640 | L19: =L4 -> 640 | M19: =K19+L19 -> 1280
A21: 4 | D21: Estrutura do Pavimento - Via Manaus | H21: =TRUNC(SUM(H22:H24),2) -> 23389.79
A22: 4.1 | B22: SINAPI | C22: 96396 | D22: Fornecimento e compactação de brita graduada, e= 20 cm | E22: m³ | F22: =TRUNC(F4*0.2,2) -> 74.66 | G22: =TRUNC(I22*(1+$B$212),2) -> 158.49 | H22: =ROUND(F22*G22,2) -> 11832.86 | I22: 129.87
A23: 4.2 | B23: SINAPI | C23: 95875 | D23: Transporte de brita graduada em caminhão Basculante em via urbana pavimentada DMT = 18 Km | E23: m³xKm | F23: =F22*18 -> 1343.88 | G23: =ROUND(I23*(1+$B$212),2) -> 2.93 | H23: =ROUND(F23*G23,2) -> 3937.57 | I23: 2.4
A24: 4.3 | B24: SINAPI | C24: 94273 | D24: Fornecimento e colocação de meio-fio de concreto (0,15x0,30x1,00)m | E24: m | F24: 112 | G24: =ROUND(I24*(1+$B$212),2) -> 68.03 | H24: =TRUNC(F24*G24,2) -> 7619.36 | I24: 55.74
H25: =TRUNC(F25*G25,2) -> 0
A26: 5 | D26: Pavimentação em Bloco - Via Manaus | H26: =TRUNC(SUM(H27:H29),2) -> 35658.23
A27: 5.1 | B27: COMPOSIÇÃO PMA | C27: 19 | D27: Execução de via em bloco de concreto intertravado 16 faces 22x11 cm, e=8 cm | E27: m² | F27: =F4 -> 373.3 | G27: =ROUND(I27*(1+$B$212),2) -> 92.12 | H27: =ROUND((F27*G27),2) -> 34388.4 | I27: 75.48 | K27: =K4 -> 640 | L27: =L4 -> 640 | M27: =K27+L27 -> 1280
A28: 5.2 | B28: SINAPI | C28: 95875 | D28: Transporte de pó de pedra em caminhão Basculante em via urbana pavimentada DMT = 18 Km | E28: m³xKm | F28: =TRUNC(F27*0.056*18,2) -> 376.28 | G28: =ROUND(I28*(1+$B$212),2) -> 2.93 | H28: =ROUND((F28*G28),2) -> 1102.5 | I28: 2.4
A29: 5.3 | B29: SINAPI | C29: 95875 | D29: Transporte de areia média em caminhão Basculante em via urbana pavimentada DMT = 18 Km | E29: m³xKm | F29: =TRUNC(F4*0.0085*18,2) -> 57.11 | G29: =ROUND(I29*(1+$B$212),2) -> 2.93 | H29: =ROUND((F29*G29),2) -> 167.33 | I29: 2.4
A31: 6 | D31: Drenagem Pluvial - Via Manaus | H31: =TRUNC(SUM(H32:H39),2) -> 29681.17
A32: 6.1 | B32: SINAPI | C32: 90106 | D32: Escavação mecânica de valas em material de 1ª categoria | E32: m³ | F32: 94.95 | G32: =ROUND(I32*(1+$B$212),2) -> 9.34 | H32: =ROUND(F32*G32,2) -> 886.83 | I32: 7.65 | K32: =TRUNC((K33*1*1),2) -> 24 | L32: 12 | M32: =K32+L32 -> 36
A33: 6.2 | B33: SINAPI | C33: 7785 | D33: Fornecimento Tubo Conc. Simples PS2 PB, para águas pluviaisNBR8890 DN 400mm | E33: m | F33: 79 | G33: =ROUND(I33*(1+$B$212),2) -> 82.32 | H33: =TRUNC(F33*G33,2) -> 6503.28 | I33: 67.45 | K33: =8*3 -> 24 | L33: =4*3 -> 12 | M33: =K33+L33 -> 36
A34: 6.3 | B34: SINAPI | C34: 92809 | D34: Assentamento Tubo Conc. Simples PS2 PB, para águas pluviaisNBR8890 DN 400mm | E34: m | F34: =F33 -> 79 | G34: =ROUND(I34*(1+$B$212),2) -> 71.32 | H34: =TRUNC(F34*G34,2) -> 5634.28 | I34: 58.44 | K34: =K33 -> 24 | L34: =L33 -> 12 | M34: =K34+L34 -> 36
A35: 6.4 | B35: SINAPI | C35: 93381 | D35: Reaterro mecânico de valas com material local | E35: m³ | F35: =F32-F36 -> 80.66 | G35: =ROUND(I35*(1+$B$212),2) -> 15.57 | H35: =ROUND(F35*G35,2) -> 1255.88 | I35: 12.76 | K35: 19.64 | L35: 9.85 | M35: =K35+L35 -> 29.49
A36: 6.5 | B36: SINAPI | C36: 100973 | D36: Carga e descarga mecanizada de solo utilizando caminhão basculante e pá carregadeira | E36: m³ | F36: =TRUNC(79*3.1416*0.48*0.48/4,2) -> 14.29 | G36: =ROUND(I36*(1+$B$212),2) -> 10.8 | H36: =ROUND(F36*G36,2) -> 154.33 | I36: 8.85 | K36: 4.35 | L36: 2.16 | M36: =K36+L36 -> 6.51
A37: 6.6 | B37: SINAPI | C37: 97914 | D37: Transporte de material escavado DMT 1,6 Km | E37: m³xKm | F37: =TRUNC(F36*1.25*1.6,2) -> 28.58 | G37: =ROUND(I37*(1+$B$212),2) -> 3.54 | H37: =ROUND(F37*G37,2) -> 101.17 | I37: 2.9 | K37: 8.68 | L37: 4.34 | M37: =K37+L37 -> 13.02
A38: 6.7 | B38: COMPOSIÇÃO PMA | C38: 3 | D38: Execução de caixa coletora(1,20X1,20) prof. média 1,20m paredes em alvenaria de pedra gres com fundo e tampa de concreto armado | E38: un | F38: 4 | G38: =ROUND(I38*(1+$B$212),2) -> 2392.58 | H38: =TRUNC(F38*G38,2) -> 9570.32 | I38: 1960.49 | K38: 2 | L38: 3 | M38: =K38+L38 -> 5
A39: 6.8 | B39: COMPOSIÇÃO PMA | C39: 12 | D39: Boca-de-Lobo com Fornec. com colocação de Artefatos | E39: un | F39: 4 | G39: =ROUND(I39*(1+$B$212),2) -> 1393.77 | H39: =TRUNC(F39*G39,2) -> 5575.08 | I39: 1142.06 | K39: 8 | L39: 4 | M39: =K39+L39 -> 12
A41: 7 | D41: Sinalização Viária - Via Manaus | H41: =TRUNC(SUM(H42:H45),2) -> 1026.23
A42: 7.1 | B42: SINAPI | C42: 102512 | D42: Pintura sobre eixo viário sobre asfalto com tinta retrorefletiva a base de resina acrilica com microesferas de vidro, aplicação mecãnica com demarcadora autopropelida - AMARELO | E42: m | F42: 18 | G42: =ROUND(I42*(1+$B$212),2) -> 6.72 | H42: =TRUNC(F42*G42,2) -> 120.96 | I42: 5.51 | K42: 30 | L42: 20 | M42: =K42+L42 -> 50
A43: 7.2 | B43: SINAPI | C43: 102509 | D43: Pintura de faixa de pedestre com tinta retrorefletiva a base de resina acrilica com microesferas de vidro - BRANCO | E43: m² | F43: 10.8 | G43: =ROUND(I43*(1+$B$212),2) -> 28.28 | H43: =ROUND(F43*G43,2) -> 305.42 | I43: 23.17 | K43: 12.4 | L43: 11.2 | M43: =K43+L43 -> 23.6
A44: 7.3 | B44: COMPOSIÇÃO PMA | C44: 11 | D44: Conjunto de Placa sinalização semi-refletiva R1 (PARE) 0,3m², incluindo suporte, acessórios de fixação e implantação | E44: m² | F44: =TRUNC(2*0.3,2) -> 0.6 | G44: =ROUND(I44*(1+$B$212),2) -> 628.03 | H44: =ROUND(F44*G44,2) -> 376.82 | I44: 514.61 | K44: 0.6 | L44: 0.3 | M44: =K44+L44 -> 0.9
A45: 7.4 | B45: COMPOSIÇÃO PMA | C45: 20 | D45: Conjunto de Placa de Sinalizacao SEMI-REFLETIVA R19 (VELOCIDADE MÁXIMA PERMITIDA) 0,20M², incluindo suporte, acessorios de fixacao e implantacao | E45: m² | F45: =TRUNC(2*0.2,2) -> 0.4 | G45: =ROUND(I45*(1+$B$212),2) -> 557.58 | H45: =ROUND(F45*G45,2) -> 223.03 | I45: 456.88
A47: 8 | D47: Serviços Urbanisticos e Mobilidade Urbana - Via Manaus | H47: =TRUNC(SUM(H48:H53),2) -> 14059.33
A48: 8.1 | B48: SINAPI | C48: 94991 | D48: Execução de Passeios (calçadas) e rampas com concreto moldado in loco, Usinado, acabamento convencional, não armado, resistência C2O, espessura 7 cm | E48: m³ | F48: =TRUNC((144.52*0.07-(10.6+84.02)*0.4*0.035),2) -> 8.79 | G48: =ROUND(I48*(1+$B$212),2) -> 850.84 | H48: =TRUNC(F48*G48,2) -> 7478.88 | I48: 697.18 | K48: =250.28*0.05-5.12*0.035-50.96*0.035 -> 10.5512 | L48: =252.02*0.05-5.12*0.035-51.44*0.035 -> 10.6214 | M48: =K48+L48 -> 21.1726 | R48: =TRUNC(10.43/21.17*15.07,2) -> 7.42 | S48: =10.61/21.17*15.07 -> 7.5527964 | T48: =ROUND(R48+S48,2) -> 14.97
A49: 8.2 | B49: COMPOSIÇÃO PMA | C49: 21 | D49: Camada de lastro de brita para os passeios, espessura 3cm, incluso compactação | E49: m³ | F49: =TRUNC(144.52*0.03,2) -> 4.33 | G49: =ROUND(I49*(1+$B$212),2) -> 150.07 | H49: =ROUND(F49*G49,2) -> 649.8 | I49: 122.97 | K49: =250.28*0.03 -> 7.5084 | L49: =252.02*0.03 -> 7.5606 | M49: =K49+L49 -> 15.069
A50: 8.3 | B50: SINAPI | C50: 95875 | D50: Transporte comercial de Pó de pedra com caminhão basculante 10,0 m³, rodovia pavimentada, DMT 18Km | E50: m³xKm | F50: =TRUNC(144.52*0.03*18,2) -> 78.04 | G50: =ROUND(I50*(1+$B$212),2) -> 2.93 | H50: =ROUND(F50*G50,2) -> 228.66 | I50: 2.4 | K50: =250.28*0.03*10 -> 75.084 | L50: =252.02*0.03*10 -> 75.606 | M50: =TRUNC(K50+L50,2) -> 150.69
A51: 8.4 | B51: COMPOSIÇÃO PMA | C51: 2 | D51: Conjunto de placa de Identificação de Logradouro Público, com duas placas 50X25 cm, face dupla,incluindo suporte, acessorios de fixação e implantação | E51: un. | F51: 2 | G51: =ROUND(I51*(1+$B$212),2) -> 624.11 | H51: =TRUNC(F51*G51,2) -> 1248.22 | I51: 511.4 | K51: 2 | L51: 1 | M51: =K51+L51 -> 3
A52: 8.5 | B52: COMPOSIÇÃO PMA | C52: 1 | D52: Fornecimento e Colocação de piso tátil de Alerta 40x40x2,5 | E52: m² | F52: =TRUNC(10.6*0.4,2) -> 4.24 | G52: =ROUND(I52*(1+$B$212),2) -> 117.7 | H52: =ROUND(F52*G52,2) -> 499.05 | I52: 96.44 | K52: =TRUNC(((2*4.8)+(2*1.6))*0.4,2) -> 5.12 | L52: =TRUNC(((2*4.8)+(2*1.6))*0.4,2) -> 5.12 | M52: =K52+L52 -> 10.24
A53: 8.6 | B53: COMPOSIÇÃO PMA | C53: 7 | D53: Fornecimento e Colocação de piso tátil direcional 40x40x2,5 | E53: m² | F53: =TRUNC(84.02*0.4,2) -> 33.6 | G53: =ROUND(I53*(1+$B$212),2) -> 117.7 | H53: =ROUND(F53*G53,2) -> 3954.72 | I53: 96.44 | K53: =TRUNC(127.4*0.4,2) -> 50.96 | L53: =TRUNC(128.6*0.4,2) -> 51.44 | M53: =K53+L53 -> 102.4
A55: 9 | D55: Serviços Iniciais - Via Francelino Santos | H55: =TRUNC(SUM(H56:H58),2) -> 5396.54
A56: 9.1 | B56: COMPOSIÇÃO PMA | C56: 23 | D56: Placa de obra | E56: m² | F56: =TRUNC(3*1.5,2) -> 4.5 | G56: =ROUND(I56*(1+$B$212),2) -> 335.63 | H56: =ROUND(F56*G56,2) -> 1510.34 | I56: 275.02
A57: 9.2 | B57: SINAPI | C57: 10775 | D57: Aluguel container/escr, larg= 2,30 m, compr= 6,00 m, altura 2,50 m, com um sanitário, para escritório, completo, sem divisórias. | E57: mês | F57: 3 | G57: =ROUND(I57*(1+$B$212),2) -> 1037.34 | H57: =ROUND(F57*G57,2) -> 3112.02 | I57: 850
A58: 9.3 | B58: COMPOSIÇÃO PMA | C58: 14 | D58: Serviços Topográficos Para Pavimentação | E58: m² | F58: 1488.8 | G58: =TRUNC(I58*(1+$B$212),2) -> 0.52 | H58: =ROUND(F58*G58,2) -> 774.18 | I58: 0.43 | N58: 204.95 | O58: 225.69 | P58: =N58+O58 -> 430.64
A60: 10 | D60: Terraplenagem - Via Francelino Santos | H60: =TRUNC(SUM(H61:H64),2) -> 14040.43
A61: 10.1 | B61: COMPOSIÇÃO PMA | C61: 18 | D61: Escavação Mecânica a céu aberto, em material de 1a categoria, com escavadeira hidráulica, capacidade de 0,78 m³ | E61: m³ | F61: =TRUNC(56*7*0.3+G4*0.33+F73*0.15*0.15,2) -> 471.6 | G61: =ROUND(I61*(1+$B$212),2) -> 4.58 | H61: =ROUND(F61*G61,2) -> 2159.93 | I61: 3.75 | N61: =TRUNC(N4*0.2,2) -> 135.22 | O61: =TRUNC(O4*0.2,2) -> 135.22 | P61: =N61+O61 -> 270.44
A62: 10.2 | B62: SINAPI | C62: 97914 | D62: Transporte do material escavado até 1,7 Km | E62: m³xKm | F62: =TRUNC(F61*1.25*1.7,2) -> 1002.15 | G62: =ROUND(I62*(1+$B$212),2) -> 3.54 | H62: =ROUND(F62*G62,2) -> 3547.61 | I62: 2.9 | N62: =TRUNC(N61*10,2) -> 1352.2 | O62: =TRUNC(O61*10,2) -> 1352.2 | P62: =N62+O62 -> 2704.4
A63: 10.3 | B63: SINAPI | C63: 100973 | D63: Carga e descarga mecanizada de solo utilizando caminhão basculante 6,0m³ e pá carregadeira | E63: m³ | F63: =F61 -> 471.6 | G63: =ROUND(I63*(1+$B$212),2) -> 10.8 | H63: =TRUNC(F63*G63,2) -> 5093.28 | I63: 8.85 | N63: 201 | O63: 234 | P63: =N63+O63 -> 435
A64: 10.4 | B64: SINAPI | C64: 100576 | D64: Regularização e compactação do sub-leito | E64: m² | F64: =G4 -> 1051.82 | G64: =ROUND(I64*(1+$B$212),2) -> 3.08 | H64: =ROUND((F64*G64),2) -> 3239.61 | I64: 2.52 | N64: =N4 -> 676.135 | O64: =O4 -> 676.135 | P64: =N64+O64 -> 1352.27
A66: 11 | D66: Estrutura do Pavimento - Via Francelino Santos | H66: =TRUNC(SUM(H67:H73),2) -> 87447.87
A67: 11.1 | B67: SINAPI | C67: 96396 | D67: Fornecimento e compactação de brita graduada, e= 20 cm | E67: m³ | F67: =TRUNC(G4*0.2,2) -> 210.36 | G67: =TRUNC(I67*(1+$B$212),2) -> 158.49 | H67: =ROUND((F67*G67),2) -> 33339.96 | I67: 129.87
A68: 11.2 | B68: SINAPI | C68: 95875 | D68: Transporte de brita graduada em caminhão Basculante em via urbana pavimentada DMT = 17,8Km | E68: m³xKm | F68: =TRUNC(F67*17.8,2) -> 3744.4 | G68: =ROUND(I68*(1+$B$212),2) -> 2.93 | H68: =TRUNC((F68*G68),2) -> 10971.09 | I68: 2.4
A69: 11.3 | B69: COMPOSIÇÃO PMA | C69: 5 | D69: Reforço do sub-leito com pedra britada nº 3 e=30cm | E69: m³ | F69: =TRUNC(56*7*0.3,2) -> 117.6 | G69: =ROUND(I69*(1+$B$212),2) -> 115.44 | H69: =TRUNC((F69*G69),2) -> 13575.74 | I69: 94.59
A70: 11.4 | B70: SINAPI | C70: 95875 | D70: Transporte de pedra com caminhão basculante 10m³, via urbana pavimentada, DT 17,8Km | E70: m³xKm | F70: =F69*17.8 -> 2093.28 | G70: =ROUND(I70*(1+$B$212),2) -> 2.93 | H70: =ROUND((F70*G70),2) -> 6133.31 | I70: 2.4
A71: 11.5 | B71: COMPOSIÇÃO PMA | C71: 6 | D71: Fornecimento e compactação de camada de bloqueio com pó de pedra, e= 3 cm | E71: m³ | F71: =TRUNC(56*7*0.03,2) -> 11.76 | G71: =ROUND(I71*(1+$B$212),2) -> 164.63 | H71: =ROUND((F71*G71),2) -> 1936.05 | I71: 134.9
A72: 11.6 | B72: SINAPI | C72: 95875 | D72: Transporte de pó de pedra com caminhão basculante 10m³, via urbana pavimentada, DMT 17,8 Km | E72: m³xKm | F72: =TRUNC(F71*17.8,2) -> 209.32 | G72: =ROUND(I72*(1+$B$212),2) -> 2.93 | H72: =ROUND((F72*G72),2) -> 613.31 | I72: 2.4
A73: 11.7 | B73: SINAPI | C73: 94273 | D73: Fornecimento e colocação de meio-fio de concreto (0,15x0,30x1,00)m | E73: m | F73: 306.9 | G73: =ROUND(I73*(1+$B$212),2) -> 68.03 | H73: =ROUND((F73*G73),2) -> 20878.41 | I73: 55.74
A75: 12 | D75: Pavimentação em Bloco - Via Francelino Santos | H75: =TRUNC(SUM(H76:H78),2) -> 100431.9
A76: 12.1 | B76: COMPOSIÇÃO PMA | C76: 19 | D76: Execução de via em bloco de concreto intertravado 16 faces 22x11 cm, e=8 cm | E76: m² | F76: =G4 -> 1051.82 | G76: =ROUND(I76*(1+$B$212),2) -> 92.12 | H76: =ROUND((F76*G76),2) -> 96893.66 | I76: 75.48
A77: 12.2 | B77: SINAPI | C77: 95875 | D77: Transporte de pó de pedra em caminhão Basculante em via urbana pavimentada DMT = 17,8 Km | E77: m³xKm | F77: =TRUNC(F76*0.056*17.8,2) -> 1048.45 | G77: =ROUND(I77*(1+$B$212),2) -> 2.93 | H77: =ROUND((F77*G77),2) -> 3071.96 | I77: 2.4
A78: 12.3 | B78: SINAPI | C78: 95875 | D78: Transporte de areia média em caminhão Basculante em via urbana pavimentada DMT = 17,8 Km | E78: m³xKm | F78: =TRUNC(G4*0.0085*17.8,2) -> 159.14 | G78: =ROUND(I78*(1+$B$212),2) -> 2.93 | H78: =TRUNC((F78*G78),2) -> 466.28 | I78: 2.4
A80: 13 | D80: Drenagem Pluvial - Via Francelino Santos | H80: =TRUNC(SUM(H81:H93),2) -> 50470.95
A81: 13.1 | B81: SINAPI | C81: 90106 | D81: Escavação mecânica de valas em material de 1ª categoria | E81: m³ | F81: 132.59 | G81: =ROUND(I81*(1+$B$212),2) -> 9.34 | H81: =TRUNC(F81*G81,2) -> 1238.39 | I81: 7.65 | N81: =TRUNC((N82*1*1),2) -> 18 | O81: =TRUNC((O82*1*1),2) -> 18 | P81: =N81+O81 -> 36
A82: 13.2 | B82: SINAPI | C82: 7785 | D82: Fornecimento Tubo Conc. Simples PS2 PB, para águas pluviaisNBR8890 DN 400mm | E82: m | F82: 76 | G82: =ROUND(I82*(1+$B$212),2) -> 82.32 | H82: =TRUNC(F82*G82,2) -> 6256.32 | I82: 67.45 | N82: =6*3 -> 18 | O82: =6*3 -> 18 | P82: =N82+O82 -> 36
A83: 13.3 | B83: SINAPI | C83: 92809 | D83: Assentamento Tubo Conc. Simples PS2 PB, para águas pluviaisNBR8890 DN 400mm | E83: m | F83: =F82 -> 76 | G83: =ROUND(I83*(1+$B$212),2) -> 71.32 | H83: =TRUNC(F83*G83,2) -> 5420.32 | I83: 58.44 | N83: =N82 -> 18 | O83: =O82 -> 18 | P83: =N83+O83 -> 36
A84: 13.4 | B84: SINAPI | C84: 92211 | D84: Fornec. e Assent. Tubo Conc. Armado para redes coletoras de águas pluviais PS2 PB NBR8890 DN 500mm, instalado em local com baixo nível de interferências. | E84: m | F84: 10 | G84: =ROUND(I84*(1+$B$212),2) -> 262.2 | H84: =TRUNC(F84*G84,2) -> 2622 | I84: 214.85
A85: 13.5 | B85: SINAPI | C85: 7793 | D85: Fornecimento de Tubo Conc. simples para redes coletoras de águas pluviais PS2 PB NBR8890 DN 600mm, instalado em local com baixo nível de interferências. | E85: m | F85: 25 | G85: =ROUND(I85*(1+$B$212),2) -> 137.89 | H85: =TRUNC(F85*G85,2) -> 3447.25 | I85: 112.99
A86: 13.6 | B86: SINAPI | C86: 92810 | D86: Assentamento Tubo Conc. simples para redes coletoras de águas pluviais PS2 PB NBR8890 DN 600mm, instalado em local com baixo nível de interferências. | E86: m | F86: 25 | G86: =ROUND(I86*(1+$B$212),2) -> 86.76 | H86: =TRUNC(F86*G86,2) -> 2169 | I86: 71.09
A87: 13.7 | B87: SINAPI | C87: 92216 | D87: Fornec. e Assent. Tubo Conc. Armado para redes coletoras de águas pluviais PS2 PB NBR8890 DN 1000mm, instalado em local com baixo nível de interferências. | E87: m | F87: 2 | G87: =ROUND(I87*(1+$B$212),2) -> 734.67 | H87: =TRUNC(F87*G87,2) -> 1469.34 | I87: 601.99
A88: 13.8 | B88: SINAPI | C88: 93381 | D88: Reaterro mecânico de valas com material local | E88: m³ | F88: =TRUNC(F81-F89,2) -> 103.94 | G88: =TRUNC(I88*(1+$B$212),2) -> 15.57 | H88: =ROUND(F88*G88,2) -> 1618.35 | I88: 12.76 | N88: =TRUNC(N81-N89,2) -> 14.77 | O88: =TRUNC(O81-O89,2) -> 14.72 | P88: =N88+O88 -> 29.49
A89: 13.9 | B89: SINAPI | C89: 100973 | D89: Carga e descarga mecanizada de solo utilizando caminhão basculante e pá carregadeira | E89: m³ | F89: =TRUNC(76*3.1416*0.48*0.48/4+10*3.1416*0.6*0.6/4+25*3.1416*0.72*0.72/4+2*3.1416*1.1*1.1/4,2) -> 28.65 | G89: =ROUND(I89*(1+$B$212),2) -> 10.8 | H89: =ROUND(F89*G89,2) -> 309.42 | I89: 8.85 | N89: 3.23 | O89: 3.28 | P89: =N89+O89 -> 6.51
A90: 13.10 | B90: SINAPI | C90: 97914 | D90: Transporte de material escavado DMT 1,7 Km | E90: m³xKm | F90: =TRUNC(F89*1.25*1.7,2) -> 60.88 | G90: =ROUND(I90*(1+$B$212),2) -> 3.54 | H90: =ROUND(F90*G90,2) -> 215.52 | I90: 2.9 | N90: 5.71 | O90: 5.68 | P90: =N90+O90 -> 11.39
A91: 13.11 | B91: COMPOSIÇÃO PMA | C91: 3 | D91: Execução de caixa coletora(1,20X1,20) prof. média 1,20m paredes em alvenaria de pedra gres com fundo e tampa de concreto armado | E91: un | F91: 5 | G91: =ROUND(I91*(1+$B$212),2) -> 2392.58 | H91: =TRUNC(F91*G91,2) -> 11962.9 | I91: 1960.49 | N91: 3 | O91: 2 | P91: =N91+O91 -> 5
A92: 13.12 | B92: COMPOSIÇÃO PMA | C92: 22 | D92: Execução de caixa coletora(1,20X2,000) prof. 1,20m paredes em alvenaria de pedra gres com fundo e tampa de concreto armado | E92: un | F92: 1 | G92: =ROUND(I92*(1+$B$212),2) -> 2591.98 | H92: =TRUNC(F92*G92,2) -> 2591.98 | I92: 2123.88
A93: 13.13 | B93: COMPOSIÇÃO PMA | C93: 12 | D93: Boca-de-Lobo com Fornec. com colocação de Artefatos | E93: un | F93: 8 | G93: =ROUND(I93*(1+$B$212),2) -> 1393.77 | H93: =TRUNC(F93*G93,2) -> 11150.16 | I93: 1142.06 | N93: 6 | O93: 6 | P93: =N93+O93 -> 12
A95: 14 | D95: Sinalização Viária - Via Francelino Santos | H95: =TRUNC(SUM(H96:H99),2) -> 1241.27
A96: 14.1 | B96: SINAPI | C96: 102512 | D96: Pintura sobre eixo viário sobre asfalto com tinta retrorefletiva a base de resina acrilica com microesferas de vidro, aplicação mecãnica com demarcadora autopropelida - AMARELO | E96: m | F96: 50 | G96: =ROUND(I96*(1+$B$212),2) -> 6.72 | H96: =TRUNC(F96*G96,2) -> 336 | I96: 5.51 | N96: 36 | O96: 38 | P96: =N96+O96 -> 74
A97: 14.2 | B97: SINAPI | C97: 102509 | D97: Pintura de faixa de pedestre com tinta retrorefletiva a base de resina acrilica com microesferas de vidro - BRANCO | E97: m² | F97: 10.8 | G97: =ROUND(I97*(1+$B$212),2) -> 28.28 | H97: =ROUND(F97*G97,2) -> 305.42 | I97: 23.17 | N97: 12.4 | O97: 12.4 | P97: =N97+O97 -> 24.8
A98: 14.3 | B98: COMPOSIÇÃO PMA | C98: 11 | D98: Placa sinalização semi-refletiva R1 (PARE) 0,3m² | E98: m² | F98: =TRUNC(2*0.3,2) -> 0.6 | G98: =ROUND(I98*(1+$B$212),2) -> 628.03 | H98: =ROUND(F98*G98,2) -> 376.82 | I98: 514.61 | N98: 0.3 | O98: 0.3 | P98: =N98+O98 -> 0.6
A99: 14.4 | B99: COMPOSIÇÃO PMA | C99: 20 | D99: Conjunto de Placa de Sinalizacao SEMI-REFLETIVA R19 (VELOCIDADE MÁXIMA PERMITIDA) 0,20M², incluindo suporte, acessorios de fixacao e implantacao | E99: m² | F99: =TRUNC(2*0.2,2) -> 0.4 | G99: =ROUND(I99*(1+$B$212),2) -> 557.58 | H99: =ROUND(F99*G99,2) -> 223.03 | I99: 456.88
A101: 15 | D101: Serviços Urbanisticos e Mobilidade Urbana - Via Francelino Santos | H101: =TRUNC(SUM(H102:H107),2) -> 40170.36
A102: 15.1 | B102: SINAPI | C102: 94991 | D102: Execução de Passeios (calçadas) e rampas com concreto moldado in loco, Usinado, acabamento convencional, não armado, resistência C2O, espessura 7 cm | E102: m³ | F102: =ROUND((436.98*0.07)-(11.6+279.76)*0.4*0.035,2) -> 26.51 | G102: =ROUND(I102*(1+$B$212),2) -> 850.84 | H102: =ROUND(F102*G102,2) -> 22555.77 | I102: 697.18 | N102: =TRUNC(100/210*31.74,2) -> 15.11 | O102: =ROUND(110/210*31.74,2) -> 16.63 | P102: =N102+O102 -> 31.74
A103: 15.2 | B103: COMPOSIÇÃO PMA | C103: 21 | D103: Camada de lastro de brita para os passeios, espessura 3cm, incluso compactação | E103: m³ | F103: =TRUNC(436.98*0.03,2) -> 13.1 | G103: =ROUND(I103*(1+$B$212),2) -> 150.07 | H103: =ROUND(F103*G103,2) -> 1965.92 | I103: 122.97 | N103: =TRUNC(100/210*22.58,2) -> 10.75 | O103: =ROUND(110/210*22.58,2) -> 11.83 | P103: =N103+O103 -> 22.58
A104: 15.3 | B104: SINAPI | C104: 95875 | D104: Transporte comercial de Pó de pedra com caminhão basculante 10,0 m³, rodovia pavimentada, DMT 17,8 Km | E104: m³xKm | F104: =TRUNC(436.98*0.03*17.8,2) -> 233.34 | G104: =ROUND(I104*(1+$B$212),2) -> 2.93 | H104: =ROUND(F104*G104,2) -> 683.69 | I104: 2.4 | N104: =ROUND(100/210*225.77,2) -> 107.51 | O104: =ROUND(110/210*225.77,2) -> 118.26 | P104: =N104+O104 -> 225.77
A105: 15.4 | B105: COMPOSIÇÃO PMA | C105: 2 | D105: Conjunto de placa de Identificação de Logradouro Público, com duas placas 50X25 cm, face dupla,incluindo suporte, acessorios de fixação e implantação | E105: un. | F105: 2 | G105: =ROUND(I105*(1+$B$212),2) -> 624.11 | H105: =TRUNC(F105*G105,2) -> 1248.22 | I105: 511.4 | N105: 1 | O105: 1 | P105: =N105+O105 -> 2
A106: 15.5 | B106: COMPOSIÇÃO PMA | C106: 1 | D106: Fornecimento e Colocação de piso tátil de Alerta 40x40x2,5 | E106: m² | F106: =TRUNC(11.6*0.4,2) -> 4.64 | G106: =ROUND(I106*(1+$B$212),2) -> 117.7 | H106: =ROUND(F106*G106,2) -> 546.13 | I106: 96.44 | N106: =TRUNC(((2*4.8)+(2*1.6))*0.4,2) -> 5.12 | O106: =TRUNC(((2*4.8)+(2*1.6))*0.4,2) -> 5.12 | P106: =N106+O106 -> 10.24
A107: 15.6 | B107: COMPOSIÇÃO PMA | C107: 7 | D107: Fornecimento e Colocação de piso tátil direcional 40x40x2,5 | E107: m² | F107: =TRUNC(279.76*0.4,2) -> 111.9 | G107: =ROUND(I107*(1+$B$212),2) -> 117.7 | H107: =ROUND(F107*G107,2) -> 13170.63 | I107: 96.44 | N107: =TRUNC(187.5*0.4,2) -> 75 | O107: =TRUNC(207.5*0.4,2) -> 83 | P107: =N107+O107 -> 158
A109: 16 | D109: Serviços Iniciais - Via Feijó | H109: =TRUNC(SUM(H110:H112),2) -> 5672.49
A110: 16.1 | B110: COMPOSIÇÃO PMA | C110: 23 | D110: Placa de obra | E110: m² | F110: =3*1.5 -> 4.5 | G110: =ROUND(I110*(1+$B$212),2) -> 335.63 | H110: =ROUND(F110*G110,2) -> 1510.34 | I110: 275.02
A111: 16.2 | B111: SINAPI | C111: 10775 | D111: Aluguel container/escr, larg= 2,30 m, compr= 6,00 m, altura 2,50 m, com um sanitário, para escritório, completo, sem divisórias. | E111: mês | F111: 3 | G111: =ROUND(I111*(1+$B$212),2) -> 1037.34 | H111: =TRUNC(F111*G111,2) -> 3112.02 | I111: 850
A112: 16.3 | B112: COMPOSIÇÃO PMA | C112: 14 | D112: Serviços Topográficos Para Pavimentação | E112: m² | F112: 2019.49 | G112: =ROUND(I112*(1+$B$212),2) -> 0.52 | H112: =ROUND(F112*G112,2) -> 1050.13 | I112: 0.43
A114: 17 | D114: Terraplenagem - Via Feijó | H114: =TRUNC(SUM(H115:H118),2) -> 13775.42
A115: 17.1 | B115: COMPOSIÇÃO PMA | C115: 18 | D115: Escavação Mecânica a céu aberto, em material de 1a categoria, com escavadeira hidráulica, capacidade de 0,78 m³ | E115: m³ | F115: =TRUNC(H4*0.33+F123*0.15*0.15,2) -> 454.77 | G115: =ROUND(I115*(1+$B$212),2) -> 4.58 | H115: =ROUND(F115*G115,2) -> 2082.85 | I115: 3.75
...

Sheet Cronograma
A2: Cronograma físico-financeiro - Ruas Manaus, Francelino Santos, Feijó e Vista Alegre - Alvorada
A3: Dias corridos | B3: 1º mês 1 - 30 | C3: 2º mês 31 - 60 | D3: 3º mês 61 - 90 | E3: 4º mês 91 - 120 | F3: 5º mês 121 - 150 | G3: 6º mês 151 - 180 | H3: 7º mês 181 - 210 | I3: 8º mês 211 - 240 | J3: 9º mês 241 - 270 | K3: TOTAL (R$)
A4: Descrição dos Serviços
B5: 0.0362 | C5: 0.0764 | D5: 0.1081 | E5: 0.0666 | F5: 0.1037 | G5: 0.1583 | H5: 0.1701 | I5: 0.179 | J5: 0.1016 | K5: 1
A6: 1 - Administração Local
B7: =ROUND(B5*K7,2) -> 528.08 | C7: =C5*K7 -> 1114.5026 | D7: =D5*K7 -> 1576.9336 | E7: =E5*K7 -> 971.54282 | F7: =F5*K7 -> 1512.7476 | G7: =G5*K7 -> 2309.2377 | H7: =H5*K7 -> 2481.3729 | I7: =I5*K7 -> 2611.2037 | J7: =J5*K7 -> 1482.1134 | K7: =GERAL!H7 -> 14587.73
B8: 0.7 | C8: 0.3 | D8: 0 | E8: 0 | F8: 0 | G8: 0 | H8: 0 | I8: 0 | J8: 0 | K8: =SUM(B8:J8) -> 1
A9: 2 - Serviços Iniciais - Rua Manaus
B10: =ROUND(B8*K10,2) -> 2698 | C10: =C8*K10 -> 1156.287 | D10: =D8*K10 -> 0 | E10: =E8*K10 -> 0 | F10: =F8*K10 -> 0 | G10: =G8*K10 -> 0 | H10: =H8*K10 -> 0 | I10: =I8*K10 -> 0 | J10: =J8*K10 -> 0 | K10: =GERAL!H10 -> 3854.29
B11: 1 | C11: 0 | D11: 0 | E11: 0 | F11: 0 | G11: 0 | H11: 0 | I11: 0 | J11: 0 | K11: =SUM(B11:J11) -> 1 | M11: =B7+B13+B16+B19 -> 34025.09 | N11: =M11/K93 -> 0.011496142
A12: 3 - Terraplenagem - Rua Manaus
B13: =ROUND(B11*K13,2) -> 3972.99 | C13: =C11*K13 -> 0 | D13: =D11*K13 -> 0 | E13: =E11*K13 -> 0 | F13: =F11*K13 -> 0 | G13: =G11*K13 -> 0 | H13: =H11*K13 -> 0 | I13: =I11*K13 -> 0 | J13: =J11*K13 -> 0 | K13: =GERAL!H15 -> 3972.99 | M13: =C7+C13+C16+C19 -> 30638.513 | N13: =M13/K93 -> 0.010351911
B14: 0.5 | C14: 0.5 | D14: 0 | E14: 0 | F14: 0 | G14: 0 | H14: 0 | I14: 0 | J14: 0 | K14: =SUM(B14:J14) -> 1
A15: 4 - Estrutura do Pavimento - Rua Manaus | M15: =D7+D13+D16+D19+D28 -> 1576.9336 | N15: =M15/K93 -> 0.00053280251
B16: =ROUND(B14*K16,2) -> 11694.9 | C16: =C14*K16 -> 11694.895 | D16: =D14*K16 -> 0 | E16: =E14*K16 -> 0 | F16: =F14*K16 -> 0 | G16: =G14*K16 -> 0 | H16: =H14*K16 -> 0 | I16: =I14*K16 -> 0 | J16: =J14*K16 -> 0 | K16: =GERAL!H21 -> 23389.79
B17: 0.5 | C17: 0.5 | D17: 0 | E17: 0 | F17: 0 | G17: 0 | H17: 0 | I17: 0 | J17: 0 | K17: =SUM(B17:J17) -> 1 | M17: =E7+E13+E16+E22+E28 -> 971.54282 | N17: =M17/K93 -> 0.0003282576
A18: 5 - Pavimentação em Bloco - Rua Manaus
B19: =ROUND(B17*K19,2) -> 17829.12 | C19: =C17*K19 -> 17829.115 | D19: =D17*K19 -> 0 | E19: =E17*K19 -> 0 | F19: =F17*K19 -> 0 | G19: =G17*K19 -> 0 | H19: =H17*K19 -> 0 | I19: =I17*K19 -> 0 | J19: =J17*K19 -> 0 | K19: =GERAL!H26 -> 35658.23
B20: 1 | C20: 0 | D20: 0 | E20: 0 | F20: 0 | G20: 0 | H20: 0 | I20: 0 | J20: 0 | K20: =SUM(B20:J20) -> 1
A21: 6 - Drenagem Pluvial - Rua Manaus
B22: =B20*K22 -> 29681.17 | C22: =C20*K22 -> 0 | D22: =D20*K22 -> 0 | E22: =E20*K22 -> 0 | F22: =F20*K22 -> 0 | G22: =G20*K22 -> 0 | H22: =H20*K22 -> 0 | I22: =I20*K22 -> 0 | J22: =J20*K22 -> 0 | K22: =GERAL!H31 -> 29681.17
B23: 0 | C23: 1 | D23: 0 | E23: 0 | F23: 0 | G23: 0 | H23: 0 | I23: 0 | J23: 0 | K23: =SUM(B23:J23) -> 1
A24: 7 - Sinalização Viária - Rua Manaus
B25: =B23*K25 -> 0 | C25: =C23*K25 -> 1026.23 | D25: =D23*K25 -> 0 | E25: =E23*K25 -> 0 | F25: =F23*K25 -> 0 | G25: =G23*K25 -> 0 | H25: =H23*K25 -> 0 | I25: =I23*K25 -> 0 | J25: =J23*K25 -> 0 | K25: =GERAL!H41 -> 1026.23
A26: 8 - Serviços Urbanisticos e Mobilidade Urbana - Rua Manaus | B26: 0 | C26: 1 | D26: 0 | E26: 0 | F26: 0 | G26: 0 | H26: 0 | I26: 0 | J26: 0 | K26: =SUM(B26:J26) -> 1
B28: =B26*K28 -> 0 | C28: =C26*K28 -> 14059.33 | D28: =D26*K28 -> 0 | E28: =E26*K28 -> 0 | F28: =F26*K28 -> 0 | G28: =G26*K28 -> 0 | H28: =H26*K28 -> 0 | I28: =I26*K28 -> 0 | J28: =J26*K28 -> 0 | K28: =GERAL!H47 -> 14059.33
B29: 0.526 | C29: 0.237 | D29: 0.237 | E29: 0 | F29: 0 | G29: 0 | H29: 0 | I29: 0 | J29: 0 | K29: =SUM(B29:J29) -> 1
A30: 9 - Serviços Iniciais - Rua Francelino Santos
B31: =B29*K31 -> 2838.58 | C31: =C29*K31 -> 1278.98 | D31: =D29*K31 -> 1278.98 | E31: =E29*K31 -> 0 | F31: =F29*K31 -> 0 | G31: =G29*K31 -> 0 | H31: =H29*K31 -> 0 | I31: =I29*K31 -> 0 | J31: =J29*K31 -> 0 | K31: =GERAL!H55 -> 5396.54
B32: 0 | C32: 1 | D32: 0 | E32: 0 | F32: 0 | G32: 0 | H32: 0 | I32: 0 | J32: 0 | K32: =SUM(B32:J32) -> 1
A33: 10 - Terraplenagem - Rua Francelino Santos
B34: =B32*K34 -> 0 | C34: =C32*K34 -> 14040.43 | D34: =D32*K34 -> 0 | E34: =E32*K34 -> 0 | F34: =F32*K34 -> 0 | G34: =G32*K34 -> 0 | H34: =H32*K34 -> 0 | I34: =I32*K34 -> 0 | J34: =J32*K34 -> 0 | K34: =GERAL!H60 -> 14040.43
B35: 0 | C35: 0.5 | D35: 0.5 | E35: 0 | F35: 0 | G35: 0 | H35: 0 | I35: 0 | J35: 0 | K35: =SUM(B35:J35) -> 1
A36: 11 - Estrutura do Pavimento - Rua Francelino Santos
B37: =B35*K37 -> 0 | C37: =C35*K37 -> 43723.935 | D37: =D35*K37 -> 43723.935 | E37: =E35*K37 -> 0 | F37: =F35*K37 -> 0 | G37: =G35*K37 -> 0 | H37: =H35*K37 -> 0 | I37: =I35*K37 -> 0 | J37: =J35*K37 -> 0 | K37: =GERAL!H66 -> 87447.87
B38: 0 | C38: 0.5 | D38: 0.5 | E38: 0 | F38: 0 | G38: 0 | H38: 0 | I38: 0 | J38: 0 | K38: =SUM(B38:J38) -> 1
A39: 12 - Pavimentação em Bloco - Rua Francelino Santos
B40: =B38*K40 -> 0 | C40: =C38*K40 -> 50215.95 | D40: =D38*K40 -> 50215.95 | E40: =E38*K40 -> 0 | F40: =F38*K40 -> 0 | G40: =G38*K40 -> 0 | H40: =H38*K40 -> 0 | I40: =I38*K40 -> 0 | J40: =J38*K40 -> 0 | K40: =GERAL!H75 -> 100431.9
B41: 0.5 | C41: 0.5 | D41: 0 | E41: 0 | F41: 0 | G41: 0 | H41: 0 | I41: 0 | J41: 0 | K41: =SUM(B41:J41) -> 1
A42: 13- Drenagem Pluvial - Rua Francelino Santos
B43: =B41*K43 -> 25235.475 | C43: =C41*K43 -> 25235.475 | D43: =D41*K43 -> 0 | E43: =E41*K43 -> 0 | F43: =F41*K43 -> 0 | G43: =G41*K43 -> 0 | H43: =H41*K43 -> 0 | I43: =I41*K43 -> 0 | J43: =J41*K43 -> 0 | K43: =GERAL!H80 -> 50470.95
B44: 0 | C44: 0 | D44: 1 | E44: 0 | F44: 0 | G44: 0 | H44: 0 | I44: 0 | J44: 0 | K44: =SUM(B44:J44) -> 1
A45: 14 - Sinalização Viária - Rua Francelino Santos
B46: =B44*K46 -> 0 | C46: =C44*K46 -> 0 | D46: =D44*K46 -> 1241.27 | E46: =E44*K46 -> 0 | F46: =F44*K46 -> 0 | G46: =G44*K46 -> 0 | H46: =H44*K46 -> 0 | I46: =I44*K46 -> 0 | J46: =J44*K46 -> 0 | K46: =GERAL!H95 -> 1241.27
A47: 15 - Serviços Urbanisticos e Mobilidade Urbana - Rua Francelino Santos | B47: 0 | C47: 0 | D47: 1 | E47: 0 | F47: 0 | G47: 0 | H47: 0 | I47: 0 | J47: 0 | K47: =SUM(B47:J47) -> 1
B49: =B47*K49 -> 0 | C49: =C47*K49 -> 0 | D49: =D47*K49 -> 40170.36 | E49: =E47*K49 -> 0 | F49: =F47*K49 -> 0 | G49: =G47*K49 -> 0 | H49: =H47*K49 -> 0 | I49: =I47*K49 -> 0 | J49: =J47*K49 -> 0 | K49: =GERAL!H101 -> 40170.36
B50: 0 | C50: 0 | D50: 0.5174 | E50: 0.2413 | F50: 0.2413 | G50: 0 | H50: 0 | I50: 0 | J50: 0 | K50: =SUM(B50:J50) -> 1
A51: 16 - Serviços Iniciais - Rua Feijó
B52: =B50*K52 -> 0 | C52: =C50*K52 -> 0 | D52: =D50*K52 -> 2934.9463 | E52: =E50*K52 -> 1368.7718 | F52: =F50*K52 -> 1368.7718 | G52: =G50*K52 -> 0 | H52: =H50*K52 -> 0 | I52: =I50*K52 -> 0 | J52: =J50*K52 -> 0 | K52: =GERAL!H109 -> 5672.49
B53: 0 | C53: 0 | D53: 1 | E53: 0 | F53: 0 | G53: 0 | H53: 0 | I53: 0 | J53: 0 | K53: =SUM(B53:J53) -> 1
A54: 17 - Terraplenagem - Rua Feijó
B55: =B53*K55 -> 0 | C55: =C53*K55 -> 0 | D55: =D53*K55 -> 13775.42 | E55: =E53*K55 -> 0 | F55: =F53*K55 -> 0 | G55: =G53*K55 -> 0 | H55: =H53*K55 -> 0 | I55: =I53*K55 -> 0 | J55: =J53*K55 -> 0 | K55: =GERAL!H114 -> 13775.42
B56: 0 | C56: 0 | D56: 0.5 | E56: 0.5 | F56: 0 | G56: 0 | H56: 0 | I56: 0 | J56: 0 | K56: =SUM(B56:J56) -> 1
A57: 18 - Estrutura do Pavimento - Rua Feijó
B58: =B56*K58 -> 0 | C58: =C56*K58 -> 0 | D58: =D56*K58 -> 42604.26 | E58: =E56*K58 -> 42604.26 | F58: =F56*K58 -> 0 | G58: =G56*K58 -> 0 | H58: =H56*K58 -> 0 | I58: =I56*K58 -> 0 | J58: =J56*K58 -> 0 | K58: =GERAL!H120 -> 85208.52
B59: 0 | C59: 0 | D59: 0.5 | E59: 0.5 | F59: 0 | G59: 0 | H59: 0 | I59: 0 | J59: 0 | K59: =SUM(B59:J59) -> 1
A60: 19 - Pavimentação em Bloco - Rua Feijó
B61: =B59*K61 -> 0 | C61: =C59*K61 -> 0 | D61: =D59*K61 -> 64956.13 | E61: =E59*K61 -> 64956.13 | F61: =F59*K61 -> 0 | G61: =G59*K61 -> 0 | H61: =H59*K61 -> 0 | I61: =I59*K61 -> 0 | J61: =J59*K61 -> 0 | K61: =GERAL!H125 -> 129912.26
B62: 0 | C62: 0.5 | D62: 0.5 | E62: 0 | F62: 0 | G62: 0 | H62: 0 | I62: 0 | J62: 0 | K62: =SUM(B62:J62) -> 1
A63: 20- Drenagem Pluvial - Rua Feijó
B64: =B62*K64 -> 0 | C64: =C62*K64 -> 16418.635 | D64: =D62*K64 -> 16418.635 | E64: =E62*K64 -> 0 | F64: =F62*K64 -> 0 | G64: =G62*K64 -> 0 | H64: =H62*K64 -> 0 | I64: =I62*K64 -> 0 | J64: =J62*K64 -> 0 | K64: =GERAL!H130 -> 32837.27
B65: 0 | C65: 0 | D65: 0 | E65: 1 | F65: 0 | G65: 0 | H65: 0 | I65: 0 | J65: 0 | K65: =SUM(B65:J65) -> 1
A66: 21 - Sinalização Viária - Rua Feijó
B67: =B65*K67 -> 0 | C67: =C65*K67 -> 0 | D67: =D65*K67 -> 0 | E67: =E65*K67 -> 1869.51 | F67: =F65*K67 -> 0 | G67: =G65*K67 -> 0 | H67: =H65*K67 -> 0 | I67: =I65*K67 -> 0 | J67: =J65*K67 -> 0 | K67: =GERAL!H141 -> 1869.51
A68: 22 - Serviços Urbanisticos e Mobilidade Urbana - Rua Feijó | B68: 0 | C68: 0 | D68: 0 | E68: 1 | F68: 0 | G68: 0 | H68: 0 | I68: 0 | J68: 0 | K68: =SUM(B68:J68) -> 1
B70: =B68*K70 -> 0 | C70: =C68*K70 -> 0 | D70: =D68*K70 -> 0 | E70: =E68*K70 -> 61339.2 | F70: =F68*K70 -> 0 | G70: =G68*K70 -> 0 | H70: =H68*K70 -> 0 | I70: =I68*K70 -> 0 | J70: =J68*K70 -> 0 | K70: =GERAL!H147 -> 61339.2
B71: 0 | C71: 0 | D71: 0 | E71: 0 | F71: 0.318 | G71: 0.1705 | H71: 0.1705 | I71: 0.1705 | J71: 0.1705 | K71: =SUM(B71:J71) -> 1
A72: 23 - Serviços Iniciais - Rua Vista Alegre
B73: =B71*K73 -> 0 | C73: =C71*K73 -> 0 | D73: =D71*K73 -> 0 | E73: =E71*K73 -> 0 | F73: =F71*K73 -> 3459.1754 | G73: =G71*K73 -> 1854.6837 | H73: =H71*K73 -> 1854.6837 | I73: =I71*K73 -> 1854.6837 | J73: =J71*K73 -> 1854.6837 | K73: =GERAL!H156 -> 10877.91
B74: 0 | C74: 0 | D74: 0 | E74: 0 | F74: 0.25 | G74: 0.25 | H74: 0.25 | I74: 0.25 | J74: 0 | K74: =SUM(B74:J74) -> 1
A75: 24 - Terraplenagem - Rua Vista Alegre
B76: =B74*K76 -> 0 | C76: =C74*K76 -> 0 | D76: =D74*K76 -> 0 | E76: =E74*K76 -> 0 | F76: =F74*K76 -> 29643.165 | G76: =G74*K76 -> 29643.165 | H76: =H74*K76 -> 29643.165 | I76: =I74*K76 -> 29643.165 | J76: =J74*K76 -> 0 | K76: =GERAL!H161 -> 118572.66
B77: 0 | C77: 0 | D77: 0 | E77: 0 | F77: 0.25 | G77: 0.25 | H77: 0.25 | I77: 0.25 | J77: 0 | K77: =SUM(B77:J77) -> 1
A78: 25 - Estrutura do Pavimento - Rua Vista Alegre
B79: =B77*K79 -> 0 | C79: =C77*K79 -> 0 | D79: =D77*K79 -> 0 | E79: =E77*K79 -> 0 | F79: =F77*K79 -> 203423.73 | G79: =G77*K79 -> 203423.73 | H79: =H77*K79 -> 203423.73 | I79: =I77*K79 -> 203423.73 | J79: =J77*K79 -> 0 | K79: =GERAL!H168 -> 813694.93
B80: 0 | C80: 0 | D80: 0 | E80: 0 | F80: 0 | G80: 0.25 | H80: 0.25 | I80: 0.25 | J80: 0.25 | K80: =SUM(B80:J80) -> 1
A81: 26 - Revestimento em CBUQ - Rua Vista Alegre
B82: =B80*K82 -> 0 | C82: =C80*K82 -> 0 | D82: =D80*K82 -> 0 | E82: =E80*K82 -> 0 | F82: =F80*K82 -> 0 | G82: =G80*K82 -> 246385.84 | H82: =H80*K82 -> 246385.84 | I82: =I80*K82 -> 246385.84 | J82: =J80*K82 -> 246385.84 | K82: =GERAL!H177 -> 985543.37
B83: 0 | C83: 0 | D83: 0 | E83: 0 | F83: 0.326 | G83: 0.1554 | H83: 0.1554 | I83: 0.3632 | J83: 0 | K83: =SUM(B83:J83) -> 1
A84: 27- Drenagem Pluvial - Rua Vista Alegre
B85: =B83*K85 -> 0 | C85: =C83*K85 -> 0 | D85: =D83*K85 -> 0 | E85: =E83*K85 -> 0 | F85: =F83*K85 -> 36714.511 | G85: =G83*K85 -> 17501.334 | H85: =H83*K85 -> 17501.334 | I85: =I83*K85 -> 40904.02 | J85: =J83*K85 -> 0 | K85: =GERAL!H182 -> 112621.2
B86: 0 | C86: 0 | D86: 0 | E86: 0 | F86: 0 | G86: 0 | H86: 0 | I86: 0 | J86: 1 | K86: =SUM(B86:J86) -> 1
A87: 28 - Sinalização Viária - Rua Vista Alegre
B88: =B86*K88 -> 0 | C88: =C86*K88 -> 0 | D88: =D86*K88 -> 0 | E88: =E86*K88 -> 0 | F88: =F86*K88 -> 0 | G88: =G86*K88 -> 0 | H88: =H86*K88 -> 0 | I88: =I86*K88 -> 0 | J88: =J86*K88 -> 6664.65 | K88: =GERAL!H192 -> 6664.65
A89: 29 - Serviços Urbanisticos e Mobilidade Urbana - Rua Vista Alegre | B89: 0 | C89: 0 | D89: 0 | E89: 0 | F89: 0 | G89: 0 | H89: 0.2 | I89: 0.2 | J89: 0.6 | K89: =SUM(B89:J89) -> 1
B91: =B89*K91 -> 0 | C91: =C89*K91 -> 0 | D91: =D89*K91 -> 0 | E91: =E89*K91 -> 0 | F91: =F89*K91 -> 0 | G91: =G89*K91 -> 0 | H91: =H89*K91 -> 31135.568 | I91: =I89*K91 -> 31135.568 | J91: =J89*K91 -> 93406.704 | K91: =GERAL!H198 -> 155677.84
A93: Total Mensal | B93: =ROUND(SUM(,B7,B10,B13,B16,B19,B22,B25,B28,B31,B34,B37,B40,B43,B46,B49,B52,B55,B58,B61,B64,B67,B70,B73,B76,B79,B82,B85,B88,B91),2) -> 94478.32 | C93: =ROUND(SUM(,C7,C10,C13,C16,C19,C22,C25,C28,C31,C34,C37,C40,C43,C46,C49,C52,C55,C58,C61,C64,C67,C70,C73,C76,C79,C82,C85,C88,C91),2) -> 197793.76 | D93: =ROUND(SUM(,D7,D10,D13,D16,D19,D22,D25,D28,D31,D34,D37,D40,D43,D46,D49,D52,D55,D58,D61,D64,D67,D70,D73,D76,D79,D82,D85,D88,D91),2) -> 278896.82 | E93: =ROUND(SUM(,E7,E10,E13,E16,E19,E22,E25,E28,E31,E34,E37,E40,E43,E46,E49,E52,E55,E58,E61,E64,E67,E70,E73,E76,E79,E82,E85,E88,E91),2) -> 173109.41 | F93: =ROUND(SUM(,F7,F10,F13,F16,F19,F22,F25,F28,F31,F34,F37,F40,F43,F46,F49,F52,F55,F58,F61,F64,F67,F70,F73,F76,F79,F82,F85,F88,F91),2) -> 276122.1 | G93: =ROUND(SUM(,G7,G10,G13,G16,G19,G22,G25,G28,G31,G34,G37,G40,G43,G46,G49,G52,G55,G58,G61,G64,G67,G70,G73,G76,G79,G82,G85,G88,G91),2) -> 501118 | H93: =ROUND(SUM(,H7,H10,H13,H16,H19,H22,H25,H28,H31,H34,H37,H40,H43,H46,H49,H52,H55,H58,H61,H64,H67,H70,H73,H76,H79,H82,H85,H88,H91),2) -> 532425.7 | I93: =TRUNC(SUM(,I7,I10,I13,I16,I19,I22,I25,I28,I31,I34,I37,I40,I43,I46,I49,I52,I55,I58,I61,I64,I67,I70,I73,I76,I79,I82,I85,I88,I91),2) -> 555958.21 | J93: =TRUNC(SUM(,J7,J10,J13,J16,J19,J22,J25,J28,J31,J34,J37,J40,J43,J46,J49,J52,J55,J58,J61,J64,J67,J70,J73,J76,J79,J82,J85,J88,J91),2) -> 349793.99 | K93: =ROUND(SUM(,K7,K10,K13,K16,K19,K22,K25,K28,K31,K34,K37,K40,K43,K46,K49,K52,K55,K58,K61,K64,K67,K70,K73,K76,K79,K82,K85,K88,K91),2) -> 2959696.3
A95: PERCENTUAL MENSAL (%)
B96: =ROUND(B93/K93*100,3) -> 3.192 | C96: =ROUND(C93/K93*100,3) -> 6.683 | D96: =ROUND(D93/K93*100,3) -> 9.423 | E96: =ROUND(E93/K93*100,3) -> 5.849 | F96: =ROUND(F93/K93*100,3) -> 9.329 | G96: =ROUND(G93/K93*100,3) -> 16.931 | H96: =ROUND(H93/K93*100,3) -> 17.989 | I96: =ROUND(I93/K93*100,2) -> 18.78 | J96: =ROUND(J93/K93*100,2) -> 11.82 | K96: =ROUND(SUM(B96:J96),3) -> 99.996
A99: Total Acumulado | B99: =B93 -> 94478.32 | C99: =TRUNC(C93+B99,2) -> 292272.08 | D99: =TRUNC(D93+C99,2) -> 571168.9 | E99: =TRUNC(E93+D99,2) -> 744278.31 | F99: =TRUNC(F93+E99,2) -> 1020400.4 | G99: =TRUNC(G93+F99,2) -> 1521518.4 | H99: =TRUNC(H93+G99,2) -> 2053944.1 | I99: =TRUNC(I93+H99,2) -> 2609902.3 | J99: =TRUNC(J93+I99,2) -> 2959696.3
A101: PERCENTUAL ACUMULADO (%)
B102: =ROUND(B99/K93*100,2) -> 3.19 | C102: =ROUND(C99/K93*100,2) -> 9.88 | D102: =ROUND(D99/K93*100,2) -> 19.3 | E102: =ROUND(E99/K93*100,2) -> 25.15 | F102: =ROUND(F99/K93*100,2) -> 34.48 | G102: =ROUND(G99/K93*100,2) -> 51.41 | H102: =ROUND(H99/K93*100,2) -> 69.4 | I102: =ROUND(I99/K93*100,2) -> 88.18 | J102: =ROUND(J99/K93*100,2) -> 100
