Workbook

Sheet Memoria de calculo
A1: Memória de Cálculo - Vias Manaus, Francelino Santos, Feijó e Vista Alegre
A6: Item | B6: Descrição dos Serviços | C6: Un | D6: Quantitativo | E6: Discriminado
A7: 1 | B7: Administração Local
A8: 1.1 | B8: Administração local, engenheiro civil e técnico em segurança do trabalho | C8: un | D8: 1 | E8: 1 Unidade
A10: 2 | B10: Serviços Iniciais - Via Manaus
A11: 2.1 | B11: Placa de obra | C11: m² | D11: 4.5 | E11: 3*1,5
A12: 2.2 | B12: Aluguel container/escr, larg= 2,30 m, compr= 6,00 m, altura 2,50 m, com um sanitário, para escritório, completo, sem divisórias. | C12: mês | D12: 2 | E12: 2 meses
A13: 2.3 | B13: Serviços Topográficos Para Pavimentação | C13: m² | D13: 517.82 | E13: Área de abrangência (pista + Passeio) conforme plnata de pavimentação
A15: 3 | B15: Terraplenagem - Via Manaus
A16: 3.1 | B16: Escavação Mecânica a céu aberto, em material de 1a categoria, com escavadeira hidráulica, capacidade de 0,78 m³ | C16: m³ | D16: 125.7 | E16: 373,30*0,33+112,00MF*0,15*0,15
A17: 3.2 | B17: Transporte do material escavado até 1,6 Km | C17: m³xKm | D17: 251.4 | E17: (373,30*0,33+112,00MF*0,15*0,15)1,25*1,6
A18: 3.3 | B18: Carga e descarga mecanizada de solo utilizando caminhão basculante 6,0m³ e pá carregadeira | C18: m³ | D18: 125.7 | E18: 373,30*0,33+112,00MF*0,15*0,15
A19: 3.4 | B19: Regularização e compactação do sub-leito | C19: m² | D19: 373.3 | E19: Conforme planta de pavimentação
A21: 4 | B21: Estrutura do Pavimento - Via Manaus
A22: 4.1 | B22: Fornecimento e compactação de brita graduada, e= 20 cm | C22: m³ | D22: 74.66 | E22: 373,30*0,20
A23: 4.2 | B23: Transporte de brita graduada em caminhão Basculante em via urbana pavimentada DMT = 18 Km | C23: m³xKm | D23: 1343.88 | E23: 373,30*0,20*18Km
A24: 4.3 | B24: Fornecimento e colocação de meio-fio de concreto (0,15x0,30x1,00)m | C24: m | D24: 112 | E24: 112 MF
A26: 5 | B26: Pavimentação em Bloco - Via Manaus
A27: 5.1 | B27: Execução de via em bloco de concreto intertravado 16 faces 22x11 cm, e=8 cm | C27: m² | D27: 373.3 | E27: Conforme projeto de Pavimentação
A28: 5.2 | B28: Transporte de pó de pedra em caminhão Basculante em via urbana pavimentada DMT = 18 Km | C28: m³xKm | D28: 376.28 | E28: 373,30*0,056*18 Km
A29: 5.3 | B29: Transporte de areia média em caminhão Basculante em via urbana pavimentada DMT = 18 Km | C29: m³xKm | D29: 57.11 | E29: 373,30*0,0085*18 Km
A31: 6 | B31: Drenagem Pluvial - Via Manaus
A32: 6.1 | B32: Escavação mecânica de valas em material de 1ª categoria | C32: m³ | D32: 94.95 | E32: Conforme planilha de cálculo de volume de escavação
A33: 6.2 | B33: Fornecimento Tubo Conc. Simples PS2 PB, para águas pluviaisNBR8890 DN 400mm | C33: m | D33: 79 | E33: 79 tubos DN 400mm
A34: 6.3 | B34: Assentamento Tubo Conc. Simples PS2 PB, para águas pluviaisNBR8890 DN 400mm | C34: m | D34: 79 | E34: 79 tubos DN 400mm
A35: 6.4 | B35: Reaterro mecânico de valas com material local | C35: m³ | D35: 80.66 | E35: 94,95 - 14,29
A36: 6.5 | B36: Carga e descarga mecanizada de solo utilizando caminhão basculante e pá carregadeira | C36: m³ | D36: 14.29 | E36: 79*3,1416*0,48*0,48/4
A37: 6.6 | B37: Transporte de material escavado DMT 1,6 Km | C37: m³xKm | D37: 28.58 | E37: 79*3,1416*0,48*0,48/4*1,25*1,6Km
A38: 6.7 | B38: Execução de caixa coletora(1,20X1,20) prof. média 1,20m paredes em alvenaria de pedra gres com fundo e tampa de concreto armado | C38: un | D38: 4 | E38: 4 PV
A39: 6.8 | B39: Boca-de-Lobo com Fornec. com colocação de Artefatos | C39: un | D39: 4 | E39: 4BL
A41: 7 | B41: Sinalização Viária - Via Manaus
A42: 7.1 | B42: Pintura sobre eixo viário sobre asfalto com tinta retrorefletiva a base de resina acrilica com microesferas de vidro, aplicação mecãnica com demarcadora autopropelida - AMARELO | C42: m | D42: 18 | E42: Conforme projeto de sinalização
A43: 7.2 | B43: Pintura de faixa de pedestre com tinta retrorefletiva a base de resina acrilica com microesferas de vidro - BRANCO | C43: m² | D43: 10.8 | E43: Conforme projeto de sinalização
A44: 7.3 | B44: Conjunto de Placa sinalização semi-refletiva R1 (PARE) 0,3m², incluindo suporte, acessórios de fixação e implantação | C44: m² | D44: 0.6 | E44: 0,3m²*2 placas
A45: 7.4 | B45: Conjunto de Placa de Sinalizacao SEMI-REFLETIVA R19 (VELOCIDADE MÁXIMA PERMITIDA) 0,20M², incluindo suporte, acessorios de fixacao e implantacao | C45: m² | D45: 0.4 | E45: 0,2m²*2 placas
A47: 8 | B47: Serviços Urbanisticos e Mobilidade Urbana - Via Manaus
A48: 8.1 | B48: Execução de Passeios (calçadas) e rampas com concreto moldado in loco, Usinado, acabamento convencional, não armado, resistência C2O, espessura 7 cm | C48: m³ | D48: 8.79 | E48: 144,52*0,07-(10,60+84,02)*0,4*0,035
A49: 8.2 | B49: Camada de lastro de brita para os passeios, espessura 3cm, incluso compactação | C49: m³ | D49: 4.33 | E49: 144,52*0,03
A50: 8.3 | B50: Transporte comercial de Pó de pedra com caminhão basculante 10,0 m³, rodovia pavimentada, DMT 18Km | C50: m³xKm | D50: 78.04 | E50: 144,52*0,03*18
A51: 8.4 | B51: Conjunto de placa de Identificação de Logradouro Público, com duas placas 50X25 cm, face dupla,incluindo suporte, acessorios de fixação e implantação | C51: un. | D51: 2 | E51: 2 placas
...

Sheet Resumo
A1: Pavimentação das Vias Manaus, Francelino Santos, Feijó e Vista Alegre
A3: ITEM | B3: DESCRIÇÃO DOS SERVIÇOS | C3: Valor R$
A4: 1 | B4: Administração Local | C4: =GERAL!H7 -> 14587.73
A5: 2 | B5: Serviços Iniciais - Via Manaus | C5: =GERAL!H10 -> 3854.29
A6: 3 | B6: Terraplenagem - Via Manaus | C6: =GERAL!H15 -> 3972.99
A7: 4 | B7: Estrutura do Pavimento - Via Manaus | C7: =GERAL!H21 -> 23389.79
A8: 5 | B8: Pavimentação em Bloco - Via Manaus | C8: =GERAL!H26 -> 35658.23
A9: 6 | B9: Drenagem Pluvial -Via Manaus | C9: =GERAL!H31 -> 29681.17
A10: 7 | B10: Sinalização Viária - Via Manaus | C10: =GERAL!H41 -> 1026.23
A11: 8 | B11: Serviços Urbanisticos e Mobilidade Urbana - Via Manaus | C11: =GERAL!H47 -> 14059.33
A12: 9 | B12: Serviços Iniciais - Via Francelino Santos | C12: =GERAL!H55 -> 5396.54
A13: 10 | B13: Terraplenagem - Via Francelino Santos | C13: =GERAL!H60 -> 14040.43
A14: 11 | B14: Estrutura do Pavimento - Via Francelino Santos | C14: =GERAL!H66 -> 87447.87
A15: 12 | B15: Pavimentação em Bloco - Via Francelino Santos | C15: =GERAL!H75 -> 100431.9
A16: 13 | B16: Drenagem Pluvial -Via Francelino Santos | C16: =GERAL!H80 -> 50470.95
A17: 14 | B17: Sinalização Viária - Via Francelino Santos | C17: =GERAL!H95 -> 1241.27
A18: 15 | B18: Serviços Urbanisticos e Mobilidade Urbana - Via Francelino Santos | C18: =GERAL!H101 -> 40170.36
A19: 16 | B19: Serviços Iniciais - Via Feijó | C19: =GERAL!H109 -> 5672.49
A20: 17 | B20: Terraplenagem - Via Feijó | C20: =GERAL!H114 -> 13775.42
A21: 18 | B21: Estrutura do Pavimento - Via Feijó | C21: =GERAL!H120 -> 85208.52
A22: 19 | B22: Pavimentação em Bloco - Via Feijó | C22: =GERAL!H125 -> 129912.26
A23: 20 | B23: Drenagem Pluvial -Via Feijó | C23: =GERAL!H130 -> 32837.27
A24: 21 | B24: Sinalização Viária - Via Feijó | C24: =GERAL!H141 -> 1869.51
A25: 22 | B25: Serviços Urbanisticos e Mobilidade Urbana - Via Feijó | C25: =GERAL!H147 -> 61339.2
A26: 23 | B26: Serviços Iniciais - Via Vista Alegre | C26: =GERAL!H156 -> 10877.91
A27: 24 | B27: Terraplenagem - Via Vista Alegre | C27: =GERAL!H161 -> 118572.66
A28: 25 | B28: Estrutura do Pavimento - Via Vista Alegre | C28: =GERAL!H168 -> 813694.93
A29: 26 | B29: Revestimento em CBUQ - Vista Alegre | C29: =GERAL!H177 -> 985543.37
A30: 27 | B30: Drenagem Pluvial -Via Vista Alegre | C30: =GERAL!H182 -> 112621.2
A31: 28 | B31: Sinalização Viária - Via Vista Alegre | C31: =GERAL!H192 -> 6664.65
A32: 29 | B32: Serviços Urbanisticos e Mobilidade Urbana - Via Vista Alegre | C32: =GERAL!H198 -> 155677.84
B33: Total da Obra | C33: =SUM(C4:C32) -> 2959696.3

Sheet GERAL
A1: Vias Manaus, Francelino Santos, Feijó e Vista Alegre | E1: Via | F1: Manaus | G1: Francelino Santos | H1: Feijó | I1: Vista Alegre
E2: Comprimento (m) | F2: 53 | G2: 150.26 | H2: 191 | I2: 448,00 cada lado
E3: Largura (m) | F3: 7 | G3: 7 | H3: 7 | I3: 6,50 cada lado | K3: Área (m²) | L3: Área (m²) | M3: Área Total(m²) | N3: Área (m²) | O3: Área (m²) | P3: Área Total(m²)
E4: Área de Pavimentação (m²) | F4: 373.3 | G4: 1051.82 | H4: 1352.27 | I4: 6296.84 | K4: 640 | L4: 640 | M4: =K4+L4 -> 1280 | N4: =H4/2 -> 676.135 | O4: =H4/2 -> 676.135 | P4: =N4+O4 -> 1352.27
E5: Área de Terraplenagem (m²) | I5: 6565.3
A6: Item | B6: Referência | C6: Código | D6: Descrição dos Serviços | E6: Un | F6: Quantitativo | G6: R$ unit. | H6: Preço total | I6: PREÇO SEM BDI | K6: Quantitativo Trecho 1 | L6: Quantitativo Trecho 2 | M6: Quantitativo Total - Rua 116 | N6: Quantitativo Trecho 3 | O6: Quantitativo Trecho 4 | P6: Quantitativo Total - Rua São Paulo
A7: 1 | D7: Administração Local | H7: =TRUNC(SUM(H8:H8),2) -> 14587.73 | Q7: =TRUNC(SUM(Q8:Q8),2) -> 14587.73
A8: 1.1 | B8: COMPOSIÇÃO PMA | C8: 4 | D8: Administração local, engenheiro civil e técnico em segurança do trabalho | E8: un | F8: =M8+P8 -> 1 | G8: =ROUND(I8*(1+$B$212),2) -> 14587.73 | H8: =ROUND(F8*G8,2) -> 14587.73 | I8: =1838.96+2758.44+2758.44+4597.4 -> 11953.24 | K8: 0.24 | L8: 0.26 | M8: =K8+L8 -> 0.5 | N8: 0.24 | O8: 0.26 | P8: =N8+O8 -> 0.5 | Q8: ='[1]Planilha orçamentária'!$H$9+'[2]Planilha orçamentária'!$H$9+'[3]Planilha orçamentária'!$H$10+'[4]Planilha orçamentária'!$H$10 -> 14587.73
A10: 2 | D10: Serviços Iniciais - Via Manaus | H10: =TRUNC(SUM(H11:H13),2) -> 3854.29
A11: 2.1 | B11: COMPOSIÇÃO PMA | C11: 23 | D11: Placa de obra | E11: m² | F11: =TRUNC(3*1.5,2) -> 4.5 | G11: =ROUND(I11*(1+$B$212),2) -> 335.63 | H11: =ROUND(F11*G11,2) -> 1510.34 | I11: 275.02 | K11: 4.5 | L11: 0 | M11: =K11+L11 -> 4.5 | N11: 0 | O11: 0 | P11: =N11+O11 -> 0
A12: 2.2 | B12: SINAPI | C12: 10775 | D12: Aluguel container/escr, larg= 2,30 m, compr= 6,00 m, altura 2,50 m, com um sanitário, para escritório, completo, sem divisórias. | E12: mês | F12: 2 | G12: =ROUND(I12*(1+$B$212),2) -> 1037.34 | H12: =ROUND(F12*G12,2) -> 2074.68 | I12: 850 | K12: 0.24 | L12: 0.26 | M12: =K12+L12 -> 0.5 | N12: 0.24 | O12: 0.26 | P12: =N12+O12 -> 0.5
A13: 2.3 | B13: COMPOSIÇÃO PMA | C13: 14 | D13: Serviços Topográficos Para Pavimentação | E13: m² | F13: 517.82 | G13: =ROUND(I13*(1+$B$212),2) -> 0.52 | H13: =ROUND(F13*G13,2) -> 269.27 | I13: 0.43 | K13: =K4+499.56/2 -> 889.78 | L13: =L4+499.56/2 -> 889.78 | M13: =K13+L13 -> 1779.56 | N13: =N4+752.58/2 -> 1052.425 | O13: =O4+752.58/2 -> 1052.425 | P13: =N13+O13 -> 2104.85
A15: 3 | D15: Terraplenagem - Via Manaus | H15: =TRUNC(SUM(H16:H19),2) -> 3972.99
A16: 3.1 | B16: COMPOSIÇÃO PMA | C16: 18 | D16: Escavação Mecânica a céu aberto, em material de 1a categoria, com escavadeira hidráulica, capacidade de 0,78 m³ | E16: m³ | F16: =TRUNC(F4*0.33+F24*0.15*0.15,2) -> 125.7 | G16: =ROUND(I16*(1+$B$212),2) -> 4.58 | H16: =ROUND(F16*G16,2) -> 575.71 | I16: 3.75 | K16: =TRUNC(K4*0.25+#REF!*0.15*0.15,2)-0.01 -> #REF! | L16: =ROUND(L4*0.25+#REF!*0.15*0.15,2) -> #REF! | M16: =K16+L16 -> #REF!
A17: 3.2 | B17: SINAPI | C17: 97914 | D17: Transporte do material escavado até 1,6 Km | E17: m³xKm | F17: =TRUNC(F16*1.6*1.25,2) -> 251.4 | G17: =ROUND(I17*(1+$B$212),2) -> 3.54 | H17: =ROUND(F17*G17,2) -> 889.96 | I17: 2.9 | K17: =ROUND(K16*1.6*1.25,2) -> #REF! | L17: =TRUNC(L16*1.6*1.25,2) -> #REF! | M17: =K17+L17 -> #REF!
A18: 3.3 | B18: SINAPI | C18: 100973 | D18: Carga e descarga mecanizada de solo utilizando caminhão basculante 6,0m³ e pá carregadeira | E18: m³ | F18: =F16 -> 125.7 | G18: =TRUNC(I18*(1+$B$212),2) -> 10.8 | H18: =ROUND(F18*G18,2) -> 1357.56 | I18: 8.85 | K18: =K16 -> #REF! | L18: =L16 -> #REF! | M18: =K18+L18 -> #REF!
A19: 3.4 | B19: SINAPI | C19: 100576 | D19: Regularização e compactação do sub-leito | E19: m² | F19: =F4 -> 373.3 | G19: =ROUND(I19*(1+$B$212),2) -> 3.08 | H19: =TRUNC(F19*G19,2) -> 1149.76 | I19: 2.52 | K19: =K4 -> 640 | L19: =L4 -> 640 | M19: =K19+L19 -> 1280
A21: 4 | D21: Estrutura do Pavimento - Via Manaus | H21: =TRUNC(SUM(H22:H24),2) -> 23389.79
A22: 4.1 | B22: SINAPI | C22: 96396 | D22: Fornecimento e compactação de brita graduada, e= 20 cm | E22: m³ | F22: =TRUNC(F4*0.2,2) -> 74.66 | G22: =TRUNC(I22*(1+$B$212),2) -> 158.49 | H22: =ROUND(F22*G22,2) -> 11832.86 | I22: 129.87
A23: 4.2 | B23: SINAPI | C23: 95875 | D23: Transporte de brita graduada em caminhão Basculante em via urbana pavimentada DMT = 18 Km | E23: m³xKm | F23: =F22*18 -> 1343.88 | G23: =ROUND(I23*(1+$B$212),2) -> 2.93 | H23: =ROUND(F23*G23,2) -> 3937.57 | I23: 2.4
A24: 4.3 | B24: SINAPI | C24: 94273 | D24: Fornecimento e colocação de meio-fio de concreto (0,15x0,30x1,00)m | E24: m | F24: 112 | G24: =ROUND(I24*(1+$B$212),2) -> 68.03 | H24: =TRUNC(F24*G24,2) -> 7619.36 | I24: 55.74
H25: =TRUNC(F25*G25,2) -> 0
A26: 5 | D26: Pavimentação em Bloco - Via Manaus | H26: =TRUNC(SUM(H27:H29),2) -> 35658.23
A27: 5.1 | B27: COMPOSIÇÃO PMA | C27: 19 | D27: Execução de via em bloco de concreto intertravado 16 faces 22x11 cm, e=8 cm | E27: m² | F27: =F4 -> 373.3 | G27: =ROUND(I27*(1+$B$212),2) -> 92.12 | H27: =ROUND((F27*G27),2) -> 34388.4 | I27: 75.48 | K27: =K4 -> 640 | L27: =L4 -> 640 | M27: =K27+L27 -> 1280
A28: 5.2 | B28: SINAPI | C28: 95875 | D28: Transporte de pó de pedra em caminhão Basculante em via urbana pavimentada DMT = 18 Km | E28: m³xKm | F28: =TRUNC(F27*0.056*18,2) -> 376.28 | G28: =ROUND(I28*(1+$B$212),2) -> 2.93 | H28: =ROUND((F28*G28),2) -> 1102.5 | I28: 2.4
A29: 5.3 | B29: SINAPI | C29: 95875 | D29: Transporte de areia média em caminhão Basculante em via urbana pavimentada DMT = 18 Km | E29: m³xKm | F29: =TRUNC(F4*0.0085*18,2) -> 57.11 | G29: =ROUND(I29*(1+$B$212),2) -> 2.93 | H29: =ROUND((F29*G29),2) -> 167.33 | I29: 2.4
A31: 6 | D31: Drenagem Pluvial - Via Manaus | H31: =TRUNC(SUM(H32:H39),2) -> 29681.17
A32: 6.1 | B32: SINAPI | C32: 90106 | D32: Escavação mecânica de valas em material de 1ª categoria | E32: m³ | F32: 94.95 | G32: =ROUND(I32*(1+$B$212),2) -> 9.34 | H32: =ROUND(F32*G32,2) -> 886.83 | I32: 7.65 | K32: =TRUNC((K33*1*1),2) -> 24 | L32: 12 | M32: =K32+L32 -> 36
A33: 6.2 | B33: SINAPI | C33: 7785 | D33: Fornecimento Tubo Conc. Simples PS2 PB, para águas pluviaisNBR8890 DN 400mm | E33: m | F33: 79 | G33: =ROUND(I33*(1+$B$212),2) -> 82.32 | H33: =TRUNC(F33*G33,2) -> 6503.28 | I33: 67.45 | K33: =8*3 -> 24 | L33: =4*3 -> 12 | M33: =K33+L33 -> 36
A34: 6.3 | B34: SINAPI | C34: 92809 | D34: Assentamento Tubo Conc. Simples PS2 PB, para águas pluviaisNBR8890 DN 400mm | E34: m | F34: =F33 -> 79 | G34: =ROUND(I34*(1+$B$212),2) -> 71.32 | H34: =TRUNC(F34*G34,2) -> 5634.28 | I34: 58.44 | K34: =K33 -> 24 | L34: =L33 -> 12 | M34: =K34+L34 -> 36
A35: 6.4 | B35: SINAPI | C35: 93381 | D35: Reaterro mecânico de valas com material local | E35: m³ | F35: =F32-F36 -> 80.66 | G35: =ROUND(I35*(1+$B$212),2) -> 15.57 | H35: =ROUND(F35*G35,2) -> 1255.88 | I35: 12.76 | K35: 19.64 | L35: 9.85 | M35: =K35+L35 -> 29.49
A36: 6.5 | B36: SINAPI | C36: 100973 | D36: Carga e descarga mecanizada de solo utilizando caminhão basculante e pá carregadeira | E36: m³ | F36: =TRUNC(79*3.1416*0.48*0.48/4,2) -> 14.29 | G36: =ROUND(I36*(1+$B$212),2) -> 10.8 | H36: =ROUND(F36*G36,2) -> 154.33 | I36: 8.85 | K36: 4.35 | L36: 2.16 | M36: =K36+L36 -> 6.51
A37: 6.6 | B37: SINAPI | C37: 97914 | D37: Transporte de material escavado DMT 1,6 Km | E37: m³xKm | F37: =TRUNC(F36*1.25*1.6,2) -> 28.58 | G37: =ROUND(I37*(1+$B$212),2) -> 3.54 | H37: =ROUND(F37*G37,2) -> 101.17 | I37: 2.9 | K37: 8.68 | L37: 4.34 | M37: =K37+L37 -> 13.02
A38: 6.7 | B38: COMPOSIÇÃO PMA | C38: 3 | D38: Execução de caixa coletora(1,20X1,20) prof. média 1,20m paredes em alvenaria de pedra gres com fundo e tampa de concreto armado | E38: un | F38: 4 | G38: =ROUND(I38*(1+$B$212),2) -> 2392.58 | H38: =TRUNC(F38*G38,2) -> 9570.32 | I38: 1960.49 | K38: 2 | L38: 3 | M38: =K38+L38 -> 5
A39: 6.8 | B39: COMPOSIÇÃO PMA | C39: 12 | D39: Boca-de-Lobo com Fornec. com colocação de Artefatos | E39: un | F39: 4 | G39: =ROUND(I39*(1+$B$212),2) -> 1393.77 | H39: =TRUNC(F39*G39,2) -> 5575.08 | I39: 1142.06 | K39: 8 | L39: 4 | M39: =K39+L39 -> 12
A41: 7 | D41: Sinalização Viária - Via Manaus | H41: =TRUNC(SUM(H42:H45),2) -> 1026.23
A42: 7.1 | B42: SINAPI | C42: 102512 | D42: Pintura sobre eixo viário sobre asfalto com tinta retrorefletiva a base de resina acrilica com microesferas de vidro, aplicação mecãnica com demarcadora autopropelida - AMARELO | E42: m | F42: 18 | G42: =ROUND(I42*(1+$B$212),2) -> 6.72 | H42: =TRUNC(F42*G42,2) -> 120.96 | I42: 5.51 | K42: 30 | L42: 20 | M42: =K42+L42 -> 50
A43: 7.2 | B43: SINAPI | C43: 102509 | D43: Pintura de faixa de pedestre com tinta retrorefletiva a base de resina acrilica com microesferas de vidro - BRANCO | E43: m² | F43: 10.8 | G43: =ROUND(I43*(1+$B$212),2) -> 28.28 | H43: =ROUND(F43*G43,2) -> 305.42 | I43: 23.17 | K43: 12.4 | L43: 11.2 | M43: =K43+L43 -> 23.6
A44: 7.3 | B44: COMPOSIÇÃO PMA | C44: 11 | D44: Conjunto de Placa sinalização semi-refletiva R1 (PARE) 0,3m², incluindo suporte, acessórios de fixação e implantação | E44: m² | F44: =TRUNC(2*0.3,2) -> 0.6 | G44: =ROUND(I44*(1+$B$212),2) -> 628.03 | H44: =ROUND(F44*G44,2) -> 376.82 | I44: 514.61 | K44: 0.6 | L44: 0.3 | M44: =K44+L44 -> 0.9
A45: 7.4 | B45: COMPOSIÇÃO PMA | C45: 20 | D45: Conjunto de Placa de Sinalizacao SEMI-REFLETIVA R19 (VELOCIDADE MÁXIMA PERMITIDA) 0,20M², incluindo suporte, acessorios de fixacao e implantacao | E45: m² | F45: =TRUNC(2*0.2,2) -> 0.4 | G45: =ROUND(I45*(1+$B$212),2) -> 557.58 | H45: =ROUND(F45*G45,2) -> 223.03 | I45: 456.88
...

Sheet Cronograma
A2: Cronograma físico-financeiro - Ruas Manaus, Francelino Santos, Feijó e Vista Alegre - Alvorada
A3: Dias corridos | B3: 1º mês 1 - 30 | C3: 2º mês 31 - 60 | D3: 3º mês 61 - 90 | E3: 4º mês 91 - 120 | F3: 5º mês 121 - 150 | G3: 6º mês 151 - 180 | H3: 7º mês 181 - 210 | I3: 8º mês 211 - 240 | J3: 9º mês 241 - 270 | K3: TOTAL (R$)
A4: Descrição dos Serviços
B5: 0.0362 | C5: 0.0764 | D5: 0.1081 | E5: 0.0666 | F5: 0.1037 | G5: 0.1583 | H5: 0.1701 | I5: 0.179 | J5: 0.1016 | K5: 1
A6: 1 - Administração Local
B7: =ROUND(B5*K7,2) -> 528.08 | C7: =C5*K7 -> 1114.5026 | D7: =D5*K7 -> 1576.9336 | E7: =E5*K7 -> 971.54282 | F7: =F5*K7 -> 1512.7476 | G7: =G5*K7 -> 2309.2377 | H7: =H5*K7 -> 2481.3729 | I7: =I5*K7 -> 2611.2037 | J7: =J5*K7 -> 1482.1134 | K7: =GERAL!H7 -> 14587.73
B8: 0.7 | C8: 0.3 | D8: 0 | E8: 0 | F8: 0 | G8: 0 | H8: 0 | I8: 0 | J8: 0 | K8: =SUM(B8:J8) -> 1
A9: 2 - Serviços Iniciais - Rua Manaus
B10: =ROUND(B8*K10,2) -> 2698 | C10: =C8*K10 -> 1156.287 | D10: =D8*K10 -> 0 | E10: =E8*K10 -> 0 | F10: =F8*K10 -> 0 | G10: =G8*K10 -> 0 | H10: =H8*K10 -> 0 | I10: =I8*K10 -> 0 | J10: =J8*K10 -> 0 | K10: =GERAL!H10 -> 3854.29
B11: 1 | C11: 0 | D11: 0 | E11: 0 | F11: 0 | G11: 0 | H11: 0 | I11: 0 | J11: 0 | K11: =SUM(B11:J11) -> 1 | M11: =B7+B13+B16+B19 -> 34025.09 | N11: =M11/K93 -> 0.011496142
A12: 3 - Terraplenagem - Rua Manaus
B13: =ROUND(B11*K13,2) -> 3972.99 | C13: =C11*K13 -> 0 | D13: =D11*K13 -> 0 | E13: =E11*K13 -> 0 | F13: =F11*K13 -> 0 | G13: =G11*K13 -> 0 | H13: =H11*K13 -> 0 | I13: =I11*K13 -> 0 | J13: =J11*K13 -> 0 | K13: =GERAL!H15 -> 3972.99 | M13: =C7+C13+C16+C19 -> 30638.513 | N13: =M13/K93 -> 0.010351911
B14: 0.5 | C14: 0.5 | D14: 0 | E14: 0 | F14: 0 | G14: 0 | H14: 0 | I14: 0 | J14: 0 | K14: =SUM(B14:J14) -> 1
A15: 4 - Estrutura do Pavimento - Rua Manaus | M15: =D7+D13+D16+D19+D28 -> 1576.9336 | N15: =M15/K93 -> 0.00053280251
B16: =ROUND(B14*K16,2) -> 11694.9 | C16: =C14*K16 -> 11694.895 | D16: =D14*K16 -> 0 | E16: =E14*K16 -> 0 | F16: =F14*K16 -> 0 | G16: =G14*K16 -> 0 | H16: =H14*K16 -> 0 | I16: =I14*K16 -> 0 | J16: =J14*K16 -> 0 | K16: =GERAL!H21 -> 23389.79
B17: 0.5 | C17: 0.5 | D17: 0 | E17: 0 | F17: 0 | G17: 0 | H17: 0 | I17: 0 | J17: 0 | K17: =SUM(B17:J17) -> 1 | M17: =E7+E13+E16+E22+E28 -> 971.54282 | N17: =M17/K93 -> 0.0003282576
A18: 5 - Pavimentação em Bloco - Rua Manaus
B19: =ROUND(B17*K19,2) -> 17829.12 | C19: =C17*K19 -> 17829.115 | D19: =D17*K19 -> 0 | E19: =E17*K19 -> 0 | F19: =F17*K19 -> 0 | G19: =G17*K19 -> 0 | H19: =H17*K19 -> 0 | I19: =I17*K19 -> 0 | J19: =J17*K19 -> 0 | K19: =GERAL!H26 -> 35658.23
B20: 1 | C20: 0 | D20: 0 | E20: 0 | F20: 0 | G20: 0 | H20: 0 | I20: 0 | J20: 0 | K20: =SUM(B20:J20) -> 1
A21: 6 - Drenagem Pluvial - Rua Manaus
B22: =B20*K22 -> 29681.17 | C22: =C20*K22 -> 0 | D22: =D20*K22 -> 0 | E22: =E20*K22 -> 0 | F22: =F20*K22 -> 0 | G22: =G20*K22 -> 0 | H22: =H20*K22 -> 0 | I22: =I20*K22 -> 0 | J22: =J20*K22 -> 0 | K22: =GERAL!H31 -> 29681.17
B23: 0 | C23: 1 | D23: 0 | E23: 0 | F23: 0 | G23: 0 | H23: 0 | I23: 0 | J23: 0 | K23: =SUM(B23:J23) -> 1
A24: 7 - Sinalização Viária - Rua Manaus
B25: =B23*K25 -> 0 | C25: =C23*K25 -> 1026.23 | D25: =D23*K25 -> 0 | E25: =E23*K25 -> 0 | F25: =F23*K25 -> 0 | G25: =G23*K25 -> 0 | H25: =H23*K25 -> 0 | I25: =I23*K25 -> 0 | J25: =J23*K25 -> 0 | K25: =GERAL!H41 -> 1026.23
A26: 8 - Serviços Urbanisticos e Mobilidade Urbana - Rua Manaus | B26: 0 | C26: 1 | D26: 0 | E26: 0 | F26: 0 | G26: 0 | H26: 0 | I26: 0 | J26: 0 | K26: =SUM(B26:J26) -> 1
B28: =B26*K28 -> 0 | C28: =C26*K28 -> 14059.33 | D28: =D26*K28 -> 0 | E28: =E26*K28 -> 0 | F28: =F26*K28 -> 0 | G28: =G26*K28 -> 0 | H28: =H26*K28 -> 0 | I28: =I26*K28 -> 0 | J28: =J26*K28 -> 0 | K28: =GERAL!H47 -> 14059.33
B29: 0.526 | C29: 0.237 | D29: 0.237 | E29: 0 | F29: 0 | G29: 0 | H29: 0 | I29: 0 | J29: 0 | K29: =SUM(B29:J29) -> 1
A30: 9 - Serviços Iniciais - Rua Francelino Santos
B31: =B29*K31 -> 2838.58 | C31: =C29*K31 -> 1278.98 | D31: =D29*K31 -> 1278.98 | E31: =E29*K31 -> 0 | F31: =F29*K31 -> 0 | G31: =G29*K31 -> 0 | H31: =H29*K31 -> 0 | I31: =I29*K31 -> 0 | J31: =J29*K31 -> 0 | K31: =GERAL!H55 -> 5396.54
B32: 0 | C32: 1 | D32: 0 | E32: 0 | F32: 0 | G32: 0 | H32: 0 | I32: 0 | J32: 0 | K32: =SUM(B32:J32) -> 1
A33: 10 - Terraplenagem - Rua Francelino Santos
B34: =B32*K34 -> 0 | C34: =C32*K34 -> 14040.43 | D34: =D32*K34 -> 0 | E34: =E32*K34 -> 0 | F34: =F32*K34 -> 0 | G34: =G32*K34 -> 0 | H34: =H32*K34 -> 0 | I34: =I32*K34 -> 0 | J34: =J32*K34 -> 0 | K34: =GERAL!H60 -> 14040.43
B35: 0 | C35: 0.5 | D35: 0.5 | E35: 0 | F35: 0 | G35: 0 | H35: 0 | I35: 0 | J35: 0 | K35: =SUM(B35:J35) -> 1
A36: 11 - Estrutura do Pavimento - Rua Francelino Santos
B37: =B35*K37 -> 0 | C37: =C35*K37 -> 43723.935 | D37: =D35*K37 -> 43723.935 | E37: =E35*K37 -> 0 | F37: =F35*K37 -> 0 | G37: =G35*K37 -> 0 | H37: =H35*K37 -> 0 | I37: =I35*K37 -> 0 | J37: =J35*K37 -> 0 | K37: =GERAL!H66 -> 87447.87
B38: 0 | C38: 0.5 | D38: 0.5 | E38: 0 | F38: 0 | G38: 0 | H38: 0 | I38: 0 | J38: 0 | K38: =SUM(B38:J38) -> 1
A39: 12 - Pavimentação em Bloco - Rua Francelino Santos
B40: =B38*K40 -> 0 | C40: =C38*K40 -> 50215.95 | D40: =D38*K40 -> 50215.95 | E40: =E38*K40 -> 0 | F40: =F38*K40 -> 0 | G40: =G38*K40 -> 0 | H40: =H38*K40 -> 0 | I40: =I38*K40 -> 0 | J40: =J38*K40 -> 0 | K40: =GERAL!H75 -> 100431.9
B41: 0.5 | C41: 0.5 | D41: 0 | E41: 0 | F41: 0 | G41: 0 | H41: 0 | I41: 0 | J41: 0 | K41: =SUM(B41:J41) -> 1
A42: 13- Drenagem Pluvial - Rua Francelino Santos
...
