Workbook

Sheet Resumo Orçamento
A1: RESUMO DO ORÇAMENTO — LIMPEZA URBANA ALVORADA/RS
A2: Base: SINAPI RS maio/2026 | SEEAC/RS 2026 | SICRO abril/2026 | Processo Adm. 23.887/2026 — SMOPSU
A3: It. | B3: Descrição | C3: Unid. | D3: Qtd. Anual | E3: Preço Unit. (R$) | F3: Valor Anual (R$)
A4: 1 | B4: Capina e roçada manual e mecanizada de vias públicas | C4: km | D4: =('Planilha Orçamentária'!F4)*12 -> 1800 | E4: ='Planilha Orçamentária'!I4 -> 2503.8928 | F4: =D4*ROUND(E4,2) -> 4507002
A5: 2 | B5: Varrição manual | C5: km | D5: =('Planilha Orçamentária'!F5)*12 -> 15600 | E5: ='Planilha Orçamentária'!I5 -> 189.30514 | F5: =D5*ROUND(E5,2) -> 2953236
A6: 3 | B6: Fornecimento e instalação de lixeiras metálicas duplas 60L | C6: Unid. | D6: =('Planilha Orçamentária'!F6)*12 -> 216 | E6: ='Planilha Orçamentária'!I6 -> 1699.9253 | F6: =D6*ROUND(E6,2) -> 367184.88
A7: 4 | B7: Pintura de meio-fio | C7: km | D7: =('Planilha Orçamentária'!F7)*12 -> 1800 | E7: ='Planilha Orçamentária'!I7 -> 2185.5932 | F7: =D7*ROUND(E7,2) -> 3934062
A8: 5 | B8: Limpeza de praças, parques e áreas públicas | C8: m² | D8: =('Planilha Orçamentária'!F8)*12 -> 4200000 | E8: ='Planilha Orçamentária'!I8 -> 1.0624422 | F8: =D8*ROUND(E8,2) -> 4452000
A9: VALOR TOTAL ANUAL ESTIMADO | F9: =SUM(F4:F8) -> 16213485
A10: VALOR MENSAL MÉDIO (÷12) | F10: =F9/12 -> 1351123.7
A11: VALOR DECENAL ESTIMADO (×10) | F11: =F9*10 -> 1.6213485e+08

Sheet Planilha Orçamentária
A1: PLANILHA ORÇAMENTÁRIA — LIMPEZA URBANA — ALVORADA/RS
A2: Base: SINAPI RS maio/2026 | SEEAC/RS 2026 | SICRO abril/2026 | Processo Adm. 23.887/2026 — SMOPSU
A3: It. | B3: descrição | C3: Fonte | D3: Descrição do Serviço | E3: Unid. | F3: Qtd. Mensal | G3: Custo Unit. s/BDI (R$) | H3: BDI (%) | I3: Preço Unit. c/BDI (R$) | J3: Valor Mensal (R$)
A4: 1 | B4: Capina e roçada manual e mecanizada de vias públicas | C4: SINAPI RS abr/2026 + SEEAC RS 2026 | D4: Capina e roçada manual e mecanizada de vias públicas (roçadeiras costais + capinadeira + retroescavadeira + caminhão 12m³ + varrição mec. — MO, combustível, EPIs e destinação final) | E4: km | F4: 150 | G4: ='Composições CCU'!J19 -> 1987.0588 | H4: 0.2601 | I4: =G4*(1+H4) -> 2503.8928 | J4: =I4*ROUND(F4,2) -> 375583.92
A5: 2 | B5: Varrição manual | C5: SINAPI RS abr/2026 (CBO 5142 — Varredor) | D5: Varrição manual (varredores, carrinhos de varrição, recolhimento de resíduos de lixeiras, sacos de lixo 100L e destinação final no Transbordo Municipal; inclui fornecimento e instalação de lixeiras metálicas duplas 60L — SINAPI 103307 Af_11/2021) | E5: km | F5: 1300 | G5: ='Composições CCU'!J28 -> 150.23025 | H5: 0.2601 | I5: =G5*(1+H5) -> 189.30514 | J5: =I5*ROUND(F5,2) -> 246096.69
A6: 3 | B6: Fornecimento e instalação de lixeiras metálicas duplas 60L | C6: SINAPI RS abr/2026 | D6: INSTALAÇÃO DE LIXEIRA METÁLICA DUPLA, CAPACIDADE DE 60 L, EM TUBO DE AÇO CARBONO E CESTOS EM CHAPA DE AÇO COM PINTURA ELETROSTÁTICA, SOBRE PISO DE CONCRETO EXISTENTE. AF_11/2021 | E6: Unid. | F6: 18 | G6: ='Composições CCU'!H32 -> 1349.04 | H6: 0.2601 | I6: =G6*(1+H6) -> 1699.9253 | J6: =I6*ROUND(F6,2) -> 30598.655
A7: 4 | B7: Pintura de meio-fio | C7: SINAPI RS abr/2026 (CBOP 5143 — Pintor) | D7: Pintura de meio-fio (pintores, cal hidratada, tinta acrílica para sinalização viária, caminhão toco e destinação de resíduos) | E7: km | F7: 150 | G7: ='Composições CCU'!J38 -> 1734.4601 | H7: 0.2601 | I7: =G7*(1+H7) -> 2185.5932 | J7: =I7*ROUND(F7,2) -> 327838.98
A8: 5 | B8: Limpeza de praças, parques e áreas públicas | C8: SINAPI RS abr/2026 (CBO 6220 — Op. Roçadeira) + SEEAC RS 2026 | D8: Limpeza de praças, parques e áreas públicas (trator roçadeira + roçadeiras costais + auxiliares + caminhão 12m³ — corte, rastelamento, recolhimento e destinação final) | E8: m² | F8: 350000 | G8: ='Composições CCU'!J54 -> 0.84314121 | H8: 0.2601 | I8: =G8*(1+H8) -> 1.0624422 | J8: =I8*ROUND(F8,2) -> 371854.78
A9: TOTAL MENSAL | J9: =SUM(J4:J8) -> 1351973

Sheet BDI
A1: PREFEITURA MUNICIPAL DE ALVORADA — SMOPSU
A2: BDI — BENEFÍCIOS E DESPESAS INDIRETAS
A3: Código | B3: Parcela | C3: BDI Adotado | D3: 1° Quartil | E3: Mediano | F3: 3° Quartil
A4: AC | B4: Administração Central | C4: 0.04 | D4: 0.03 | E4: 0.04 | F4: 0.055
A5: S+G | B5: Seguro + Garantia | C5: 0.01 | D5: 0.008 | E5: 0.008 | F5: 0.01
A6: R | B6: Risco (absenteísmo MO) | C6: 0.0127 | D6: 0.0097 | E6: 0.0127 | F6: 0.0127
A7: DF | B7: Despesas Financeiras (capital giro) | C7: 0.0139 | D7: 0.0059 | E7: 0.0123 | F7: 0.0139
A8: L | B8: Lucro | C8: 0.08 | D8: 0.0616 | E8: 0.074 | F8: 0.0896
A9: T1 | B9: PIS | C9: 0.0065 | D9: 0.0065 | E9: 0.0065 | F9: 0.0065
A10: T2 | B10: COFINS | C10: 0.03 | D10: 0.03 | E10: 0.03 | F10: 0.03
A11: T3 | B11: ISSQN | C11: 0.04 | D11: 0.04 | E11: 0.025 | F11: 0.025
A12: BDI | B12: BDI TOTAL (fórmula TCU 2622/2013) | C12: 0.2601 | D12: =((1+(D4+D6+D5))*(1+D7)*(1+D8))/(1-(D9+D10+D11))-1 -> 0.21147864 | E12: =((1+(E4+E6+E5))*(1+E7)*(1+E8))/(1-(E9+E10+E11))-1 -> 0.22877342 | F12: =((1+(F4+F6+F5))*(1+F7)*(1+F8))/(1-(F9+F10+F11))-1 -> 0.26860326
A13: Ref. | B13: BDI ADOTADO: 26,01% — valor fixo adotado para o contrato (referência TCE/RS limpeza urbana). | C13: BDI adotado fixo = 26,01%. Fórmula TCU 2622/2013 nos componentes (linhas 4-11) mantida como referência. Base: SINAPI RS abr/2026 | SEEAC/RS 2026

Sheet Composições CCU
A1: COMPOSIÇÕES DE CUSTO UNITÁRIO (CCU) — LIMPEZA URBANA — ALVORADA/RS
A2: Base: SINAPI RS maio/2026 | SEEAC/RS 2026 | SICRO abril/2026 | Processo Adm. 23.887/2026 — SMOPSU
A3: CAPINA E ROÇADA | H3: capacidade de produção da equipe | I3: 159.5 | J3: km
A4: Item ETP | B4: Fonte | C4: Código | D4: Descrição do Insumo | E4: Unid. | F4: Quant. | G4: Tipo | H4: Custo Unitário (R$) | I4: Custo Total/mês (R$) | J4: Custo por KM (R$)
A5: Item 1 Capina e Roçada | B5: CCT 2026 RS000041/2026 | D5: Roçador c/ roçadeira costal | E5: homem/mês | F5: 5 | G5: MO | H5: ='Composição de MO'!F4 -> 4960.5585 | I5: =F5*H5 -> 24802.792 | J5: =I5/$I$3 -> 155.5034
B6: CCT 2026 RS000041/2027 | D6: Auxiliar de limpeza urbana | E6: homem/mês | F6: 14 | G6: MO | H6: ='Composição de MO'!F6 -> 4867.3385 | I6: =F6*H6 -> 68142.739 | J6: =I6/$I$3 -> 427.22721
B7: SINAPI | C7: 88284 | D7: Motorista Transporte de Funcionários | E7: homem/mês | F7: 1 | G7: MO | H7: ='Composição de MO'!$F$5 -> 4960.5585 | I7: =F7*H7 -> 4960.5585 | J7: =I7/$I$3 -> 31.10068
B8: SINAPI | C8: 88324 | D8: Operadores de trator (capinadeira + roçadeira articulado) | E8: homem/mês | F8: 1 | G8: MO | H8: ='Composição de MO'!G10*220 -> 7860.6 | I8: =F8*H8 -> 7860.6 | J8: =I8/$I$3 -> 49.282759
B9: SICRO | C9: P9875 | D9: Encarregado | E9: homem/mês | F9: 1 | G9: MO | H9: 5779.65 | I9: =F9*H9 -> 5779.65 | J9: =I9/$I$3 -> 36.23605
B10: SICRO | C10: E9089 | D10: Roçadeira costal - 1,40 Kw | E10: Unid/mês | F10: 5 | G10: Equip. | H10: =((9.3679*0.75)+(0.5286*0.25))*220 -> 1574.7765 | I10: =F10*H10 -> 7873.8825 | J10: =I10/$I$3 -> 49.366034
B11: SICRO | C11: E9156 | D11: Soprador de ar costal - 2,6 kW | E11: Unid/mês | F11: 3 | G11: Equip. | H11: =((5.8678*0.75)+(0.4846*0.25))*220 -> 994.84 | I11: =F11*H11 -> 2984.52 | J11: =I11/$I$3 -> 18.711724
B12: SICRO | C12: 4919547 | D12: Tela de proteção para roçada em tubo galvanizado 4,0 X 1,5 m - confecção | E12: Unid/mês | F12: 2 | G12: Equip. | H12: 506.24 | I12: =H12*F12/12 -> 84.373333 | J12: =I12/$I$3 -> 0.52898642
B13: SICRO | C13: E9742 | D13: Trator agrícola sobre pneus com roçadeira articulada e capacidade de 1,12 m - 77 kW (contempla trator com capinadeira também) | E13: Unid/mês | F13: 1 | G13: Equip. | H13: =((0.7*267.7279)+(0.3*113.4234))*220 -> 48716.041 | I13: =F13*H13 -> 48716.041 | J13: =I13/$I$3 -> 305.42972
B14: SINAPI | C14: 91386/91387 | D14: CAMINHÃO BASCULANTE 10 M3, TRUCADO CABINE SIMPLES, PESO BRUTO TOTAL 23.000 KG, CARGA ÚTIL MÁXIMA 15.935 KG, DISTÂNCIA ENTRE EIXOS 4,80 M, POTÊNCIA 230 CV INCLUSIVE CAÇAMBA METÁLICA - CHP DIURNO. AF_06/2014 (inclui motorista, CHP e CHI) | E14: unidade/mês | F14: 2 | G14: Equip. + MO | H14: =((0.7*303.81)+(0.3*80.97))*220 -> 52130.76 | I14: =F14*H14 -> 104261.52 | J14: =I14/$I$3 -> 653.67724
B15: SINAPI | C15: 5680/5681 | D15: RETROESCAVADEIRA SOBRE RODAS COM CARREGADEIRA, TRAÇÃO 4X2, POTÊNCIA LÍQ. 79 HP, CAÇAMBA CARREG. CAP. MÍN. 1 M3, CAÇAMBA RETRO CAP. 0,20 M3, PESO OPERACIONAL MÍN. 6.570 KG, PROFUNDIDADE ESCAVAÇÃO MÁX. 4,37 M - CHP DIURNO. AF_06/2014 (inclui operador, CHP e CHI) | E15: unidade/mês | F15: 1 | G15: Equip. + MO | H15: =(143.2*0.7+0.3*62.34)*220 -> 26167.24 | I15: =F15*H15 -> 26167.24 | J15: =I15/$I$3 -> 164.05793
B16: SICRO | C16: E9131 | D16: Veículo tipo van furgão com capacidade de 1,38 t - 100 kW | E16: unidade/mês | F16: 1 | G16: Equip. | H16: =(66.6203*0.75+20.3833*0.25)*220 -> 12113.431 | I16: =H16 -> 12113.431 | J16: =I16/$I$3 -> 75.946276
B17: SINAPI | C17: 93589 | D17: TRANSPORTE COM CAMINHÃO BASCULANTE DE 10 M³, EM VIA URBANA EM REVESTIMENTO PRIMÁRIO (UNIDADE: M3XKM). AF_02/2026 (Transporte final dos resíduos (1.056 m³/mês) ) | E17: m³*km/mês | F17: =1056*30 -> 31680 | H17: 3.17 | I17: =H17*F17 -> 100425.6 | J17: =I17/$I$3 -> 629.62759
B18: ORSE | C18: 10390 | D18: Aluguel de banheiro químico, com limpeza diária | E18: unidade/mês | F18: 1 | H18: 669.02 | I18: =H18 -> 669.02 | J18: =I18/$I$3 -> 4.1944828
H19: Total | I19: =SUM(I8:I18) -> 316935.88 | J19: =SUM(J8:J18) -> 1987.0588
A21: VARRIÇÃO | H21: capacidade de produção da equipe | I21: 1311.417 | J21: KM
A22: Item ETP | B22: Fonte | C22: Código | D22: Descrição do Insumo | E22: Unid. | F22: Quant. | G22: Tipo | H22: Custo Unitário (R$) | I22: Custo Total/mês (R$) | J22: Custo por KM (R$)
A23: Item 2 Varrição | B23: CCT 2026 RS000041/2026 | D23: Varredor | E23: homem/mês | F23: 27 | G23: MO | H23: ='Composição de MO'!F8 -> 4960.5585 | I23: =F23*H23 -> 133935.08 | J23: =I23/$I$21 -> 102.13005
B24: SICRO | C24: P9875 | D24: Encarregado | E24: homem/mês | F24: 1 | G24: MO | H24: 5779.65 | I24: =F24*H24 -> 5779.65 | J24: =I24/$I$21 -> 4.4071794
B25: SINAPI | C25: 91386/91387 | D25: Caminhão compactador ≥5m³, motor diesel ≥200CV CHP+CHI (recolhimento e transporte varrição) (inclui motorista, CHP e CHI) | E25: unidade/mês | F25: 1 | G25: Equip. | H25: =((0.7*303.81)+(0.3*80.97))*220 -> 52130.76 | I25: =F25*H25 -> 52130.76 | J25: =I25/$I$21 -> 39.751475
B26: ORSE | C26: 10390 | D26: Aluguel de banheiro químico, com limpeza diária | E26: unidade/mês | F26: 1 | H26: 669.02 | I26: =F26*H26 -> 669.02 | J26: =I26/$I$21 -> 0.51015047
B27: ORSE | C27: 14009 | D27: Lixeira de plástico capacidade 240 Lt com tampa e rodinhas | E27: un | F27: =F23/3 -> 9 | G27: Equip. | H27: 500 | I27: =F27*H27 -> 4500 | J27: =I27/$I$21 -> 3.4314028
H28: Total | I28: =SUM(I23:I27) -> 197014.51 | J28: =SUM(J23:J27) -> 150.23025
A30: FORNECIMENTO E INSTALAÇÃO DE LIXEIRAS DUPLAS 60L | I30: 18 | J30: UNIDADES/MêS
A31: Item ETP | B31: Fonte | C31: Código | D31: Descrição do Insumo | E31: Unid. | F31: Quant. | G31: Tipo | H31: Custo Unitário (R$) | I31: Custo Total/mês (R$)
A32: Item 3 Lixeiras | B32: SINAPI | C32: 103307 | D32: INSTALAÇÃO DE LIXEIRA METÁLICA DUPLA, CAPACIDADE DE 60 L, EM TUBO DE AÇO CARBONO E CESTOS EM CHAPA DE AÇO COM PINTURA ELETROSTÁTICA, SOBRE PISO DE CONCRETO EXISTENTE. AF_11/2021 | E32: unidade/mês | F32: 18 | G32: Equip. | H32: 1349.04 | I32: =F32*H32 -> 24282.72
A34: PINTURA DE MEIO FIO | I34: 150 | J34: km/mês
A35: Item ETP | B35: Fonte | C35: Código | D35: Descrição do Insumo | E35: Unid. | F35: Quant. | G35: Tipo | H35: Custo Unitário (R$) | I35: Custo Total/mês (R$) | J35: Custo por KM (R$)
A36: item 4 - Pintura de meio-fio | B36: SINAPI RS | C36: 102498 | D36: Cal hidratada para pintura | E36: km/mês | F36: 150 | G36: Mat. | H36: =1.73*1000 -> 1730 | I36: =F36*H36 -> 259500 | J36: =I36/$I$34 -> 1730
B37: ORSE | C37: 10390 | D37: Aluguel de banheiro químico, com limpeza diária | E37: unidade/mês | F37: 1 | H37: 669.02 | I37: =H37 -> 669.02 | J37: =I37/$I$34 -> 4.4601333
H38: Total | I38: =SUM(I36:I37) -> 260169.02 | J38: =SUM(J36:J37) -> 1734.4601
A41: LIMPEZA DE PRAÇAS, PARQUES E ÁREAS PÚBLICAS | H41: capacidade de produção da equipe | I41: 360000 | J41: m²
A42: Item ETP | B42: Fonte | C42: Código | D42: Descrição do Insumo | E42: Unid. | F42: Quant. | G42: Tipo | H42: Custo Unit. (R$) | I42: Custo Total/mês (R$) | J42: Custo por M² (R$)
A43: Item 5 Limpeza Praças | B43: CCT 2026 RS000041/2026 | D43: Roçador c/ roçadeira costal | E43: homem/mês | F43: 10 | G43: MO | H43: ='Composição de MO'!F4 -> 4960.5585 | I43: =F43*H43 -> 49605.585 | J43: =I43/$I$41 -> 0.13779329
B44: SINAPI | C44: 88324 | D44: Operador de trator roçadeira (trator roçadeira traseira e roçadeira articulada) | E44: homem/mês | F44: 2 | G44: MO | H44: ='Composição de MO'!G10*220 -> 7860.6 | I44: =F44*H44 -> 15721.2 | J44: =I44/$I$41 -> 0.04367
B45: CCT 2026 RS000041/2026 | D45: Auxiliar de limpeza urbana (5 — ETP E13) | E45: homem/mês | F45: 10 | G45: MO | H45: ='Composição de MO'!F6 -> 4867.3385 | I45: =F45*H45 -> 48673.385 | J45: =I45/$I$41 -> 0.13520385
...

Sheet Composição de MO
A1: COMPOSIÇÃO DE MÃO DE OBRA — SINAPI RS maio/2026 + CCT RS 2026
A2: Insalubridade grau máximo 40% | CCT RS 000041/2026 | Encargos s/desoneração horista: vinculado à aba Encargos Sociais (96,88%)
A3: CBO | B3: Categoria | C3: Insalubridade | D3: Salário Base (R$) | E3: Encargos s.d.h. (%) | F3: Custo c/Encargos (R$) | G3: Custo/hora (R$) | H3: Observação
A4: CBO 6220 | B4: Operador de roçadeira intercostal / capinadeira | C4: 40% | D4: 1799.68 | E4: ='Encargos Sociais'!$E$24 -> 0.9688256 | F4: =D4*(1+E4)*(1+IF(C4="40%",0.4,IF(C4="20%",0.2,IF(C4="10%",0.1,0)))) -> 4960.5585 | G4: =F4/220 -> 22.547993 | H4: Salário piso SINDASSEIO CCT 2026
A5: CBO 6220S | B5: Operador de soprador | C5: 40% | D5: 1799.68 | E5: ='Encargos Sociais'!$E$24 -> 0.9688256 | F5: =D5*(1+E5)*(1+IF(C5="40%",0.4,IF(C5="20%",0.2,IF(C5="10%",0.1,0)))) -> 4960.5585 | G5: =F5/220 -> 22.547993 | H5: Salário piso SINDASSEIO CCT 2026
A6: CBO 5143 | B6: Auxiliar de serviços gerais / limpeza urbana | C6: 40% | D6: 1765.86 | E6: ='Encargos Sociais'!$E$24 -> 0.9688256 | F6: =D6*(1+E6)*(1+IF(C6="40%",0.4,IF(C6="20%",0.2,IF(C6="10%",0.1,0)))) -> 4867.3385 | G6: =F6/220 -> 22.124266 | H6: Salário piso SINDASSEIO CCT 2026
A7: CBOP 5143 | B7: Auxiliar pintor | C7: 40% | D7: 1765.86 | E7: ='Encargos Sociais'!$E$24 -> 0.9688256 | F7: =D7*(1+E7)*(1+IF(C7="40%",0.4,IF(C7="20%",0.2,IF(C7="10%",0.1,0)))) -> 4867.3385 | G7: =F7/220 -> 22.124266 | H7: Salário piso SINDASSEIO CCT 2026
A8: CBO 5142 | B8: Varredor | C8: 40% | D8: 1799.68 | E8: ='Encargos Sociais'!$E$24 -> 0.9688256 | F8: =D8*(1+E8)*(1+IF(C8="40%",0.4,IF(C8="20%",0.2,IF(C8="10%",0.1,0)))) -> 4960.5585 | G8: =F8/220 -> 22.547993 | H8: Salário piso SINDASSEIO CCT 2026
A9: SINAPI 88284 | B9: MOTORISTA DE VEÍCULO LEVE COM ENCARGOS COMPLEMENTARES | C9: — | G9: 25.68
A10: SINAPI 88324 | B10: TRATORISTA COM ENCARGOS COMPLEMENTARES | C10: — | G10: 35.73
A11: SICRO P9875 | B11: Encarregado especializado - mensalista | C11: — | F11: 5778.4355 | G11: =F11/220 -> 26.265616
A12: Fonte: | B12: SINAPI RS maio/2026 | SICRO janeiro/2026 | CCT 2026 RS000041/2026 | Insalubridade grau máximo 40% — NR-15 Anexo 14 | Auxílio Alimentação: R$ 21,99/mês | VT: R$ 4,70/vale

Sheet Encargos Sociais
A1: COMPOSIÇÃO DOS ENCARGOS SOCIAIS SOBRE A MÃO DE OBRA
A2: Metodologia SINAPI | Decreto Municipal nº 23.379/2025 | Sem Desoneração — Horista
A3: Cód. | B3: Descrição | C3: C/Desonera. Horista | D3: C/Desonera. Mensalista | E3: S/Desonera. Horista | F3: S/Desonera. Mensalista
A4: GRUPO A — Encargos Básicos
A5: A1 | B5: INSS | C5: 0.1 | D5: 0.1 | E5: 0.2 | F5: 0.2
A6: A2 | B6: SESI | C6: 0.015 | D6: 0.015 | E6: 0.015 | F6: 0.015
A7: A3 | B7: SENAI | C7: 0.01 | D7: 0.01 | E7: 0.01 | F7: 0.01
A8: A4 | B8: INCRA | C8: 0.002 | D8: 0.002 | E8: 0.002 | F8: 0.002
A9: A5 | B9: SEBRAE | C9: 0.006 | D9: 0.006 | E9: 0.006 | F9: 0.006
A10: A6 | B10: Salário Educação | C10: 0.025 | D10: 0.025 | E10: 0.025 | F10: 0.025
A11: A7 | B11: Seguro Contra Acidentes | C11: 0.03 | D11: 0.03 | E11: 0.03 | F11: 0.03
A12: A8 | B12: FGTS | C12: 0.08 | D12: 0.08 | E12: 0.08 | F12: 0.08
A13: A | B13: TOTAL GRUPO A (soma acima) | C13: =C5+C6+C7+C8+C9+C10+C11+C12 -> 0.268 | D13: =D5+D6+D7+D8+D9+D10+D11+D12 -> 0.268 | E13: =E5+E6+E7+E8+E9+E10+E11+E12 -> 0.368 | F13: =F5+F6+F7+F8+F9+F10+F11+F12 -> 0.368
A14: GRUPO B — Encargos Trabalhistas
A15: B1 | B15: Repouso Semanal Remunerado | C15: 0.1778 | D15: 0 | E15: 0.1778 | F15: 0
A16: B4 | B16: 13º Salário | C16: 0.1092 | D16: 0.0829 | E16: 0.1092 | F16: 0.0829
A17: B9 | B17: Férias Gozadas | C17: 0.1104 | D17: 0.0838 | E17: 0.1104 | F17: 0.0838
A18: B | B18: TOTAL GRUPO B | C18: =C15+C16+C17 -> 0.3974 | D18: =D15+D16+D17 -> 0.1667 | E18: =E15+E16+E17 -> 0.3974 | F18: =F15+F16+F17 -> 0.1667
A19: GRUPO C — Rescisão
A20: C1 | B20: Aviso Prévio Indenizado | C20: 0.0418 | D20: 0.0317 | E20: 0.0418 | F20: 0.0317
A21: C | B21: TOTAL GRUPO C | C21: =C20 -> 0.0418 | D21: =D20 -> 0.0317 | E21: =E20 -> 0.0418 | F21: =F20 -> 0.0317
A22: GRUPO D — Incidências Cumulativas
A23: D | B23: TOTAL GRUPO D (A×B + A×C) | C23: =C13*C18+C13*C21 -> 0.1177056 | D23: =D13*D18+D13*D21 -> 0.0531712 | E23: =E13*E18+E13*E21 -> 0.1616256 | F23: =F13*F18+F13*F21 -> 0.0730112
A24: TOTAL | B24: TOTAL GERAL A+B+C+D | C24: =C13+C18+C21+C23 -> 0.8249056 | D24: =D13+D18+D21+D23 -> 0.5195712 | E24: =E13+E18+E21+E23 -> 0.9688256 | F24: =F13+F18+F21+F23 -> 0.6394112

Sheet ETP - Equipes e Produtiv.
A1: ETP R02 — EQUIPES REFERENCIAIS E PARÂMETROS DE PRODUTIVIDADE
A2: Processo Adm. 23.887/2026 — SMOPSU — Alvorada/RS
A3: COMPOSIÇÃO REFERENCIAL DE MÃO DE OBRA (Tabela 2 — ETP R02)
A4: Função / Composição | B4: Capina e Roçada de Vias | C4: Varrição Manual | D4: Limpeza de Praças | E4: Observação
A5: Supervisor de campo | B5: 1 (comp.) | C5: 1 (comp.) | D5: 1 (comp.) | E5: Compartilhado entre todas as frentes
A6: Técnico em segurança do trabalho | B6: 1 (comp.) | C6: 1 (comp.) | D6: 1 (comp.) | E6: Compartilhado — custo incluso no BDI (AC)
A7: Responsável técnico (Eng. Civil) | B7: 1 (comp.) | C7: 1 (comp.) | D7: 1 (comp.) | E7: Compartilhado — custo incluso no BDI (AC)
A8: Encarregado | B8: 1 | C8: 1 | D8: 1 | E8: Dedicado por frente
A9: Roçador (roçadeira costal / capinadeira) | B9: 5 | C9: — | D9: 10 | E9: Capina vias: 5; Praças: 8
A10: Operador de capinadeira mecânica | B10: 1 | C10: — | D10: — | E10: Capina sarjetas/bordos
A11: Operador de trator roçadeira | B11: 1 | C11: — | D11: 2 | E11: Áreas extensas em praças
A12: Operador de retroescavadeira | B12: 1 | C12: — | D12: — | E12: Carregamento de resíduos
A13: Auxiliar de Limpeza Urbana | B13: 14 | C13: — | D13: 10 | E13: Incl. sopradores e sinaleiros
A14: Varredor | B14: — | C14: 27 | D14: —
A15: Pintor | B15: — | C15: — | D15: —
A16: Motorista | B16: 3 | C16: — | D16: 2 | E16: Transp. funcionários + caçambas
A17: TOTAL OPERACIONAL | B17: {=SUMPRODUCT(--ISNUMBER(--B5:B16),IFERROR(--B5:B16,0))} -> 26 | C17: {=SUMPRODUCT(--ISNUMBER(--C5:C16),IFERROR(--C5:C16,0))} -> 28 | D17: {=SUMPRODUCT(--ISNUMBER(--D5:D16),IFERROR(--D5:D16,0))} -> 25 | E17: Total por frente de serviço
A19: PARÂMETROS DE PRODUTIVIDADE (ETP R02)
A20: Serviço | B20: Parâmetro | C20: Valor Adotado
A21: Capina e Roçada Vias | B21: Extensão mensal | C21: 150.000 m lineares (150 km)
B22: Produtividade capinadeira mecânica | C22: 5 km/dia
B23: Produtividade capinador/roçador manual | C23: 0,450 km/dia
B24: Eficiência mecânica / manual | C24: 70% / 75%
A25: Varrição Manual | B25: Extensão mensal | C25: 1.300.000 m (1.300 km)
B26: Produtividade por varredor | C26: 2,00 km/dia (285,71 m/h líquido)
B27: Horas produtivas mensais/varredor | C27: 170 h (22×7h + 4×4h sáb.)
B28: Produção mensal/varredor | C28: ~48.571 m/mês → 27 varredores
A29: Pintura de Meio-Fio | B29: Extensão mensal | C29: 150.000 m (150 km)
B30: Produtividade por pintor | C30: 757,58 m/dia = 108,23 m/h (7h líq.)
B31: Capacidade da equipe (9 pintores) | C31: 165.600 m/mês (folga ~10%)
A32: Limpeza de Praças | B32: Área mensal | C32: 350.000 m² (26 dias úteis/mês)
B33: Produtividade trator roçadeira | C33: 4.000 m²/dia
B34: Produtividade roçadeira costal | C34: 700 m²/dia por roçador
B35: Capacidade da frente | C35: 353.600 m²/mês (folga ~1,0%)
