Workbook

Sheet Resumo
A2: RESUMO
A4: PARTICIPANTE
A6: ='Anexo A'!B2 -> COLETA DOMICILIAR DO MUNICÍPIO DE ALVORADA
A8: Item | B8: Descrição – Características Técnicas | C8: Valor Unit. (R$) | D8: Quantidade | F8: Valor Total
A13: 1 | B13: COLETA DE RESÍDUOS DOMICILIARES | C13: ='Anexo A'!G430 -> 0 | D13: Mensal | E13: 3700 | F13: =E13*C13 -> 0
B14: Coleta de segunda à sexta das 7h às 23h40min. e aos domingos nas principais Avenidas. Incluso 40 contêineres na Av. Getúlio Vargas. | D14: Anual | E14: =E13*12 -> 44400 | F14: =C13*E14 -> 0

Sheet Anexo A
B1: ANEXO A
B2: COLETA DOMICILIAR DO MUNICÍPIO DE ALVORADA
B4: =Resumo!A4 -> PARTICIPANTE
B6: Planilha de Composição de Custos
B8: Orçamento Sintético
B9: Descrição do Item | F9: Custo (R$/mês) | G9: %
B10: =B56 -> 1. Mão de obra | F10: =G226 -> 0 | G10: =IF(SUM(G11:G17)=IFERROR(F10/$F$35,0),IFERROR(F10/$F$35,0),"ERRO") -> 0
B11: =B65 -> 1.1. Lixeiros/Coletores | F11: =G109 -> 0 | G11: =IFERROR(F11/$F$35,0) -> 0
B12: =B111 -> 1.2. Motoristas | F12: =G159 -> 0 | G12: =IFERROR(F12/$F$35,0) -> 0
B13: =B161 -> 1.3. Encarregado/Gerente Operacional | F13: =G176 -> 0 | G13: =IFERROR(F13/$F$35,0) -> 0
B14: =B178 -> 1.4. Vale Transporte | F14: =G186 -> 0 | G14: =IFERROR(F14/$F$35,0) -> 0
B15: =B195 -> 1.5. Vale-refeição - VR | F15: =G201 -> 0 | G15: =IFERROR(F15/$F$35,0) -> 0
B16: =B203 -> 1.6. Auxílio Alimentação - VA | F16: =G209 -> 0 | G16: =IFERROR(F16/$F$35,0) -> 0
B17: =B211 -> 1.7. Outros Auxílios | F17: =G224 -> 0 | G17: =IFERROR(F17/$F$35,0) -> 0
B18: =B228 -> 2. Uniformes e Equipamentos de Proteção Individual e Proteção Coletiva | F18: =G287 -> 0 | G18: =IF(SUM(G19:G21)=IFERROR(F18/$F$35,0),IFERROR(F18/$F$35,0),"ERRO") -> 0
B19: =B230 -> 2.1. Uniformes | F19: =G246 -> 0 | G19: =IFERROR(F19/$F$35,0) -> 0
B20: =B248 -> 2.2. Equipamentos de Proteção Individual - EPI's | F20: =G278 -> 0 | G20: =IFERROR(F20/$F$35,0) -> 0
B21: =B280 -> 2.3. Equipamentos de Proteção Coletiva - EPC | F21: =G285 -> 0 | G21: =IFERROR(F21/$F$35,0) -> 0
B22: =B289 -> 3. Veículos e Equipamentos | F22: =G387 -> 0 | G22: =IF(SUM(G24:G30)=IFERROR(F22/$F$35,0),IFERROR(F22/$F$35,0),"ERRO") -> 0
B23: =B290 -> 3.1. Veículos Coletores Compactadores | F23: =SUM(F24:F29) -> 0 | G23: =IFERROR(F23/$F$35,0) -> 0
B24: =" "&B291 -> 3.1.1. Depreciação | F24: =G313 -> 0 | G24: =IFERROR(F24/$F$35,0) -> 0
B25: =" "&B315 -> 3.1.2. Remuneração do Capital Investido | F25: =G336 -> 0 | G25: =IFERROR(F25/$F$35,0) -> 0
B26: =" "&B338 -> 3.1.3. Impostos e Seguros | F26: =G344 -> 0 | G26: =IFERROR(F26/$F$35,0) -> 0
B27: =" "&B346 -> 3.1.4. Consumo dos veículos | F27: =G363 -> 0 | G27: =IFERROR(F27/$F$35,0) -> 0
B28: =" "&B365 -> 3.1.5. Manutenção | F28: =G369 -> 0 | G28: =IFERROR(F28/$F$35,0) -> 0
B29: =" "&B371 -> 3.1.6. Pneus | F29: =G379 -> 0 | G29: =IFERROR(F29/$F$35,0) -> 0
B30: =B381 -> 3.2. Locação contêineres | F30: =G385 -> 0 | G30: =IFERROR(F30/$F$35,0) -> 0
B31: =B389 -> 4. Monitoramento da Frota | F31: =G394 -> 0 | G31: =IFERROR(F31/$F$35,0) -> 0
B32: =B398 -> 5. Ferramentas e Materiais de consumo | F32: =G407 -> 0 | G32: =IFERROR(F32/$F$35,0) -> 0
B33: =B409 -> 6. Administração Local | F33: =G416 -> 0 | G33: =IFERROR(F33/$F$35,0) -> 0
B34: =B420 -> 7. Benefícios e Despesas Indiretas – BDI | F34: =G424 -> 0 | G34: =IFERROR(F34/$F$35,0) -> 0
B35: =B426 -> CUSTO TOTAL MENSAL (R$/mês) | F35: =G426 -> 0 | G35: =IFERROR(F35/$F$35,0) -> 0
B37: Quantitativos
B38: Mão de obra | G38: Quantidade
B39: =B11 -> 1.1. Lixeiros/Coletores | G39: 42
B40: =B12 -> 1.2. Motoristas | G40: 14
B41: =B13 -> 1.3. Encarregado/Gerente Operacional | G41: 1
B42: Total de mão de obra (postos de trabalho) | G42: =SUM(G39:G41) -> 57
B44: Veículos e Equipamentos | G44: Quantidade
B45: Veículos Coletores Compactadores | G45: 8
...

Sheet Anexo B
A1: ANEXO B
A2: BDI E ENCARGOS SOCIAIS
A4: =Resumo!A4 -> PARTICIPANTE
A6: Composição do BDI - Benefícios e Despesas Indiretas
B8: i | C8: Informar o valor anual da taxa financeira, em percentual
B9: DU | C9: Informar a média de dias úteis entre data de pagamento prevista no contrato e a data final do período de adimplemento da parcela
B11: Código | C11: Descrição | I11: Valor
B12: AC | C12: Administração Central
B13: SRG | C13: Seguros/Riscos/Garantias
B14: L | C14: Lucro
B15: DF | C15: Despesas Financeiras | I15: =(1+I8)^(I9/252)-1 -> 0
B16: T | C16: Tributos - ISS
C17: Tributos - PIS/COFINS
B18: Fórmula para o cálculo do BDI: {[(1+AC+SRG) x (1+L) x (1+DF)] / (1-T)} -1
A20: Resultado do cálculo do BDI: | I20: =ROUND((((1+I12+I13)*(1+I14)*(1+I15))/(1-(I16+I17))-1),4) -> 0
A22: Encargos Sociais
B23: Grupo A
B24: Código | C24: Descrição | I24: Valor
B25: A1 | C25: INSS
B26: A2 | C26: Sesi/Sesc/DPC/Faer
B27: A3 | C27: Senai/Senac/DPC/Faer
B28: A4 | C28: Incra
B29: A5 | C29: Sebrae
B30: A6 | C30: Salário Educação
B31: A7 | C31: Seg. Acid. Trabalho
B32: A8 | C32: FGTS
C33: Sub-total | I33: =SUM(I25:I32) -> 0
B34: Grupo B
B35: Código | C35: Descrição | I35: Valor
B36: B1 | C36: Férias gozadas
B37: B2 | C37: 13° Salário
B38: B3 | C38: Licença Paternidade
B39: B4 | C39: Faltas Justificadas
B40: B5 | C40: Auxílio acidente de trabalho
B41: B6 | C41: Auxílio Doença
C42: Sub-total | I42: =SUM(I36:I41) -> 0
B43: Grupo C
B44: Código | C44: Descrição | I44: Valor
B45: C1 | C45: Aviso Prévio indenizado
B46: C2 | C46: Férias Indenizadas
...

Sheet Depreciação
A2: Depreciação Referencial TCE/RS (%)
A4: Idade do veículo (ano) | B4: Depreciação Média
A5: 1 | B5: 33.63
A6: 2 | B6: 43.13
A7: 3 | B7: 48.68
A8: 4 | B8: 52.62
A9: 5 | B9: 55.68
A10: 6 | B10: 58.18
A11: 7 | B11: 60.29
A12: 8 | B12: 62.12
A13: 9 | B13: 63.73
A14: 10 | B14: 65.18
A15: 11 | B15: 66.48
A16: 12 | B16: 67.67
... A19: 15 | B19: 70.73

Sheet Leia
A2: ORIENTAÇÕES PARA PREENCHIMENTO:
B3: 1) preencher as células em amarelo (A), conforme a legenda;
B4: 2) as células em verde (B) são valores/quantidades mínimas indicadas, conforme TR.
A6: DADOS / PREMISSAS UTILIZADAS
B7: Coleta
B8: Turnos | E8: Total de domingos (a.a): | G8: Horas de trabalho aos domingos:
B9: Início | C9: Fim | E9: 52 | G9: 4 | H9: h
B10: Manhã | C10: ="das "&HOUR(B11)&"h às "&HOUR(C11)&"h"&MINUTE(C11)&"min." -> das 7h às 15h20min. | E10: Total de Feriados (a.a.): | G10: Feriados de seg. à sab. (a.a.):
B11: 0.29166667 | C11: 0.63888889 | E11: 13 | G11: 9
B12: intervalo almoço: | C12: 0.041666667 | G12: Feriados aos domingos (a.a.):
B13: duração dia: | C13: =HOUR(C14)+MINUTE(C14)/60 -> 7.3333333 | G13: 3
C14: =C11-B11-C12 -> 0.30555556
B15: Noite | C15: ="das "&HOUR(B17)&"h"&MINUTE(B17)&"min."&" às "&HOUR(C17)&"h"&MINUTE(C17)&"min." -> das 15h20min. às 23h40min. | E15: Dias úteis / mês: | G15: Distância média percorrida pelos veículos coletores, nos dois turnos (km/dia):
E16: =ROUND((365-E9)/12,0) -> 26
B17: 0.63888889 | C17: 0.98611111
B18: Adicional Noturno | E18: Horas mensais: | G18: 101
B19: 0.91666667 | C19: 0.20833333 | E19: 220
B20: entre 22h e 5h | C20: =HOUR(C21)+MINUTE(C21)/60 -> 1.6666667
C21: =C17-B19 -> 0.069444444
B22: até as 22h | C22: =HOUR(C23)+MINUTE(C23)/60 -> 6.6666667
C23: =B19-B17 -> 0.27777778
B24: intervalo: | C24: 0.041666667
B25: Duração noite: | C25: =C17-B17-C24 -> 0.30555556
B27: DIURNO:
B28: =G11/12 -> 0.75 | C28: Total de feriados por mês - seg a sáb.
B29: =B28*C14 -> 0.22916667 | C29: Horas Extras por feriados
B30: =E9/12 -> 4.3333333 | C30: Total de domingos por mês
B31: =B30*G9 -> 17.333333 | C31: Horas Extras Domingos
B32: =B29+B31 -> 17.5625
B33: NOTURNO:
B34: =B28 -> 0.75 | C34: =C28 -> Total de feriados por mês - seg a sáb.
B35: =B34*C23 -> 0.20833333 | C35: =C29 -> Horas Extras por feriados
B36: =B34*C21 -> 0.052083333 | C36: Horas Extras noturnas por feriados
