Workbook
Name Excel_BuiltIn_Print_Area: 'MAPA DE PREÇOS'!$N$6:$P$33

Sheet BASE EDITAL
A1: Item | B1: Cod. Mat. | C1: Especificação do Material | D1: Unidade | E1: Quant. | F1: Valor Unit. (R$) | G1: Valor Total (R$)

Sheet BASE FORMAÇÃO
A1: LOTE | B1: CÓDIGO | C1: DESCRIÇÃO | D1: UNIDADE | E1: PE ANTERIOR | F1: SITUAÇÃO | G1: SEI PE ANTERIOR | H1: ESTIMADO | I1: VALOR RP ATIVO | J1: VALOR ATA FRACASSADA/DESERTA | K1: CATMAT

Sheet EDITAL
B1: PREFEITURA MUNICIPAL DE PORTO ALEGRE DEPARTAMENTO MUNICIPAL DE LIMPEZA URBANA DIRETORIA DE DESTINO FINAL
A3: Lote | B3: Descrição do Objeto | C3: Designçaão | D3: Método de Triagem | E3: Quantitativo mensal destinado (t) | F3: Rejeito | H3: Quantitativo Reciclado (t) | I3: Preço Unitário (R$/t) | J3: Valor
F4: Médio (%) | G4: Meta (%) | J4: Valor Mensal | K4: Total do Contrato
A5: 1 | B5: Triagem, classificação, beneficiamento e comercialização de resíduos sólidos recicláveis (..), em próprio municipal localizado na Rua Monsenhor Rubens Neis 740, Bairro Cavalhada. | C5: UT Cavalhada | D5: Mesas | E5: =ROUND(IF($B$29=$B$25,QUANTITATIVOS!G8,IF($B$29=$B$26,QUANTITATIVOS!I8,IF($B$29=$B$27,QUANTITATIVOS!K8*QUANTITATIVOS!C8,IF(,EDITAL!$B$29=$B$28,QUANTITATIVOS!J8*QUANTITATIVOS!C8)))),2) -> 63.58 | F5: =QUANTITATIVOS!D8 -> 0.41 | G5: =IF($D$29=$D$26,$E$26,IF($D$29=$D$27,QUANTITATIVOS!D8,IF($D$29=$D$28,QUANTITATIVOS!E8))) -> 0.287 | H5: =E5*(1-G5) -> 45.33254 | I5: =IF(D5='PARÂMETROS - MESA'!$J$8,'CALCULO PREÇO UNITÁRIO'!$D$20,IF(EDITAL!D5='PARÂMETROS - MESA'!$J$7,'CALCULO PREÇO UNITÁRIO'!$D$12)) -> 242.94883 | J5: =H5*I5 -> 11013.488 | K5: =J5*12 -> 132161.85
A6: 2 | B6: Triagem, classificação, beneficiamento e comercialização de resíduos sólidos recicláveis (...), em próprio municipal localizado na Avenida Frederico Mentz, 1167, Bairro Navegantes. | C6: UT Frederico Mentz | D6: Esteira | E6: =ROUND(IF($B$29=$B$25,QUANTITATIVOS!G9,IF($B$29=$B$26,QUANTITATIVOS!I9,IF($B$29=$B$27,QUANTITATIVOS!K9*QUANTITATIVOS!C9,IF(,EDITAL!$B$29=$B$28,QUANTITATIVOS!J9*QUANTITATIVOS!C9)))),2) -> 41.23 | F6: =QUANTITATIVOS!D9 -> 0.2118977 | G6: =IF($D$29=$D$26,$E$26,IF($D$29=$D$27,QUANTITATIVOS!D9,IF($D$29=$D$28,QUANTITATIVOS!E9))) -> 0.14832839 | H6: =E6*(1-G6) -> 35.114421 | I6: =IF(D6='PARÂMETROS - MESA'!$J$8,'CALCULO PREÇO UNITÁRIO'!$D$20,IF(EDITAL!D6='PARÂMETROS - MESA'!$J$7,'CALCULO PREÇO UNITÁRIO'!$D$12)) -> 268.68153 | J6: =H6*I6 -> 9434.5964 | K6: =J6*12 -> 113215.16
A7: 3 | B7: Triagem, classificação, beneficiamento e comercialização de resíduos sólidos recicláveis (...), em próprio municipal localizado na Estrada do Rincão, 6795/6821, Bairro Restinga. | C7: UT Padre Cacique | D7: Esteira | E7: =ROUND(IF($B$29=$B$25,QUANTITATIVOS!G10,IF($B$29=$B$26,QUANTITATIVOS!I10,IF($B$29=$B$27,QUANTITATIVOS!K10*QUANTITATIVOS!C10,IF(,EDITAL!$B$29=$B$28,QUANTITATIVOS!J10*QUANTITATIVOS!C10)))),2) -> 46.14 | F7: =QUANTITATIVOS!D10 -> 0.2029035 | G7: =IF($D$29=$D$26,$E$26,IF($D$29=$D$27,QUANTITATIVOS!D10,IF($D$29=$D$28,QUANTITATIVOS!E10))) -> 0.14203245 | H7: =E7*(1-G7) -> 39.586623 | I7: =IF(D7='PARÂMETROS - MESA'!$J$8,'CALCULO PREÇO UNITÁRIO'!$D$20,IF(EDITAL!D7='PARÂMETROS - MESA'!$J$7,'CALCULO PREÇO UNITÁRIO'!$D$12)) -> 268.68153 | J7: =H7*I7 -> 10636.194 | K7: =J7*12 -> 127634.33
A8: 4 | B8: Triagem, classificação, beneficiamento e comercialização de resíduos sólidos recicláveis (...), em próprio municipal localizado na Estrada João Antônio da Silveira, 3526, Bairro Restinga. | C8: UT Restinga | D8: Mesas | E8: =ROUND(IF($B$29=$B$25,QUANTITATIVOS!G11,IF($B$29=$B$26,QUANTITATIVOS!I11,IF($B$29=$B$27,QUANTITATIVOS!K11*QUANTITATIVOS!C11,IF(,EDITAL!$B$29=$B$28,QUANTITATIVOS!J11*QUANTITATIVOS!C11)))),2) -> 89.44 | F8: =QUANTITATIVOS!D11 -> 0.52627424 | G8: =IF($D$29=$D$26,$E$26,IF($D$29=$D$27,QUANTITATIVOS!D11,IF($D$29=$D$28,QUANTITATIVOS!E11))) -> 0.36839197 | H8: =E8*(1-G8) -> 56.491023 | I8: =IF(D8='PARÂMETROS - MESA'!$J$8,'CALCULO PREÇO UNITÁRIO'!$D$20,IF(EDITAL!D8='PARÂMETROS - MESA'!$J$7,'CALCULO PREÇO UNITÁRIO'!$D$12)) -> 242.94883 | J8: =H8*I8 -> 13724.428 | K8: =J8*12 -> 164693.14
A9: 5 | B9: Triagem, classificação, beneficiamento e comercialização de resíduos sólidos recicláveis (...), em próprio municipal localizado na Estrada Antônio Severino, 1317, Bairro Rubem Berta. | C9: UT Rubem Berta | D9: Mesas | E9: =ROUND(IF($B$29=$B$25,QUANTITATIVOS!G12,IF($B$29=$B$26,QUANTITATIVOS!I12,IF($B$29=$B$27,QUANTITATIVOS!K12*QUANTITATIVOS!C12,IF(,EDITAL!$B$29=$B$28,QUANTITATIVOS!J12*QUANTITATIVOS!C12)))),2) -> 77.08 | F9: =QUANTITATIVOS!D12 -> 0.37336207 | G9: =IF($D$29=$D$26,$E$26,IF($D$29=$D$27,QUANTITATIVOS!D12,IF($D$29=$D$28,QUANTITATIVOS!E12))) -> 0.26135345 | H9: =E9*(1-G9) -> 56.934876 | I9: =IF(D9='PARÂMETROS - MESA'!$J$8,'CALCULO PREÇO UNITÁRIO'!$D$20,IF(EDITAL!D9='PARÂMETROS - MESA'!$J$7,'CALCULO PREÇO UNITÁRIO'!$D$12)) -> 242.94883 | J9: =H9*I9 -> 13832.262 | K9: =J9*12 -> 165987.14
A10: 6 | B10: Triagem, classificação, beneficiamento e comercialização de resíduos sólidos recicláveis (...), em próprio municipal localizado na Avenida Bernardino Silveira Amorim, 2405, Bairro Santa Rosa de Lima. | C10: UT Santíssima | D10: Mesas | E10: =ROUND(IF($B$29=$B$25,QUANTITATIVOS!G13,IF($B$29=$B$26,QUANTITATIVOS!I13,IF($B$29=$B$27,QUANTITATIVOS!K13*QUANTITATIVOS!C13,IF(,EDITAL!$B$29=$B$28,QUANTITATIVOS!J13*QUANTITATIVOS!C13)))),2) -> 65.69 | F10: =QUANTITATIVOS!D13 -> 0.6722 | G10: =IF($D$29=$D$26,$E$26,IF($D$29=$D$27,QUANTITATIVOS!D13,IF($D$29=$D$28,QUANTITATIVOS!E13))) -> 0.47054 | H10: =E10*(1-G10) -> 34.780227 | I10: =IF(D10='PARÂMETROS - MESA'!$J$8,'CALCULO PREÇO UNITÁRIO'!$D$20,IF(EDITAL!D10='PARÂMETROS - MESA'!$J$7,'CALCULO PREÇO UNITÁRIO'!$D$12)) -> 242.94883 | J10: =H10*I10 -> 8449.8156 | K10: =J10*12 -> 101397.79
A11: 7 | B11: Triagem, classificação, beneficiamento e comercialização de resíduos sólidos recicláveis (...), em próprio municipal localizado na Rua Alfredo Ferreira Rodrigues, 975, Bairro Bom Jesus. | C11: UT Vila Pinto | D11: Mesas | E11: =ROUND(IF($B$29=$B$25,QUANTITATIVOS!G14,IF($B$29=$B$26,QUANTITATIVOS!I14,IF($B$29=$B$27,QUANTITATIVOS!K14*QUANTITATIVOS!C14,IF(,EDITAL!$B$29=$B$28,QUANTITATIVOS!J14*QUANTITATIVOS!C14)))),2) -> 51.77 | F11: =QUANTITATIVOS!D14 -> 0.30407616 | G11: =IF($D$29=$D$26,$E$26,IF($D$29=$D$27,QUANTITATIVOS!D14,IF($D$29=$D$28,QUANTITATIVOS!E14))) -> 0.21285331 | H11: =E11*(1-G11) -> 40.750584 | I11: =IF(D11='PARÂMETROS - MESA'!$J$8,'CALCULO PREÇO UNITÁRIO'!$D$20,IF(EDITAL!D11='PARÂMETROS - MESA'!$J$7,'CALCULO PREÇO UNITÁRIO'!$D$12)) -> 242.94883 | J11: =H11*I11 -> 9900.3069 | K11: =J11*12 -> 118803.68
A12: 8 | B12: Triagem, classificação, beneficiamento e comercialização de resíduos sólidos recicláveis (...), em próprio municipal localizado na Estrada Afonso Lourenço Mariante, 4401, Bairro Lomba do Pinheiro. | C12: UTH | D12: Esteira | E12: =ROUND(IF($B$29=$B$25,QUANTITATIVOS!G15,IF($B$29=$B$26,QUANTITATIVOS!I15,IF($B$29=$B$27,QUANTITATIVOS!K15*QUANTITATIVOS!C15,IF(,EDITAL!$B$29=$B$28,QUANTITATIVOS!J15*QUANTITATIVOS!C15)))),2) -> 302.34 | F12: =QUANTITATIVOS!D15 -> 0.43682333 | G12: =IF($D$29=$D$26,$E$26,IF($D$29=$D$27,QUANTITATIVOS!D15,IF($D$29=$D$28,QUANTITATIVOS!E15))) -> 0.30577633 | H12: =E12*(1-G12) -> 209.89158 | I12: =IF(D12='PARÂMETROS - MESA'!$J$8,'CALCULO PREÇO UNITÁRIO'!$D$20,IF(EDITAL!D12='PARÂMETROS - MESA'!$J$7,'CALCULO PREÇO UNITÁRIO'!$D$12)) -> 268.68153 | J12: =H12*I12 -> 56393.993 | K12: =J12*12 -> 676727.91
A13: 9 | B13: Triagem, classificação, beneficiamento e comercialização de resíduos sólidos recicláveis (...), em unidade de triagem localizada no município de Porto Alegre. | C13: UT Anitas | D13: Mesas | E13: =ROUND(IF($B$29=$B$25,QUANTITATIVOS!G16,IF($B$29=$B$26,QUANTITATIVOS!I16,IF($B$29=$B$27,QUANTITATIVOS!K16*QUANTITATIVOS!C16,IF(,EDITAL!$B$29=$B$28,QUANTITATIVOS!J16*QUANTITATIVOS!C16)))),2) -> 205.6 | F13: =QUANTITATIVOS!D16 -> 0.33814567 | G13: =IF($D$29=$D$26,$E$26,IF($D$29=$D$27,QUANTITATIVOS!D16,IF($D$29=$D$28,QUANTITATIVOS!E16))) -> 0.23670197 | H13: =E13*(1-G13) -> 156.93408 | I13: =IF(D13='PARÂMETROS - MESA'!$J$8,'CALCULO PREÇO UNITÁRIO'!$D$20,IF(EDITAL!D13='PARÂMETROS - MESA'!$J$7,'CALCULO PREÇO UNITÁRIO'!$D$12)) -> 242.94883 | J13: =H13*I13 -> 38126.95 | K13: =J13*12 -> 457523.4
A14: 10 | B14: Triagem, classificação, beneficiamento e comercialização de resíduos sólidos recicláveis (...), em unidade de triagem localizada no município de Porto Alegre. | C14: UT Anjos da Ecologia | D14: Mesas | E14: =ROUND(IF($B$29=$B$25,QUANTITATIVOS!G17,IF($B$29=$B$26,QUANTITATIVOS!I17,IF($B$29=$B$27,QUANTITATIVOS!K17*QUANTITATIVOS!C17,IF(,EDITAL!$B$29=$B$28,QUANTITATIVOS!J17*QUANTITATIVOS!C17)))),2) -> 141.8 | F14: =QUANTITATIVOS!D17 -> 0.52920364 | G14: =IF($D$29=$D$26,$E$26,IF($D$29=$D$27,QUANTITATIVOS!D17,IF($D$29=$D$28,QUANTITATIVOS!E17))) -> 0.37044255 | H14: =E14*(1-G14) -> 89.271247 | I14: =IF(D14='PARÂMETROS - MESA'!$J$8,'CALCULO PREÇO UNITÁRIO'!$D$20,IF(EDITAL!D14='PARÂMETROS - MESA'!$J$7,'CALCULO PREÇO UNITÁRIO'!$D$12)) -> 242.94883 | J14: =H14*I14 -> 21688.345 | K14: =J14*12 -> 260260.14
A15: 11 | B15: Triagem, classificação, beneficiamento e comercialização de resíduos sólidos recicláveis (...), em unidade de triagem localizada no município de Porto Alegre. | C15: UT Aterro Norte | D15: Mesas | E15: =ROUND(IF($B$29=$B$25,QUANTITATIVOS!G18,IF($B$29=$B$26,QUANTITATIVOS!I18,IF($B$29=$B$27,QUANTITATIVOS!K18*QUANTITATIVOS!C18,IF(,EDITAL!$B$29=$B$28,QUANTITATIVOS!J18*QUANTITATIVOS!C18)))),2) -> 89.36 | F15: =QUANTITATIVOS!D18 -> 0.30932284 | G15: =IF($D$29=$D$26,$E$26,IF($D$29=$D$27,QUANTITATIVOS!D18,IF($D$29=$D$28,QUANTITATIVOS!E18))) -> 0.21652599 | H15: =E15*(1-G15) -> 70.011238 | I15: =IF(D15='PARÂMETROS - MESA'!$J$8,'CALCULO PREÇO UNITÁRIO'!$D$20,IF(EDITAL!D15='PARÂMETROS - MESA'!$J$7,'CALCULO PREÇO UNITÁRIO'!$D$12)) -> 242.94883 | J15: =H15*I15 -> 17009.149 | K15: =J15*12 -> 204109.78
A16: 12 | B16: Triagem, classificação, beneficiamento e comercialização de resíduos sólidos recicláveis (...), em unidade de triagem localizada no município de Porto Alegre. | C16: UT Campo da Tuca | D16: Mesas | E16: =ROUND(IF($B$29=$B$25,QUANTITATIVOS!G19,IF($B$29=$B$26,QUANTITATIVOS!I19,IF($B$29=$B$27,QUANTITATIVOS!K19*QUANTITATIVOS!C19,IF(,EDITAL!$B$29=$B$28,QUANTITATIVOS!J19*QUANTITATIVOS!C19)))),2) -> 99.4 | F16: =QUANTITATIVOS!D19 -> 0.29799957 | G16: =IF($D$29=$D$26,$E$26,IF($D$29=$D$27,QUANTITATIVOS!D19,IF($D$29=$D$28,QUANTITATIVOS!E19))) -> 0.2085997 | H16: =E16*(1-G16) -> 78.66519 | I16: =IF(D16='PARÂMETROS - MESA'!$J$8,'CALCULO PREÇO UNITÁRIO'!$D$20,IF(EDITAL!D16='PARÂMETROS - MESA'!$J$7,'CALCULO PREÇO UNITÁRIO'!$D$12)) -> 242.94883 | J16: =H16*I16 -> 19111.616 | K16: =J16*12 -> 229339.39
... A20: 16 | B20: Triagem, classificação, beneficiamento e comercialização de resíduos sólidos recicláveis (...), em unidade de triagem localizada no município de Porto Alegre. | C20: UT Reciclando pela Vida | D20: Mesas | E20: =ROUND(IF($B$29=$B$25,QUANTITATIVOS!G23,IF($B$29=$B$26,QUANTITATIVOS!I23,IF($B$29=$B$27,QUANTITATIVOS!K23*QUANTITATIVOS!C23,IF(,EDITAL!$B$29=$B$28,QUANTITATIVOS!J23*QUANTITATIVOS!C23)))),2) -> 141.88 | F20: =QUANTITATIVOS!D23 -> 0.66403439 | G20: =IF($D$29=$D$26,$E$26,IF($D$29=$D$27,QUANTITATIVOS!D23,IF($D$29=$D$28,QUANTITATIVOS!E23))) -> 0.46482407 | H20: =E20*(1-G20) -> 75.93076 | I20: =IF(D20='PARÂMETROS - MESA'!$J$8,'CALCULO PREÇO UNITÁRIO'!$D$20,IF(EDITAL!D20='PARÂMETROS - MESA'!$J$7,'CALCULO PREÇO UNITÁRIO'!$D$12)) -> 242.94883 | J20: =H20*I20 -> 18447.29 | K20: =J20*12 -> 221367.48
A21: MÉDIAS | B21: Unidades com esteira | D21: =COUNTIF($D$5:$D$20,"="&'PARÂMETROS - MESA'!J7) -> 3 | E21: =SUMIFS($E$5:$E$20,$D$5:$D$20,"="&'PARÂMETROS - MESA'!J7)/D21 -> 129.90333 | F21: =SUMIFS($F$5:$F$20,$D$5:$D$20,"="&'PARÂMETROS - MESA'!J7)/D21 -> 0.28387484 | G21: =SUMIFS($G$5:$G$20,$D$5:$D$20,"="&'PARÂMETROS - MESA'!J7)/D21 -> 0.19871239 | H21: =E21*(1-G21) -> 104.08993 | J21: =SUMIFS($J$5:$J$20,$D$5:$D$20,"="&'PARÂMETROS - MESA'!J7)/D21 -> 25488.261 | K21: =SUMIFS($K$5:$K$20,$D$5:$D$20,"="&'PARÂMETROS - MESA'!J7)/D21 -> 305859.13
B22: Unidades com mesa | D22: =COUNTIF($D$5:$D$20,"="&'PARÂMETROS - MESA'!J8) -> 13 | E22: =SUMIFS($E$5:$E$20,$D$5:$D$20,"="&'PARÂMETROS - MESA'!J8)/D22 -> 100.83615 | F22: =SUMIFS($F$5:$F$20,$D$5:$D$20,"="&'PARÂMETROS - MESA'!J8)/D22 -> 0.43189388 | G22: =SUMIFS($G$5:$G$20,$D$5:$D$20,"="&'PARÂMETROS - MESA'!J8)/D22 -> 0.30232571 | H22: =E22*(1-G22) -> 70.350792 | J22: =SUMIFS($J$5:$J$20,$D$5:$D$20,"="&'PARÂMETROS - MESA'!J8)/D22 -> 17030.977 | K22: =SUMIFS($K$5:$K$20,$D$5:$D$20,"="&'PARÂMETROS - MESA'!J8)/D22 -> 204371.72
A23: TOTAL | D23: =SUM(D21:D22) -> 16 | E23: =SUM(E5:E20) -> 1700.58 | F23: =AVERAGE(F5:F20) -> 0.40414031 | G23: =AVERAGE(G5:G20) -> 0.28289822 | H23: =SUM(H5:H20) -> 1195.9067 | J23: =SUM(J5:J20) -> 297867.48 | K23: =SUM(K5:K20) -> 3574409.7
A25: Quantitativos | B25: Médias das unidades | C25: Rejeito | D25: Opções | E25: Valor
B26: Média da coleta | D26: Média | E26: 1
B27: Média de catadores x produtividade | D27: Unidades
B28: Máximo de catadores x produtividade | D28: Meta | E28: -0.3
A29: Escolha | B29: Média da coleta | C29: Escolha | D29: Meta

Sheet CALCULO PREÇO UNITÁRIO
A3: Cálculo do custo unitário de triagem por tonelada reciclada
B6: UNIDADE DE TRIAGEM COM ESTEIRA
B7: Descrição | C7: Unidade | D7: Mensal
B8: Custo de operação da unidade | C8: Valor | D8: ='MAT SER E DESP - EST'!$G$221 -> 17017.207
B9: Quantidade destinada | C9: Tonelada | D9: ='PARÂMETROS - MESA'!D8 -> 106.28625
B10: Percentual de rejeito | C10: % | D10: ='PARÂMETROS - MESA'!D9 -> 0.4041
B11: Quantidade reciclada | C11: Tonelada | D11: =D9*(1-D10) -> 63.335976
B12: Preço unitário de triagem por tonelada reciclada | C12: Tonelada | D12: =D8/D11 -> 268.68153
B14: UNIDADE DE TRIAGEM COM MESA
B15: Descrição | C15: Unidade | D15: Mensal
B16: Custo de operação da unidade | C16: Valor | D16: ='MAT SER E DESP - MESA'!G221 -> 15387.402
B17: Quantidade destinada | C17: Tonelada | D17: =D9 -> 106.28625
B18: Percentual de rejeito | C18: % | D18: ='PARÂMETROS - MESA'!D9 -> 0.4041
B19: Quantidade reciclada | C19: Tonelada | D19: =D17*(1-D18) -> 63.335976
B20: Preço unitário de triagem por tonelada reciclada | C20: Tonelada | D20: =D16/D19 -> 242.94883

Sheet QUANTITATIVOS
A3: Quantitativos
A5: Lote | B5: Unidades | C5: Eficiências médias | F5: Resíduo destinado | J5: Catadores
C6: Triagem | D6: Rejeito | F6: Médias por unidade | H6: Para 100% da Coleta | J6: Máximo | K6: Médio
C7: t/cat/mês | D7: % Médio | E7: % Meta | F7: Cargas/mês | G7: t/mês | H7: Cargas/mês | I7: t/mês | J7: n | K7: n
A8: 1 | B8: Cavalhada | C8: 2.21 | D8: 0.41 | E8: =IF(D8*(1+EDITAL!$E$28)>1,1,D8*(1+EDITAL!$E$28)) -> 0.287 | F8: 50.5 | G8: 54.6 | H8: =(F8/$F$24)*$F$25 -> 61.922942 | I8: =(G8/$G$24)*$G$25 -> 63.580111 | J8: 23 | K8: 20
A9: 2 | B9: Frederico Mentz | C9: 1.7868261 | D9: 0.2118977 | E9: =IF(D9*(1+EDITAL!$E$28)>1,1,D9*(1+EDITAL!$E$28)) -> 0.14832839 | F9: 34.5 | G9: 35.41 | H9: =(F9/$F$24)*$F$25 -> 42.303792 | I9: =(G9/$G$24)*$G$25 -> 41.233914 | J9: 18 | K9: 14
A10: 3 | B10: Padre Cacique | C10: 3.7067321 | D10: 0.2029035 | E10: =IF(D10*(1+EDITAL!$E$28)>1,1,D10*(1+EDITAL!$E$28)) -> 0.14203245 | F10: 48 | G10: 39.62 | H10: =(F10/$F$24)*$F$25 -> 58.85745 | I10: =(G10/$G$24)*$G$25 -> 46.136337 | J10: 33 | K10: 20
A11: 4 | B11: Restinga | C11: 2.99873 | D11: 0.52627424 | E11: =IF(D11*(1+EDITAL!$E$28)>1,1,D11*(1+EDITAL!$E$28)) -> 0.36839197 | F11: 75 | G11: 76.81 | H11: =(F11/$F$24)*$F$25 -> 91.964765 | I11: =(G11/$G$24)*$G$25 -> 89.443009 | J11: 45 | K11: 25
A12: 5 | B12: Rubem Berta | C12: 1.7983797 | D12: 0.37336207 | E12: =IF(D12*(1+EDITAL!$E$28)>1,1,D12*(1+EDITAL!$E$28)) -> 0.26135345 | F12: 59.25 | G12: 66.19 | H12: =(F12/$F$24)*$F$25 -> 72.652165 | I12: =(G12/$G$24)*$G$25 -> 77.076328 | J12: 32 | K12: 26
A13: 6 | B13: Santíssima | C13: 2.19 | D13: 0.6722 | E13: =IF(D13*(1+EDITAL!$E$28)>1,1,D13*(1+EDITAL!$E$28)) -> 0.47054 | F13: 65.33 | G13: 56.41 | H13: =(F13/$F$24)*$F$25 -> 80.107442 | I13: =(G13/$G$24)*$G$25 -> 65.687803 | J13: 26 | K13: 19
A14: 7 | B14: Vila Pinto | C14: 1.7371899 | D14: 0.30407616 | E14: =IF(D14*(1+EDITAL!$E$28)>1,1,D14*(1+EDITAL!$E$28)) -> 0.21285331 | F14: 47.5 | G14: 44.46 | H14: =(F14/$F$24)*$F$25 -> 58.244351 | I14: =(G14/$G$24)*$G$25 -> 51.772376 | J14: 35 | K14: 33
A15: 8 | B15: UTH | C15: 2.1424015 | D15: 0.43682333 | E15: =IF(D15*(1+EDITAL!$E$28)>1,1,D15*(1+EDITAL!$E$28)) -> 0.30577633 | F15: 323.75 | G15: 259.64 | H15: =(F15/$F$24)*$F$25 -> 396.98124 | I15: =(G15/$G$24)*$G$25 -> 302.34322 | J15: 93 | K15: 77
A16: 9 | B16: Anitas | C16: 7.9796897 | D16: 0.33814567 | E16: =IF(D16*(1+EDITAL!$E$28)>1,1,D16*(1+EDITAL!$E$28)) -> 0.23670197 | F16: 163.75 | G16: 176.56 | H16: =(F16/$F$24)*$F$25 -> 200.78974 | I16: =(G16/$G$24)*$G$25 -> 205.59898 | J16: 28 | K16: 18
A17: 10 | B17: Anjos da Ecologia | C17: 5.9037843 | D17: 0.52920364 | E17: =IF(D17*(1+EDITAL!$E$28)>1,1,D17*(1+EDITAL!$E$28)) -> 0.37044255 | F17: 114 | G17: 121.77 | H17: =(F17/$F$24)*$F$25 -> 139.78644 | I17: =(G17/$G$24)*$G$25 -> 141.79762 | J17: 20 | K17: 15
A18: 11 | B18: Aterro Norte | C18: 5.6235807 | D18: 0.30932284 | E18: =IF(D18*(1+EDITAL!$E$28)>1,1,D18*(1+EDITAL!$E$28)) -> 0.21652599 | F18: 70 | G18: 76.74 | H18: =(F18/$F$24)*$F$25 -> 85.833781 | I18: =(G18/$G$24)*$G$25 -> 89.361496 | J18: 16 | K18: 13
A19: 12 | B19: Campo da Tuca | C19: 3.2138546 | D19: 0.29799957 | E19: =IF(D19*(1+EDITAL!$E$28)>1,1,D19*(1+EDITAL!$E$28)) -> 0.2085997 | F19: 79.5 | G19: 85.36 | H19: =(F19/$F$24)*$F$25 -> 97.482651 | I19: =(G19/$G$24)*$G$25 -> 99.399235 | J19: 36 | K19: 26
... A23: 16 | B23: Reciclando pela Vida | C23: 9.2376548 | D23: 0.66403439 | E23: =IF(D23*(1+EDITAL!$E$28)>1,1,D23*(1+EDITAL!$E$28)) -> 0.46482407 | F23: 121 | G23: 121.84 | H23: =(F23/$F$24)*$F$25 -> 148.36982 | I23: =(G23/$G$24)*$G$25 -> 141.87913 | J23: 20 | K23: 17
C24: Destinado às uts projeto | F24: =SUM(F8:F23) -> 1485.33 | G24: =SUM(G8:G23) -> 1460.38 | H24: =SUM(H8:H23) -> 1821.307 | I24: =SUM(I8:I23) -> 1700.57
C25: Total da Coleta Seletiva | F25: 1821.307 | G25: 1700.57

Sheet PARÂMETROS - MESA
A3: Parâmetros de cálculo para unidades com mesas
A5: N | B5: Descrição | C5: Valor Calculado | D5: Valor Adotado | E5: Unidade | F5: Observações
A6: 1 | B6: Parâmetros de triagem
A7: 1.1 | B7: Eficiência média de triagem por reciclador | C7: =IF(D11<>"",D8/D11) -> 4 | D7: 4 | E7: t/mês | J7: Esteira
A8: 1.2 | B8: Cargas mensais | C8: =IF(AND(D7,D11)<>0,D11*D7) -> 106.28625 | D8: =EDITAL!E23/EDITAL!D23 -> 106.28625 | E8: t/mês | J8: Mesas
A9: 1.3 | B9: Percentual de rejeito da unidade | D9: 0.4041 | E9: %
A10: 1.4 | B10: Cooperativados | D10: =SUM(D11:D15) -> 32.571562
A11: 1.4.1 | B11: Recicladores | C11: =IF(AND(D7,D11)<>"",D8/D7) -> 26.571562 | D11: =D8/D7 -> 26.571562
A12: 1.4.2 | B12: Operador de prensa | D12: ='MAT SER E DESP - MESA'!C13 -> 2
A13: 1.4.3 | B13: Auxiliar de movimentação | D13: =D12 -> 2
A14: 1.4.4 | B14: Assistente Administrativo | D14: 1
A15: 1.4.5 | B15: Presidente da Cooperativa | D15: 1
A16: 1.5 | B16: Equipamentos
A17: 1.5.1 | B17: Prensas | D17: ='Equipamentos - MESA'!C22 -> 2 | E17: Un
A18: 1.5.2 | B18: Estrutura de triagem | D18: Mesas
A19: 1.5.2.1 | B19: Esteiras padrão 10,5 metros | D19: ='Equipamentos - MESA'!C37*(D18=J7) -> 0 | E19: Un
A20: 1.5.2.2 | B20: Mesas em unidade sem esteira (númer) | D20: 3 | E20: Un | F20: =IF(AND(D18=J8,OR(D20="",D20=0)),"Informe o número de mesas",IF(AND(D20>0,D18=J7),"Remova o número de mesas",""))
A21: 1.5.3 | B21: Elevador de fardos | D21: 1 | E21: Un
A22: 1.5.4 | B22: Balança plataforma | D22: 1 | E22: Un
A23: 1.5.5 | B23: Carros plataforma | D23: 2 | E23: Un
A24: 1.6 | B24: Comprimento esteiras | D24: =IF(D18=J7,'Equipamentos - MESA'!C25,0) -> 0 | E24: m
A25: 1.7 | B25: Área construída | D25: 832.08 | E25: m²
A26: 1.7.1 | B26: Área de triagem | D26: =D25-SUM(D27:D30) -> 725.08 | E26: m²
A27: 1.7.2 | B27: Área de armazenamento de material triado | D27: 50 | E27: m2
A28: 1.7.3 | B28: Área administrativa | D28: 12 | E28: m²
A29: 1.7.4 | B29: Área cozinha / refeitório | D29: 30 | E29: m2
A30: 1.7.5 | B30: Área sanitários | D30: 15 | E30: m2
A31: 1.7.6 | B31: Área externa testada | D31: 421.57 | E31: m²
A32: 1.7.7 | B32: Área total do lote | D32: 2686.28 | E32: m²
A33: 1.8 | B33: Horas de operação por mês (6 h/d x 26 d) | D33: ='Energia Elétrica - MESA'!U14*26 -> 208
A34: 1.9 | B34: Eficiência de triagem (t/rec/mês) | D34: ='MAT SER E DESP - MESA'!C9 -> 4
A35: 1.10 | B35: Número de recicladores calculado | D35: =D8/D34 -> 26.571562
A36: 1.11 | B36: Quantidade de tipos de mateiriais separados | D36: 17
A37: 1.12 | B37: Recicladores / metro de esteira | D37: =2/1 -> 2
A38: 2 | B38: Horas de operação | E38: 0
A39: 2.1 | B39: Horas diárias de operação | D39: 0.33333333
A40: 2.1.1 | B40: Hora de início da operação | D40: 0.3125
A41: 2.1.2 | B41: Hora de encerramento da operação | D41: =D39+D40+D42 -> 0.6875
A42: 2.1.3 | B42: Intervalo refeição | D42: 0.041666667
A43: 2.2 | B43: Horas mensais de operação | D43: 26
...

Sheet PARÂMETROS - EST
A3: Parâmetros de cálculo para unidades com esteira
A5: N | B5: Descrição | C5: Valor Calculado | D5: Valor Adotado | E5: Unidade | F5: Mensagens
A6: 1 | B6: Parâmetros de triagem
A7: 1.1 | B7: Eficiência média de triagem por reciclador | C7: =IF(D11<>"",D8/D11) -> 4 | D7: 4 | E7: t/mês | J7: Esteira
A8: 1.2 | B8: Cargas mensais | C8: =IF(AND(D7,D11)<>0,D11*D7) -> 106.28625 | D8: =EDITAL!E23/EDITAL!D23 -> 106.28625 | E8: t/mês | J8: Mesas
A9: 1.3 | B9: Percentual de rejeito da unidade | D9: 0.4041 | E9: %
A10: 1.4 | B10: Cooperativados | D10: =SUM(D11:D15) -> 32.571562
A11: 1.4.1 | B11: Recicladores | C11: =IF(AND(D7,D11)<>"",D8/D7) -> 26.571562 | D11: =D8/D7 -> 26.571562
A12: 1.4.2 | B12: Operador de prensa | D12: ='MAT SER E DESP - EST'!C13 -> 2
A13: 1.4.3 | B13: Auxiliar de movimentação | D13: =D12 -> 2
A14: 1.4.4 | B14: Assistente Administrativo | D14: 1
A15: 1.4.5 | B15: Presidente da Cooperativa | D15: 1
A16: 1.5 | B16: Equipamentos
A17: 1.5.1 | B17: Prensas | D17: ='Equipamentos - EST'!C22 -> 2 | E17: Un
A18: 1.5.2 | B18: Estrutura de triagem | D18: Esteira
A19: 1.5.2.1 | B19: Esteiras padrão 10,5 metros | D19: ='Equipamentos - EST'!C37*(D18=J7) -> 2 | E19: Un
A20: 1.5.2.2 | B20: Mesas em unidade sem esteira (númer) | D20: 0 | E20: Un | F20: =IF(AND(D18=J8,OR(D20="",D20=0)),"Informe o número de mesas",IF(AND(D20>0,D18=J7),"Remova o número de mesas",""))
A21: 1.5.3 | B21: Elevador de fardos | D21: 1 | E21: Un
A22: 1.5.4 | B22: Balança plataforma | D22: 1 | E22: Un
A23: 1.5.5 | B23: Carros plataforma | D23: 2 | E23: Un
A24: 1.6 | B24: Comprimento esteiras | D24: =IF(D18=J7,'Equipamentos - EST'!C25,0) -> 13.285781 | E24: m
A25: 1.7 | B25: Área construída | D25: 832.08 | E25: m²
A26: 1.7.1 | B26: Área de triagem | D26: =D25-SUM(D27:D30) -> 725.08 | E26: m²
A27: 1.7.2 | B27: Área de armazenamento de material triado | D27: 50 | E27: m2
A28: 1.7.3 | B28: Área administrativa | D28: 12 | E28: m²
A29: 1.7.4 | B29: Área cozinha / refeitório | D29: 30 | E29: m2
A30: 1.7.5 | B30: Área sanitários | D30: 15 | E30: m2
A31: 1.7.6 | B31: Área externa testada | D31: 421.57 | E31: m²
A32: 1.7.7 | B32: Área total do lote | D32: 2686.28 | E32: m²
A33: 1.8 | B33: Horas de operação por mês (6 h/d x 26 d) | D33: ='Energia Elétrica - EST'!U14*26 -> 208
A34: 1.9 | B34: Eficiência de triagem (t/rec/mês) | D34: ='MAT SER E DESP - EST'!C9 -> 4
A35: 1.10 | B35: Número de recicladores calculado | D35: =D8/D34 -> 26.571562
A36: 1.11 | B36: Quantidade de tipos de mateiriais separados | D36: 17
A37: 1.12 | B37: Recicladores / metro de esteira | D37: =2/1 -> 2
A38: 2 | B38: Horas de operação | E38: 0
A39: 2.1 | B39: Horas diárias de operação | D39: 0.33333333
A40: 2.1.1 | B40: Hora de início da operação | D40: 0.3125
A41: 2.1.2 | B41: Hora de encerramento da operação | D41: =D39+D40+D42 -> 0.6875
A42: 2.1.3 | B42: Intervalo refeição | D42: 0.041666667
A43: 2.2 | B43: Horas mensais de operação | D43: 26
...

Sheet MAT SER E DESP - MESA
B3: Planilha de Composição de Custos
B4: Serviço de operação de unidade de triagem e processamento de resíduos seletivos com mesas
B6: Resumo operacional da unidade
B7: Área construída total (m²) | C7: ='PARÂMETROS - MESA'!D25 -> 832.08
B8: Quantitativo mensal contrato (t/mês) | C8: ='PARÂMETROS - MESA'!D8 -> 106.28625
B9: Eficiência da unidade (t/reciclador/mês) | C9: ='PARÂMETROS - MESA'!D7 -> 4
B10: Horas total de operação diária | C10: 0.33333333
B11: Hora início operação | C11: ='PARÂMETROS - MESA'!D40 -> 0.3125
B12: Hora final operação | C12: ='PARÂMETROS - MESA'!D41 -> 0.6875 | D12: Adquirido | E12: Doado | H12: Possui
B13: Número de prensas | C13: ='PARÂMETROS - MESA'!D17 -> 2 | D13: 1 | E13: 0 | H13: =IF(C13>0,1,0) -> 1
B14: Número de esteiras padrão 10,5m | C14: ='PARÂMETROS - MESA'!D19 -> 0 | E14: 0 | H14: =IF(C14>0,1,0) -> 0
B15: Possui empilhadeira | C15: ='PARÂMETROS - MESA'!D21 -> 1 | D15: 1 | E15: 0 | H15: =IF(C15>0,1,0) -> 1
B16: Possui balança de plataforma | C16: ='PARÂMETROS - MESA'!D22 -> 1 | D16: 1 | E16: 0 | H16: =IF(C16>0,1,0) -> 1
B17: Possui carro plataforma | C17: ='PARÂMETROS - MESA'!D23 -> 2 | D17: 1
B19: 1. Uniformes e EPIs
B20: 1.1 Recicladores
B21: DISCRIMINAÇÃO | C21: UNIDADE | D21: QUANTIDADE | E21: PREÇO UNITÁRIO | F21: SUB-TOTAL | G21: TOTAL (R$)
B22: Calça | C22: unidade | D22: 0.16666667 | E22: ='MAPA DE PREÇOS'!M267 -> 53.9 | F22: =E22*D22 -> 8.9833333
B23: Camiseta de algodão | C23: unidade | D23: 0.33333333 | E23: ='MAPA DE PREÇOS'!M288 -> 32.53 | F23: =E23*D23 -> 10.843333
B24: Luva de malha | C24: par | D24: 0.33333333 | E24: ='MAPA DE PREÇOS'!M141 -> 2.77 | F24: =E24*D24 -> 0.92333333
B25: Avental PVC | C25: unidade | D25: 0.25 | E25: ='MAPA DE PREÇOS'!M162 -> 12.66 | F25: =E25*D25 -> 3.165
B26: Botina com elástico | C26: unidade | D26: 0.16666667 | E26: ='MAPA DE PREÇOS'!M183 -> 47.65 | F26: =E26*D26 -> 7.9416667
B27: Respirador dobrável | C27: unidade | D27: 4 | E27: ='MAPA DE PREÇOS'!M225 -> 1.58 | F27: =E27*D27 -> 6.32
B28: Óculos leopardo incolor | C28: unidade | D28: 2 | E28: ='MAPA DE PREÇOS'!M246 -> 2.65 | F28: =E28*D28 -> 5.3
B29: Total do efetivo | C29: homem | D29: =ROUND(C8/C9,0) -> 27 | E29: =SUM(F22:F28) -> 43.476667 | F29: =E29*D29 -> 1173.87
G30: =F29 -> 1173.87
B31: 1.2. Operador de prensa
B32: DISCRIMINAÇÃO | C32: UNIDADE | D32: QUANTIDADE | E32: PREÇO UNITÁRIO | F32: SUB-TOTAL | G32: TOTAL (R$)
B33: Calça | C33: unidade | D33: 0.16666667 | E33: =E22 -> 53.9 | F33: =E33*D33 -> 8.9833333
B34: Camiseta de algodão | C34: unidade | D34: 0.33333333 | E34: =E23 -> 32.53 | F34: =E34*D34 -> 10.843333
B35: Luva de malha | C35: par | D35: 0.33333333 | E35: =E24 -> 2.77 | F35: =E35*D35 -> 0.92333333
B36: Avental PVC | C36: unidade | D36: 0.25 | E36: =E25 -> 12.66 | F36: =E36*D36 -> 3.165
B37: Botina com elástico | C37: unidade | D37: 0.11111111 | E37: =E26 -> 47.65 | F37: =E37*D37 -> 5.2944444
B38: Respirador dobrável | C38: unidade | D38: 4 | E38: =E27 -> 1.58 | F38: =E38*D38 -> 6.32
B39: Óculos leopardo incolor | C39: unidade | D39: 2 | E39: =E28 -> 2.65 | F39: =E39*D39 -> 5.3
B40: Protetor auditivo | C40: unidade | D40: 0.16666667 | E40: ='MAPA DE PREÇOS'!M204 -> 12.47 | F40: =E40*D40 -> 2.0783333
B41: Total do efetivo | C41: homem | D41: 2 | E41: =SUM(F33:F40) -> 42.907778 | F41: =E41*D41 -> 85.815556
G42: =F41 -> 85.815556
B44: 1.2. Auxiliar de movimentação
B45: DISCRIMINAÇÃO | C45: UNIDADE | D45: QUANTIDADE | E45: PREÇO UNITÁRIO | F45: SUB-TOTAL | G45: TOTAL (R$)
...

Sheet MAT SER E DESP - EST
B3: Planilha de Composição de Custos
B4: Serviço de operação de unidade de triagem e processamento de resíduos seletivos com esteira
B6: Resumo operacional da unidade
B7: Área construída total (m²) | C7: ='PARÂMETROS - EST'!D25 -> 832.08
B8: Quantitativo mensal contrato (t/mês) | C8: ='PARÂMETROS - EST'!D8 -> 106.28625
B9: Eficiência da unidade (t/reciclador/mês) | C9: ='PARÂMETROS - EST'!D7 -> 4
B10: Horas total de operação diária | C10: 0.33333333
B11: Hora início operação | C11: ='PARÂMETROS - EST'!D40 -> 0.3125
B12: Hora final operação | C12: ='PARÂMETROS - EST'!D41 -> 0.6875 | D12: Adquirido | E12: Doado | H12: Possui
B13: Número de prensas | C13: ='PARÂMETROS - EST'!D17 -> 2 | D13: 1 | E13: 0 | H13: =IF(C13>0,1,0) -> 1
B14: Número de esteiras padrão 10,5m | C14: ='PARÂMETROS - EST'!D19 -> 2 | D14: 1 | E14: 0 | H14: =IF(C14>0,1,0) -> 1
B15: Possui empilhadeira | C15: ='PARÂMETROS - EST'!D21 -> 1 | D15: 1 | E15: 0 | H15: =IF(C15>0,1,0) -> 1
B16: Possui balança de plataforma | C16: ='PARÂMETROS - EST'!D22 -> 1 | D16: 1 | E16: 0 | H16: =IF(C16>0,1,0) -> 1
B17: Possui carro plataforma | C17: ='PARÂMETROS - EST'!D23 -> 2 | D17: 1
B19: 1. Uniformes e EPIs
B20: 1.1 Recicladores
B21: DISCRIMINAÇÃO | C21: UNIDADE | D21: QUANTIDADE | E21: PREÇO UNITÁRIO | F21: SUB-TOTAL | G21: TOTAL (R$)
B22: Calça | C22: unidade | D22: 0.16666667 | E22: ='MAPA DE PREÇOS'!M267 -> 53.9 | F22: =E22*D22 -> 8.9833333
B23: Camiseta de algodão | C23: unidade | D23: 0.33333333 | E23: ='MAPA DE PREÇOS'!M288 -> 32.53 | F23: =E23*D23 -> 10.843333
B24: Luva de malha | C24: par | D24: 0.33333333 | E24: ='MAPA DE PREÇOS'!M141 -> 2.77 | F24: =E24*D24 -> 0.92333333
B25: Avental PVC | C25: unidade | D25: 0.25 | E25: ='MAPA DE PREÇOS'!M162 -> 12.66 | F25: =E25*D25 -> 3.165
B26: Botina com elástico | C26: unidade | D26: 0.16666667 | E26: ='MAPA DE PREÇOS'!M183 -> 47.65 | F26: =E26*D26 -> 7.9416667
B27: Respirador dobrável | C27: unidade | D27: 4 | E27: ='MAPA DE PREÇOS'!M225 -> 1.58 | F27: =E27*D27 -> 6.32
B28: Óculos leopardo incolor | C28: unidade | D28: 2 | E28: ='MAPA DE PREÇOS'!M246 -> 2.65 | F28: =E28*D28 -> 5.3
B29: Total do efetivo | C29: homem | D29: =ROUND(C8/C9,0) -> 27 | E29: =SUM(F22:F28) -> 43.476667 | F29: =E29*D29 -> 1173.87
G30: =F29 -> 1173.87
B31: 1.2. Operador de prensa
B32: DISCRIMINAÇÃO | C32: UNIDADE | D32: QUANTIDADE | E32: PREÇO UNITÁRIO | F32: SUB-TOTAL | G32: TOTAL (R$)
B33: Calça | C33: unidade | D33: 0.16666667 | E33: =E22 -> 53.9 | F33: =E33*D33 -> 8.9833333
B34: Camiseta de algodão | C34: unidade | D34: 0.33333333 | E34: =E23 -> 32.53 | F34: =E34*D34 -> 10.843333
B35: Luva de malha | C35: par | D35: 0.33333333 | E35: =E24 -> 2.77 | F35: =E35*D35 -> 0.92333333
B36: Avental PVC | C36: unidade | D36: 0.25 | E36: =E25 -> 12.66 | F36: =E36*D36 -> 3.165
B37: Botina com elástico | C37: unidade | D37: 0.11111111 | E37: =E26 -> 47.65 | F37: =E37*D37 -> 5.2944444
B38: Respirador dobrável | C38: unidade | D38: 4 | E38: =E27 -> 1.58 | F38: =E38*D38 -> 6.32
B39: Óculos leopardo incolor | C39: unidade | D39: 2 | E39: =E28 -> 2.65 | F39: =E39*D39 -> 5.3
B40: Protetor auditivo | C40: unidade | D40: 0.16666667 | E40: ='MAPA DE PREÇOS'!M204 -> 12.47 | F40: =E40*D40 -> 2.0783333
B41: Total do efetivo | C41: homem | D41: 2 | E41: =SUM(F33:F40) -> 42.907778 | F41: =E41*D41 -> 85.815556
G42: =F41 -> 85.815556
B44: 1.2. Auxiliar de movimentação
B45: DISCRIMINAÇÃO | C45: UNIDADE | D45: QUANTIDADE | E45: PREÇO UNITÁRIO | F45: SUB-TOTAL | G45: TOTAL (R$)
...

Sheet Energia Elétrica - MESA
A2: Cálculo da conta de energia elétrica unidades com mesas de triagem | X2: Horários de modalidade de tarifa | Z2: Passo (h) | AA2: 0.041666667 | AB2: Noite média
A4: Consumos | C4: Local / Equipamento | D4: Potência | E4: Unidade | F4: Consumo Reativo | X4: Hora | Y4: Mod | Z4: Operação | AA4: Mod | AB4: Horas | AC4: Incidencia
C5: Energia elétrica | D5: =SUM(D7:D17) -> 2636.9874 | E5: kWh | X5: 1 | Y5: F | Z5: =IF(AND(X5>=$V$27,X5<$V$28),X5,"") | AA5: =IF(Z5=X5,Y5,"-") -> - | AB5: =IF(AND(X5>=$V$29,X5<$V$30),X5,"") | AC5: =IF(AB5=X5,Y5,"-") -> -
C6: Área administrativa | X6: =X5+$AA$2 -> 1.0416667 | Y6: F | Z6: =IF(AND(X6>=$V$27,X6<$V$28),X6,"") | AA6: =IF(Z6=X6,Y6,"-") -> - | AB6: =IF(AND(X6>=$V$29,X6<$V$30),X6,"") | AC6: =IF(AB6=X6,Y6,"-") -> -
C7: Iluminação | D7: ='Iluminação - MESA'!I5 -> 15.428571 | E7: kWh | F7: 0 | X7: =X6+$AA$2 -> 1.0833333 | Y7: F | Z7: =IF(AND(X7>=$V$27,X7<$V$28),X7,"") | AA7: =IF(Z7=X7,Y7,"-") -> - | AB7: =IF(AND(X7>=$V$29,X7<$V$30),X7,"") | AC7: =IF(AB7=X7,Y7,"-") -> -
C8: Iluminação externa (200W LED x 30,5 dias) | D8: ='Iluminação - MESA'!I9 -> 202.3536 | E8: kWh | F8: 0 | X8: =X7+$AA$2 -> 1.125 | Y8: F | Z8: =IF(AND(X8>=$V$27,X8<$V$28),X8,"") | AA8: =IF(Z8=X8,Y8,"-") -> - | AB8: =IF(AND(X8>=$V$29,X8<$V$30),X8,"") | AC8: =IF(AB8=X8,Y8,"-") -> -
C9: Microcomputador e impressora (300W x 6h/d x 22 dias) | D9: 39 | E9: kWh | F9: 0 | X9: =X8+$AA$2 -> 1.1666667 | Y9: F | Z9: =IF(AND(X9>=$V$27,X9<$V$28),X9,"") | AA9: =IF(Z9=X9,Y9,"-") -> - | AB9: =IF(AND(X9>=$V$29,X9<$V$30),X9,"") | AC9: =IF(AB9=X9,Y9,"-") -> -
C10: Cozinha/refeitório/sanitários | X10: =X9+$AA$2 -> 1.2083333 | Y10: F | Z10: =IF(AND(X10>=$V$27,X10<$V$28),X10,"") | AA10: =IF(Z10=X10,Y10,"-") -> - | AB10: =IF(AND(X10>=$V$29,X10<$V$30),X10,"") | AC10: =IF(AB10=X10,Y10,"-") -> -
C11: Iluminação (3 horas/dia) | D11: ='Iluminação - MESA'!I6 -> 25.714286 | E11: kWh | F11: 0 | X11: =X10+$AA$2 -> 1.25 | Y11: F | Z11: =IF(AND(X11>=$V$27,X11<$V$28),X11,"") | AA11: =IF(Z11=X11,Y11,"-") -> - | AB11: =IF(AND(X11>=$V$29,X11<$V$30),X11,"") | AC11: =IF(AB11=X11,Y11,"-") -> -
C12: Refrigerador (130W x 24h x 30,42 dias ) | D12: 94 | E12: kWh | F12: 0 | X12: =X11+$AA$2 -> 1.2916667 | Y12: F | Z12: =IF(AND(X12>=$V$27,X12<$V$28),X12,"") | AA12: =IF(Z12=X12,Y12,"-") -> - | AB12: =IF(AND(X12>=$V$29,X12<$V$30),X12,"") | AC12: =IF(AB12=X12,Y12,"-") -> -
C13: Microondas (1200W x 1h x 26 d/mês) | D13: 31 | E13: kWh | F13: 0 | T13: Conversão horas decimais | X13: =X12+$AA$2 -> 1.3333333 | Y13: F | Z13: =IF(AND(X13>=$V$27,X13<$V$28),X13,"") -> 1.3333333 | AA13: =IF(Z13=X13,Y13,"-") -> F | AB13: =IF(AND(X13>=$V$29,X13<$V$30),X13,"") | AC13: =IF(AB13=X13,Y13,"-") -> -
C14: Área operacional | T14: ='MAT SER E DESP - EST'!C10 -> 0.33333333 | U14: =SUM(U15:U16) -> 8 | X14: =X13+$AA$2 -> 1.375 | Y14: F | Z14: =IF(AND(X14>=$V$27,X14<$V$28),X14,"") -> 1.375 | AA14: =IF(Z14=X14,Y14,"-") -> F | AB14: =IF(AND(X14>=$V$29,X14<$V$30),X14,"") | AC14: =IF(AB14=X14,Y14,"-") -> -
C15: Iluminação | D15: ='Iluminação - MESA'!I7+'Iluminação - MESA'!I8 -> 1330.8583 | E15: kWh | F15: 0 | T15: =HOUR(T14) -> 8 | U15: =T15 -> 8 | X15: =X14+$AA$2 -> 1.4166667 | Y15: F | Z15: =IF(AND(X15>=$V$27,X15<$V$28),X15,"") -> 1.4166667 | AA15: =IF(Z15=X15,Y15,"-") -> F | AB15: =IF(AND(X15>=$V$29,X15<$V$30),X15,"") | AC15: =IF(AB15=X15,Y15,"-") -> -
C16: Prensas | D16: ='Equipamentos - MESA'!C18 -> 898.63264 | E16: kWh/t | F16: 1 | T16: =MINUTE(T14) -> 0 | U16: =T16/60 -> 0 | X16: =X15+$AA$2 -> 1.4583333 | Y16: F | Z16: =IF(AND(X16>=$V$27,X16<$V$28),X16,"") -> 1.4583333 | AA16: =IF(Z16=X16,Y16,"-") -> F | AB16: =IF(AND(X16>=$V$29,X16<$V$30),X16,"") | AC16: =IF(AB16=X16,Y16,"-") -> -
C17: Esteira | D17: ='Equipamentos - MESA'!C35 -> 0 | E17: kWh | F17: 1 | X17: =X16+$AA$2 -> 1.5 | Y17: F | Z17: =IF(AND(X17>=$V$27,X17<$V$28),X17,"") -> 1.5 | AA17: =IF(Z17=X17,Y17,"-") -> F | AB17: =IF(AND(X17>=$V$29,X17<$V$30),X17,"") | AC17: =IF(AB17=X17,Y17,"-") -> -
T18: Kw/CV | U18: 0.735499 | X18: =X17+$AA$2 -> 1.5416667 | Y18: F | Z18: =IF(AND(X18>=$V$27,X18<$V$28),X18,"") -> 1.5416667 | AA18: =IF(Z18=X18,Y18,"-") -> F | AB18: =IF(AND(X18>=$V$29,X18<$V$30),X18,"") | AC18: =IF(AB18=X18,Y18,"-") -> -
A19: Horários de consumo | C19: Denominação | E19: Hora Inicial | F19: (Para cálculo) | X19: =X18+$AA$2 -> 1.5833333 | Y19: F | Z19: =IF(AND(X19>=$V$27,X19<$V$28),X19,"") -> 1.5833333 | AA19: =IF(Z19=X19,Y19,"-") -> F | AB19: =IF(AND(X19>=$V$29,X19<$V$30),X19,"") | AC19: =IF(AB19=X19,Y19,"-") -> -
C20: Horário Operação | D20: Início | E20: ='MAT SER E DESP - MESA'!C11 -> 0.3125 | F20: 1 | T20: Tipos Lampadas | X20: =X19+$AA$2 -> 1.625 | Y20: F | Z20: =IF(AND(X20>=$V$27,X20<$V$28),X20,"") -> 1.625 | AA20: =IF(Z20=X20,Y20,"-") -> F | AB20: =IF(AND(X20>=$V$29,X20<$V$30),X20,"") | AC20: =IF(AB20=X20,Y20,"-") -> -
D21: Fim | E21: ='MAT SER E DESP - MESA'!C12 -> 0.6875 | F21: 1 | T21: LED | U21: 91 | V21: lm/W | X21: =X20+$AA$2 -> 1.6666667 | Y21: F | Z21: =IF(AND(X21>=$V$27,X21<$V$28),X21,"") -> 1.6666667 | AA21: =IF(Z21=X21,Y21,"-") -> F | AB21: =IF(AND(X21>=$V$29,X21<$V$30),X21,"") | AC21: =IF(AB21=X21,Y21,"-") -> -
C22: Horário Iluminação externa | D22: Início | E22: 0.79166667 | F22: =F21 -> 1 | T22: Fluorescente | U22: 55 | V22: lm/W | X22: =X21+$AA$2 -> 1.7083333 | Y22: I | Z22: =IF(AND(X22>=$V$27,X22<$V$28),X22,"") | AA22: =IF(Z22=X22,Y22,"-") -> - | AB22: =IF(AND(X22>=$V$29,X22<$V$30),X22,"") | AC22: =IF(AB22=X22,Y22,"-") -> -
D23: Fim | E23: 0.29166667 | F23: 2 | T23: Vapor de mercúrio | U23: 55 | V23: lm/W | X23: =X22+$AA$2 -> 1.75 | Y23: P | Z23: =IF(AND(X23>=$V$27,X23<$V$28),X23,"") | AA23: =IF(Z23=X23,Y23,"-") -> - | AB23: =IF(AND(X23>=$V$29,X23<$V$30),X23,"") | AC23: =IF(AB23=X23,Y23,"-") -> -
T24: Vapor de sódio | U24: 130 | V24: lm/W | X24: =X23+$AA$2 -> 1.7916667 | Y24: P | Z24: =IF(AND(X24>=$V$27,X24<$V$28),X24,"") | AA24: =IF(Z24=X24,Y24,"-") -> - | AB24: =IF(AND(X24>=$V$29,X24<$V$30),X24,"") -> 1.7916667 | AC24: =IF(AB24=X24,Y24,"-") -> P
A25: Cálculo das faixas de consumo | B25: Função | C25: Descrição | D25: Tempo | E25: % | F25: KWh | T25: Cálculo do percentual em cada modalidade de tarifa | X25: =X24+$AA$2 -> 1.8333333 | Y25: P | Z25: =IF(AND(X25>=$V$27,X25<$V$28),X25,"") | AA25: =IF(Z25=X25,Y25,"-") -> - | AB25: =IF(AND(X25>=$V$29,X25<$V$30),X25,"") -> 1.8333333 | AC25: =IF(AB25=X25,Y25,"-") -> P
B26: Operação | C26: Horas de operação diária | D26: =COUNTIF($AA$5:$AA$205,"<>-") -> 9 | T26: Dados sobre a operação | X26: =X25+$AA$2 -> 1.875 | Y26: I | Z26: =IF(AND(X26>=$V$27,X26<$V$28),X26,"") | AA26: =IF(Z26=X26,Y26,"-") -> - | AB26: =IF(AND(X26>=$V$29,X26<$V$30),X26,"") -> 1.875 | AC26: =IF(AB26=X26,Y26,"-") -> I
C27: Consumo diario fora de ponta (h) | D27: =COUNTIF($AA$5:$AA$205,"=F") -> 9 | E27: =D27/D26 -> 1 | F27: =($D$5-$D$8)*E27 -> 2434.6338 | T27: Horário de operação ajustado | U27: Início | V27: =E20+F20 -> 1.3125 | X27: =X26+$AA$2 -> 1.9166667 | Y27: F | Z27: =IF(AND(X27>=$V$27,X27<$V$28),X27,"") | AA27: =IF(Z27=X27,Y27,"-") -> - | AB27: =IF(AND(X27>=$V$29,X27<$V$30),X27,"") -> 1.9166667 | AC27: =IF(AB27=X27,Y27,"-") -> F
C28: Consumo diário Intermediário (h) | D28: =COUNTIF($AA$5:$AA$205,"=I") -> 0 | E28: =D28/D26 -> 0 | F28: =($D$5-$D$8)*E28 -> 0 | U28: Fim | V28: =E21+F21 -> 1.6875 | X28: =X27+$AA$2 -> 1.9583333 | Y28: F | Z28: =IF(AND(X28>=$V$27,X28<$V$28),X28,"") | AA28: =IF(Z28=X28,Y28,"-") -> - | AB28: =IF(AND(X28>=$V$29,X28<$V$30),X28,"") -> 1.9583333 | AC28: =IF(AB28=X28,Y28,"-") -> F
C29: Consumo diário de ponta (h) | D29: =COUNTIF($AA$5:$AA$205,"=P") -> 0 | E29: =D29/D26 -> 0 | F29: =($D$5-$D$8)*E29 -> 0 | T29: Hora iluminação externa | U29: Início | V29: =E22+F22 -> 1.7916667 | X29: =X28+$AA$2 -> 2 | Y29: F | Z29: =IF(AND(X29>=$V$27,X29<$V$28),X29,"") | AA29: =IF(Z29=X29,Y29,"-") -> - | AB29: =IF(AND(X29>=$V$29,X29<$V$30),X29,"") -> 2 | AC29: =IF(AB29=X29,Y29,"-") -> F
C30: Total | D30: =SUM(D27:D29) -> 9 | F30: =SUM(F27:F29) -> 2434.6338 | U30: Fim | V30: =E23+F23 -> 2.2916667 | X30: =X29+$AA$2 -> 2.0416667 | Y30: F | Z30: =IF(AND(X30>=$V$27,X30<$V$28),X30,"") | AA30: =IF(Z30=X30,Y30,"-") -> - | AB30: =IF(AND(X30>=$V$29,X30<$V$30),X30,"") -> 2.0416667 | AC30: =IF(AB30=X30,Y30,"-") -> F
B31: Iliminação Externa | C31: Horas de operação diária | D31: =COUNTIF($AC$5:$AC$205,"<>-") -> 12 | X31: =X30+$AA$2 -> 2.0833333 | Y31: F | Z31: =IF(AND(X31>=$V$27,X31<$V$28),X31,"") | AA31: =IF(Z31=X31,Y31,"-") -> - | AB31: =IF(AND(X31>=$V$29,X31<$V$30),X31,"") -> 2.0833333 | AC31: =IF(AB31=X31,Y31,"-") -> F
C32: Consumo diario fora de ponta (h) | D32: =COUNTIF($AC$10:$AC$210,"=F") -> 9 | E32: =D32/D31 -> 0.75 | F32: =$D$8*E32 -> 151.7652 | X32: =X31+$AA$2 -> 2.125 | Y32: F | Z32: =IF(AND(X32>=$V$27,X32<$V$28),X32,"") | AA32: =IF(Z32=X32,Y32,"-") -> - | AB32: =IF(AND(X32>=$V$29,X32<$V$30),X32,"") -> 2.125 | AC32: =IF(AB32=X32,Y32,"-") -> F
C33: Consumo diário Intermediário (h) | D33: =COUNTIF($AC$10:$AC$210,"=I") -> 1 | E33: =D33/D31 -> 0.083333333 | F33: =$D$8*E33 -> 16.8628 | X33: =X32+$AA$2 -> 2.1666667 | Y33: F | Z33: =IF(AND(X33>=$V$27,X33<$V$28),X33,"") | AA33: =IF(Z33=X33,Y33,"-") -> - | AB33: =IF(AND(X33>=$V$29,X33<$V$30),X33,"") -> 2.1666667 | AC33: =IF(AB33=X33,Y33,"-") -> F
C34: Consumo diário de ponta (h) | D34: =COUNTIF($AC$10:$AC$210,"=P") -> 2 | E34: =D34/D31 -> 0.16666667 | F34: =$D$8*E34 -> 33.7256 | X34: =X33+$AA$2 -> 2.2083333 | Y34: F | Z34: =IF(AND(X34>=$V$27,X34<$V$28),X34,"") | AA34: =IF(Z34=X34,Y34,"-") -> - | AB34: =IF(AND(X34>=$V$29,X34<$V$30),X34,"") -> 2.2083333 | AC34: =IF(AB34=X34,Y34,"-") -> F
C35: Total | D35: =SUM(D32:D34) -> 12 | F35: =SUM(F32:F34) -> 202.3536 | X35: =X34+$AA$2 -> 2.25 | Y35: F | Z35: =IF(AND(X35>=$V$27,X35<$V$28),X35,"") | AA35: =IF(Z35=X35,Y35,"-") -> - | AB35: =IF(AND(X35>=$V$29,X35<$V$30),X35,"") -> 2.25 | AC35: =IF(AB35=X35,Y35,"-") -> F
B36: TOTAL | D36: =D30+D35 -> 21 | F36: =F30+F35 -> 2636.9874 | X36: =X35+$AA$2 -> 2.2916667 | Y36: F | Z36: =IF(AND(X36>=$V$27,X36<$V$28),X36,"") | AA36: =IF(Z36=X36,Y36,"-") -> - | AB36: =IF(AND(X36>=$V$29,X36<$V$30),X36,"") | AC36: =IF(AB36=X36,Y36,"-") -> -
X37: =X36+$AA$2 -> 2.3333333 | Y37: F | Z37: =IF(AND(X37>=$V$27,X37<$V$28),X37,"") | AA37: =IF(Z37=X37,Y37,"-") -> - | AB37: =IF(AND(X37>=$V$29,X37<$V$30),X37,"") | AC37: =IF(AB37=X37,Y37,"-") -> -
C38: Bandeira tarifária vitente | D38: Vermelha P1 | E38: =VLOOKUP(D38,C48:D51,2,FALSE) -> 0.04463 | X38: =X37+$AA$2 -> 2.375 | Y38: F | Z38: =IF(AND(X38>=$V$27,X38<$V$28),X38,"") | AA38: =IF(Z38=X38,Y38,"-") -> - | AB38: =IF(AND(X38>=$V$29,X38<$V$30),X38,"") | AC38: =IF(AB38=X38,Y38,"-") -> -
X39: =X38+$AA$2 -> 2.4166667 | Y39: F | Z39: =IF(AND(X39>=$V$27,X39<$V$28),X39,"") | AA39: =IF(Z39=X39,Y39,"-") -> - | AB39: =IF(AND(X39>=$V$29,X39<$V$30),X39,"") | AC39: =IF(AB39=X39,Y39,"-") -> -
A40: Conta de Energia Elétrica | C40: TABELA CEEE EQUATORIAL BAIXA TENSÃO | D40: % na faixa | E40: Qt (kWh) | F40: Preço Unt (R$) | G40: Bandeira (R$) | H40: Valor (R$) | X40: =X39+$AA$2 -> 2.4583333 | Y40: F | Z40: =IF(AND(X40>=$V$27,X40<$V$28),X40,"") | AA40: =IF(Z40=X40,Y40,"-") -> - | AB40: =IF(AND(X40>=$V$29,X40<$V$30),X40,"") | AC40: =IF(AB40=X40,Y40,"-") -> -
C41: Horário de ponta | D41: ='Energia Elétrica - MESA'!E29 -> 0 | E41: =F29+F34 -> 33.7256 | F41: ='MAPA DE PREÇOS'!P393 -> 1.40578 | G41: =E38 -> 0.04463 | H41: =(F41+G41)*E41 -> 48.915947 | X41: =X40+$AA$2 -> 2.5 | Y41: F | Z41: =IF(AND(X41>=$V$27,X41<$V$28),X41,"") | AA41: =IF(Z41=X41,Y41,"-") -> - | AB41: =IF(AND(X41>=$V$29,X41<$V$30),X41,"") | AC41: =IF(AB41=X41,Y41,"-") -> -
C42: Horário Intermediário | D42: ='Energia Elétrica - MESA'!E28 -> 0 | E42: =F33+F28 -> 16.8628 | F42: ='MAPA DE PREÇOS'!P414 -> 0.91633 | G42: =E38 -> 0.04463 | H42: =(F42+G42)*E42 -> 16.204476 | X42: =X41+$AA$2 -> 2.5416667 | Y42: F | Z42: =IF(AND(X42>=$V$27,X42<$V$28),X42,"") | AA42: =IF(Z42=X42,Y42,"-") -> - | AB42: =IF(AND(X42>=$V$29,X42<$V$30),X42,"") | AC42: =IF(AB42=X42,Y42,"-") -> -
...

Sheet Energia Elétrica - EST
A2: Cálculo da conta de energia elétrica unidades com esteira | X2: Horários de modalidade de tarifa | Z2: Passo (h) | AA2: 0.041666667 | AB2: Noite média
A4: Consumos | C4: Local / Equipamento | D4: Potência | E4: Unidade | F4: Consumo Reativo | X4: Hora | Y4: Mod | Z4: Operação | AA4: Mod | AB4: Horas | AC4: Incidencia
C5: Energia elétrica | D5: =SUM(D7:D17) -> 2746.3132 | E5: kWh | X5: 1 | Y5: F | Z5: =IF(AND(X5>=$V$27,X5<$V$28),X5,"") | AA5: =IF(Z5=X5,Y5,"-") -> - | AB5: =IF(AND(X5>=$V$29,X5<$V$30),X5,"") | AC5: =IF(AB5=X5,Y5,"-") -> -
C6: Área administrativa | X6: =X5+$AA$2 -> 1.0416667 | Y6: F | Z6: =IF(AND(X6>=$V$27,X6<$V$28),X6,"") | AA6: =IF(Z6=X6,Y6,"-") -> - | AB6: =IF(AND(X6>=$V$29,X6<$V$30),X6,"") | AC6: =IF(AB6=X6,Y6,"-") -> -
C7: Iluminação | D7: ='Iluminação - EST'!I5 -> 15.428571 | E7: kWh | F7: 0 | X7: =X6+$AA$2 -> 1.0833333 | Y7: F | Z7: =IF(AND(X7>=$V$27,X7<$V$28),X7,"") | AA7: =IF(Z7=X7,Y7,"-") -> - | AB7: =IF(AND(X7>=$V$29,X7<$V$30),X7,"") | AC7: =IF(AB7=X7,Y7,"-") -> -
C8: Iluminação externa (200W LED x 30,5 dias) | D8: ='Iluminação - EST'!I9 -> 202.3536 | E8: kWh | F8: 0 | X8: =X7+$AA$2 -> 1.125 | Y8: F | Z8: =IF(AND(X8>=$V$27,X8<$V$28),X8,"") | AA8: =IF(Z8=X8,Y8,"-") -> - | AB8: =IF(AND(X8>=$V$29,X8<$V$30),X8,"") | AC8: =IF(AB8=X8,Y8,"-") -> -
C9: Microcomputador e impressora (300W x 6h/d x 22 dias) | D9: 39 | E9: kWh | F9: 0 | X9: =X8+$AA$2 -> 1.1666667 | Y9: F | Z9: =IF(AND(X9>=$V$27,X9<$V$28),X9,"") | AA9: =IF(Z9=X9,Y9,"-") -> - | AB9: =IF(AND(X9>=$V$29,X9<$V$30),X9,"") | AC9: =IF(AB9=X9,Y9,"-") -> -
C10: Cozinha/refeitório/sanitários | X10: =X9+$AA$2 -> 1.2083333 | Y10: F | Z10: =IF(AND(X10>=$V$27,X10<$V$28),X10,"") | AA10: =IF(Z10=X10,Y10,"-") -> - | AB10: =IF(AND(X10>=$V$29,X10<$V$30),X10,"") | AC10: =IF(AB10=X10,Y10,"-") -> -
C11: Iluminação (3 horas/dia) | D11: ='Iluminação - EST'!I6 -> 25.714286 | E11: kWh | F11: 0 | X11: =X10+$AA$2 -> 1.25 | Y11: F | Z11: =IF(AND(X11>=$V$27,X11<$V$28),X11,"") | AA11: =IF(Z11=X11,Y11,"-") -> - | AB11: =IF(AND(X11>=$V$29,X11<$V$30),X11,"") | AC11: =IF(AB11=X11,Y11,"-") -> -
C12: Refrigerador (130W x 24h x 30,42 dias ) | D12: 94 | E12: kWh | F12: 0 | X12: =X11+$AA$2 -> 1.2916667 | Y12: F | Z12: =IF(AND(X12>=$V$27,X12<$V$28),X12,"") | AA12: =IF(Z12=X12,Y12,"-") -> - | AB12: =IF(AND(X12>=$V$29,X12<$V$30),X12,"") | AC12: =IF(AB12=X12,Y12,"-") -> -
C13: Microondas (1200W x 1h x 26 d/mês) | D13: 31 | E13: kWh | F13: 0 | T13: Conversão horas decimais | X13: =X12+$AA$2 -> 1.3333333 | Y13: F | Z13: =IF(AND(X13>=$V$27,X13<$V$28),X13,"") -> 1.3333333 | AA13: =IF(Z13=X13,Y13,"-") -> F | AB13: =IF(AND(X13>=$V$29,X13<$V$30),X13,"") | AC13: =IF(AB13=X13,Y13,"-") -> -
C14: Área operacional | T14: ='MAT SER E DESP - EST'!C10 -> 0.33333333 | U14: =SUM(U15:U16) -> 8 | X14: =X13+$AA$2 -> 1.375 | Y14: F | Z14: =IF(AND(X14>=$V$27,X14<$V$28),X14,"") -> 1.375 | AA14: =IF(Z14=X14,Y14,"-") -> F | AB14: =IF(AND(X14>=$V$29,X14<$V$30),X14,"") | AC14: =IF(AB14=X14,Y14,"-") -> -
C15: Iluminação | D15: ='Iluminação - EST'!I7+'Iluminação - EST'!I8 -> 1330.8583 | E15: kWh | F15: 0 | T15: =HOUR(T14) -> 8 | U15: =T15 -> 8 | X15: =X14+$AA$2 -> 1.4166667 | Y15: F | Z15: =IF(AND(X15>=$V$27,X15<$V$28),X15,"") -> 1.4166667 | AA15: =IF(Z15=X15,Y15,"-") -> F | AB15: =IF(AND(X15>=$V$29,X15<$V$30),X15,"") | AC15: =IF(AB15=X15,Y15,"-") -> -
C16: Prensas | D16: ='Equipamentos - EST'!C18 -> 898.63264 | E16: kWh/t | F16: 1 | T16: =MINUTE(T14) -> 0 | U16: =T16/60 -> 0 | X16: =X15+$AA$2 -> 1.4583333 | Y16: F | Z16: =IF(AND(X16>=$V$27,X16<$V$28),X16,"") -> 1.4583333 | AA16: =IF(Z16=X16,Y16,"-") -> F | AB16: =IF(AND(X16>=$V$29,X16<$V$30),X16,"") | AC16: =IF(AB16=X16,Y16,"-") -> -
C17: Esteira | D17: ='Equipamentos - EST'!C35 -> 109.3258 | E17: kWh | F17: 1 | X17: =X16+$AA$2 -> 1.5 | Y17: F | Z17: =IF(AND(X17>=$V$27,X17<$V$28),X17,"") -> 1.5 | AA17: =IF(Z17=X17,Y17,"-") -> F | AB17: =IF(AND(X17>=$V$29,X17<$V$30),X17,"") | AC17: =IF(AB17=X17,Y17,"-") -> -
T18: Kw/CV | U18: 0.735499 | X18: =X17+$AA$2 -> 1.5416667 | Y18: F | Z18: =IF(AND(X18>=$V$27,X18<$V$28),X18,"") -> 1.5416667 | AA18: =IF(Z18=X18,Y18,"-") -> F | AB18: =IF(AND(X18>=$V$29,X18<$V$30),X18,"") | AC18: =IF(AB18=X18,Y18,"-") -> -
A19: Horários de consumo | C19: Denominação | E19: Hora Inicial | F19: (Para cálculo) | X19: =X18+$AA$2 -> 1.5833333 | Y19: F | Z19: =IF(AND(X19>=$V$27,X19<$V$28),X19,"") -> 1.5833333 | AA19: =IF(Z19=X19,Y19,"-") -> F | AB19: =IF(AND(X19>=$V$29,X19<$V$30),X19,"") | AC19: =IF(AB19=X19,Y19,"-") -> -
C20: Horário Operação | D20: Início | E20: ='MAT SER E DESP - EST'!C11 -> 0.3125 | F20: 1 | T20: Tipos Lampadas | X20: =X19+$AA$2 -> 1.625 | Y20: F | Z20: =IF(AND(X20>=$V$27,X20<$V$28),X20,"") -> 1.625 | AA20: =IF(Z20=X20,Y20,"-") -> F | AB20: =IF(AND(X20>=$V$29,X20<$V$30),X20,"") | AC20: =IF(AB20=X20,Y20,"-") -> -
D21: Fim | E21: ='MAT SER E DESP - EST'!C12 -> 0.6875 | F21: 1 | T21: LED | U21: 91 | V21: lm/W | X21: =X20+$AA$2 -> 1.6666667 | Y21: F | Z21: =IF(AND(X21>=$V$27,X21<$V$28),X21,"") -> 1.6666667 | AA21: =IF(Z21=X21,Y21,"-") -> F | AB21: =IF(AND(X21>=$V$29,X21<$V$30),X21,"") | AC21: =IF(AB21=X21,Y21,"-") -> -
C22: Horário Iluminação externa | D22: Início | E22: 0.79166667 | F22: =F21 -> 1 | T22: Fluorescente | U22: 55 | V22: lm/W | X22: =X21+$AA$2 -> 1.7083333 | Y22: I | Z22: =IF(AND(X22>=$V$27,X22<$V$28),X22,"") | AA22: =IF(Z22=X22,Y22,"-") -> - | AB22: =IF(AND(X22>=$V$29,X22<$V$30),X22,"") | AC22: =IF(AB22=X22,Y22,"-") -> -
D23: Fim | E23: 0.29166667 | F23: 2 | T23: Vapor de mercúrio | U23: 55 | V23: lm/W | X23: =X22+$AA$2 -> 1.75 | Y23: P | Z23: =IF(AND(X23>=$V$27,X23<$V$28),X23,"") | AA23: =IF(Z23=X23,Y23,"-") -> - | AB23: =IF(AND(X23>=$V$29,X23<$V$30),X23,"") | AC23: =IF(AB23=X23,Y23,"-") -> -
T24: Vapor de sódio | U24: 130 | V24: lm/W | X24: =X23+$AA$2 -> 1.7916667 | Y24: P | Z24: =IF(AND(X24>=$V$27,X24<$V$28),X24,"") | AA24: =IF(Z24=X24,Y24,"-") -> - | AB24: =IF(AND(X24>=$V$29,X24<$V$30),X24,"") -> 1.7916667 | AC24: =IF(AB24=X24,Y24,"-") -> P
A25: Cálculo das faixas de consumo | B25: Função | C25: Descrição | D25: Tempo | E25: % | F25: KWh | T25: Cálculo do percentual em cada modalidade de tarifa | X25: =X24+$AA$2 -> 1.8333333 | Y25: P | Z25: =IF(AND(X25>=$V$27,X25<$V$28),X25,"") | AA25: =IF(Z25=X25,Y25,"-") -> - | AB25: =IF(AND(X25>=$V$29,X25<$V$30),X25,"") -> 1.8333333 | AC25: =IF(AB25=X25,Y25,"-") -> P
B26: Operação | C26: Horas de operação diária | D26: =COUNTIF($AA$5:$AA$205,"<>-") -> 9 | T26: Dados sobre a operação | X26: =X25+$AA$2 -> 1.875 | Y26: I | Z26: =IF(AND(X26>=$V$27,X26<$V$28),X26,"") | AA26: =IF(Z26=X26,Y26,"-") -> - | AB26: =IF(AND(X26>=$V$29,X26<$V$30),X26,"") -> 1.875 | AC26: =IF(AB26=X26,Y26,"-") -> I
C27: Consumo diario fora de ponta (h) | D27: =COUNTIF($AA$5:$AA$205,"=F") -> 9 | E27: =D27/D26 -> 1 | F27: =($D$5-$D$8)*E27 -> 2543.9596 | T27: Horário de operação ajustado | U27: Início | V27: =E20+F20 -> 1.3125 | X27: =X26+$AA$2 -> 1.9166667 | Y27: F | Z27: =IF(AND(X27>=$V$27,X27<$V$28),X27,"") | AA27: =IF(Z27=X27,Y27,"-") -> - | AB27: =IF(AND(X27>=$V$29,X27<$V$30),X27,"") -> 1.9166667 | AC27: =IF(AB27=X27,Y27,"-") -> F
C28: Consumo diário Intermediário (h) | D28: =COUNTIF($AA$5:$AA$205,"=I") -> 0 | E28: =D28/D26 -> 0 | F28: =($D$5-$D$8)*E28 -> 0 | U28: Fim | V28: =E21+F21 -> 1.6875 | X28: =X27+$AA$2 -> 1.9583333 | Y28: F | Z28: =IF(AND(X28>=$V$27,X28<$V$28),X28,"") | AA28: =IF(Z28=X28,Y28,"-") -> - | AB28: =IF(AND(X28>=$V$29,X28<$V$30),X28,"") -> 1.9583333 | AC28: =IF(AB28=X28,Y28,"-") -> F
C29: Consumo diário de ponta (h) | D29: =COUNTIF($AA$5:$AA$205,"=P") -> 0 | E29: =D29/D26 -> 0 | F29: =($D$5-$D$8)*E29 -> 0 | T29: Hora iluminação externa | U29: Início | V29: =E22+F22 -> 1.7916667 | X29: =X28+$AA$2 -> 2 | Y29: F | Z29: =IF(AND(X29>=$V$27,X29<$V$28),X29,"") | AA29: =IF(Z29=X29,Y29,"-") -> - | AB29: =IF(AND(X29>=$V$29,X29<$V$30),X29,"") -> 2 | AC29: =IF(AB29=X29,Y29,"-") -> F
C30: Total | D30: =SUM(D27:D29) -> 9 | F30: =SUM(F27:F29) -> 2543.9596 | U30: Fim | V30: =E23+F23 -> 2.2916667 | X30: =X29+$AA$2 -> 2.0416667 | Y30: F | Z30: =IF(AND(X30>=$V$27,X30<$V$28),X30,"") | AA30: =IF(Z30=X30,Y30,"-") -> - | AB30: =IF(AND(X30>=$V$29,X30<$V$30),X30,"") -> 2.0416667 | AC30: =IF(AB30=X30,Y30,"-") -> F
B31: Iliminação Externa | C31: Horas de operação diária | D31: =COUNTIF($AC$5:$AC$205,"<>-") -> 12 | X31: =X30+$AA$2 -> 2.0833333 | Y31: F | Z31: =IF(AND(X31>=$V$27,X31<$V$28),X31,"") | AA31: =IF(Z31=X31,Y31,"-") -> - | AB31: =IF(AND(X31>=$V$29,X31<$V$30),X31,"") -> 2.0833333 | AC31: =IF(AB31=X31,Y31,"-") -> F
C32: Consumo diario fora de ponta (h) | D32: =COUNTIF($AC$10:$AC$210,"=F") -> 9 | E32: =D32/D31 -> 0.75 | F32: =$D$8*E32 -> 151.7652 | X32: =X31+$AA$2 -> 2.125 | Y32: F | Z32: =IF(AND(X32>=$V$27,X32<$V$28),X32,"") | AA32: =IF(Z32=X32,Y32,"-") -> - | AB32: =IF(AND(X32>=$V$29,X32<$V$30),X32,"") -> 2.125 | AC32: =IF(AB32=X32,Y32,"-") -> F
C33: Consumo diário Intermediário (h) | D33: =COUNTIF($AC$10:$AC$210,"=I") -> 1 | E33: =D33/D31 -> 0.083333333 | F33: =$D$8*E33 -> 16.8628 | X33: =X32+$AA$2 -> 2.1666667 | Y33: F | Z33: =IF(AND(X33>=$V$27,X33<$V$28),X33,"") | AA33: =IF(Z33=X33,Y33,"-") -> - | AB33: =IF(AND(X33>=$V$29,X33<$V$30),X33,"") -> 2.1666667 | AC33: =IF(AB33=X33,Y33,"-") -> F
C34: Consumo diário de ponta (h) | D34: =COUNTIF($AC$10:$AC$210,"=P") -> 2 | E34: =D34/D31 -> 0.16666667 | F34: =$D$8*E34 -> 33.7256 | X34: =X33+$AA$2 -> 2.2083333 | Y34: F | Z34: =IF(AND(X34>=$V$27,X34<$V$28),X34,"") | AA34: =IF(Z34=X34,Y34,"-") -> - | AB34: =IF(AND(X34>=$V$29,X34<$V$30),X34,"") -> 2.2083333 | AC34: =IF(AB34=X34,Y34,"-") -> F
C35: Total | D35: =SUM(D32:D34) -> 12 | F35: =SUM(F32:F34) -> 202.3536 | X35: =X34+$AA$2 -> 2.25 | Y35: F | Z35: =IF(AND(X35>=$V$27,X35<$V$28),X35,"") | AA35: =IF(Z35=X35,Y35,"-") -> - | AB35: =IF(AND(X35>=$V$29,X35<$V$30),X35,"") -> 2.25 | AC35: =IF(AB35=X35,Y35,"-") -> F
B36: TOTAL | D36: =D30+D35 -> 21 | F36: =F30+F35 -> 2746.3132 | X36: =X35+$AA$2 -> 2.2916667 | Y36: F | Z36: =IF(AND(X36>=$V$27,X36<$V$28),X36,"") | AA36: =IF(Z36=X36,Y36,"-") -> - | AB36: =IF(AND(X36>=$V$29,X36<$V$30),X36,"") | AC36: =IF(AB36=X36,Y36,"-") -> -
X37: =X36+$AA$2 -> 2.3333333 | Y37: F | Z37: =IF(AND(X37>=$V$27,X37<$V$28),X37,"") | AA37: =IF(Z37=X37,Y37,"-") -> - | AB37: =IF(AND(X37>=$V$29,X37<$V$30),X37,"") | AC37: =IF(AB37=X37,Y37,"-") -> -
C38: Bandeira tarifária vitente | D38: Vermelha P1 | E38: =VLOOKUP(D38,C48:D51,2,FALSE) -> 0.04463 | X38: =X37+$AA$2 -> 2.375 | Y38: F | Z38: =IF(AND(X38>=$V$27,X38<$V$28),X38,"") | AA38: =IF(Z38=X38,Y38,"-") -> - | AB38: =IF(AND(X38>=$V$29,X38<$V$30),X38,"") | AC38: =IF(AB38=X38,Y38,"-") -> -
X39: =X38+$AA$2 -> 2.4166667 | Y39: F | Z39: =IF(AND(X39>=$V$27,X39<$V$28),X39,"") | AA39: =IF(Z39=X39,Y39,"-") -> - | AB39: =IF(AND(X39>=$V$29,X39<$V$30),X39,"") | AC39: =IF(AB39=X39,Y39,"-") -> -
A40: Conta de Energia Elétrica | C40: TABELA CEEE EQUATORIAL BAIXA TENSÃO | D40: % na faixa | E40: Qt (kWh) | F40: Preço Unt (R$) | G40: Bandeira (R$) | H40: Valor (R$) | X40: =X39+$AA$2 -> 2.4583333 | Y40: F | Z40: =IF(AND(X40>=$V$27,X40<$V$28),X40,"") | AA40: =IF(Z40=X40,Y40,"-") -> - | AB40: =IF(AND(X40>=$V$29,X40<$V$30),X40,"") | AC40: =IF(AB40=X40,Y40,"-") -> -
C41: Horário de ponta | D41: ='Energia Elétrica - EST'!E29 -> 0 | E41: =F29+F34 -> 33.7256 | F41: ='MAPA DE PREÇOS'!P393 -> 1.40578 | G41: =E38 -> 0.04463 | H41: =(F41+G41)*E41 -> 48.915947 | X41: =X40+$AA$2 -> 2.5 | Y41: F | Z41: =IF(AND(X41>=$V$27,X41<$V$28),X41,"") | AA41: =IF(Z41=X41,Y41,"-") -> - | AB41: =IF(AND(X41>=$V$29,X41<$V$30),X41,"") | AC41: =IF(AB41=X41,Y41,"-") -> -
C42: Horário Intermediário | D42: ='Energia Elétrica - EST'!E28 -> 0 | E42: =F33+F28 -> 16.8628 | F42: ='MAPA DE PREÇOS'!P414 -> 0.91633 | G42: =E38 -> 0.04463 | H42: =(F42+G42)*E42 -> 16.204476 | X42: =X41+$AA$2 -> 2.5416667 | Y42: F | Z42: =IF(AND(X42>=$V$27,X42<$V$28),X42,"") | AA42: =IF(Z42=X42,Y42,"-") -> - | AB42: =IF(AND(X42>=$V$29,X42<$V$30),X42,"") | AC42: =IF(AB42=X42,Y42,"-") -> -
...

Sheet Equipamentos - MESA
A2: Dimensionamento de equipamentos para unidades com mesas
A4: Prensas eletro-hidráulicas | B4: Descrição | C4: Valor | E4: Volumes da prensa
B5: Pressão Hidráulica (t) | C5: 15 | E5: Volume da caixa de prensagem | F5: Largura (m) | G5: 0.8
B6: Capacidade (fardos por hora) | C6: 4 | F6: Profundidade (m) | G6: 0.6
B7: Potência cv | C7: 5 | F7: Altura (m) | G7: 1.9
B8: Potênica kWh | C8: =C7*'Energia Elétrica - MESA'!$U$18 -> 3.677495 | F8: Volume (m³) | G8: =G5*G6*G7 -> 0.912
B9: Volume da caixa de prensagem (m³) | C9: 0.912 | E9: Fardo | F9: Largura (m) | G9: 0.8
B10: Produção horária (m³/h) | C10: =C9*C6 -> 3.648 | F10: Profundidade (m) | G10: 0.6
B11: Massa específica estimada do resíduo (t/m³) | C11: 0.095 | F11: Altura (m) | G11: 0.7
B12: Produção horária (t/hora) | C12: =C10*C11 -> 0.34656 | F12: Volume (m³) | G12: =G9*G10*G11 -> 0.336
B13: Possui prensa? | C13: ='MAT SER E DESP - MESA'!H13 -> 1 | E13: Redução de volume (x) | G13: =G8/G12 -> 2.7142857
B14: Consumo kWh/t | C14: =C8/C12 -> 10.611424 | E14: Amarração fardo 2 vezes (m) | G14: =(G11+G9)*4+(G9+G10)*2+1 -> 9.8
B15: Quantiativo de reciclcáveis (t/mês) | C15: =(1-'PARÂMETROS - MESA'!D9/100)*'MAT SER E DESP - MESA'!C8 -> 105.85675
B16: Fração de resíduos prensáveis (%) | C16: 0.8
B17: Quantitativo de resíduo prensado (t/mês) | C17: =C16*C15 -> 84.685398
B18: Consumo energia elétrica mensal (kWh/mês) | C18: =C17*C14*C13 -> 898.63264
B19: Horas mensais de prensagem (h/mês) | C19: =C17/C12 -> 244.35999
B20: Horas mensais de operação | C20: ='PARÂMETROS - MESA'!D33 -> 208
B21: Número de prensas calculado | C21: =C19/C20+0.5 -> 1.6748076
B22: Número de prensas sugerido adotado | C22: =ROUND(C21+0.5,0) -> 2
A24: Esteira | B24: Descrição | C24: Valor | E24: Cálculo fator de utilização de esteira por hora | F24: Descrição | G24: Valor
B25: Comprimento de esteira calculado (m) | C25: ='PARÂMETROS - MESA'!D35/'PARÂMETROS - MESA'!D37 -> 13.285781 | F25: Produção mensal (t/mês) | G25: ='MAT SER E DESP - MESA'!C8 -> 106.28625
B26: Largura da esteira | C26: 1 | F26: Horas operação mensal (h) | G26: =C20 -> 208
B27: Potência específica (cv /m) | C27: 0.3 | F27: Produção por hora (t/h) | G27: =G25/G26 -> 0.51099159
B28: Potência da esteira (cv) | C28: =C27*C25 -> 3.9857344 | F28: Volume por hora (m³/h) | G28: =G27/C11 -> 5.3788588
B29: Conversão cv para kw | C29: 0.7355 | F29: Altura média de resíduo (m) | G29: 0.05
B30: Potência específica (kW/m) | C30: =ROUND(C27*C29,6) -> 0.22065 | F30: Volume esteira carregada (m³) | G30: =G29*C26*C25 -> 0.66428906
B31: Potência da esteira (kW) | C31: =C28*'Energia Elétrica - MESA'!U18 -> 2.9315036 | F31: Cargas por hora | G31: =G28/G30 -> 8.097166
B32: Possui esteira? | C32: ='MAT SER E DESP - MESA'!H14 -> 0 | F32: Velocidade esteira (m/min) | G32: 10
B33: Horas mensais de operação da unidade (h) | C33: ='PARÂMETROS - MESA'!D33 -> 208 | F33: Comprimento (m) | G33: =C25 -> 13.285781
B34: Fator de utilização (%) | C34: =G36 -> 0.17929529 | F34: Tempo de carga da esteira (min) | G34: =G33/G32 -> 1.3285781
B35: Consumo mensal energia elétrica (kWh/mês) | C35: =(C34*C33*C31)*'MAT SER E DESP - MESA'!H14*C32 -> 0 | F35: Tempo esteira ligada por hora (min) | G35: =G31*G34 -> 10.757718
B36: Comprimento da esteira padrão (m) | C36: 10.5 | F36: Fator de utilização por hora (%) | G36: =G35/60 -> 0.17929529
B37: Número de esteiras padrão sugerido adotado | C37: =ROUND((C25/C36)+0.5,0)*('PARÂMETROS - MESA'!D18='PARÂMETROS - MESA'!J7) -> 0

Sheet Equipamentos - EST
A2: Dimensionamento de equipamentos para unidades com esteira
A4: Prensas eletro-hidráulicas | B4: Descrição | C4: Valor | E4: Volumes da prensa
B5: Pressão Hidráulica (t) | C5: 15 | E5: Volume da caixa de prensagem | F5: Largura (m) | G5: 0.8
B6: Capacidade (fardos por hora) | C6: 4 | F6: Profundidade (m) | G6: 0.6
B7: Potência cv | C7: 5 | F7: Altura (m) | G7: 1.9
B8: Potênica kWh | C8: =C7*'Energia Elétrica - EST'!$U$18 -> 3.677495 | F8: Volume (m³) | G8: =G5*G6*G7 -> 0.912
B9: Volume da caixa de prensagem (m³) | C9: 0.912 | E9: Fardo | F9: Largura (m) | G9: 0.8
B10: Produção horária (m³/h) | C10: =C9*C6 -> 3.648 | F10: Profundidade (m) | G10: 0.6
B11: Massa específica estimada do resíduo (t/m³) | C11: 0.095 | F11: Altura (m) | G11: 0.7
B12: Produção horária (t/hora) | C12: =C10*C11 -> 0.34656 | F12: Volume (m³) | G12: =G9*G10*G11 -> 0.336
B13: Possui prensa? | C13: ='MAT SER E DESP - EST'!H13 -> 1 | E13: Redução de volume (x) | G13: =G8/G12 -> 2.7142857
B14: Consumo kWh/t | C14: =C8/C12 -> 10.611424 | E14: Amarração fardo 2 vezes (m) | G14: =(G11+G9)*4+(G9+G10)*2+1 -> 9.8
B15: Quantiativo de reciclcáveis (t/mês) | C15: =(1-'PARÂMETROS - EST'!D9/100)*'MAT SER E DESP - EST'!C8 -> 105.85675
B16: Fração de resíduos prensáveis (%) | C16: 0.8
B17: Quantitativo de resíduo prensado (t/mês) | C17: =C16*C15 -> 84.685398
B18: Consumo energia elétrica mensal (kWh/mês) | C18: =C17*C14*C13 -> 898.63264
B19: Horas mensais de prensagem (h/mês) | C19: =C17/C12 -> 244.35999
B20: Horas mensais de operação | C20: ='PARÂMETROS - EST'!D33 -> 208
