Workbook

Sheet Planilha Orçamentária
B2: Planilha de Orçamento
B3: Obra: Casas do Incra - CASA MODELO 1
B4: Enfereço: Taquari / RS
B5: SINAPI Data Base - Agosto/2025- Sem Desoneração | N5: BDI | O5: 0.2034
B6: Área: 41,23 m²
B7: Encargos Sociais: Horista: 112,84 % Mensalista: 69,65 %
G9: CUSTO UNITÁRIO (S/BDI) | J9: CUSTO UNITÁRIO (C/BDI) | M9: PREÇO TOTAL (C/BDI)
B10: ITEM | C10: SINAPI | D10: DESCRIÇÃO DOS SERVIÇOS | E10: UNID. | F10: QUANT. | G10: MATERIAL (R$) | H10: MÃO DE OBRA (R$) | I10: TOTAL (R$) | J10: MATERIAL (R$) | K10: MÃO DE OBRA (R$) | L10: TOTAL (R$) | M10: MATERIAL (R$) | N10: MÃO DE OBRA (R$) | O10: TOTAL (R$)
B11: 1 | D11: INSTALAÇÕES PROVISÓRIAS
B12: 1.1 | C12: 99059 | D12: LOCACAO CONVENCIONAL DE OBRA, UTILIZANDO GABARITO DE TÁBUAS CORRIDAS PONTALETADAS A CADA 2,00M - 2 UTILIZAÇÕES. AF_10/2018 | E12: M | F12: 103.89 | G12: =I12-H12 -> 18.86 | H12: 17.84 | I12: 36.7 | J12: =G12*(1+$O$5) -> 22.696124 | K12: =H12*(1+$O$5) -> 21.468656 | L12: =J12+K12 -> 44.16478 | M12: =F12*J12 -> 2357.9003 | N12: =F12*K12 -> 2230.3787 | O12: =M12+N12 -> 4588.279
B13: TOTAL DE INSTALAÇÕES PROVISÓRIAS | M13: =SUM(M12:M12) -> 2357.9003 | N13: =SUM(N12:N12) -> 2230.3787 | O13: =SUM(O12:O12) -> 4588.279
B14: 2 | D14: FUNDAÇÕES
B15: 2.1 | C15: COMPOSIÇÃO 01 | D15: =Composição!C11 -> ESTACA ESCAVADA MECANICAMENTE, SEM FLUIDO ESTABILIZANTE, COM 30CM DE DIÂMETRO, CONCRETO LANÇADO POR CAMINHÃO BETONEIRA (EXCLUSIVE MOBILIZAÇÃO E DESMOBILIZAÇÃO) | E15: M | F15: 48 | G15: =Composição!E9 -> 66.01 | H15: =Composição!E10 -> 6.19 | I15: =Composição!G9 -> 72.2 | J15: =G15*(1+$O$5) -> 79.436434 | K15: =H15*(1+$O$5) -> 7.449046 | L15: =J15+K15 -> 86.88548 | M15: =TRUNC(J15*F15,2) -> 3812.94 | N15: =TRUNC(K15*F15,2) -> 357.55 | O15: =M15+N15 -> 4170.49
B16: 2.2 | C16: 96543 | D16: ARMAÇÃO DE BLOCO, VIGA BALDRAME E SAPATA UTILIZANDO AÇO CA-60 DE 5 MM - MONTAGEM. AF_06/2017 | E16: KG | F16: 73.32 | G16: =I16-H16 -> 12.47 | H16: 8.72 | I16: 21.19 | J16: =G16*(1+$O$5) -> 15.006398 | K16: =H16*(1+$O$5) -> 10.493648 | L16: =J16+K16 -> 25.500046 | M16: =TRUNC(J16*F16,2) -> 1100.26 | N16: =TRUNC(K16*F16,2) -> 769.39 | O16: =M16+N16 -> 1869.65
B17: 2.3 | C17: 96546 | D17: ARMAÇÃO DE BLOCO, VIGA BALDRAME OU SAPATA UTILIZANDO AÇO CA-50 DE 10 MM - MONTAGEM. AF_06/2017 | E17: KG | F17: 148.2 | G17: =I17-H17 -> 11.46 | H17: 3.47 | I17: 14.93 | J17: =G17*(1+$O$5) -> 13.790964 | K17: =H17*(1+$O$5) -> 4.175798 | L17: =J17+K17 -> 17.966762 | M17: =TRUNC(J17*F17,2) -> 2043.82 | N17: =TRUNC(K17*F17,2) -> 618.85 | O17: =M17+N17 -> 2662.67
B18: 2.4 | C18: PESQUISA | D18: FABRICAÇÃO, MONTAGEM E DESMONTAGEM DE FÔRMA PARA VIGA BALDRAME E BLOCOS DE COROAMENTO, EM MADEIRA SERRADA, E=25 MM, 4 UTILIZAÇÕES. AF_06/2017 | E18: M2 | F18: 48.08 | G18: =I18-H18 -> 24.21 | H18: 29.69 | I18: 53.9 | J18: =G18*(1+$O$5) -> 29.134314 | K18: =H18*(1+$O$5) -> 35.728946 | L18: =J18+K18 -> 64.86326 | M18: =F18*J18 -> 1400.7778 | N18: =F18*K18 -> 1717.8477 | O18: =M18+N18 -> 3118.6255
B19: 2.5 | C19: COMPOSIÇÃO 04 | D19: MURO BLOCO GRES - ARGAM. ci-ar 1:6 | E19: M2 | F19: 5.55 | G19: =I19-H19 -> 83.8 | H19: 52.5 | I19: 136.3 | J19: =G19*(1+$O$5) -> 100.84492 | K19: =H19*(1+$O$5) -> 63.1785 | L19: =J19+K19 -> 164.02342 | M19: =F19*J19 -> 559.68931 | N19: =F19*K19 -> 350.64067 | O19: =M19+N19 -> 910.32998
B20: 2.6 | C20: PESQUISA | D20: =Composição!C22 -> CONCRETAGEM DE BLOCOS DE VIGAS BALDRAMES, FCK 25 MPA, COM USO DE BOMBA LANÇAMENTO, ADENSAMENTO E ACABAMENTO. AF_06/2017 | E20: M3 | F20: 3.61 | G20: =Composição!E20 -> 682.27 | H20: 23.89 | I20: =Composição!G20 -> 706.16 | J20: =G20*(1+$O$5) -> 821.04372 | K20: =H20*(1+$O$5) -> 28.749226 | L20: =J20+K20 -> 849.79294 | M20: =TRUNC(J20*F20,2) -> 2963.96 | N20: =TRUNC(K20*F20,2) -> 103.78 | O20: =M20+N20 -> 3067.74
B21: 2.7 | C21: 96624 | D21: LASTRO COM MATERIAL GRANULAR (PEDRA BRITADA N.2), APLICADO EM PISOS OU LAJES SOBRE SOLO, ESPESSURA DE *10 CM*. AF_08/2017 | E21: M3 | F21: 9.01 | G21: =I21-H21 -> 126.79 | H21: 46.45 | I21: 173.24 | J21: =G21*(1+$O$5) -> 152.57909 | K21: =H21*(1+$O$5) -> 55.89793 | L21: =J21+K21 -> 208.47702 | M21: =TRUNC(J21*F21,2) -> 1374.73 | N21: =TRUNC(K21*F21,2) -> 503.64 | O21: =M21+N21 -> 1878.37
B22: TOTAL DE FUNDAÇÕES | M22: =SUM(M15:M21) -> 13256.177 | N22: =SUM(N15:N21) -> 4421.6984 | O22: =SUM(O15:O21) -> 17677.876
B23: 3 | D23: IMPERMEABILIZAÇÃO
B24: 3.1 | C24: 98562 | D24: IMPERMEABILIZAÇÃO DE SUPERFÍCIE COM ARGAMASSA DE CIMENTO E AREIA, COM ADITIVO IMPERMEABILIZANTE, E = 1,5CM. AF_09/2023 | E24: M2 | F24: 57.1 | G24: =I24-H24 -> 23.72 | H24: 29.48 | I24: 53.2 | J24: =G24*(1+$O$5) -> 28.544648 | K24: =H24*(1+$O$5) -> 35.476232 | L24: =J24+K24 -> 64.02088 | M24: =TRUNC(J24*F24,2) -> 1629.89 | N24: =TRUNC(K24*F24,2) -> 2025.69 | O24: =M24+N24 -> 3655.58
B25: 3.2 | C25: PESQUISA | D25: CONTRAPISO EM ARGAMASSA TRAÇO 1:4 (CIMENTO E AREIA), PREPARO MANUAL, APLICADO EM ÁREAS MOLHADAS SOBRE IMPERMEABILIZAÇÃO, ACABAMENTO NÃO REFORÇADO, ESPESSURA 3CM. AF_07/2021 | E25: M2 | F25: 58.72 | G25: =I25-H25 -> 14 | H25: 23 | I25: 37 | J25: =G25*(1+$O$5) -> 16.8476 | K25: =H25*(1+$O$5) -> 27.6782 | L25: =J25+K25 -> 44.5258 | M25: =F25*J25 -> 989.29107 | N25: =TRUNC(K25*F25,2) -> 1625.26 | O25: =M25+N25 -> 2614.5511
B26: TOTAL DE IMPERMEABILIZAÇÃO | M26: =SUM(M24:M25) -> 2619.1811 | N26: =SUM(N24:N25) -> 3650.95 | O26: =SUM(O24:O25) -> 6270.1311
B27: 4 | D27: SUPRA ESTRUTURA
B28: 4.1 | C28: 92759 | D28: ARMAÇÃO DE PILAR OU VIGA DE UMA ESTRUTURA CONVENCIONAL DE CONCRETO ARMADO EM UM EDIFÍCIO DE MÚLTIPLOS PAVIMENTOS UTILIZANDO AÇO CA-60 DE 5,0 MM - MONTAGEM. AF_12/2015 | E28: KG | F28: 60.16 | G28: =I28-H28 -> 10.91 | H28: 4.01 | I28: 14.92 | J28: =G28*(1+$O$5) -> 13.129094 | K28: =H28*(1+$O$5) -> 4.825634 | L28: =J28+K28 -> 17.954728 | M28: =TRUNC(J28*F28,2) -> 789.84 | N28: =TRUNC(K28*F28,2) -> 290.31 | O28: =M28+N28 -> 1080.15
B29: 4.2 | C29: 92761 | D29: ARMAÇÃO DE PILAR OU VIGA DE UMA ESTRUTURA CONVENCIONAL DE CONCRETO ARMADO EM UM EDIFÍCIO DE MÚLTIPLOS PAVIMENTOS UTILIZANDO AÇO CA-50 DE 8,0 MM - MONTAGEM. AF_12/2015 | E29: KG | F29: 95.8 | G29: =I29-H29 -> 11.46 | H29: 1.71 | I29: 13.17 | J29: =G29*(1+$O$5) -> 13.790964 | K29: =H29*(1+$O$5) -> 2.057814 | L29: =J29+K29 -> 15.848778 | M29: =TRUNC(J29*F29,2) -> 1321.17 | N29: =TRUNC(K29*F29,2) -> 197.13 | O29: =M29+N29 -> 1518.3
B30: 4.3 | C30: 103674 | D30: CONCRETAGEM DE VIGAS E LAJES, FCK=25 MPA, PARA LAJES PREMOLDADAS COM USO DE BOMBA - LANÇAMENTO, ADENSAMENTO E ACABAMENTO. AF_02/2022 | E30: M3 | F30: 2.7 | G30: =I30-H30 -> 672.37 | H30: 49.44 | I30: 721.81 | J30: =G30*(1+$O$5) -> 809.13006 | K30: =H30*(1+$O$5) -> 59.496096 | L30: =J30+K30 -> 868.62615 | M30: =TRUNC(J30*F30,2) -> 2184.65 | N30: =TRUNC(K30*F30,2) -> 160.63 | O30: =M30+N30 -> 2345.28
D31: LAJE PRÉ MOLDADA | E31: M2 | F31: 6.93
B32: 4.4 | C32: 92447 | D32: MONTAGEM E DESMONTAGEM DE FÔRMA DE VIGA, ESCORAMENTO COM PONTALETE DE MADEIRA, PÉ-DIREITO SIMPLES, EM MADEIRA SERRADA, 2 UTILIZAÇÕES. AF_09/2020 | E32: M2 | F32: 36.06 | G32: =I32-H32 -> 127.86 | H32: 77.77 | I32: 205.63 | J32: =G32*(1+$O$5) -> 153.86672 | K32: =H32*(1+$O$5) -> 93.588418 | L32: =J32+K32 -> 247.45514 | M32: =TRUNC(J32*F32,2) -> 5548.43 | N32: =TRUNC(K32*F32,2) -> 3374.79 | O32: =M32+N32 -> 8923.22
B33: TOTAL DE SUPRA ESTRUTURA | M33: =SUM(M28:M32) -> 9844.09 | N33: =SUM(N28:N32) -> 4022.86 | O33: =SUM(O28:O32) -> 13866.95
B34: 5 | D34: PAREDES E VEDAÇÕES
B35: 5.1 | C35: PESQUISA | D35: ALVENARIA DE BLOCO DE CONCRETO 14x19x29 | E35: M2 | F35: 195.15 | G35: =I35-H35 -> 23.6 | H35: 37.2 | I35: 60.8 | J35: =G35*(1+$O$5) -> 28.40024 | K35: =H35*(1+$O$5) -> 44.76648 | L35: =J35+K35 -> 73.16672 | M35: =F35*J35 -> 5542.3068 | N35: =F35*K35 -> 8736.1786 | O35: =M35+N35 -> 14278.485
B36: 5.2 | C36: 105024 | D36: VERGA MOLDADA IN LOCO EM CONCRETO, ESPESSURA DE *10* CM. AF_03/2024 | E36: M | F36: 19.2 | G36: =I36-H36 -> 37.14 | H36: 17.18 | I36: 54.32 | J36: =G36*(1+$O$5) -> 44.694276 | K36: =H36*(1+$O$5) -> 20.674412 | L36: =J36+K36 -> 65.368688 | M36: =TRUNC(J36*F36,2) -> 858.13 | N36: =TRUNC(K36*F36,2) -> 396.94 | O36: =M36+N36 -> 1255.07
B37: 5.3 | C37: 105030 | D37: CONTRAVERGA MOLDADA IN LOCO EM CONCRETO, ESPESSURA DE *10* CM. AF_03/2024 | E37: M | F37: 11.6 | G37: =I37-H37 -> 31.48 | H37: 11.07 | I37: 42.55 | J37: =G37*(1+$O$5) -> 37.883032 | K37: =H37*(1+$O$5) -> 13.321638 | L37: =J37+K37 -> 51.20467 | M37: =TRUNC(J37*F37,2) -> 439.44 | N37: =TRUNC(K37*F37,2) -> 154.53 | O37: =M37+N37 -> 593.97
B38: TOTAL DE PAREDES E VEDAÇÕES | M38: =SUM(M35:M37) -> 6839.8768 | N38: =SUM(N35:N37) -> 9287.6486 | O38: =SUM(O35:O37) -> 16127.525
B39: 6 | D39: COBERTURA
B40: 6.1 | C40: PESQUISA | D40: FABRICAÇÃO E INSTALAÇÃO DE TESOURA INTEIRA EM MADEIRA NÃO APARELHADA, VÃO DE 8 M, PARA TELHA ONDULADA DE FIBROCIMENTO, METÁLICA, PLÁSTICA OU TERMOACÚSTICA, INCLUSO IÇAMENTO. AF_07/2019 | E40: UN | F40: 6 | G40: =I40-H40 -> 195 | H40: 248 | I40: 443 | J40: =G40*(1+$O$5) -> 234.663 | K40: =H40*(1+$O$5) -> 298.4432 | L40: =J40+K40 -> 533.1062 | M40: =F40*J40 -> 1407.978 | N40: =F40*K40 -> 1790.6592 | O40: =M40+N40 -> 3198.6372
B41: 6.2 | C41: PESQUISA | D41: TRAMA DE MADEIRA COMPOSTA POR TERÇAS PARA TELHADOS DE ATÉ 2 ÁGUAS PARA TELHA ONDULADA DE FIBROCIMENTO, METÁLICA, PLÁSTICA OU TERMOACÚSTICA, INCLUSO TRANSPORTE VERTICAL. AF_07/2019 | E41: M2 | F41: 89.97 | G41: =I41-H41 -> 1.55 | H41: 2.5 | I41: 4.05 | J41: =G41*(1+$O$5) -> 1.86527 | K41: =H41*(1+$O$5) -> 3.0085 | L41: =J41+K41 -> 4.87377 | M41: =F41*J41 -> 167.81834 | N41: =TRUNC(K41*F41,2) -> 270.67 | O41: =M41+N41 -> 438.48834
B42: 6.3 | C42: PESQUISA | D42: TELHAMENTO COM TELHA ONDULADA DE FIBROCIMENTO E = 6 MM, COM RECOBRIMENTO LATERAL DE 1/4 DE ONDA PARA TELHADO COM INCLINAÇÃO MAIOR QUE 10°, COM ATÉ 2 ÁGUAS, INCLUSO IÇAMENTO. AF_07/2019 | E42: M2 | F42: 89.97 | G42: =I42-H42 -> 30.6 | H42: 5 | I42: 35.6 | J42: =G42*(1+$O$5) -> 36.82404 | K42: =H42*(1+$O$5) -> 6.017 | L42: =J42+K42 -> 42.84104 | M42: =F42*J42 -> 3313.0589 | N42: =TRUNC(K42*F42,2) -> 541.34 | O42: =M42+N42 -> 3854.3989
...

Sheet Orçamento Geral
A2: OBRA: | C2: CANIL COMUNITÁRIO | U2: =C2 -> CANIL COMUNITÁRIO
A3: ENDEREÇO: | C3: RUA ORFELINO BIZARRO MARTINS - TAQUARI/RS | U3: =C3 -> RUA ORFELINO BIZARRO MARTINS - TAQUARI/RS
A4: FONTE: | C4: SINAPI - RIO GRANDE DO SUL JANEIRO/2026 NÃO DESONERADO | U4: =C4 -> SINAPI - RIO GRANDE DO SUL JANEIRO/2026 NÃO DESONERADO
C5: ORSE - JANEIRO/2026 | U5: =C5 -> ORSE - JANEIRO/2026
A6: BDI: | C6: 0.2034 | M6: ENCARGOS SOCIAIS | O6: HORISTA: | P6: 1.1195 | Q6: MENSALISTA: | R6: 0.6929
A7: PLANILHA ORÇAMENTÁRIA
A9: BDI | B9: ENCARGOS SOCIAIS | C9: ITEM | D9: DESCRIÇÃO | E9: UNID | F9: QTD | G9: CUSTO UNITÁRIO SEM BDI | J9: CUSTO UNITÁRIO COM BDI | M9: CUSTO TOTAL COM BDI | P9: FONTE | Q9: CÓDIGO | R9: DATA BASE
G10: MATERIAL | H10: MÃO DE OBRA | I10: CUSTO TOTAL | J10: MATERIAL | K10: MÃO DE OBRA | L10: CUSTO TOTAL | M10: MATERIAL | N10: MÃO DE OBRA | O10: VALOR TOTAL
C11: 1 | D11: INSTALAÇÕES PROVISÓRIAS
A12: 0.2034 | B12: 0.6929 | C12: 1.1 | D12: FORNECIMENTO E INSTALAÇÃO DE PLACA DE OBRA COM CHAPA GALVANIZADA E ESTRUTURA DE MADEIRA. AF_03/2022_PS | E12: M2 | F12: 4.5 | G12: =I12-H12 -> 414.83842 | H12: =I12*0.099 -> 45.58158 | I12: 460.42 | J12: =G12*(1+$C$6) -> 499.21655 | K12: =H12*(1+$C$6) -> 54.852873 | L12: =J12+K12 -> 554.06943 | M12: =TRUNC(J12*F12,2) -> 2246.47 | N12: =TRUNC(K12*F12,2) -> 246.83 | O12: =M12+N12 -> 2493.3 | P12: SIMAPI | Q12: 103689 | R12: 46023
L13: SUBTOTAL | M13: =SUM(M12:M12) -> 2246.47 | N13: =SUM(N12:N12) -> 246.83 | O13: =SUM(O12:O12) -> 2493.3
C14: 2 | D14: FUNDAÇÕES
A15: 0.2034 | B15: 0.6929 | C15: 2.1 | D15: =Composições!C9 -> ESTACA ESCAVADA MECANICAMENTE, SEM FLUIDO ESTABILIZANTE, COM 30CM DE DIÂMETRO, CONCRETO LANÇADO POR CAMINHÃO BETONEIRA | E15: =Composições!B9 -> M | F15: 33 | G15: =Composições!F9 -> 64.78 | H15: =Composições!F10 -> 6.35 | I15: =Composições!H9 -> 71.13 | J15: =G15*(1+$C$6) -> 77.956252 | K15: =H15*(1+$C$6) -> 7.64159 | L15: =J15+K15 -> 85.597842 | M15: =TRUNC(J15*F15,2) -> 2572.55 | N15: =TRUNC(K15*F15,2) -> 252.17 | O15: =M15+N15 -> 2824.72 | P15: COMPOSIÇÃO | Q15: 01 | R15: 46023
A16: 0.2034 | B16: 0.6929 | C16: 2.2 | D16: ARMAÇÃO DE BLOCO UTILIZANDO AÇO CA-60 DE 5 MM - MONTAGEM. AF_01/2024 | E16: KG | F16: 69.56 | G16: =I16-H16 -> 8.819032 | H16: =I16*0.5756 -> 11.960968 | I16: 20.78 | J16: =G16*(1+$C$6) -> 10.612823 | K16: =H16*(1+$C$6) -> 14.393829 | L16: =J16+K16 -> 25.006652 | M16: =TRUNC(J16*F16,2) -> 738.22 | N16: =TRUNC(K16*F16,2) -> 1001.23 | O16: =M16+N16 -> 1739.45 | P16: SINAPI | Q16: 96543 | R16: 46023
A17: 0.2034 | B17: 0.6929 | C17: 2.3 | D17: ARMAÇÃO DE BLOCO UTILIZANDO AÇO CA-50 DE 10 MM - MONTAGEM. AF_01/2024 | E17: KG | F17: 138.62 | G17: =I17-H17 -> 9.509494 | H17: =I17*0.3387 -> 4.870506 | I17: 14.38 | J17: =G17*(1+$C$6) -> 11.443725 | K17: =H17*(1+$C$6) -> 5.8611669 | L17: =J17+K17 -> 17.304892 | M17: =TRUNC(J17*F17,2) -> 1586.32 | N17: =TRUNC(K17*F17,2) -> 812.47 | O17: =M17+N17 -> 2398.79 | P17: SINAPI | Q17: 96546 | R17: 46023
A18: 0.2034 | B18: 0.6929 | C18: 2.4 | D18: FABRICAÇÃO, MONTAGEM E DESMONTAGEM DE FÔRMA PARA VIGA BALDRAME, EM MADEIRA SERRADA, E=25 MM, 4 UTILIZAÇÕES. AF_01/2024 | E18: M2 | F18: 46.76 | G18: =I18-H18 -> 20.522238 | H18: =I18*0.6942 -> 46.587762 | I18: 67.11 | J18: =G18*(1+$C$6) -> 24.696461 | K18: =H18*(1+$C$6) -> 56.063713 | L18: =J18+K18 -> 80.760174 | M18: =TRUNC(J18*F18,2) -> 1154.8 | N18: =TRUNC(K18*F18,2) -> 2621.53 | O18: =M18+N18 -> 3776.33 | P18: SINAPI | Q18: 96536 | R18: 46023
A19: 0.2034 | B19: 0.6929 | C19: 2.5 | D19: =Composições!C31 -> MURO BLOCO GRES - ARGAM. CI-AR 1:6 | E19: =Composições!B31 -> M2 | F19: 4.9 | G19: =Composições!F31 -> 149.65 | H19: =Composições!F32 -> 55.79 | I19: =Composições!H31 -> 205.44 | J19: =G19*(1+$C$6) -> 180.08881 | K19: =H19*(1+$C$6) -> 67.137686 | L19: =J19+K19 -> 247.2265 | M19: =TRUNC(J19*F19,2) -> 882.43 | N19: =TRUNC(K19*F19,2) -> 328.97 | O19: =M19+N19 -> 1211.4 | P19: COMPOSIÇÃO | Q19: 03 | R19: 46023
A20: 0.2034 | B20: 0.6929 | C20: 2.6 | D20: =Composições!C21 -> CONCRETAGEM DE BLOCOS DE VIGAS BALDRAMES, FCK 25 MPA, COM USO DE BOMBA LANÇAMENTO, ADENSAMENTO E ACABAMENTO. AF_06/2017 | E20: =Composições!B21 -> M3 | F20: 3.31 | G20: =Composições!F21 -> 691.89 | H20: =Composições!F22 -> 24.34 | I20: =Composições!H21 -> 716.23 | J20: =G20*(1+$C$6) -> 832.62043 | K20: =H20*(1+$C$6) -> 29.290756 | L20: =J20+K20 -> 861.91118 | M20: =TRUNC(J20*F20,2) -> 2755.97 | N20: =TRUNC(K20*F20,2) -> 96.95 | O20: =M20+N20 -> 2852.92 | P20: COMPOSIÇÃO | Q20: 02 | R20: 46023
A21: 0.2034 | B21: 0.6929 | C21: 2.7 | D21: LASTRO COM MATERIAL GRANULAR (PEDRA BRITADA N.2), APLICADO EM PISOS OU LAJES SOBRE SOLO, ESPESSURA DE *10 CM*. AF_01/2024 | E21: M3 | F21: 5.43 | G21: =I21-H21 -> 113.74041 | H21: =I21*0.3515 -> 61.649585 | I21: 175.39 | J21: =G21*(1+$C$6) -> 136.87522 | K21: =H21*(1+$C$6) -> 74.189111 | L21: =J21+K21 -> 211.06433 | M21: =TRUNC(J21*F21,2) -> 743.23 | N21: =TRUNC(K21*F21,2) -> 402.84 | O21: =M21+N21 -> 1146.07 | P21: SINAPI | Q21: 96624 | R21: 46023
L22: SUBTOTAL | M22: =SUM(M15:M21) -> 10433.52 | N22: =SUM(N15:N21) -> 5516.16 | O22: =SUM(O15:O21) -> 15949.68
C23: 3 | D23: IMPERMEABILIZAÇÃO
A24: 0.2034 | B24: 0.6929 | C24: 3.1 | D24: IMPERMEABILIZAÇÃO DE SUPERFÍCIE COM ARGAMASSA DE CIMENTO E AREIA, COM ADITIVO IMPERMEABILIZANTE, E = 1,5CM. AF_09/2023 | E24: M2 | F24: 43 | G24: =I24-H24 -> 15.760949 | H24: =I24*0.7071 -> 38.049051 | I24: 53.81 | J24: =G24*(1+$C$6) -> 18.966726 | K24: =H24*(1+$C$6) -> 45.788228 | L24: =J24+K24 -> 64.754954 | M24: =TRUNC(J24*F24,2) -> 815.56 | N24: =TRUNC(K24*F24,2) -> 1968.89 | O24: =M24+N24 -> 2784.45 | P24: SINAPI | Q24: 98562 | R24: 46023
L25: SUBTOTAL | M25: =SUM(M24:M24) -> 815.56 | N25: =SUM(N24:N24) -> 1968.89 | O25: =SUM(O24:O24) -> 2784.45
C26: 4 | D26: SUPRA ESTRUTURA
A27: 0.2034 | B27: 0.6929 | C27: 4.1 | D27: MONTAGEM E DESMONTAGEM DE FÔRMA DE VIGA, ESCORAMENTO COM GARFO DE MADEIRA, PÉ-DIREITO SIMPLES, EM CHAPA DE MADEIRA PLASTIFICADA, 18 UTILIZAÇÕES. AF_09/2020 | E27: M2 | F27: 35.8 | G27: =I27-H27 -> 41.3632 | H27: =I27*0.4112 -> 28.8868 | I27: 70.25 | J27: =G27*(1+$C$6) -> 49.776475 | K27: =H27*(1+$C$6) -> 34.762375 | L27: =J27+K27 -> 84.53885 | M27: =TRUNC(J27*F27,2) -> 1781.99 | N27: =TRUNC(K27*F27,2) -> 1244.49 | O27: =M27+N27 -> 3026.48 | P27: SINAPI | Q27: 92479 | R27: 46023
A28: 0.2034 | B28: 0.6929 | C28: 4.2 | D28: ARMAÇÃO DE PILAR OU VIGA DE ESTRUTURA CONVENCIONAL DE CONCRETO ARMADO UTILIZANDO AÇO CA-60 DE 5,0 MM - MONTAGEM. AF_06/2022 | E28: KG | F28: 52.64 | G28: =I28-H28 -> 8.82 | H28: =I28*0.3875 -> 5.58 | I28: 14.4 | J28: =G28*(1+$C$6) -> 10.613988 | K28: =H28*(1+$C$6) -> 6.714972 | L28: =J28+K28 -> 17.32896 | M28: =TRUNC(J28*F28,2) -> 558.72 | N28: =TRUNC(K28*F28,2) -> 353.47 | O28: =M28+N28 -> 912.19 | P28: SINAPI | Q28: 92759 | R28: 46023
A29: 0.2034 | B29: 0.6929 | C29: 4.3 | D29: ARMAÇÃO DE PILAR OU VIGA DE ESTRUTURA CONVENCIONAL DE CONCRETO ARMADO UTILIZANDO AÇO CA-50 DE 8,0 MM - MONTAGEM. AF_06/2022 | E29: KG | F29: 86.22 | G29: =I29-H29 -> 10.099716 | H29: =I29*0.1946 -> 2.440284 | I29: 12.54 | J29: =G29*(1+$C$6) -> 12.153998 | K29: =H29*(1+$C$6) -> 2.9366378 | L29: =J29+K29 -> 15.090636 | M29: =TRUNC(J29*F29,2) -> 1047.91 | N29: =TRUNC(K29*F29,2) -> 253.19 | O29: =M29+N29 -> 1301.1 | P29: SINAPI | Q29: 92761 | R29: 46023
A30: 0.2034 | B30: 0.6929 | C30: 4.4 | D30: CONCRETAGEM DE VIGAS E LAJES, FCK=25 MPA, PARA LAJES PREMOLDADAS COM USO DE BOMBA - LANÇAMENTO, ADENSAMENTO E ACABAMENTO. AF_02/2022_PS | E30: M3 | F30: 2.55 | G30: =I30-H30 -> 663.81182 | H30: =I30*0.0935 -> 68.46818 | I30: 732.28 | J30: =G30*(1+$C$6) -> 798.83114 | K30: =H30*(1+$C$6) -> 82.394608 | L30: =J30+K30 -> 881.22575 | M30: =TRUNC(J30*F30,2) -> 2037.01 | N30: =TRUNC(K30*F30,2) -> 210.1 | O30: =M30+N30 -> 2247.11 | P30: SINAPI | Q30: 103674 | R30: 46023
A31: 0.2034 | B31: 0.6929 | C31: 4.5 | D31: LAJE PRÉ-MOLDADA UNIDIRECIONAL, BIAPOIADA, PARA FORRO, ENCHIMENTO EM EPS, VIGOTA TRELIÇADA, ALTURA TOTAL DA LAJE "LT" = 12 CM (ENCHIMENTO+CAPA) = (8+4). AF_08/2025 | E31: M2 | F31: 4.62 | G31: =I31-H31 -> 143.64617 | H31: =I31*0.1925 -> 34.243825 | I31: 177.89 | J31: =G31*(1+$C$6) -> 172.86381 | K31: =H31*(1+$C$6) -> 41.209019 | L31: =J31+K31 -> 214.07283 | M31: =TRUNC(J31*F31,2) -> 798.63 | N31: =TRUNC(K31*F31,2) -> 190.38 | O31: =M31+N31 -> 989.01 | P31: SINAPI | Q31: 106060 | R31: 46023
L32: SUBTOTAL | M32: =SUM(M27:M31) -> 6224.26 | N32: =SUM(N27:N31) -> 2251.63 | O32: =SUM(O27:O31) -> 8475.89
C33: 5 | D33: ALVENARIAS
A34: 0.2034 | B34: 0.6929 | C34: 5.1 | D34: ALVENARIA DE BLOCOS DE CONCRETO ESTRUTURAL 14X19X39 CM (ESPESSURA 14 CM), FBK = 4,5 MPA, UTILIZANDO PALHETA. AF_10/2022 | E34: M2 | F34: 189.2 | G34: =I34-H34 -> 75.736836 | H34: =I34*0.2758 -> 28.843164 | I34: 104.58 | J34: =G34*(1+$C$6) -> 91.141708 | K34: =H34*(1+$C$6) -> 34.709864 | L34: =J34+K34 -> 125.85157 | M34: =TRUNC(J34*F34,2) -> 17244.01 | N34: =TRUNC(K34*F34,2) -> 6567.1 | O34: =M34+N34 -> 23811.11 | P34: SINAPI | Q34: 89453 | R34: 46023
A35: 0.2034 | B35: 0.6929 | C35: 5.2 | D35: ARMAÇÃO VERTICAL DE ALVENARIA ESTRUTURAL; DIÂMETRO DE 10,0 MM. AF_09/2021 | E35: KG | F35: 30.34 | G35: =I35-H35 -> 8.069848 | H35: =I35*0.2637 -> 2.890152 | I35: 10.96 | J35: =G35*(1+$C$6) -> 9.7112551 | K35: =H35*(1+$C$6) -> 3.4780089 | L35: =J35+K35 -> 13.189264 | M35: =TRUNC(J35*F35,2) -> 294.63 | N35: =TRUNC(K35*F35,2) -> 105.52 | O35: =M35+N35 -> 400.15 | P35: SINAPI | Q35: 89996 | R35: 46023
A36: 0.2034 | B36: 0.6929 | C36: 5.3 | D36: GRAUTEAMENTO VERTICAL EM ALVENARIA ESTRUTURAL. AF_09/2021 | E36: M3 | F36: ='Memória de Cálculo'!E12 -> 0.73 | G36: =I36-H36 -> 625.32098 | H36: =I36*0.4568 -> 525.85902 | I36: 1151.18 | J36: =G36*(1+$C$6) -> 752.51126 | K36: =H36*(1+$C$6) -> 632.81875 | L36: =J36+K36 -> 1385.33 | M36: =TRUNC(J36*F36,2) -> 549.33 | N36: =TRUNC(K36*F36,2) -> 461.95 | O36: =M36+N36 -> 1011.28 | P36: SINAPI | Q36: 89993 | R36: 46023
A37: 0.2034 | B37: 0.6929 | C37: 5.4 | D37: VERGA MOLDADA IN LOCO EM CONCRETO, ESPESSURA DE *10* CM. AF_03/2024 | E37: M | F37: 19.2 | G37: =I37-H37 -> 30.598828 | H37: =I37*0.4287 -> 22.961172 | I37: 53.56 | J37: =G37*(1+$C$6) -> 36.82263 | K37: =H37*(1+$C$6) -> 27.631474 | L37: =J37+K37 -> 64.454104 | M37: =TRUNC(J37*F37,2) -> 706.99 | N37: =TRUNC(K37*F37,2) -> 530.52 | O37: =M37+N37 -> 1237.51 | P37: SINAPI | Q37: 105024 | R37: 46023
A38: 0.2034 | B38: 0.6929 | C38: 5.5 | D38: CONTRAVERGA MOLDADA IN LOCO EM CONCRETO, ESPESSURA DE *10* CM. AF_03/2024 | E38: M | F38: 11.6 | G38: =I38-H38 -> 26.860085 | H38: =I38*0.3551 -> 14.789915 | I38: 41.65 | J38: =G38*(1+$C$6) -> 32.323426 | K38: =H38*(1+$C$6) -> 17.798184 | L38: =J38+K38 -> 50.12161 | M38: =TRUNC(J38*F38,2) -> 374.95 | N38: =TRUNC(K38*F38,2) -> 206.45 | O38: =M38+N38 -> 581.4 | P38: SINAPI | Q38: 105030 | R38: 46023
L39: SUBTOTAL | M39: =SUM(M34:M38) -> 19169.91 | N39: =SUM(N34:N38) -> 7871.54 | O39: =SUM(O34:O38) -> 27041.45
C40: 6 | D40: COBERTURA
A41: 0.2034 | B41: 0.6929 | C41: 6.1 | D41: FABRICAÇÃO E INSTALAÇÃO DE TESOURA INTEIRA EM AÇO, VÃO DE 8 M, PARA TELHA ONDULADA DE FIBROCIMENTO, METÁLICA, PLÁSTICA OU TERMOACÚSTICA, INCLUSO IÇAMENTO, EXCLUSIVE PINTURA. AF_10/2025 | E41: UN | F41: 5 | G41: =I41-H41 -> 844.3874 | H41: =I41*0.4607 -> 721.3226 | I41: 1565.71 | J41: =G41*(1+$C$6) -> 1016.1358 | K41: =H41*(1+$C$6) -> 868.03961 | L41: =J41+K41 -> 1884.1754 | M41: =TRUNC(J41*F41,2) -> 5080.67 | N41: =TRUNC(K41*F41,2) -> 4340.19 | O41: =M41+N41 -> 9420.86 | P41: SINAPI | Q41: 92612 | R41: 46023
A42: 0.2034 | B42: 0.6929 | C42: 6.2 | D42: TRAMA DE MADEIRA COMPOSTA POR TERÇAS PARA TELHADOS DE ATÉ 2 ÁGUAS PARA TELHA ONDULADA DE FIBROCIMENTO, METÁLICA, PLÁSTICA OU TERMOACÚSTICA, INCLUSO TRANSPORTE VERTICAL. AF_10/2025 | E42: M2 | F42: 85.24 | G42: =I42-H42 -> 17.220113 | H42: =I42*0.3359 -> 8.709887 | I42: 25.93 | J42: =G42*(1+$C$6) -> 20.722684 | K42: =H42*(1+$C$6) -> 10.481478 | L42: =J42+K42 -> 31.204162 | M42: =TRUNC(J42*F42,2) -> 1766.4 | N42: =TRUNC(K42*F42,2) -> 893.44 | O42: =M42+N42 -> 2659.84 | P42: SINAPI | Q42: 92543 | R42: 46023
...

Sheet Composições
A3: OBRA: | B3: ='Orçamento Geral'!U2 -> CANIL COMUNITÁRIO
A4: ENDEREÇO: | B4: ='Orçamento Geral'!U3 -> RUA ORFELINO BIZARRO MARTINS - TAQUARI/RS
A5: FONTE: | B5: ='Orçamento Geral'!U4 -> SINAPI - RIO GRANDE DO SUL JANEIRO/2026 NÃO DESONERADO
B6: ='Orçamento Geral'!U5 -> ORSE - JANEIRO/2026
D7: PLANILHA ANALÍTICA DE COMPOSIÇÕES
A9: COMPOSIÇÃO 01 | B9: M | C9: ESTACA ESCAVADA MECANICAMENTE, SEM FLUIDO ESTABILIZANTE, COM 30CM DE DIÂMETRO, CONCRETO LANÇADO POR CAMINHÃO BETONEIRA | E9: MAT | F9: =SUM(H12,H14,H15,H17,H18) -> 64.78 | H9: =SUM(F9:G10) -> 71.13
E10: MO | F10: =SUM(H13,H16) -> 6.35
A11: TIPO | B11: BANCO | C11: CÓDIGO | D11: DESCRIÇÃO | E11: UNID | F11: QTD | G11: PREÇO UNIT | H11: TOTAL
A12: INSUMO | B12: SINAPI | C12: 38405 | D12: CONCRETO USINADO BOMBEAVEL, CLASSE DE RESISTENCIA C25, COM BRITA 0 E 1, SLUMP = 130 +/- 20 MM, EXCLUI SERVICO DE BOMBEAMENTO (NBR 8953) | E12: M3 | F12: 0.077754 | G12: 576.58 | H12: =TRUNC(F12*G12,2) -> 44.83
A13: COMPOSICAO | B13: SINAPI | C13: 88316 | D13: SERVENTE COM ENCARGOS COMPLEMENTARES | E13: H | F13: 0.2263 | G13: 24.83 | H13: =TRUNC(F13*G13,2) -> 5.61
A14: COMPOSICAO | B14: SINAPI | C14: 90680 | D14: PERFURATRIZ HIDRÁULICA SOBRE CAMINHÃO COM TRADO CURTO ACOPLADO, PROFUNDIDADE MÁXIMA DE 20 M, DIÂMETRO MÁXIMO DE 1500 MM, POTÊNCIA INSTALADA DE 137 HP, MESA ROTATIVA COM TORQUE MÁXIMO DE 30 KNM - CHP DIURNO. AF_06/2015 | E14: CHP | F14: 0.0247 | G14: 419.48 | H14: =TRUNC(F14*G14,2) -> 10.36
A15: COMPOSICAO | B15: SINAPI | C15: 90681 | D15: PERFURATRIZ HIDRÁULICA SOBRE CAMINHÃO COM TRADO CURTO ACOPLADO, PROFUNDIDADE MÁXIMA DE 20 M, DIÂMETRO MÁXIMO DE 1500 MM, POTÊNCIA INSTALADA DE 137 HP, MESA ROTATIVA COM TORQUE MÁXIMO DE 30 KNM - CHI DIURNO. AF_06/2015 | E15: CHI | F15: 0.049 | G15: 182.36 | H15: =TRUNC(F15*G15,2) -> 8.93
A16: COMPOSICAO | B16: SINAPI | C16: 90778 | D16: ENGENHEIRO CIVIL DE OBRA PLENO COM ENCARGOS COMPLEMENTARES | E16: H | F16: 0.0051 | G16: 146.28 | H16: =TRUNC(F16*G16,2) -> 0.74
A17: COMPOSICAO | B17: SINAPI | C17: 97913 | D17: TRANSPORTE COM CAMINHÃO BASCULANTE DE 6 M³, EM VIA URBANA EM REVESTIMENTO PRIMÁRIO (UNIDADE: M3XKM). AF_07/2020 | E17: M3XKM | F17: 0.0205 | G17: 3.54 | H17: =TRUNC(F17*G17,2) -> 0.07
A18: COMPOSICAO | B18: SINAPI | C18: 100973 | D18: CARGA, MANOBRA E DESCARGA DE SOLOS E MATERIAIS GRANULARES EM CAMINHÃO BASCULANTE 6 M³ - CARGA COM PÁ CARREGADEIRA (CAÇAMBA DE 1,7 A 2,8 M³ / 128 HP) E DESCARGA LIVRE (UNIDADE: M3). AF_07/2020 | E18: M3 | F18: 0.0614 | G18: 9.72 | H18: =TRUNC(F18*G18,2) -> 0.59
A21: COMPOSIÇÃO 02 | B21: M3 | C21: CONCRETAGEM DE BLOCOS DE VIGAS BALDRAMES, FCK 25 MPA, COM USO DE BOMBA LANÇAMENTO, ADENSAMENTO E ACABAMENTO. AF_06/2017 | E21: MAT | F21: =SUM(H24,H27:H28) -> 691.89 | H21: =SUM(F21:G22) -> 716.23
E22: MO | F22: =SUM(H25:H26) -> 24.34
A23: TIPO | B23: BANCO | C23: CÓDIGO | D23: DESCRIÇÃO | E23: UNID | F23: QTD | G23: PREÇO UNIT | H23: TOTAL
A24: INSUMO | B24: SINAPI | C24: 1527 | D24: CONCRETO USINADO BOMBEAVEL, CLASSE DE RESISTENCIA C25, BRITA 0 E 1, SLUMP = 100 +/- 20 MM, COM BOMBEAMENTO (DISPONIBILIZACAO DE BOMBA), SEM O LANCAMENTO (NBR 8953) | E24: M3 | F24: 1.15 | G24: 601.49 | H24: =TRUNC(F24*G24,2) -> 691.71
A25: COMPOSICAO | B25: SINAPI | C25: 88309 | D25: PEDREIRO COM ENCARGOS COMPLEMENTARES | E25: H | F25: 0.363 | G25: 29.88 | H25: =TRUNC(F25*G25,2) -> 10.84
A26: COMPOSICAO | B26: SINAPI | C26: 88316 | D26: SERVENTE COM ENCARGOS COMPLEMENTARES | E26: H | F26: 0.544 | G26: 24.83 | H26: =TRUNC(F26*G26,2) -> 13.5
A27: COMPOSICAO | B27: SINAPI | C27: 90586 | D27: VIBRADOR DE IMERSÃO, DIÂMETRO DE PONTEIRA 45MM, MOTOR ELÉTRICO TRIFÁSICO POTÊNCIA DE 2 CV - CHP DIURNO. AF_06/2015 | E27: CHP | F27: 0.088 | G27: 1.53 | H27: =TRUNC(F27*G27,2) -> 0.13
A28: COMPOSICAO | B28: SINAPI | C28: 90587 | D28: VIBRADOR DE IMERSÃO, DIÂMETRO DE PONTEIRA 45MM, MOTOR ELÉTRICO TRIFÁSICO POTÊNCIA DE 2 CV - CHI DIURNO. AF_06/2015 | E28: CHI | F28: 0.093 | G28: 0.6 | H28: =TRUNC(F28*G28,2) -> 0.05
A31: COMPOSIÇÃO 03 | B31: M2 | C31: MURO BLOCO GRES - ARGAM. CI-AR 1:6 | E31: MAT | F31: =SUM(H34:H35) -> 149.65 | H31: =SUM(F31:G32) -> 205.44
E32: MO | F32: =SUM(H36:H37) -> 55.79
A33: TIPO | B33: BANCO | C33: CÓDIGO | D33: DESCRIÇÃO | E33: UNID | F33: QTD | G33: PREÇO UNIT | H33: TOTAL
A34: COMPOSIÇÃO | B34: SINAPI | C34: 87372 | D34: ARGAMASSA TRAÇO 1:3 (EM VOLUME DE CIMENTO E AREIA MÉDIA ÚMIDA) PARA CONTRAPISO, PREPARO MANUAL. AF_08/2019 | E34: M3 | F34: 0.0963 | G34: 909.6 | H34: =TRUNC(F34*G34,2) -> 87.59
A35: INSUMO | B35: PESQUISA | D35: PEDRA DE ARENITO BITOLADA 45X22X14 | E35: UN | F35: 10.52 | G35: 5.9 | H35: =TRUNC(F35*G35,2) -> 62.06
A36: COMPOSIÇÃO | B36: SINAPI | C36: 88309 | D36: PEDREIRO COM ENCARGOS COMPLEMENTARES | E36: H | F36: 1.02 | G36: 29.88 | H36: =TRUNC(F36*G36,2) -> 30.47
A37: COMPOSIÇÃO | B37: SINAPI | C37: 88316 | D37: SERVENTE COM ENCARGOS COMPLEMENTARES | E37: H | F37: 1.02 | G37: 24.83 | H37: =TRUNC(F37*G37,2) -> 25.32
A40: COMPOSIÇÃO 04 | B40: UN | C40: LUMINÁRIA TIPO PLAFON QUADRADA, DE SOBREPOR, 17X17CM, COM LED DE 12 W - FORNECIMENTO E INSTALAÇÃO. AF_09/2024 | E40: MAT | F40: =SUM(H45:H45) -> 17.5 | H40: =SUM(F40:G41) -> 37.44 | J40: SINAPI | K40: 103783
E41: MO | F41: =SUM(H43:H44) -> 19.94
A42: TIPO | B42: BANCO | C42: CÓDIGO | D42: DESCRIÇÃO | E42: UNID | F42: QTD | G42: PREÇO UNIT | H42: TOTAL
A43: COMPOSICAO | B43: SINAPI | C43: 88264 | D43: ELETRICISTA COM ENCARGOS COMPLEMENTARES | E43: H | F43: 0.4945918 | G43: 31.99 | H43: =TRUNC(F43*G43,2) -> 15.82
A44: COMPOSICAO | B44: SINAPI | C44: 88247 | D44: AUXILIAR DE ELETRICISTA COM ENCARGOS COMPLEMENTARES | E44: H | F44: 0.1545599 | G44: 26.69 | H44: =TRUNC(F44*G44,2) -> 4.12
A45: INSUMO | B45: SINAPI | C45: 44793 | D45: LUMINARIA PAINEL PLAFON, DE SOBREPOR, SLIM, QUADRADA *17 X 17* CM, EM ALUMINIO ACABAMENTO BRANCO, COM ACRILICO, COM LAMPADAS LED 12 W, BIVOLT | E45: UN | F45: 1 | G45: 17.5 | H45: =TRUNC(F45*G45,2) -> 17.5 | J45: SUSTENTALED
A48: COMPOSIÇÃO 05 | B48: M2 | C48: JANELA DE AÇO TIPO BASCULANTE, COM VIDRO TIPO MINIBOREAL, COMPLETA, COM PINTURA ANTICORROSIVA, FIXAÇÃO COM ARGAMASSA - FORNECIMENTO E INSTALAÇÃO. AF_11/2024 | E48: MAT | F48: =SUM(H51,H54,H55) -> 583.84 | H48: =SUM(F48:G49) -> 799.44
E49: MO | F49: =SUM(H52:H53) -> 215.6
A50: TIPO | B50: BANCO | C50: CÓDIGO | D50: DESCRIÇÃO | E50: UNID | F50: QTD | G50: PREÇO UNIT | H50: TOTAL
A51: COMPOSICAO | B51: SINAPI | C51: 88629 | D51: ARGAMASSA TRAÇO 1:3 (EM VOLUME DE CIMENTO E AREIA MÉDIA ÚMIDA), PREPARO MANUAL. AF_08/2019 | E51: M3 | F51: 0.021 | G51: 744.27 | H51: =TRUNC(F51*G51,2) -> 15.62
...

Sheet Cronograma
A2: OBRA: | B2: ='Orçamento Geral'!U2 -> CANIL COMUNITÁRIO
A3: ENDEREÇO: | B3: ='Orçamento Geral'!U3 -> RUA ORFELINO BIZARRO MARTINS - TAQUARI/RS
A4: FONTE: | B4: ='Orçamento Geral'!U4 -> SINAPI - RIO GRANDE DO SUL JANEIRO/2026 NÃO DESONERADO
B5: ='Orçamento Geral'!U5 -> ORSE - JANEIRO/2026
A6: CRONOGRAMA FÍSICO-FINANCEIRO
A8: Item | B8: Descrição | C8: Total | D8: Mês 1 | F8: Mês 2 | H8: Mês 3 | J8: Mês 4 | L8: Mês 5 | N8: Mês 6 | P8: Total
D9: Valor | E9: (%) | F9: Valor | G9: (%) | H9: Valor | I9: (%) | J9: Valor | K9: (%) | L9: Valor | M9: (%) | N9: Valor | O9: (%)
A10: ='Orçamento Geral'!C11 -> 1 | B10: ='Orçamento Geral'!D11 -> INSTALAÇÕES PROVISÓRIAS | C10: ='Orçamento Geral'!O13 -> 2493.3 | D10: =E10*$C$10 -> 2493.3 | E10: 1 | F10: =G10*$C$10 -> 0 | H10: =I10*$C$10 -> 0 | J10: =K10*$C$10 -> 0 | L10: =M10*$C$10 -> 0 | N10: =O10*$C$10 -> 0 | P10: =SUM(D10,F10,H10,J10,L10,N10) -> 2493.3 | Q10: =P10/C10 -> 1
A11: ='Orçamento Geral'!C14 -> 2 | B11: ='Orçamento Geral'!D14 -> FUNDAÇÕES | C11: ='Orçamento Geral'!O22 -> 15949.68 | D11: =E11*$C$11 -> 15949.68 | E11: 1 | F11: =G11*$C$11 -> 0 | H11: =I11*$C$11 -> 0 | J11: =K11*$C$11 -> 0 | L11: =M11*$C$11 -> 0 | N11: =O11*$C$11 -> 0 | P11: =SUM(D11,F11,H11,J11,L11,N11) -> 15949.68 | Q11: =P11/C11 -> 1
A12: ='Orçamento Geral'!C23 -> 3 | B12: ='Orçamento Geral'!D23 -> IMPERMEABILIZAÇÃO | C12: ='Orçamento Geral'!O25 -> 2784.45 | D12: =E12*$C$12 -> 1670.67 | E12: 0.6 | F12: =G12*$C$12 -> 1113.78 | G12: 0.4 | H12: =I12*$C$12 -> 0 | J12: =K12*$C$12 -> 0 | L12: =M12*$C$12 -> 0 | N12: =O12*$C$12 -> 0 | P12: =SUM(D12,F12,H12,J12,L12,N12) -> 2784.45 | Q12: =P12/C12 -> 1
A13: ='Orçamento Geral'!C26 -> 4 | B13: ='Orçamento Geral'!D26 -> SUPRA ESTRUTURA | C13: ='Orçamento Geral'!O32 -> 8475.89 | D13: =E13*$C$13 -> 3390.356 | E13: 0.4 | F13: =G13*$C$13 -> 5085.534 | G13: 0.6 | H13: =I13*$C$13 -> 0 | J13: =K13*$C$13 -> 0 | L13: =M13*$C$13 -> 0 | N13: =O13*$C$13 -> 0 | P13: =SUM(D13,F13,H13,J13,L13,N13) -> 8475.89 | Q13: =P13/C13 -> 1
A14: ='Orçamento Geral'!C33 -> 5 | B14: ='Orçamento Geral'!D33 -> ALVENARIAS | C14: ='Orçamento Geral'!O39 -> 27041.45 | D14: =E14*$C$14 -> 5408.29 | E14: 0.2 | F14: =G14*$C$14 -> 16224.87 | G14: 0.6 | H14: =I14*$C$14 -> 5408.29 | I14: 0.2 | J14: =K14*$C$14 -> 0 | L14: =M14*$C$14 -> 0 | N14: =O14*$C$14 -> 0 | P14: =SUM(D14,F14,H14,J14,L14,N14) -> 27041.45 | Q14: =P14/C14 -> 1
A15: ='Orçamento Geral'!C40 -> 6 | B15: ='Orçamento Geral'!D40 -> COBERTURA | C15: ='Orçamento Geral'!O47 -> 22638.93 | D15: =E15*$C$15 -> 0 | F15: =G15*$C$15 -> 0 | H15: =I15*$C$15 -> 18111.144 | I15: 0.8 | J15: =K15*$C$15 -> 4527.786 | K15: 0.2 | L15: =M15*$C$15 -> 0 | N15: =O15*$C$15 -> 0 | P15: =SUM(D15,F15,H15,J15,L15,N15) -> 22638.93 | Q15: =P15/C15 -> 1
A16: ='Orçamento Geral'!C48 -> 7 | B16: ='Orçamento Geral'!D48 -> INSTALAÇÕES ELÉTRICAS/TELEFONIA/LÓGICA | C16: ='Orçamento Geral'!O70 -> 15699.27 | D16: =E16*$C$16 -> 1569.927 | E16: 0.1 | F16: =G16*$C$16 -> 0 | H16: =I16*$C$16 -> 3139.854 | I16: 0.2 | J16: =K16*$C$16 -> 4709.781 | K16: 0.3 | L16: =M16*$C$16 -> 6279.708 | M16: 0.4 | N16: =O16*$C$16 -> 0 | P16: =SUM(D16,F16,H16,J16,L16,N16) -> 15699.27 | Q16: =P16/C16 -> 1
A17: ='Orçamento Geral'!C71 -> 8 | B17: ='Orçamento Geral'!D71 -> PRÉ-INSTALAÇÃO DE AR CONDICIONADO | C17: ='Orçamento Geral'!O79 -> 678.7 | D17: =E17*$C$17 -> 0 | F17: =G17*$C$17 -> 0 | H17: =I17*$C$17 -> 0 | J17: =K17*$C$17 -> 678.7 | K17: 1 | L17: =M17*$C$17 -> 0 | N17: =O17*$C$17 -> 0 | P17: =SUM(D17,F17,H17,J17,L17,N17) -> 678.7 | Q17: =P17/C17 -> 1
A18: ='Orçamento Geral'!C80 -> 9 | B18: ='Orçamento Geral'!D80 -> INSTALAÇÕES SANITÁRIAS | C18: ='Orçamento Geral'!O96 -> 12499.05 | D18: =E18*$C$18 -> 1249.905 | E18: 0.1 | F18: =G18*$C$18 -> 0 | H18: =I18*$C$18 -> 2499.81 | I18: 0.2 | J18: =K18*$C$18 -> 1249.905 | K18: 0.1 | L18: =M18*$C$18 -> 7499.43 | M18: 0.6 | N18: =O18*$C$18 -> 0 | P18: =SUM(D18,F18,H18,J18,L18,N18) -> 12499.05 | Q18: =P18/C18 -> 1
A19: ='Orçamento Geral'!C97 -> 10 | B19: ='Orçamento Geral'!D97 -> INSTALAÇÕES HIDRÁULICAS | C19: ='Orçamento Geral'!O109 -> 8808.02 | D19: =E19*$C$19 -> 880.802 | E19: 0.1 | F19: =G19*$C$19 -> 0 | H19: =I19*$C$19 -> 1761.604 | I19: 0.2 | J19: =K19*$C$19 -> 2642.406 | K19: 0.3 | L19: =M19*$C$19 -> 3523.208 | M19: 0.4 | N19: =O19*$C$19 -> 0 | P19: =SUM(D19,F19,H19,J19,L19,N19) -> 8808.02 | Q19: =P19/C19 -> 1
A20: ='Orçamento Geral'!C110 -> 11 | B20: ='Orçamento Geral'!D110 -> LOUÇAS, METAIS E EQUIPAMENTOS | C20: ='Orçamento Geral'!O117 -> 2102.69 | D20: =E20*$C$20 -> 0 | F20: =G20*$C$20 -> 0 | H20: =I20*$C$20 -> 0 | J20: =K20*$C$20 -> 0 | L20: =M20*$C$20 -> 2102.69 | M20: 1 | N20: =O20*$C$20 -> 0 | P20: =SUM(D20,F20,H20,J20,L20,N20) -> 2102.69 | Q20: =P20/C20 -> 1
A21: ='Orçamento Geral'!C118 -> 12 | B21: ='Orçamento Geral'!D118 -> PISO | C21: ='Orçamento Geral'!O123 -> 8156.32 | D21: =E21*$C$21 -> 0 | F21: =G21*$C$21 -> 0 | H21: =I21*$C$21 -> 0 | J21: =K21*$C$21 -> 8156.32 | K21: 1 | L21: =M21*$C$21 -> 0 | N21: =O21*$C$21 -> 0 | P21: =SUM(D21,F21,H21,J21,L21,N21) -> 8156.32 | Q21: =P21/C21 -> 1
A22: ='Orçamento Geral'!C124 -> 13 | B22: ='Orçamento Geral'!D124 -> REVESTIMENTO | C22: ='Orçamento Geral'!O127 -> 8145.1 | D22: =E22*$C$22 -> 0 | F22: =G22*$C$22 -> 0 | H22: =I22*$C$22 -> 0 | J22: =K22*$C$22 -> 6516.08 | K22: 0.8 | L22: =M22*$C$22 -> 1629.02 | M22: 0.2 | N22: =O22*$C$22 -> 0 | P22: =SUM(D22,F22,H22,J22,L22,N22) -> 8145.1 | Q22: =P22/C22 -> 1
A23: ='Orçamento Geral'!C128 -> 14 | B23: ='Orçamento Geral'!D128 -> ESQUADRIAS | C23: ='Orçamento Geral'!O136 -> 19478.02 | D23: =E23*$C$23 -> 0 | F23: =G23*$C$23 -> 0 | H23: =I23*$C$23 -> 0 | J23: =K23*$C$23 -> 15582.416 | K23: 0.8 | L23: =M23*$C$23 -> 3895.604 | M23: 0.2 | N23: =O23*$C$23 -> 0 | P23: =SUM(D23,F23,H23,J23,L23,N23) -> 19478.02 | Q23: =P23/C23 -> 1
A24: ='Orçamento Geral'!C137 -> 15 | B24: ='Orçamento Geral'!D137 -> PINTURAS | C24: ='Orçamento Geral'!O139 -> 9381.95 | D24: =E24*$C$24 -> 0 | F24: =G24*$C$24 -> 0 | H24: =I24*$C$24 -> 0 | J24: =K24*$C$24 -> 0 | L24: =M24*$C$24 -> 7505.56 | M24: 0.8 | N24: =O24*$C$24 -> 1876.39 | O24: 0.2 | P24: =SUM(D24,F24,H24,J24,L24,N24) -> 9381.95 | Q24: =P24/C24 -> 1
A25: ='Orçamento Geral'!C140 -> 16 | B25: ='Orçamento Geral'!D140 -> PPCI | C25: ='Orçamento Geral'!O145 -> 655.49 | D25: =E25*$C$25 -> 0 | F25: =G25*$C$25 -> 0 | H25: =I25*$C$25 -> 0 | J25: =K25*$C$25 -> 0 | L25: =M25*$C$25 -> 655.49 | M25: 1 | N25: =O25*$C$25 -> 0 | P25: =SUM(D25,F25,H25,J25,L25,N25) -> 655.49 | Q25: =P25/C25 -> 1
A26: ='Orçamento Geral'!C146 -> 17 | B26: ='Orçamento Geral'!D146 -> CERCAMENTO | C26: ='Orçamento Geral'!O159 -> 99744.53 | D26: =E26*$C$26 -> 9974.453 | E26: 0.1 | F26: =G26*$C$26 -> 14961.68 | G26: 0.15 | H26: =I26*$C$26 -> 14961.68 | I26: 0.15 | J26: =K26*$C$26 -> 14961.68 | K26: 0.15 | L26: =M26*$C$26 -> 14961.68 | M26: 0.15 | N26: =O26*$C$26 -> 29923.359 | O26: 0.3 | P26: =SUM(D26,F26,H26,J26,L26,N26) -> 99744.53 | Q26: =P26/C26 -> 1
A27: TOTAL DO ORÇAMENTO | C27: =SUM(C10:C26) -> 264732.84 | D27: =SUM(D10:D26) -> 42587.383 | F27: =SUM(F10:F26) -> 37385.864 | H27: =SUM(H10:H26) -> 45882.382 | J27: =SUM(J10:J26) -> 59025.073 | L27: =SUM(L10:L26) -> 48052.39 | N27: =SUM(N10:N26) -> 31799.749 | P27: =SUM(P10:P26) -> 264732.84 | Q27: =P27/C27 -> 1
B29: TAQUARI, 14 DE JULHO DE 2026
B32: ________________________________________________
B34: FLÁVIO DE ANDRADE
B35: ENG. CIVIL E ENG. DE SEGURANÇA - CREA RS 111653
D38: =D27+F27+H27+J27 -> 184880.7

Sheet Quadro de Resumo
A2: QUADRO DE RESUMO CASA MODELO 1
A3: Obra: Casas do Incra
A4: Enfereço: Taquari / RS
A5: SINAPI Data Base - Agosto/2025- Sem Desoneração
A6: Área: 41,23 m²
A8: Item | B8: Descrição | C8: Total
A10: 1 | B10: INSTALAÇÕES PROVISÓRIAS | C10: ='Planilha Orçamentária'!O13 -> 4588.279
A11: 2 | B11: FUNDAÇÕES | C11: ='Planilha Orçamentária'!O22 -> 17677.876
A12: 3 | B12: IMPERMEABILIZAÇÃO | C12: ='Planilha Orçamentária'!O26 -> 6270.1311
A13: 4 | B13: SUPRA ESTRUTURA | C13: ='Planilha Orçamentária'!O33 -> 13866.95
A14: 5 | B14: PAREDES E VEDAÇÕES | C14: ='Planilha Orçamentária'!O38 -> 16127.525
A15: 6 | B15: COBERTURA | C15: ='Planilha Orçamentária'!O46 -> 13235.969
A16: 7 | B16: INSTALAÇÕES ELÉTRICA/TELEFONIA/LÓGICA | C16: ='Planilha Orçamentária'!O68 -> 11139.171
A17: 8 | B17: INSTALAÇÕES SANITÁRIAS | C17: ='Planilha Orçamentária'!O85 -> 7605.4486
A18: 9 | B18: INSTALAÇÕES HIDRÁULICAS | C18: ='Planilha Orçamentária'!O98 -> 2625.1901
A19: 10 | B19: LOUÇAS, METAIS E EQUIPAMENTOS | C19: ='Planilha Orçamentária'!O106 -> 2118.6756
A20: 11 | B20: PISO | C20: ='Planilha Orçamentária'!O112 -> 8964.2606
A21: 12 | B21: REVESTIMENTO | C21: ='Planilha Orçamentária'!O118 -> 19255.86
A22: 13 | B22: ESQUADRIAS | C22: ='Planilha Orçamentária'!O129 -> 12008.729
A23: 14 | B23: PINTURAS | C23: ='Planilha Orçamentária'!O134 -> 2265.2344
C24: =SUM(C10:C23) -> 137749.3
B26: Taquari, dezembro de 2025.
B28: _________________________________________
B29: Engenheiro Civil - CREA RS 152282
B30: Sergio Vinicius Noschang

Sheet Composição
A3: Período: 06/2023 (Não Desonerado)
A4: Estado: Rio Grande do Sul
A5: Obra: Centro Especial de Amparo à Criança e ao Adolescente - CEACAT
A6: Planilha Analítica de Composições
D9: MAT | E9: =G12+G14+G15+G17+G18 -> 66.01 | G9: =E9+E10 -> 72.2
D10: MO | E10: =G13+G16 -> 6.19
A11: COMPOSIÇÃO 01 | B11: 8 | C11: ESTACA ESCAVADA MECANICAMENTE, SEM FLUIDO ESTABILIZANTE, COM 30CM DE DIÂMETRO, CONCRETO LANÇADO POR CAMINHÃO BETONEIRA (EXCLUSIVE MOBILIZAÇÃO E DESMOBILIZAÇÃO) | D11: UNID. | E11: COEFICIENTE | F11: R$ UNIT. | G11: R$ TOTAL
A12: I | B12: 38405 | C12: CONCRETO USINADO BOMBEAVEL, CLASSE DE RESISTENCIA C25, COM BRITA 0 E 1, SLUMP = 130 +/- 20 MM, EXCLUI SERVICO DE BOMBEAMENTO (NBR 8953) | D12: M3 | E12: 0.077754 | F12: 568.57 | G12: =ROUND((E12*F12),2) -> 44.21
A13: C | B13: 88316 | C13: SERVENTE COM ENCARGOS COMPLEMENTARES | D13: H | E13: 0.2263 | F13: 24.31 | G13: =ROUND((E13*F13),2) -> 5.5
A14: C | B14: 90680 | C14: PERFURATRIZ HIDRÁULICA SOBRE CAMINHÃO COM TRADO CURTO ACOPLADO, PROFUNDIDADE MÁXIMA DE 20 M, DIÂMETRO MÁXIMO DE 1500 MM, POTÊNCIA INSTALADA DE 137 HP, MESA ROTATIVA COM TORQUE MÁXIMO DE 30 KNM - CHP DIURNO. AF_06/2015 | D14: CHP | E14: 0.0247 | F14: 452.73 | G14: =ROUND((E14*F14),2) -> 11.18
A15: C | B15: 90681 | C15: PERFURATRIZ HIDRÁULICA SOBRE CAMINHÃO COM TRADO CURTO ACOPLADO, PROFUNDIDADE MÁXIMA DE 20 M, DIÂMETRO MÁXIMO DE 1500 MM, POTÊNCIA INSTALADA DE 137 HP, MESA ROTATIVA COM TORQUE MÁXIMO DE 30 KNM - CHI DIURNO. AF_06/2015 | D15: CHI | E15: 0.049 | F15: 203 | G15: =ROUND((E15*F15),2) -> 9.95
A16: C | B16: 90778 | C16: ENGENHEIRO CIVIL DE OBRA PLENO COM ENCARGOS COMPLEMENTARES | D16: H | E16: 0.0051 | F16: 135.8 | G16: =ROUND((E16*F16),2) -> 0.69
A17: C | B17: 97913 | C17: TRANSPORTE COM CAMINHÃO BASCULANTE DE 6 M³, EM VIA URBANA EM REVESTIMENTO PRIMÁRIO (UNIDADE: M3XKM). AF_07/2020 | D17: M3XKM | E17: 0.0205 | F17: 3.44 | G17: =ROUND((E17*F17),2) -> 0.07
A18: C | B18: 100973 | C18: CARGA, MANOBRA E DESCARGA DE SOLOS E MATERIAIS GRANULARES EM CAMINHÃO BASCULANTE 6 M³ - CARGA COM PÁ CARREGADEIRA (CAÇAMBA DE 1,7 A 2,8 M³ / 128 HP) E DESCARGA LIVRE (UNIDADE: M3). AF_07/2020 | D18: M3 | E18: 0.0614 | F18: 9.8 | G18: =ROUND((E18*F18),2) -> 0.6
D20: MAT | E20: =G23+G26+G27 -> 682.27 | G20: =E20+E21 -> 706.16
D21: MO | E21: =G24+G25 -> 23.89
A22: COMPOSIÇÃO 02 | B22: 11 | C22: CONCRETAGEM DE BLOCOS DE VIGAS BALDRAMES, FCK 25 MPA, COM USO DE BOMBA LANÇAMENTO, ADENSAMENTO E ACABAMENTO. AF_06/2017 | D22: UNID. | E22: COEFICIENTE | F22: R$ UNIT. | G22: R$ TOTAL
A23: I | B23: 1527 | C23: CONCRETO USINADO BOMBEAVEL, CLASSE DE RESISTENCIA C25, COM BRITA 0 E 1, SLUMP = 100 +/- 20 MM, INCLUI SERVICO DE BOMBEAMENTO (NBR 8953) | D23: M3 | E23: 1.15 | F23: 593.13 | G23: =ROUND((E23*F23),2) -> 682.1
A24: C | B24: 88309 | C24: PEDREIRO COM ENCARGOS COMPLEMENTARES | D24: H | E24: 0.363 | F24: 29.39 | G24: =ROUND((E24*F24),2) -> 10.67
A25: C | B25: 88316 | C25: SERVENTE COM ENCARGOS COMPLEMENTARES | D25: H | E25: 0.544 | F25: 24.31 | G25: =ROUND((E25*F25),2) -> 13.22
A26: C | B26: 90586 | C26: VIBRADOR DE IMERSÃO, DIÂMETRO DE PONTEIRA 45MM, MOTOR ELÉTRICO TRIFÁSICO POTÊNCIA DE 2 CV - CHP DIURNO. AF_06/2015 | D26: CHP | E26: 0.088 | F26: 1.42 | G26: =ROUND((E26*F26),2) -> 0.12
A27: C | B27: 90587 | C27: VIBRADOR DE IMERSÃO, DIÂMETRO DE PONTEIRA 45MM, MOTOR ELÉTRICO TRIFÁSICO POTÊNCIA DE 2 CV - CHI DIURNO. AF_06/2015 | D27: CHI | E27: 0.093 | F27: 0.55 | G27: =ROUND((E27*F27),2) -> 0.05
D30: MAT | E30: =G33 -> 41.16 | G30: =E30+E31 -> 63.831078
D31: MO | E31: =G34+G35 -> 22.671078
A32: COMPOSIÇÃO 03 | C32: PAINEL LED QUADRADO DE SOBREPOR, 12 W, 17CM X 17CM | D32: UNID. | E32: COEFICIENTE | F32: R$ UNIT. | G32: R$ TOTAL
A33: I | B33: PESQUISA | C33: PAINEL LED QUADRADO DE SOBREPOR 12W, 17CM X17CM | D33: UN | E33: 1 | F33: 41.16 | G33: =F33*E33 -> 41.16
A34: C | B34: 88247 | C34: AUXILIAR DE ELETRICISTA COM ENCARGOS COMPLEMENTARES | D34: H | E34: 0.2231 | F34: 26.13 | G34: =F34*E34 -> 5.829603
A35: C | B35: 88264 | C35: ELETRICISTA COM ENCARGOS COMPLEMENTARES | D35: H | E35: 0.5355 | F35: 31.45 | G35: =F35*E35 -> 16.841475
D37: MAT | E37: =G40+G41 -> 151.25047 | G37: =E37+E38 -> 206.02447
D38: MO | E38: =G42+G43 -> 54.774
A39: COMPOSIÇÃO 04 | C39: MURO BLOCO GRES - ARGAM. ci-ar 1:6 | D39: M2 | E39: COEFICIENTE | F39: R$ UNIT. | G39: R$ TOTAL
A40: COMPOSICAO | B40: 87372 | C40: ARGAMASSA TRAÇO 1:3 (EM VOLUME DE CIMENTO E AREIA MÉDIA ÚMIDA) PARA CONTRA PISO, PREPARO MANUAL. AF_08/2019 | D40: M3 | E40: 0.0963 | F40: 926.09 | G40: =E40*F40 -> 89.182467
A41: COTAÇÃO | B41: PESQUISA | C41: Pedra de arenito bitolada 45x22x14 | D41: UN | E41: 10.52 | F41: 5.9 | G41: =E41*F41 -> 62.068
A42: COMPOSICAO | B42: 88309 | C42: PEDREIRO COM ENCARGOS COMPLEMENTARES | D42: H | E42: 1.02 | F42: 29.39 | G42: =E42*F42 -> 29.9778
A43: COMPOSICAO | B43: 88316 | C43: SERVENTE COM ENCARGOS COMPLEMENTARES | D43: H | E43: 1.02 | F43: 24.31 | G43: =E43*F43 -> 24.7962
A48: Taquari, setembro de 2025.
A52: Sergio Vinicius Noschang
E53: Engenheiro Civil - CREA RS 152282

Sheet Memória de Cálculo
A3: OBRA: | C3: ='[1]Orçamento por Sala'!C2 -> PREFEITURA TAQUARI - SUBSOLO
A4: ENDEREÇO: | C4: ='[1]Orçamento por Sala'!C3 -> RUA OSVALDO ARANHA, 1790 - BAIRRO CENTRO - TAQUARI/RS
A5: FONTE: | C5: ='[1]Orçamento por Sala'!C4 -> SINAPI - RIO GRANDE DO SUL DEZEMBRO/2025 NÃO DESONERADO
C6: ='[1]Orçamento por Sala'!C5 -> ORSE - NOVEMBRO/2025
A7: MEMÓRIA DE CÁLCULO
A9: Item | B9: Descrição | C9: Unidade | D9: Memória de Cálculo | E9: Total
A10: ='Orçamento Geral'!C33 -> 5 | B10: ='Orçamento Geral'!D33 -> ALVENARIAS
A11: ='Orçamento Geral'!C35 -> 5.2 | B11: ='Orçamento Geral'!D35 -> ARMAÇÃO VERTICAL DE ALVENARIA ESTRUTURAL; DIÂMETRO DE 10,0 MM. AF_09/2021 | C11: ='Orçamento Geral'!E35 -> KG | D11: (2,8m*19)+(5m*4) = 73,2m*0,617 = 45,16kg | E11: 45.16
A12: ='Orçamento Geral'!C36 -> 5.3 | B12: ='Orçamento Geral'!D36 -> GRAUTEAMENTO VERTICAL EM ALVENARIA ESTRUTURAL. AF_09/2021 | C12: ='Orçamento Geral'!E36 -> M3 | D12: 73,2m*0,010m³/m = 0,73m³ | E12: 0.73
A13: ='Orçamento Geral'!C146 -> 17 | B13: ='Orçamento Geral'!D146 -> CERCAMENTO
A14: ='Orçamento Geral'!#REF! -> #REF! | B14: ='Orçamento Geral'!#REF! -> #REF! | C14: ='Orçamento Geral'!#REF! -> #REF! | D14: (Considerando 10cm de cada lado e profundidade de 60cm) 0,60m*0,6m*0,6m*37sapatas = 7,99m³ | E14: 7.99
A15: ='Orçamento Geral'!#REF! -> #REF! | B15: ='Orçamento Geral'!#REF! -> #REF! | C15: ='Orçamento Geral'!#REF! -> #REF! | D15: 0,64m²*37sapatas = 23,68m² | E15: 23.68
A16: ='Orçamento Geral'!#REF! -> #REF! | B16: ='Orçamento Geral'!#REF! -> #REF! | C16: ='Orçamento Geral'!#REF! -> #REF! | D16: 1,75kg*37sapatas = 64,75kg | E16: 64.75
A17: ='Orçamento Geral'!#REF! -> #REF! | B17: ='Orçamento Geral'!#REF! -> #REF! | C17: ='Orçamento Geral'!#REF! -> #REF! | D17: 0,4m*0,4m*0,4m*37sapatas = 2,37m³ | E17: 2.37
A18: ='Orçamento Geral'!#REF! -> #REF! | B18: ='Orçamento Geral'!#REF! -> #REF! | C18: ='Orçamento Geral'!#REF! -> #REF! | D18: 0,15m³*37sapatas = 5,55m³ | E18: 5.55
A21: TAQUARI, 02 DE ABRIL DE 2026
A24: ________________________________________________
A25: FLÁVIO DE ANDRADE
A26: ENG. CIVIL E ENG. DE SEGURANÇA - CREA RS 111653
