Workbook
Name _AA100000: #REF!
Name _AA100000: #REF!
Name _Fill: #REF!
Name _Fill: #REF!
Name _LOC10: #REF!
Name _LOC10: #REF!
Name _LOC11: #REF!
Name _LOC11: #REF!
Name _LOC12: #REF!
Name _LOC12: #REF!
Name _LOC13: #REF!
Name _LOC14: #REF!
Name _LOC15: #REF!
Name _LOC16: #REF!
Name _LOC17: #REF!
Name _LOC18: #REF!
Name _LOC19: #REF!
Name _LOC2: #REF!
Name _LOC20: #REF!
Name _LOC21: #REF!
Name _LOC22: #REF!
Name _LOC23: #REF!
Name _LOC24: #REF!
Name _LOC25: #REF!
Name _LOC26: #REF!
Name _LOC27: #REF!
Name _LOC28: #REF!
Name _LOC29: #REF!
Name _LOC3: #REF!
Name _LOC30: #REF!
Name _LOC31: #REF!
Name _LOC32: #REF!
Name _LOC33: #REF!
Name _LOC34: #REF!
Name _LOC35: #REF!
Name _LOC36: #REF!
Name _LOC37: #REF!
Name _LOC38: #REF!
Name _LOC39: #REF!
Name _LOC4: #REF!
Name _LOC40: #REF!
Name _LOC41: #REF!
Name _LOC42: #REF!
Name _LOC5: #REF!
Name _LOC6: #REF!
Name _LOC7: #REF!
Name _LOC8: #REF!
Name _LOC9: #REF!
Name _R: #REF!
Name AAA: #REF!
Name AC: #REF!
Name AL: #REF!
Name Área_impressão_IM: #REF!
Name Área_impressão_IM: #REF!
Name B.01.05.10.10: #REF!
Name B.01.05.10.10: #REF!
Name CD: #REF!
Name CD: #REF!
Name CP: #REF!
Name CS: #REF!

Sheet DADOS GERAIS
B2: DADOS GERAIS
B8: Secretaria de Atenção Especializada à Saúde
B9: =C15 -> Unidade Básica de Saúde Porte 2 - Área Construída: 500,17m²
B11: Bancos:
B12: SINAPI (11/2024) - CPOS/CDHU (01/2025) - SBC (01/2025) - ORSE (10/2024) - IOPES (08/2024) - EMOP (11/2024) - SEINFRA (028)
B15: Obra: | C15: Unidade Básica de Saúde Porte 2 - Área Construída: 500,17m²
B16: Local: | C16: Ministério da Saúde - Departamento de Estratégias e Políticas de Saúde Comunitária
B17: Região: | C17: RS
B18: Data Base: | C18: 45597
B19: BDI Geral (%): | C19: ='BDI SEM DESONERAÇÃO'!E36 -> 0.24017566
B20: BDI Equipamentos (%): | C20: ='BDI SEM DESONERAÇÃO'!F36 -> 0.13512301
B21: Área construída (m²): | C21: 500.17
B22: Data: | C22: 11/02/2025
B23: Revisão: | C23: 00
B24: Responsável Técnico pelo Orçamento:
B25: Cargo Responsável Técnico:
B31: ________________________________________________________________________________
B32: =C24 -> 0
B33: =C25 -> 0

Sheet RESUMO
B2: PLANILHA RESUMO
B8: ='DADOS GERAIS'!B8 -> Secretaria de Atenção Especializada à Saúde | D8: BDI Geral: | E8: Encargo Social Mensalista: | F8: ='DADOS GERAIS'!$B$22 -> Data:
B9: ='DADOS GERAIS'!B9 -> Unidade Básica de Saúde Porte 2 - Área Construída: 500,17m² | D9: ='DADOS GERAIS'!C19 -> 0.24017566 | E9: ='ENCARGOS SOCIAIS'!F56 -> 0.6979 | F9: ='DADOS GERAIS'!$C$22 -> 11/02/2025
B11: ='DADOS GERAIS'!B11 -> Bancos: | D11: BDI Equipamentos: | E11: Encargo Social Horista: | F11: ='DADOS GERAIS'!$B$23 -> Revisão:
B12: ='DADOS GERAIS'!B12 -> SINAPI (11/2024) - CPOS/CDHU (01/2025) - SBC (01/2025) - ORSE (10/2024) - IOPES (08/2024) - EMOP (11/2024) - SEINFRA (028) | D12: ='DADOS GERAIS'!C20 -> 0.13512301 | E12: ='ENCARGOS SOCIAIS'!E56 -> 1.1287768 | F12: ='DADOS GERAIS'!$C$23 -> 00
B15: ITEM | C15: DESCRIÇÃO | E15: PREÇO | F15: %
B17: 1 | C17: {=INDEX('ORC. SINTÉTICO'!$E:$E,MATCH($B17,'ORC. SINTÉTICO'!$B:$B,0))} -> SERVIÇOS PRELIMINARES E INDIRETOS | E17: {=INDEX('ORC. SINTÉTICO'!$N:$N,MATCH($B17,'ORC. SINTÉTICO'!$B:$B,0))} -> 30089.975 | F17: =IFERROR(E17/$E$39,"-") -> 0.012348512
B18: 2 | C18: {=INDEX('ORC. SINTÉTICO'!$E:$E,MATCH($B18,'ORC. SINTÉTICO'!$B:$B,0))} -> FUNDAÇÃO | E18: {=INDEX('ORC. SINTÉTICO'!$N:$N,MATCH($B18,'ORC. SINTÉTICO'!$B:$B,0))} -> 262901.5 | F18: =IFERROR(E18/$E$39,"-") -> 0.10789116
B19: 3 | C19: {=INDEX('ORC. SINTÉTICO'!$E:$E,MATCH($B19,'ORC. SINTÉTICO'!$B:$B,0))} -> ESTRUTURA | E19: {=INDEX('ORC. SINTÉTICO'!$N:$N,MATCH($B19,'ORC. SINTÉTICO'!$B:$B,0))} -> 338382.02 | F19: =IFERROR(E19/$E$39,"-") -> 0.13886733
B20: 4 | C20: {=INDEX('ORC. SINTÉTICO'!$E:$E,MATCH($B20,'ORC. SINTÉTICO'!$B:$B,0))} -> ALVENARIA, VEDAÇÕES E DIVISÓRIAS | E20: {=INDEX('ORC. SINTÉTICO'!$N:$N,MATCH($B20,'ORC. SINTÉTICO'!$B:$B,0))} -> 235266.13 | F20: =IFERROR(E20/$E$39,"-") -> 0.096549987
B21: 5 | C21: {=INDEX('ORC. SINTÉTICO'!$E:$E,MATCH($B21,'ORC. SINTÉTICO'!$B:$B,0))} -> COBERTURA | E21: {=INDEX('ORC. SINTÉTICO'!$N:$N,MATCH($B21,'ORC. SINTÉTICO'!$B:$B,0))} -> 120023.72 | F21: =IFERROR(E21/$E$39,"-") -> 0.049256086
B22: 6 | C22: {=INDEX('ORC. SINTÉTICO'!$E:$E,MATCH($B22,'ORC. SINTÉTICO'!$B:$B,0))} -> IMPERMEABILIZAÇÃO | E22: {=INDEX('ORC. SINTÉTICO'!$N:$N,MATCH($B22,'ORC. SINTÉTICO'!$B:$B,0))} -> 17536.64 | F22: =IFERROR(E22/$E$39,"-") -> 0.0071967961
B23: 7 | C23: {=INDEX('ORC. SINTÉTICO'!$E:$E,MATCH($B23,'ORC. SINTÉTICO'!$B:$B,0))} -> ESQUADRIAS | E23: {=INDEX('ORC. SINTÉTICO'!$N:$N,MATCH($B23,'ORC. SINTÉTICO'!$B:$B,0))} -> 245102.5 | F23: =IFERROR(E23/$E$39,"-") -> 0.1005867
B24: 8 | C24: {=INDEX('ORC. SINTÉTICO'!$E:$E,MATCH($B24,'ORC. SINTÉTICO'!$B:$B,0))} -> REVESTIMENTO DE PAREDE | E24: {=INDEX('ORC. SINTÉTICO'!$N:$N,MATCH($B24,'ORC. SINTÉTICO'!$B:$B,0))} -> 106598.29 | F24: =IFERROR(E24/$E$39,"-") -> 0.043746474
B25: 9 | C25: {=INDEX('ORC. SINTÉTICO'!$E:$E,MATCH($B25,'ORC. SINTÉTICO'!$B:$B,0))} -> REVESTIMENTO DE PISO INTERNO | E25: {=INDEX('ORC. SINTÉTICO'!$N:$N,MATCH($B25,'ORC. SINTÉTICO'!$B:$B,0))} -> 145648.16 | F25: =IFERROR(E25/$E$39,"-") -> 0.059772004
B26: 10 | C26: {=INDEX('ORC. SINTÉTICO'!$E:$E,MATCH($B26,'ORC. SINTÉTICO'!$B:$B,0))} -> REVESTIMENTO DE PISO EXTERNO | E26: {=INDEX('ORC. SINTÉTICO'!$N:$N,MATCH($B26,'ORC. SINTÉTICO'!$B:$B,0))} -> 54364.62 | F26: =IFERROR(E26/$E$39,"-") -> 0.022310493
B27: 11 | C27: {=INDEX('ORC. SINTÉTICO'!$E:$E,MATCH($B27,'ORC. SINTÉTICO'!$B:$B,0))} -> REVESTIMENTO DE TETO | E27: {=INDEX('ORC. SINTÉTICO'!$N:$N,MATCH($B27,'ORC. SINTÉTICO'!$B:$B,0))} -> 54869.32 | F27: =IFERROR(E27/$E$39,"-") -> 0.022517615
B28: 12 | C28: {=INDEX('ORC. SINTÉTICO'!$E:$E,MATCH($B28,'ORC. SINTÉTICO'!$B:$B,0))} -> PINTURA | E28: {=INDEX('ORC. SINTÉTICO'!$N:$N,MATCH($B28,'ORC. SINTÉTICO'!$B:$B,0))} -> 101421.96 | F28: =IFERROR(E28/$E$39,"-") -> 0.041622179
... B37: 21 | C37: {=INDEX('ORC. SINTÉTICO'!$E:$E,MATCH($B37,'ORC. SINTÉTICO'!$B:$B,0))} -> SERVIÇOS COMPLEMENTARES | E37: {=INDEX('ORC. SINTÉTICO'!$N:$N,MATCH($B37,'ORC. SINTÉTICO'!$B:$B,0))} -> 1410.47 | F37: =IFERROR(E37/$E$39,"-") -> 0.00057883751
B39: TOTAL | E39: =SUBTOTAL(9,E17:E37) -> 2436728.7 | F39: =SUBTOTAL(9,F17:F37) -> 1
B41: Notas:
B42: Estão exclusos do escopo: movimentação de terra, mobiliário e equipamentos, piso intertravado, bate-macas, chapas metálicas das portas, paisagismo (exceto grama), instalações de automação, CFTV, energia fotovoltaica, controle de acesso, CATV, sonorização, compressor odontológico e bomba de vacuo odontológico portatéis e equipamentos de ar condicionado.
B49: ________________________________________________________________________________
B50: ='DADOS GERAIS'!C24 -> 0
B51: ='DADOS GERAIS'!C25 -> 0

Sheet ORC. SINTÉTICO
B2: PLANILHA DE ORÇAMENTO SINTÉTICO
B8: ='DADOS GERAIS'!$B$8 -> Secretaria de Atenção Especializada à Saúde | K8: =RESUMO!D8 -> BDI Geral: | M8: =RESUMO!E8 -> Encargo Social Mensalista: | O8: ='DADOS GERAIS'!$B$22 -> Data:
B9: ='DADOS GERAIS'!$B$9 -> Unidade Básica de Saúde Porte 2 - Área Construída: 500,17m² | K9: =RESUMO!D9 -> 0.24017566 | M9: =RESUMO!E9 -> 0.6979 | O9: ='DADOS GERAIS'!$C$22 -> 11/02/2025
B11: =RESUMO!B11 -> Bancos: | K11: =RESUMO!D11 -> BDI Equipamentos: | M11: =RESUMO!E11 -> Encargo Social Horista: | O11: ='DADOS GERAIS'!$B$23 -> Revisão:
B12: ='DADOS GERAIS'!$B$12 -> SINAPI (11/2024) - CPOS/CDHU (01/2025) - SBC (01/2025) - ORSE (10/2024) - IOPES (08/2024) - EMOP (11/2024) - SEINFRA (028) | K12: =RESUMO!D12 -> 0.13512301 | M12: =RESUMO!E12 -> 1.1287768 | O12: ='DADOS GERAIS'!$C$23 -> 00
B15: Item | C15: Código | D15: Banco | E15: Descrição | F15: Und | G15: Quant. | H15: Valor Unit | I15: Valor Unit com BDI | L15: Total | O15: Peso (%)
I16: M. O. | J16: MAT. | K16: Total | L16: M. O. | M16: MAT. | N16: Total
B18: 1 | E18: SERVIÇOS PRELIMINARES E INDIRETOS | N18: =N19+N25+N27 -> 30089.975 | O18: =N18/N471 -> 0.012348512
B19: 1.1 | E19: CANTEIRO DE OBRAS | N19: =N20+N21+N22+N23+N24 -> 10289.82 | O19: =N19/N18 -> 0.34196838
B20: 1.1.2 | C20: 11703 | D20: ORSE | E20: Barracão aberto para apoio à produção (carpintaria, central de armação, oficina, etc.) c/ tesouras, telha 4mm, piso em concreto desempolado | F20: m² | G20: 16 | H20: 193.83 | I20: 60.15 | J20: 174.01 | K20: 234.16 | L20: =I20*G20 -> 962.4 | M20: =J20*G20 -> 2784.16 | N20: =L20+M20 -> 3746.56 | O20: =N20/N$19 -> 0.36410355
B21: 1.1.5 | C21: 95648 | D21: SINAPI | E21: KIT CAVALETE PARA MEDIÇÃO DE ÁGUA - ENTRADA INDIVIDUALIZADA, EM CPVC DN 28 MM (1"), PARA 1 MEDIDOR - FORNECIMENTO E INSTALAÇÃO (EXCLUSIVE HIDRÔMETRO). AF_03/2024 | F21: UN | G21: 1 | H21: 591.34 | I21: 84.45 | J21: 629.94 | K21: 714.39 | L21: =I21*G21 -> 84.45 | M21: =J21*G21 -> 629.94 | N21: =L21+M21 -> 714.39 | O21: =N21/N$19 -> 0.06942687
B22: 1.1.6 | C22: 95673 | D22: SINAPI | E22: HIDRÔMETRO DN 1/2", 1,5 M3/H - FORNECIMENTO E INSTALAÇÃO. AF_03/2024 | F22: UN | G22: 1 | H22: 169.02 | I22: 22.18 | J22: 182.01 | K22: 204.19 | L22: =I22*G22 -> 22.18 | M22: =J22*G22 -> 182.01 | N22: =L22+M22 -> 204.19 | O22: =N22/N$19 -> 0.019843885
B23: 1.1.7 | C23: 101509 | D23: SINAPI | E23: ENTRADA DE ENERGIA ELÉTRICA, AÉREA, TRIFÁSICA, COM CAIXA DE EMBUTIR, CABO DE 10 MM2 E DISJUNTOR DIN 50A (NÃO INCLUSO O POSTE DE CONCRETO). AF_07/2020_PS | F23: UN | G23: 1 | H23: 1896.83 | I23: 501.36 | J23: 1790.2 | K23: 2291.56 | L23: =I23*G23 -> 501.36 | M23: =J23*G23 -> 1790.2 | N23: =L23+M23 -> 2291.56 | O23: =N23/N$19 -> 0.22270166
B24: 1.1.8 | C24: 103689 | D24: SINAPI | E24: FORNECIMENTO E INSTALAÇÃO DE PLACA DE OBRA COM CHAPA GALVANIZADA E ESTRUTURA DE MADEIRA. AF_03/2022_PS | F24: m² | G24: 6 | H24: 459.83 | I24: 39.23 | J24: 516.29 | K24: 555.52 | L24: =I24*G24 -> 235.38 | M24: =J24*G24 -> 3097.74 | N24: =L24+M24 -> 3333.12 | O24: =N24/N$19 -> 0.32392403
B25: 1.2 | E25: ADMINISTRAÇÃO LOCAL DA OBRA | N25: =N26 -> 13844.105 | O25: =N25/N18 -> 0.46009027
C26: 93572 | D26: SINAPI | E26: ENCARREGADO GERAL DE OBRAS COM ENCARGOS COMPLEMENTARES | F26: MES | G26: 2.4 | H26: 11162.8 | N26: =H26*1.2402 -> 13844.105 | O26: =N26/N25 -> 1
B27: 1.3 | E27: MOBILIZAÇÃO E DESMOBILIZAÇÃO | N27: =N28 -> 5956.05 | O27: =N27/N18 -> 0.19794134
B28: 1.3.1 | C28: 012689 | D28: SBC | E28: MOBILIZACAO E DESMOBILIZACAO DE CANTEIRO | F28: UN | G28: 1 | H28: 4930.1 | I28: 5954.67 | J28: 1.38 | K28: 5956.05 | L28: 5954.67 | M28: 1.38 | N28: 5956.05 | O28: =N28/N27 -> 1
B29: 2 | E29: FUNDAÇÃO | N29: =N30+N31+N32+N33+N34+N35+N36+N37+N38+N39+N40+N41+N42+N43+N44+N45 -> 262901.5 | O29: =N29/N471 -> 0.10789116
B30: 2.1 | C30: 99059 | D30: SINAPI | E30: LOCAÇÃO CONVENCIONAL DE OBRA, UTILIZANDO GABARITO DE TÁBUAS CORRIDAS PONTALETADAS A CADA 2,00M - 2 UTILIZAÇÕES. AF_03/2024 | F30: M | G30: 135.65 | H30: 57.28 | I30: 37.3 | J30: 31.89 | K30: 69.19 | L30: =I30*G30 -> 5059.745 | M30: =J30*G30 -> 4325.8785 | N30: =M30+L30 -> 9385.6235 | O30: =N30/N$29 -> 0.035700152
B31: 2.2 | C31: 90100 | D31: SINAPI | E31: ESCAVAÇÃO MECANIZADA DE VALA COM PROF. ATÉ 1,5 M (MÉDIA MONTANTE E JUSANTE/UMA COMPOSIÇÃO POR TRECHO), RETROESCAV. (0,26 M3), LARG. DE 0,8 M A 1,5 M, EM SOLO DE 1A CATEGORIA, EM LOCAIS COM ALTO NÍVEL DE INTERFERÊNCIA. AF_02/2021 | F31: m³ | G31: 190.69 | H31: 13.71 | I31: 6.21 | J31: 10.35 | K31: 16.56 | L31: =I31*G31 -> 1184.1849 | M31: =J31*G31 -> 1973.6415 | N31: =M31+L31 -> 3157.8264 | O31: =N31/N$29 -> 0.012011443
B32: 2.3 | C32: 93358 | D32: SINAPI | E32: ESCAVAÇÃO MANUAL DE VALA COM PROFUNDIDADE MENOR OU IGUAL A 1,30 M. AF_02/2021 | F32: m³ | G32: 47.67 | H32: 91.29 | I32: 82.87 | J32: 27.41 | K32: 110.28 | L32: =I32*G32 -> 3950.4129 | M32: =J32*G32 -> 1306.6347 | N32: =M32+L32 -> 5257.0476 | O32: =N32/N$29 -> 0.019996263
B33: 2.4 | C33: 100324 | D33: SINAPI | E33: LASTRO COM MATERIAL GRANULAR (PEDRA BRITADA N.1 E PEDRA BRITADA N.2), APLICADO EM PISOS OU LAJES SOBRE SOLO, ESPESSURA DE *10 CM*. AF_01/2024 | F33: m³ | G33: 63.85 | H33: 163.51 | I33: 55.36 | J33: 142.17 | K33: 197.53 | L33: =I33*G33 -> 3534.736 | M33: =J33*G33 -> 9077.5545 | N33: =M33+L33 -> 12612.29 | O33: =N33/N$29 -> 0.047973444
B34: 2.5 | C34: 96534 | D34: SINAPI | E34: FABRICAÇÃO, MONTAGEM E DESMONTAGEM DE FÔRMA PARA BLOCO DE COROAMENTO, EM MADEIRA SERRADA, E=25 MM, 4 UTILIZAÇÕES. AF_01/2024 | F34: m² | G34: 465.2 | H34: 74.38 | I34: 50.63 | J34: 39.22 | K34: 89.85 | L34: =I34*G34 -> 23553.076 | M34: =J34*G34 -> 18245.144 | N34: =M34+L34 -> 41798.22 | O34: =N34/N$29 -> 0.15898814
B35: 2.6 | C35: 96543 | D35: SINAPI | E35: ARMAÇÃO DE BLOCO UTILIZANDO AÇO CA-60 DE 5 MM - MONTAGEM. AF_01/2024 | F35: KG | G35: 536 | H35: 20.33 | I35: 10.52 | J35: 14.04 | K35: 24.56 | L35: =I35*G35 -> 5638.72 | M35: =J35*G35 -> 7525.44 | N35: =M35+L35 -> 13164.16 | O35: =N35/N$29 -> 0.050072593
B36: 2.7 | C36: 96544 | D36: SINAPI | E36: ARMAÇÃO DE BLOCO UTILIZANDO AÇO CA-50 DE 6,3 MM - MONTAGEM. AF_01/2024 | F36: KG | G36: 41.3 | H36: 18.35 | I36: 7.73 | J36: 14.43 | K36: 22.16 | L36: =I36*G36 -> 319.249 | M36: =J36*G36 -> 595.959 | N36: =M36+L36 -> 915.208 | O36: =N36/N$29 -> 0.0034811821
B37: 2.8 | C37: 96545 | D37: SINAPI | E37: ARMAÇÃO DE BLOCO UTILIZANDO AÇO CA-50 DE 8 MM - MONTAGEM. AF_01/2024 | F37: KG | G37: 395.2 | H37: 16.55 | I37: 5.66 | J37: 14.33 | K37: 19.99 | L37: =I37*G37 -> 2236.832 | M37: =J37*G37 -> 5663.216 | N37: =M37+L37 -> 7900.048 | O37: =N37/N$29 -> 0.030049459
B38: 2.9 | C38: 96546 | D38: SINAPI | E38: ARMAÇÃO DE BLOCO UTILIZANDO AÇO CA-50 DE 10 MM - MONTAGEM. AF_01/2024 | F38: KG | G38: 2221 | H38: 14.47 | I38: 4.26 | J38: 13.22 | K38: 17.48 | L38: =I38*G38 -> 9461.46 | M38: =J38*G38 -> 29361.62 | N38: =M38+L38 -> 38823.08 | O38: =N38/N$29 -> 0.14767158
B39: 2.10 | C39: 104920 | D39: SINAPI | E39: ARMAÇÃO DE BLOCO, SAPATA ISOLADA, VIGA BALDRAME E SAPATA CORRIDA UTILIZANDO AÇO CA-50 DE 12,5 MM - MONTAGEM. AF_01/2024 | F39: KG | G39: 425.3 | H39: 11.17 | I39: 2.35 | J39: 11.14 | K39: 13.49 | L39: =I39*G39 -> 999.455 | M39: =J39*G39 -> 4737.842 | N39: =M39+L39 -> 5737.297 | O39: =N39/N$29 -> 0.021822991
B40: 2.11 | C40: 104921 | D40: SINAPI | E40: ARMAÇÃO DE BLOCO, SAPATA ISOLADA, VIGA BALDRAME E SAPATA CORRIDA UTILIZANDO AÇO CA-50 DE 16 MM - MONTAGEM. AF_01/2024 | F40: KG | G40: 531.5 | H40: 10.52 | I40: 1.77 | J40: 10.93 | K40: 12.7 | L40: =I40*G40 -> 940.755 | M40: =J40*G40 -> 5809.295 | N40: =M40+L40 -> 6750.05 | O40: =N40/N$29 -> 0.025675205
B41: 2.12 | C41: 96557 | D41: SINAPI | E41: CONCRETAGEM DE BLOCO DE COROAMENTO OU VIGA BALDRAME, FCK 30 MPA, COM USO DE BOMBA - LANÇAMENTO, ADENSAMENTO E ACABAMENTO. AF_01/2024 | F41: m³ | G41: 76.2 | H41: 783.61 | I41: 19.38 | J41: 927.29 | K41: 946.67 | L41: =I41*G41 -> 1476.756 | M41: =J41*G41 -> 70659.498 | N41: =M41+L41 -> 72136.254 | O41: =N41/N$29 -> 0.2743851
B42: 2.13 | C42: 101176 | D42: SINAPI | E42: ESTACA BROCA DE CONCRETO, DIÂMETRO DE 30 CM, ESCAVAÇÃO MANUAL COM TRADO CONCHA, INTEIRAMENTE ARMADA | F42: m | G42: 44 | H42: 150.1 | N42: =G42*(H42*1.2402) -> 8190.7769 | O42: =N42/N$29 -> 0.031155307
B43: 2.14 | C43: 93382 | D43: SINAPI | E43: REATERRO MANUAL DE VALAS, COM COMPACTADOR DE SOLOS DE PERCUSSÃO. AF_08/2023 | F43: m³ | G43: 284.54 | H43: 29.36 | I43: 24.91 | J43: 10.55 | K43: 35.46 | L43: =I43*G43 -> 7087.8914 | M43: =J43*G43 -> 3001.897 | N43: =L43+M43 -> 10089.788 | O43: =N43/N$29 -> 0.038378588
B44: 2.15 | C44: 98557 | D44: SINAPI | E44: IMPERMEABILIZAÇÃO DE SUPERFÍCIE COM EMULSÃO ASFÁLTICA, 2 DEMÃOS. AF_09/2023 | F44: m² | G44: 463.02 | H44: 46.64 | I44: 14.39 | J44: 41.95 | K44: 56.34 | L44: =I44*G44 -> 6662.8578 | M44: =J44*G44 -> 19423.689 | N44: =L44+M44 -> 26086.547 | O44: =N44/N$29 -> 0.099225553
C45: 96545 | D45: SINAPI | E45: ARMAÇÃO DE BLOCO UTILIZANDO AÇO CA-50 DE 8 MM - MONTAGEM. AF_01/2024 | F45: KG | G45: 50 | H45: 14.47 | N45: =H45*(G45*1.2402) -> 897.2847 | O45: =N45/N$29 -> 0.0034130071
B46: 3 | E46: ESTRUTURA | N46: =N47+N54+N64+N74 -> 338382.02 | O46: =N46/N471 -> 0.13886733
B47: 3.1 | E47: PILARES | N47: =N48+N49+N50+N51+N52+N53 -> 58476.556 | O47: =N47/N46 -> 0.17281224
B48: 3.1.1 | C48: 92423 | D48: SINAPI | E48: MONTAGEM E DESMONTAGEM DE FÔRMA DE PILARES RETANGULARES E ESTRUTURAS SIMILARES, PÉ-DIREITO SIMPLES, EM CHAPA DE MADEIRA COMPENSADA RESINADA, 6 UTILIZAÇÕES. AF_09/2020 | F48: m² | G48: 263.8 | H48: 74.99 | I48: 32.31 | J48: 58.28 | K48: 90.59 | L48: =I48*G48 -> 8523.378 | M48: =J48*G48 -> 15374.264 | N48: =L48+M48 -> 23897.642 | O48: =N48/N$47 -> 0.40867048
B49: 3.1.2 | C49: 92762 | D49: SINAPI | E49: ARMAÇÃO DE PILAR OU VIGA DE ESTRUTURA CONVENCIONAL DE CONCRETO ARMADO UTILIZANDO AÇO CA-50 DE 10,0 MM - MONTAGEM. AF_06/2022 | F49: KG | G49: 621.1 | H49: 11.44 | I49: 1.39 | J49: 12.43 | K49: 13.82 | L49: =I49*G49 -> 863.329 | M49: =J49*G49 -> 7720.273 | N49: =L49+M49 -> 8583.602 | O49: =N49/N$47 -> 0.14678706
B50: 3.1.3 | C50: 92763 | D50: SINAPI | E50: ARMAÇÃO DE PILAR OU VIGA DE ESTRUTURA CONVENCIONAL DE CONCRETO ARMADO UTILIZANDO AÇO CA-50 DE 12,5 MM - MONTAGEM. AF_06/2022 | F50: KG | G50: 165.1 | H50: 9.62 | I50: 0.88 | J50: 10.74 | K50: 11.62 | L50: =I50*G50 -> 145.288 | M50: =J50*G50 -> 1773.174 | N50: =L50+M50 -> 1918.462 | O50: =N50/N$47 -> 0.03280737
...

Sheet CPUS
B2: COMPOSIÇÕES ANALÍTICAS DE PREÇOS UNITÁRIOS
B8: ='DADOS GERAIS'!$B$8 -> Secretaria de Atenção Especializada à Saúde | G8: =RESUMO!D8 -> BDI Geral: | I8: =RESUMO!E8 -> Encargo Social Mensalista: | L8: ='DADOS GERAIS'!$B$22 -> Data:
B9: ='DADOS GERAIS'!$B$9 -> Unidade Básica de Saúde Porte 2 - Área Construída: 500,17m² | G9: =RESUMO!D9 -> 0.24017566 | I9: =RESUMO!E9 -> 0.6979 | L9: ='DADOS GERAIS'!$C$22 -> 11/02/2025
B11: =RESUMO!B11 -> Bancos: | G11: =RESUMO!D11 -> BDI Equipamentos: | I11: =RESUMO!E11 -> Encargo Social Horista: | L11: ='DADOS GERAIS'!$B$23 -> Revisão:
B12: ='DADOS GERAIS'!$B$12 -> SINAPI (11/2024) - CPOS/CDHU (01/2025) - SBC (01/2025) - ORSE (10/2024) - IOPES (08/2024) - EMOP (11/2024) - SEINFRA (028) | G12: =RESUMO!D12 -> 0.13512301 | I12: =RESUMO!E12 -> 1.1287768 | L12: ='DADOS GERAIS'!$C$23 -> 00
B15: Item | C15: Código | D15: Banco | E15: Descrição | G15: Und | H15: Und | I15: Quant. | L15: Total
B17: Composições Principais
B18: 1.1.1 | C18: Código | D18: Banco | E18: Descrição | F18: Tipo | H18: Und | I18: Quant. | J18: Porcent. | K18: Valor Unit | L18: Total
B19: Composição | C19: 02.02.150 | D19: CPOS/CDHU | E19: Locação de container tipo depósito - área mínima de 13,80 m² | F19: 2.02 | H19: UNMES | I19: 1 | K19: 931.47 | L19: 931.47
B20: Insumo | C20: B.01.000.010116 | D20: CPOS/CDHU | E20: Ajudante eletricista | F20: Mão de Obra | H20: H | I20: 1.32 | J20: 0 | K20: 21.43 | L20: 28.28
B21: Insumo | C21: B.01.000.010115 | D21: CPOS/CDHU | E21: Eletricista | F21: Mão de Obra | H21: H | I21: 0.99 | J21: 0 | K21: 31.24 | L21: 30.92
B22: Insumo | C22: B.01.000.010101 | D22: CPOS/CDHU | E22: Ajudante geral | F22: Mão de Obra | H22: H | I22: 1.32 | J22: 0 | K22: 21.43 | L22: 28.28
B23: Insumo | C23: A.12.000.021099 | D23: CPOS/CDHU | E23: Container depósito, módulo metálico em aço galvanizado de 6,0x2,3x2,5m, vão livre, piso de concreto, cimentado, madeira ou material equivalente | F23: Material | H23: UNMES | I23: 1 | J23: 0 | K23: 843.99 | L23: 843.99
G24: MO sem LS => | H24: 87.48 | I24: LS => | J24: 0 | K24: MO com LS => | L24: 87.48
G25: Valor do BDI => | H25: 193.83 | J25: Valor com BDI => | L25: 1125.3
B27: 1.1.2 | C27: Código | D27: Banco | E27: Descrição | F27: Tipo | H27: Und | I27: Quant. | J27: Valor Unit | K27: Total
B28: Composição | C28: 11703 | D28: ORSE | E28: Barracão aberto para apoio à produção (carpintaria, central de armação, oficina, etc.) c/ tesouras, telha 4mm, piso em concreto desempolado | F28: Mobilização / Instalações Provisórias / Desmobilização | H28: m² | I28: 1 | J28: 193.83 | K28: 193.83
B29: Item | C29: Código | D29: Banco | E29: Descrição | F29: Tipo | H29: Und | I29: Quant. | J29: Valor Unit | K29: Total
B30: Composição | C30: 5103 | D30: ORSE | E30: Regularização Manual | F30: Execução de Cortes e Aterros | H30: m² | I30: 1 | J30: 5,16 | K30: 5,16
B31: Composição | C31: 234 | D31: ORSE | E31: Telhamento com telha de fibrocimento ondulada esp = 4mm | F31: Telhamento | H31: m² | I31: 1 | J31: 39,79 | K31: 39,79
B32: Composição | C32: 11702 | D32: ORSE | E32: Piso em concreto simples desempolado, fck = 15 MPa, e = 7 cm - Não inclui formas para juntas de concretagem | F32: Pisos : Cimentados, em Concreto Simples, tipo Tech-Stone e de Alta Resistência | H32: m² | I32: 1 | J32: 50,72 | K32: 50,72
B33: Composição | C33: 199 | D33: ORSE | E33: Madeiramento em massaranduba/madeira de lei, peça serrada p/ telha fibrocimento 4mm tipo Vogatex da Eternit ou similar | F33: Madeiramento | H33: m² | I33: 1 | J33: 48,13 | K33: 48,13
B34: Composição | C34: 211 | D34: ORSE | E34: Madeiramento em massaranduba/madeira de lei, tesoura com vão de 8m a 10 m | F34: Madeiramento | H34: un | I34: 0.03 | J34: 1.660,14 | K34: 49,80
B35: Detalhamento de Cálculo ORSE
B36: Item | C36: Código | D36: Banco | E36: Descrição | F36: Tipo | H36: Und | I36: Quant. | J36: Valor Unit | K36: Total
B37: Insumo | C37: 10579 | D37: ORSE | E37: Chave de fenda chata 30 cm | F37: Material | H37: un | I37: 0.000218 | J37: 26,89 | K37: 0,00
B38: Insumo | C38: 4174 | D38: ORSE | E38: Desempenadeira de aço lisa, cabo madeira, ref:143, Atlas ou similar | F38: Material | H38: un | I38: 0.0002776 | J38: 12,00 | K38: 0,00
B39: Insumo | C39: 10790 | D39: ORSE | E39: Prumo de face | F39: Material | H39: un | I39: 5.552e-05 | J39: 25,95 | K39: 0,00
B40: Insumo | C40: 00012895/SINAPI | D40: ORSE | E40: Capacete de seguranca aba frontal com suspensao de polietileno, sem jugular (classe b) | F40: Material | H40: un | I40: 0.00179436 | J40: 13,45 | K40: 0,02
B41: Insumo | C41: 4729 | D41: ORSE | E41: Marreta 1 kg com cabo | F41: Material | H41: un | I41: 0.00013454 | J41: 37,80 | K41: 0,00
B42: Insumo | C42: 11248 | D42: ORSE | E42: Furadeira e Parafusadeira eletrica Bosch ou Similar profissional | F42: Equipamento | H42: un | I42: 0.000109 | J42: 246,00 | K42: 0,02
B43: Insumo | C43: 00004750/SINAPI | D43: ORSE | E43: Pedreiro (horista) | F43: Mão de Obra | H43: h | I43: 0.5552 | J43: 19,13 | K43: 10,62
B44: Insumo | C44: 00004299/SINAPI | D44: ORSE | E44: Parafuso zincado rosca soberba, cabeca sextavada, 5/16" x 110 mm, para fixacao de telha em madeira | F44: Material | H44: un | I44: 1.42 | J44: 1,84 | K44: 2,61
B45: Insumo | C45: 10492 | D45: ORSE | E45: Cesta Básica | F45: Material | H45: un | I45: 0.0134577 | J45: 190,00 | K45: 2,55
B46: Insumo | C46: 10577 | D46: ORSE | E46: Serrote 40cm | F46: Material | H46: un | I46: 0.000109 | J46: 29,90 | K46: 0,00
B47: Insumo | C47: 00044535/SINAPI | D47: ORSE | E47: Servico de bombeamento de concreto com consumo minimo de 40 m3, (disponibilizacao de bomba), sem o lancamento | F47: Material | H47: m³ | I47: 0.07 | J47: 50,63 | K47: 3,54
B48: Insumo | C48: 634 | D48: ORSE | E48: Concreto usinado bombeavel b0-b1 fck=15mpa | F48: Material | H48: m³ | I48: 0.07 | J48: 472,62 | K48: 33,08
... B82: Insumo | C82: 10789 | D82: ORSE | E82: Nível de bolha de madeira | F82: Material | H82: un | I82: 0.00011104 | J82: 15,40 | K82: 0,00
F83: MO sem LS => | G83: 49.82 | H83: LS => | I83: 0 | J83: MO com LS => | K83: 49.82
F84: Valor do BDI => | G84: 40.33 | I84: Valor com BDI => | K84: 234.16
...

Sheet BDI SEM DESONERAÇÃO
B2: BONIFICAÇÕES E DESPESAS INDIRETAS
B8: ='DADOS GERAIS'!B8 -> Secretaria de Atenção Especializada à Saúde | D8: BDI Geral: | E8: Encargo Social Mensalista: | F8: ='DADOS GERAIS'!$B$22 -> Data:
B9: ='DADOS GERAIS'!B9 -> Unidade Básica de Saúde Porte 2 - Área Construída: 500,17m² | D9: ='DADOS GERAIS'!C19 -> 0.24017566 | E9: ='ENCARGOS SOCIAIS'!F56 -> 0.6979 | F9: ='DADOS GERAIS'!$C$22 -> 11/02/2025
B11: ='DADOS GERAIS'!B11 -> Bancos: | D11: BDI Equipamentos: | E11: Encargo Social Horista: | F11: ='DADOS GERAIS'!$B$23 -> Revisão:
B12: ='DADOS GERAIS'!B12 -> SINAPI (11/2024) - CPOS/CDHU (01/2025) - SBC (01/2025) - ORSE (10/2024) - IOPES (08/2024) - EMOP (11/2024) - SEINFRA (028) | D12: ='DADOS GERAIS'!C20 -> 0.13512301 | E12: ='ENCARGOS SOCIAIS'!E56 -> 1.1287768 | F12: ='DADOS GERAIS'!$C$23 -> 00
B15: Fórmula (Bonificações e Despesas Indiretas):
B22: ITEM | C22: DESCRIÇÃO | D22: CÓD | E22: GERAL VALORES PROPOSTOS (%) | F22: EQUIPAMENTOS VALORES PROPOSTOS (%)
B25: 1 | C25: Administração Central | D25: AC | E25: 0.0505 | F25: 0.0345
B26: 2 | C26: Riscos | D26: R | E26: 0.01 | F26: 0.0085
B27: 3 | C27: Seguros e Garantias | D27: SG | E27: 0.01 | F27: 0.0048
B28: 4 | C28: Despesas Financeiras | D28: DF | E28: 0.01 | F28: 0.0085
B29: 5 | C29: Lucro | D29: L | E29: 0.0914 | F29: 0.035
B30: 6 | C30: Impostos | D30: I | E30: =SUM(E31:E34) -> 0.0485 | F30: =SUM(F31:F34) -> 0.0365
B31: 6.1 | C31: PIS | E31: 0.0065 | F31: 0.0065
B32: 6.2 | C32: COFINS | E32: 0.03 | F32: 0.03
B33: 6.3 | C33: ISSQN | E33: 0.012 | F33: 0
B34: 6.4 | C34: CPRB | E34: 0 | F34: 0
B36: BDI | E36: =((1+E25+E26+E27)*(1+E28)*(1+E29)/(1-E30))-1 -> 0.24017566 | F36: =((1+F25+F26+F27)*(1+F28)*(1+F29)/(1-F30))-1 -> 0.13512301
B39: FONTE:
B40: 1. | C40: Tribunal de Contas da União - TC 036.076/2011-2 - Acórdão Nº 2622/2013
B41: 2. | C41: ISS conforme a Lei Complementar 116/2003 e a Lei 11.438/1997 da Prefeitura Municipal de São Paulo. A responsabilidade pela adequação do ISS às normas vigentes no município cabe a cada ente competente.
B44: NOTAS:
B45: 1. | C45: Deverão ser obedecidas as legislações trabalhistas e tributária vigentes, inclusive acordos de classes, sob pena de desclassificação da Proposta de Preços;
B46: 2. | C46: É de responsabilidade da proponente a adequação de todas as fórmulas utilizadas na planilha orçamentária.
B48: ________________________________________________________________________________
B52: ='DADOS GERAIS'!C24 -> 0
B53: ='DADOS GERAIS'!C25 -> 0

Sheet ENCARGOS SOCIAIS
B2: COMPOSIÇÃO ANALÍTICA DAS TAXAS DE ENCARGOS SOCIAIS
B8: ='DADOS GERAIS'!B8 -> Secretaria de Atenção Especializada à Saúde | D8: BDI Geral: | E8: Encargo Social Mensalista: | F8: ='DADOS GERAIS'!$B$22 -> Data:
B9: ='DADOS GERAIS'!B9 -> Unidade Básica de Saúde Porte 2 - Área Construída: 500,17m² | D9: ='DADOS GERAIS'!C19 -> 0.24017566 | E9: ='ENCARGOS SOCIAIS'!F56 -> 0.6979 | F9: ='DADOS GERAIS'!$C$22 -> 11/02/2025
B11: ='DADOS GERAIS'!B11 -> Bancos: | D11: BDI Equipamentos: | E11: Encargo Social Horista: | F11: ='DADOS GERAIS'!$B$23 -> Revisão:
B12: ='DADOS GERAIS'!B12 -> SINAPI (11/2024) - CPOS/CDHU (01/2025) - SBC (01/2025) - ORSE (10/2024) - IOPES (08/2024) - EMOP (11/2024) - SEINFRA (028) | D12: ='DADOS GERAIS'!C20 -> 0.13512301 | E12: ='ENCARGOS SOCIAIS'!E56 -> 1.1287768 | F12: ='DADOS GERAIS'!$C$23 -> 00
B15: ENCARGOS SOCIAIS SOBRE A MÃO DE OBRA
B16: CÓDIGO | C16: DESCRIÇÃO | E16: COM DESONERAÇÃO
E17: HORISTA (%) | F17: MENSALISTA (%)
B19: GRUPO A
B20: A1 | C20: INSS | E20: 0.2 | F20: 0.2
B21: A2 | C21: SESI | E21: 0.015 | F21: 0.015
B22: A3 | C22: SENAI | E22: 0.01 | F22: 0.01
B23: A4 | C23: INCRA | E23: 0.002 | F23: 0.002
B24: A5 | C24: SEBRAE | E24: 0.006 | F24: 0.006
B25: A6 | C25: Salário Educação | E25: 0.025 | F25: 0.025
B26: A7 | C26: Seguro Contra Acidentes de Trabalho | E26: 0.03 | F26: 0.03
B27: A8 | C27: FGTS | E27: 0.08 | F27: 0.08
B28: A9 | C28: SECONCI | E28: 0 | F28: 0
B29: A | C29: Total | E29: =SUBTOTAL(9,E20:E28) -> 0.368 | F29: =SUBTOTAL(9,F20:F28) -> 0.368
B31: GRUPO B
B32: B1 | C32: Repouso Semanal Remunerado | E32: 0.1793 | F32: Não incide
B33: B2 | C33: Feriados | E33: 0.0424 | F33: Não incide
B34: B3 | C34: Auxílio-Enfermidade | E34: 0.0085 | F34: 0.0064
B35: B4 | C35: 13º Salário | E35: 0.1102 | F35: 0.0833
B36: B5 | C36: Licença Paternidade | E36: 0.0006 | F36: 0.0004
B37: B6 | C37: Faltas Justificadas | E37: 0.0073 | F37: 0.0056
B38: B7 | C38: Dias de Chuva | E38: 0.0155 | F38: Não incide
B39: B8 | C39: Auxílo Acidente de Trabalho | E39: 0.001 | F39: 0.0008
B40: B9 | C40: Férias Gozadas | E40: 0.1156 | F40: 0.0874
B41: B10 | C41: Salário Maternidade | E41: 0.0004 | F41: 0.0003
B42: B | C42: Total | E42: =SUBTOTAL(9,E32:E41) -> 0.4808 | F42: =SUBTOTAL(9,F32:F41) -> 0.1842
B44: GRUPO C
B45: C1 | C45: Aviso Prévio Indenizado | E45: 0.0459 | F45: 0.0347
B46: C2 | C46: Aviso Prévio Trabalhado | E46: 0.0011 | F46: 0.0008
B47: C3 | C47: Férias Indenizadas | E47: 0.0226 | F47: 0.0171
B48: C4 | C48: Depósito Recisão sem justa causa | E48: 0.0255 | F48: 0.0193
B49: C5 | C49: Indenização Adicional | E49: 0.0039 | F49: 0.0029
B50: C | C50: Total | E50: =SUBTOTAL(9,E45:E49) -> 0.099 | F50: =SUBTOTAL(9,F45:F49) -> 0.0748
B52: GRUPO D
B53: D1 | C53: Reincidência de Grupo A sobre Grupo B | E53: =ROUND(E42*E29,4) -> 0.1769 | F53: =ROUND(F42*F29,4) -> 0.0678
...

Sheet JUSTIFICATIVAS CPUS
B2: JUSTIFICATIVAS DE COMPOSIÇÕES DE PREÇO UNITÁRIO
B8: ='DADOS GERAIS'!B8 -> Secretaria de Atenção Especializada à Saúde | G8: =RESUMO!D8 -> BDI Geral: | H8: Encargo Social Mensalista: | I8: Data:
B9: ='DADOS GERAIS'!B9 -> Unidade Básica de Saúde Porte 2 - Área Construída: 500,17m² | G9: =RESUMO!D9 -> 0.24017566 | H9: ='ENCARGOS SOCIAIS'!F56 -> 0.6979 | I9: ='DADOS GERAIS'!C22 -> 11/02/2025
B11: ='DADOS GERAIS'!B11 -> Bancos: | G11: =RESUMO!D11 -> BDI Equipamentos: | H11: Encargo Social Horista: | I11: Revisão:
B12: ='DADOS GERAIS'!B12 -> SINAPI (11/2024) - CPOS/CDHU (01/2025) - SBC (01/2025) - ORSE (10/2024) - IOPES (08/2024) - EMOP (11/2024) - SEINFRA (028) | G12: =RESUMO!D12 -> 0.13512301 | H12: ='ENCARGOS SOCIAIS'!E56 -> 1.1287768 | I12: ='DADOS GERAIS'!C23 -> 00
B15: ITEM | C15: COMPOSIÇÃO | D15: COMPOSIÇÃO DE REFERÊNCIA | E15: JUSTIFICATIVA
B16: 1 | C16: 02.02.150 | D16: CPOS/CDHU 02.02.150 | E16: Utilizada composição CPOS visto que o SINAPI não possui composição adequada referente a esse serviço. Os preços praticados para esse serviço no estado de Rio Grande do Sul são referenciais e exequíveis para o orçamento em Rio Grande do Sul.
B17: 2 | C17: 11703 | D17: ORSE 11703 | E17: Utilizada composição do ORSE visto que o SINAPI não possui composição adequada referente a esse serviço. Os preços praticados para esse serviço no estado de Sergipe são referenciais e exequíveis para o orçamento em Rio Grande do Sul. Os insumos da composição ORSE que são SINAPI estão atualizados para o estado de Rio Grande do Sul, portanto, somente insumos do ORSE que mantem preço na região de Sergipe.
B18: 3 | C18: 4656 | D18: ORSE 4656 | E18: Utilizada composição do ORSE visto que o SINAPI não possui composição adequada referente a esse serviço. Os preços praticados para esse serviço no estado de Sergipe são referenciais e exequíveis para o orçamento em Rio Grande do Sul. Os insumos da composição ORSE que são SINAPI estão atualizados para o estado de Rio Grande do Sul, portanto, somente insumos do ORSE que mantem preço na região de Sergipe.
B19: 4 | C19: 012208 | D19: SBC 012208 | E19: Utilizada composição do SBC para Rio Grande do Sul visto que o SINAPI não possui composição adequada para contemplar tal serviço.
B20: 5 | C20: 05.07.040 | D20: CPOS/CDHU 05.07.040 | E20: Utilizada composição CPOS visto que o SINAPI não possui composição adequada referente a esse serviço. Os preços praticados para esse serviço no estado de Rio Grande do Sul são referenciais e exequíveis para o orçamento em Rio Grande do Sul.
B21: 6 | C21: 012689 | D21: SBC 00012689 | E21: Utilizada composição do SBC para Rio Grande do Sul visto que o SINAPI não possui composição adequada para contemplar tal serviço.
B22: 7 | C22: CPU1926 | D22: SINAPI 97063 + INSUMO SINAPI 20193 | E22: Junção do insumo de locação de andaime m2xmês com a montagem e desmontagem do andaime em m2, sendo coeficiente de 0,416 que corresponde à 1m2 em proporção à área do andaime informado no insumo.
B23: 8 | C23: 000128 | D23: SBC 000128 | E23: Utilizada composição do SBC para Rio Grande do Sul visto que o SINAPI não possui composição adequada para contemplar tal serviço.
B24: 9 | C24: CPU2284 | D24: SINAPI 103672 | E24: Utilizada composição de referência SINAPI e alterado o insumo 1527 para 1525 conforme especificação do projeto.
B25: 10 | C25: 000128 | D25: SBC 000128 | E25: Utilizada composição do SBC para Rio Grande do Sul visto que o SINAPI não possui composição adequada para contemplar tal serviço.
B26: 11 | C26: CPU2283 | D26: SINAPI 103675 | E26: Utilizada composição de referência SINAPI e alterado o insumo 1527 para 1525 conforme especificação do projeto.
B27: 12 | C27: 000128 | D27: SBC 000128 | E27: Utilizada composição do SBC para Rio Grande do Sul visto que o SINAPI não possui composição adequada para contemplar tal serviço.
... B172: 157 | C172: 2450 | D172: ORSE 2450 | E172: Utilizada composição do ORSE visto que o SINAPI não possui composição adequada referente a esse serviço. Os preços praticados para esse serviço no estado de Sergipe são referenciais e exequíveis para o orçamento em Rio Grande do Sul. Os insumos da composição ORSE que são SINAPI estão atualizados para o estado de Rio Grande do Sul, portanto, somente insumos do ORSE que mantem preço na região de Sergipe.
