Workbook

Sheet Identificação
A1: PREFEITURA MUNICIPAL DE SÃO JERÔNIMO
A4: 1.PLANILHA DE CALCULO TARIFÁRIO DO TRANSPORTE ESCOLAR
A8: PROPONENTE: | C8: SECRETARIA DE EDUCAÇÃO
A10: ROTEIRO: | C10: 10
A12: ESCOLA X PARTIDA | C12: CERRO NEGRO X MINUANO
A14: VEICULO: | C14: MICRO VOLARE ATTACK
A16: ANO DO VEICULO: | C16: ZERO KM
A18: LOTAÇÃO: | C18: MINIMO 30 PASSAGEIROS
A20: DATA: | C20: 45748

Sheet Encargos
A1: 2. Composição dos Encargos Sociais
A2: Código | B2: Descrição | C2: Valor
A3: A1 | B3: INSS | C3: 0.2
A4: A2 | B4: SESI | C4: 0.015
A5: A3 | B5: SENAI | C5: 0.01
A6: A4 | B6: INCRA | C6: 0.002
A7: A5 | B7: SEBRAE | C7: 0.006
A8: A6 | B8: Salário educação | C8: 0.025
A9: A7 | B9: Seguro contra acidentes de trabalho | C9: 0.03
A10: A8 | B10: FGTS | C10: 0.08
A11: A | B11: SOMA GRUPO A | C11: =SUM(C3:C10) -> 0.368
A13: B1 | B13: Férias gozadas | C13: 0.0657
A14: B2 | B14: 13º salário | C14: 0.0833
A15: B3 | B15: Licença Paternidade | C15: 0.0006
A16: B4 | B16: Faltas justificadas | C16: 0.0082
A17: B5 | B17: Auxilio acidente de trabalho | C17: 0.0031
A18: B6 | B18: Auxilio doença | C18: 0.0166
A19: B | B19: SOMA GRUPO B | C19: =SUM(C13:C18) -> 0.1775
A21: C1 | B21: Aviso prévio indenizado | C21: 0.029
A22: C2 | B22: Férias indenizadas | C22: 0.0454
A23: C3 | B23: Férias indenizadas s/ aviso previo inden. | C23: =C21*C22 -> 0.0013166
A24: C4 | B24: Depósito rescisão sem justa causa | C24: 0.0315 | D24: *
A25: C5 | B25: Indenização adicional | C25: 0.002 | D25: *
A26: C | B26: SOMA GRUPO C | C26: =SUM(C21:C25) -> 0.1092166
A28: D1 | B28: Reincidência de Grupo A sobre Grupo B | C28: =ROUND(C11*C19,4) -> 0.0653
A29: D2 | B29: Reincidência de FGTS sobre aviso prévio indenizado | C29: =ROUND((C21*C10),4) -> 0.0023
A30: D | B30: SOMA GRUPO D | C30: =SUM(C28:C29) -> 0.0676
B31: SOMA (A+B+C+D) | C31: =C30+C26+C19+C11 -> 0.7223166

Sheet Mão de obra
A1: Fator de utilização (FU) | B1: 1
A3: 3. Composição da mão-de-obra
A4: 3.1. Motorista Turno do Dia
A5: Discriminação | B5: Unidade | C5: Quantidade | D5: Custo unitário | E5: Subtotal | F5: Total (R$)
A6: Piso da categoria (2) | B6: mês | C6: 1 | D6: 3042.11 | E6: =C6*D6 -> 3042.11
A7: Salário mínimo nacional (1) | B7: mês | C7: 1 | D7: 1518
A8: Horas Extras (100%) | B8: hora | C8: 0 | D8: =D6/220*2 -> 27.655545 | E8: =C8*D8 -> 0
A9: Horas Extras (50%) | B9: hora | C9: 0 | D9: =D6/220*1.5 -> 20.741659 | E9: =C9*D9 -> 0
A10: Descanso Semanal Remunerado (DSR) - hora extra | B10: R$ | D10: =63/302*(SUM(E8:E9)) -> 0 | E10: =D10 -> 0
A11: Base de cálculo da Insalubridade | C11: 1
A12: Adicional de Insalubridade | B12: % | C12: 20 | D12: =IF(C11=2,SUM(E6:E10),IF(C11=1,(SUM(E6:E10))*D7/D6,0)) -> 1518 | E12: =C12*D12/100 -> 303.6
A13: Soma | E13: =SUM(E6:E12) -> 3345.71
A14: Encargos Sociais | B14: % | C14: =Encargos!$C$31*100 -> 72.23166 | D14: =E13 -> 3345.71 | E14: =D14*C14/100 -> 2416.6619
A15: Total por Motorista | E15: =E13+E14 -> 5762.3719
A16: Total do Efetivo | B16: homem | C16: 1 | D16: =E15 -> 5762.3719 | E16: =C16*D16 -> 5762.3719
D17: Fator de utilização | E17: =$B$1 -> 1 | F17: =E16*E17 -> 5762.3719
A19: 3.2. Motorista Turno Noite (SOMENTE PARA ROTEIROS NOTURNOS)
A20: Discriminação | B20: Unidade | C20: Quantidade | D20: Custo unitário | E20: Subtotal | F20: Total (R$)
A21: Piso da categoria (2) | B21: mês | C21: 0 | D21: =D6 -> 3042.11 | E21: =C21*D21 -> 0
A22: Salário mínimo nacional (1) | B22: mês | C22: 0 | D22: =D7 -> 1518
A23: Adicional Noturno | B23: horas trabalhadas | C23: 0
B24: hora contabilizada | C24: =C23*8/7 -> 0 | D24: =D21/220*0.2 -> 2.7655545 | E24: =C23*D24 -> 0
A25: Horas Extras (100%) | B25: hora | C25: 0 | D25: =D21/220*2 -> 27.655545 | E25: =C25*D25 -> 0
A26: Horas Extras Noturnas (100%) | B26: horas trabalhadas | C26: 0
B27: hora contabilizada | C27: =C26*8/7 -> 0 | D27: =D21/220*2*1.2 -> 33.186655 | E27: =C27*D27 -> 0
A28: Horas Extras (50%) | B28: hora | C28: 0 | D28: =D21/220*1.5 -> 20.741659 | E28: =C28*D28 -> 0
A29: Horas Extras Noturnas (50%) | B29: horas trabalhadas | C29: 0
B30: hora contabilizada | C30: =C29*8/7 -> 0 | D30: =D21/220*1.5*1.2 -> 24.889991 | E30: =C30*D30 -> 0
A31: Descanso Semanal Remunerado (DSR) - hora extra | B31: R$ | D31: =63/302*(SUM(E25:E30)) -> 0 | E31: =D31 -> 0
A32: Base de cálculo da Insalubridade | C32: 0
A33: Adicional de Insalubridade | B33: % | C33: =+C12 -> 20 | D33: =IF(C32=2,SUM(E21:E31),IF(C32=1,SUM(E21:E31)*D22/D21,0)) -> 0 | E33: =C33*D33/100 -> 0
A34: Soma | E34: =SUM(E21:E33) -> 0
A35: Encargos Sociais | B35: % | C35: =Encargos!$C$31*100 -> 72.23166 | D35: =E34 -> 0 | E35: =D35*C35/100 -> 0
A36: Total por Motorista | E36: =E34+E35 -> 0
A37: Total do Efetivo | B37: homem | C37: 1 | D37: =E36 -> 0 | E37: =C37*D37 -> 0
D38: Fator de utilização | E38: =$B$1 -> 1 | F38: =E37*E38 -> 0
A41: 3.3. Vale Transporte
A42: Discriminação | B42: Unidade | C42: Quantidade | D42: Custo unitário | E42: Subtotal | F42: Total (R$)
A43: Vale Transporte | B43: R$ | C43: 1 | D43: 3.65
A44: Dias Trabalhados por mês | B44: dia | C44: 22
...

Sheet Remuneração de capital
A1: Dados de Depreciação
A2: Valor do inicial veículo | B2: R$ | C2: 571613
A3: Vida útil estimada | B3: anos | C3: 15
A4: % de depreciação | B4: % | C4: =100/C3 -> 6.6666667
A5: Valor residual | B5: R$ | C5: =C2*15% -> 85741.95
A6: Vida útil utilizada (idade do veículo) | B6: anos | C6: 0
A7: Depreciação acumulada | B7: R$ | C7: =((C2-C5)*(C4%*C6)) -> 0
A8: Fator de utilização (FU) | C8: ='Mão de obra'!B1 -> 1
A9: 4. Depreciação e Remuneração de Capital
A10: 4.1. Depreciação
A11: Discriminação | B11: Unidade | C11: Quantidade | D11: Custo unitário | E11: Subtotal | F11: Total (R$)
A12: Custo de aquisição (valor inicial) | B12: unidade | C12: 1 | D12: =C2 -> 571613 | E12: =C12*D12 -> 571613
A13: Vida útil | B13: anos | C13: 15
A14: Idade do veículo | B14: anos | C14: =C6 -> 0
A15: Depreciação do chassis | B15: % | C15: 100 | D15: =E12 -> 571613 | E15: =C15*(D15-C5)/100 -> 485871.05
A16: Depreciação mensal veículos | B16: mês | C16: =C13*12 -> 180 | D16: =IF(C14<=C13,E15,0) -> 485871.05 | E16: =IFERROR(D16/C16,0) -> 2699.2836
A17: Total por veículo | E17: =E16 -> 2699.2836
A18: Total da frota | B18: unidade | C18: 1 | D18: =E17 -> 2699.2836 | E18: =C18*D18 -> 2699.2836
D19: Fator de utilização | E19: =C8 -> 1 | F19: =E18*E19 -> 2699.2836
A23: 4.2. Remuneração do Capital
A24: Discriminação | B24: Unidade | C24: Quantidade | D24: Custo unitário | E24: Subtotal | F24: Total (R$)
A25: Custo do chassis | B25: unidade | C25: 1 | D25: =C2 -> 571613 | E25: =C25*D25 -> 571613
A26: Taxa de juros anual nominal | B26: % | C26: 14.25
A27: Valor do veículo proposto (V0)* | B27: R$ | C27: =C2-C5-C7 -> 485871.05
A28: Investimento médio | B28: R$ | C28: =((C2-C7)-(C5))*((C3+1)/(2*C3))+(C5) -> 344873.18
A29: Remuneração mensal de capital do chassis | B29: R$ | D29: =C26*C28/12/100 -> 4095.369 | E29: =D29 -> 4095.369
A30: Total por veículo | E30: =E29 -> 4095.369
A31: Total da frota | B31: unidade | C31: 1 | D31: =E30 -> 4095.369 | E31: =C31*D31 -> 4095.369
D32: Fator de utilização | E32: =C8 -> 1 | F32: =E31*E32 -> 4095.369
A35: *valor do veículo proposto (para veículos usados) devem considerar o valor do bem depreciado até a data da proposta.

Sheet Impostos e manutenção
A1: Fator de utilização (FU) | B1: ='Mão de obra'!B1 -> 1
A3: 5. Impostos e manutenção
A4: 5.1. Impostos e Seguros
A5: Discriminação | B5: Unidade | C5: Quantidade | D5: Custo unitário | E5: Subtotal | F5: Total (R$)
A6: IPVA* | B6: unidade | C6: ='Remuneração de capital'!C31 -> 1 | D6: ='Remuneração de capital'!C2*1% -> 5716.13 | E6: =C6*D6 -> 5716.13 | F6: =E6*E10 -> 5716.13
A7: Licenciamento e Seguro obrigatório | B7: unidade | C7: ='Remuneração de capital'!C31 -> 1 | D7: 94.1 | E7: =C7*D7 -> 94.1 | F7: =E7*E10 -> 94.1
A8: Seguro contra terceiros | B8: unidade | C8: ='Remuneração de capital'!C31 -> 1 | D8: 5000 | E8: =C8*D8 -> 5000 | F8: =E8*E10 -> 5000
A9: Impostos e seguros mensais | B9: mês | C9: 12 | D9: =SUM(E6:E8) -> 10810.23 | E9: =D9/C9 -> 900.8525
D10: Fator de utilização | E10: =B1 -> 1 | F10: =E9*E10 -> 900.8525
A12: 5.2. Consumos
A13: Quilometragem diaria | B13: 64 | C13: km
A14: Quilometragem mensal | B14: =B13*22 -> 1408 | C14: km
A16: Discriminação | B16: Unidade | C16: Consumo | D16: Custo unitário | E16: Subtotal | F16: Total (R$)
A17: Custo de óleo diesel / km rodado | B17: km/l | C17: 3.3 | D17: 6.49
A18: Custo mensal com óleo diesel | B18: km | C18: =B14 -> 1408 | D18: =IFERROR(+D17/C17,"-") -> 1.9666667 | E18: =IFERROR(C18*D18,"-") -> 2769.0667
A19: Custo de óleo do motor /1.000 km rodados | B19: l/1.000 km | C19: 1 | D19: 24.99
A20: Custo mensal com óleo do motor | B20: km | C20: =C18 -> 1408 | D20: =+C19*D19/1000 -> 0.02499 | E20: =C20*D20 -> 35.18592
A21: Custo de óleo da transmissão /1.000 km | B21: l/1.000 km | C21: 0.2 | D21: 68.66
A22: Custo mensal com óleo da transmissão | B22: km | C22: =C18 -> 1408 | D22: =+C21*D21/1000 -> 0.013732 | E22: =C22*D22 -> 19.334656
A23: Custo de oleo diferencial / 1.000 km | B23: l/1.000 km | C23: 0.4 | D23: 95.3
A24: Custo mensal com óleo diferencial | B24: km | C24: =C18 -> 1408 | D24: =+C23*D23/1000 -> 0.03812 | E24: =C24*D24 -> 53.67296
A25: Custo de graxa /1.000 km rodados | B25: kg/1.000 km | C25: 1 | D25: 48.44
A26: Custo mensal com graxa | B26: km | C26: =C18 -> 1408 | D26: =+C25*D25/1000 -> 0.04844 | E26: =C26*D26 -> 68.20352
A27: Custo de fluido de freio / 1.000 km | B27: l/1.000 km | C27: 1 | D27: 39.27
A28: Custo mensal com fluido de freio | B28: km | C28: =C18 -> 1408 | D28: =+C27*D27/1000 -> 0.03927 | E28: =C28*D28 -> 55.29216
A29: Custo com consumos/km rodado | B29: R$/km rodado | D29: =IFERROR(D18+D20+D22+D24+D26+D28,0) -> 2.1312187
F30: =SUM(E17:E28) -> 3000.7559
A32: 5.3. Manutenção preventiva e corretiva
A33: Discriminação | B33: Unidade | C33: Quantidade | D33: Custo unitário | E33: Subtotal | F33: Total (R$)
A34: Custo de manutenção | B34: R$/km rodado | C34: =B14 -> 1408 | D34: 0.74 | E34: =C34*D34 -> 1041.92
F35: =E34 -> 1041.92
A37: 5.4. Pneus
A38: Discriminação | B38: Unidade | C38: Quantidade | D38: Custo unitário | E38: Subtotal | F38: Total (R$)
A39: Custo do jogo de pneus xxx/xx Rxx | B39: unidade | C39: 6 | D39: 505 | E39: =C39*D39 -> 3030
A40: Número de recapagens por pneu | B40: unidade | C40: 1
A41: Custo de recapagem | B41: unidade | C41: =C39*C40 -> 6 | D41: 250 | E41: =C41*D41 -> 1500
A42: Custo jg. compl. + X recap./ km rodado | B42: km/jogo | C42: 25000 | D42: =E39+E41 -> 4530 | E42: =IFERROR(D42/C42,"-") -> 0.1812
A43: Custo mensal com pneus | B43: km | C43: =B14 -> 1408 | D43: =E42 -> 0.1812 | E43: =IFERROR(C43*D43,0) -> 255.1296
F44: =E43 -> 255.1296
A46: CUSTO TOTAL DE IMPOSTOS E MANUTENÇÃO | B46: R$/mês | F46: =F10+F30+F35+F44 -> 5198.658

Sheet BDI
A2: 6. Composição do BDI - Benefícios e Despesas Indiretas
A3: Administração Central | B3: AC | C3: 0.0508
A4: Seguros/Riscos/Garantias | B4: SRG | C4: 0.0133
A5: Lucro | B5: L | C5: 0.1085
A6: Despesas Financeiras | B6: DF | C6: 0 | D6: i | E6: 0.1175
A7: Tributos - ISS | B7: T | C7: 0.03 | D7: DU | E7: 30
A8: Tributos - PIS/COFINS | C8: 0.0365
A9: Fórmula para o cálculo do BDI:
A10: {[(1+AC+SRG) x (1+L) x (1+DF)] / (1-T)} -1
A11: Resultado do cálculo do BDI: | C11: =ROUND((((1+C3+C4)*(1+C5)*(1+C6))/(1-(C7+C8))-1),4) -> 0.2636
A15: CUSTO TOTAL MENSAL COM DESPESAS OPERACIONAIS | B15: R$/mês | F15: ='Mão de obra'!F63+'Impostos e manutenção'!F46 -> 11953.524
A17: 6.1. Benefícios e Despesas Indiretas - BDI
A18: Discriminação | B18: Unidade | C18: Quantidade | D18: Custo unitário | E18: Subtotal | F18: Total (R$)
A19: Benefícios e despesas indiretas | B19: % | C19: =C11*100 -> 26.36 | D19: =+F15 -> 11953.524 | E19: =C19*D19/100 -> 3150.949
F20: =+E19 -> 3150.949
A22: CUSTO MENSAL COM BDI (R$/mês) | F22: =F20 -> 3150.949

Sheet Composição de custos
A1: 7. Transporte Escolar - Planilha de composição de custos
A2: Descrição | B2: Custo (R$/mês) | C2: %
A3: 1. Mão-de-obra | B3: =SUM(B4:B9) -> 6754.8663 | C3: =IFERROR(B3/$B$18,0) -> 0.3084537
A4: 1.1. Motorista dia | B4: ='Mão de obra'!F17 -> 5762.3719 | C4: =IFERROR(B4/$B$18,0) -> 0.26313251
A5: 1.2. Motorista noite | B5: ='Mão de obra'!F38 -> 0 | C5: =IFERROR(B5/$B$18,0) -> 0
A6: 1.3. Vale transporte | B6: ='Mão de obra'!F46 -> 6.1544154 | C6: =IFERROR(B6/$B$18,0) -> 0.00028103475
A7: 1.4. Vale Refeição (diário) | B7: ='Mão de obra'!F51 -> 521.18 | C7: =IFERROR(B7/$B$18,0) -> 0.023799123
A8: 1.5. Auxílio alimentção (mensal) | B8: ='Mão de obra'!F56 -> 191 | C8: =IFERROR(B8/$B$18,0) -> 0.0087218093
A9: 1.6. Plano de Saúde (mensal) | B9: ='Mão de obra'!F61 -> 274.16 | C9: =IFERROR(B9/$B$18,0) -> 0.012519221
A10: 2. Veículos | B10: =SUM(B11:B16) -> 11993.311 | C10: =IFERROR(B10/$B$18,0) -> 0.54766161
A11: 2.1. Depreciação | B11: ='Remuneração de capital'!F19 -> 2699.2836 | C11: =IFERROR(B11/$B$18,0) -> 0.12325988
A12: 2.2. Remuneração de capital | B12: ='Remuneração de capital'!F32 -> 4095.369 | C12: =IFERROR(B12/$B$18,0) -> 0.18701061
A13: 2.3. Impostos e seguros | B13: ='Impostos e manutenção'!F10 -> 900.8525 | C13: =IFERROR(B13/$B$18,0) -> 0.041136459
A14: 2.4. Consumos | B14: ='Impostos e manutenção'!F30 -> 3000.7559 | C14: =IFERROR(B14/$B$18,0) -> 0.13702629
A15: 2.5. Manutenção | B15: ='Impostos e manutenção'!F35 -> 1041.92 | C15: =IFERROR(B15/$B$18,0) -> 0.047578155
A16: 2.6. Pneus | B16: ='Impostos e manutenção'!F44 -> 255.1296 | C16: =IFERROR(B16/$B$18,0) -> 0.011650218
A17: 3. BDI | B17: =BDI!F22 -> 3150.949 | C17: =IFERROR(B17/$B$18,0) -> 0.14388469
A18: PREÇO TOTAL MENSAL (1+2+3) | B18: =SUM(B3+B10+B17) -> 21899.126 | C18: =C3+C10+C17 -> 1
A21: Quilometragem total | B21: ='Impostos e manutenção'!B14 -> 1408
A22: PREÇO POR KM RODADO | C22: =B18/B21 -> 15.553356
A25: > Distância percorrida da rota - determinado conforme arquivo em Anexo (Rotas no Processo de Licitação)
A26: > Veículo - tipo MICRO-ONIBUS MINIMO de 30 lugares*
A27: > Valor do veículo - Determinado pelo valor da FIPE
A28: > Idade dos veículos - Veículo no máximo 15 anos de uso (fabricação acima de 2010) conforme decreto municipal
A29: > Combustível - Òleo Díesel S10, conforme determinado no manual do fabricante e da definição do veículo a ser utilizado
A30: > Preço por litro do combustível - conforme preço médio semanal determinado pela ANP (Agencia Nacional do Petróleo, Gás Natural e Biocombustiveis)
A31: > Seguro veículo/RCO - Valor apurado conforme pesquisa de preços com fornecedores somatório seguro total + RCO
A32: > * IPVA ISENTO SE O VEICULO FOR EXCLUSIVO DE TRANSPORTE ESCOLAR
A33: > Seguro DPVAT - Valor apurado conforme pesquisa junto ao Detran/RS.
A34: > Custo do motorista -O valor foi determinado conforme convenção coletiva da categoria de trabalho.
A35: > Custo Variavel- É o somatório do custo de variação de valores de combustivel, oleos lubrificantes e rodagem.
A36: > Custo fixo total- É o somatório de todas despesas fixas diretas não somadas o BDI
... A42: * A execução dos serviços se dará com a utilização dos tipos de veículos, em consonância com as recomendações do Caderno de Informações Técnicas de Ônibus Rural Escolar do Fundo Nacional de Desenvolvimento da Educação (FNDE) e legislação de trânsito aplicável

Sheet Plan1
