Workbook
Name ACOMPANHAMENTO: IF(VALUE([1]MENU!$O$4)=2,"BM","PLE")
Name ORÇAMENTO.BancoRef: COMPOSIÇÕES!#REF!
Name ORÇAMENTO.BancoRef: COTAÇÕES!#REF!
Name ORÇAMENTO.BancoRef: ORÇAMENTO!#REF!
Name ORÇAMENTO.CustoUnitario: ROUND(COMPOSIÇÕES!$R1,15-13*COMPOSIÇÕES!#REF!)
Name ORÇAMENTO.CustoUnitario: ROUND(COTAÇÕES!$Q1,15-13*COTAÇÕES!#REF!)
Name ORÇAMENTO.CustoUnitario: ROUND(ORÇAMENTO!$X1,15-13*ORÇAMENTO!#REF!)
Name ORÇAMENTO.PrecoUnitarioLicitado: COMPOSIÇÕES!$AI$1
Name ORÇAMENTO.PrecoUnitarioLicitado: COTAÇÕES!$AH$1
Name ORÇAMENTO.PrecoUnitarioLicitado: ORÇAMENTO!$AO$1
Name REFERENCIA.Descricao: IF(ISNUMBER(COMPOSIÇÕES!$AC1),OFFSET(INDIRECT(COMPOSIÇÕES!ORÇAMENTO.BancoRef),COMPOSIÇÕES!$AC1-1,3,1),COMPOSIÇÕES!$AC1)
Name REFERENCIA.Descricao: IF(ISNUMBER(COTAÇÕES!$AB1),OFFSET(INDIRECT(COTAÇÕES!ORÇAMENTO.BancoRef),COTAÇÕES!$AB1-1,3,1),COTAÇÕES!$AB1)
Name REFERENCIA.Descricao: IF(ISNUMBER(ORÇAMENTO!$AI1),OFFSET(INDIRECT(ORÇAMENTO.BancoRef),ORÇAMENTO!$AI1-1,3,1),ORÇAMENTO!$AI1)
Name REFERENCIA.Unidade: IF(ISNUMBER(COMPOSIÇÕES!$AC1),OFFSET(INDIRECT(COMPOSIÇÕES!ORÇAMENTO.BancoRef),COMPOSIÇÕES!$AC1-1,4,1),"-")
Name REFERENCIA.Unidade: IF(ISNUMBER(COTAÇÕES!$AB1),OFFSET(INDIRECT(COTAÇÕES!ORÇAMENTO.BancoRef),COTAÇÕES!$AB1-1,4,1),"-")
Name REFERENCIA.Unidade: IF(ISNUMBER(ORÇAMENTO!$AI1),OFFSET(INDIRECT(ORÇAMENTO.BancoRef),ORÇAMENTO!$AI1-1,4,1),"-")
Name SomaAgrup: SUMIF(OFFSET(COMPOSIÇÕES!$B1,1,0,COMPOSIÇÕES!$C1),"S",OFFSET(COMPOSIÇÕES!A1,1,0,COMPOSIÇÕES!$C1))
Name SomaAgrup: SUMIF(OFFSET(COTAÇÕES!$B1,1,0,COTAÇÕES!$C1),"S",OFFSET(COTAÇÕES!A1,1,0,COTAÇÕES!$C1))
Name SomaAgrup: SUMIF(OFFSET(ORÇAMENTO!$B1,1,0,ORÇAMENTO!$C1),"S",OFFSET(ORÇAMENTO!A1,1,0,ORÇAMENTO!$C1))
Name TIPOORCAMENTO: IF(VALUE([1]MENU!$O$3)=2,"Licitado","Proposto")
Name VTOTAL1: ROUND(COMPOSIÇÕES!$Q1*COMPOSIÇÕES!$T1,15-13*COMPOSIÇÕES!#REF!)
Name VTOTAL1: ROUND(COTAÇÕES!$P1*COTAÇÕES!$S1,15-13*COTAÇÕES!#REF!)
Name VTOTAL1: ROUND(ORÇAMENTO!$W1*ORÇAMENTO!$Z1,15-13*ORÇAMENTO!#REF!)

Sheet ORÇAMENTO
B1: PREFEITURA MUNICIPAL DE ROCA SALES
B3: ORÇAMENTO CAPTAÇÃO, TRATAMENTO E RESERVAÇÃO DE ÁGUA
G6: Referência: SINAPI RS 02/2026
G7: BDI não desonerado: 20,85%
M8: VALOR TOTAL DA OBRA | O8: =O120 -> 115623.93
B10: ITEM | C10: FONTE | D10: CÓDIGO | E10: DESCRIÇÃO | F10: UNIDADE | G10: QUANTIDADE | H10: CUSTO UNITÁRIO (sem BDI) | I10: BDI (%) Não desonerado | J10: PREÇO UNITÁRIO (com BDI) | K10: Preço unitário Mão de Obra (com BDI) | L10: Preço unitário Material (com BDI) | M10: Valor total Mão de Obra (com BDI) | N10: Valor total Material (com BDI) | O10: VALOR TOTAL (com BDI)
B12: 1. | E12: Administração local | N12: Subtotal | O12: =O13 -> 1584.13
B13: 1.1 | C13: Composição | D13: 11 | E13: Administração local | F13: conj. | G13: 1 | H13: 1310.82 | I13: 0.2085 | J13: =ROUND(H13*(1+I13),2) -> 1584.13 | K13: =ROUND(J13*0.3,2) -> 475.24 | L13: =J13-K13 -> 1108.89 | M13: =ROUND(K13*G13,2) -> 475.24 | N13: =O13-M13 -> 1108.89 | O13: =ROUND(G13*J13,2) -> 1584.13
B15: 2. | E15: Serviços iniciais | N15: Subtotal | O15: =O16 -> 2522.03
B16: 2.1 | C16: SINAPI | D16: 103689 | E16: Fornecimento e instalação de placa de obra com chapa galvanizada e estrutura de madeira. Af_03/2022_ps | F16: m² | G16: 4.5 | H16: 463.76 | I16: 0.2085 | J16: =ROUND(H16*(1+I16),2) -> 560.45 | K16: =ROUND(J16*0.3,2) -> 168.14 | L16: =J16-K16 -> 392.31 | M16: =ROUND(K16*G16,2) -> 756.63 | N16: =O16-M16 -> 1765.4 | O16: =ROUND(G16*J16,2) -> 2522.03
B18: 3. | E18: Abrigo de poço | N18: Subtotal | O18: =O19+O43+O55 -> 13673.72
B19: 3.1 | E19: Abrigo de poço - Construção | N19: Subtotal | O19: =SUM(O20:O41) -> 10582.34
B20: 3.1.1 | C20: SINAPI | D20: 100704 | E20: Porta cadeado zincado oxidado preto com cadeado de aço inox, largura de *50* mm. Af_10/2025 | F20: un | G20: 1 | H20: 81.63 | I20: 0.2085 | J20: =ROUND(H20*(1+I20),2) -> 98.65 | K20: =ROUND(J20*0.3,2) -> 29.6 | L20: =J20-K20 -> 69.05 | M20: =ROUND(K20*G20,2) -> 29.6 | N20: =O20-M20 -> 69.05 | O20: =ROUND(G20*J20,2) -> 98.65
B21: 3.1.2 | C21: Composição | D21: Cerca | E21: Cercamento com tela de arrame galvanizado | F21: m | G21: 20.6 | H21: 134.79 | I21: 0.2085 | J21: =ROUND(H21*(1+I21),2) -> 162.89 | K21: =ROUND(J21*0.3,2) -> 48.87 | L21: =J21-K21 -> 114.02 | M21: =ROUND(K21*G21,2) -> 1006.72 | N21: =O21-M21 -> 2348.81 | O21: =ROUND(G21*J21,2) -> 3355.53
B22: 3.1.3 | C22: SINAPI-I | D22: 45553 | E22: Portao de abrir / giro, para uso em alambrados, estruturado por tubos de aço galvanizado, com tela de arame, 0,90 x 2,10 m | F22: un | G22: 1 | H22: 300 | I22: 0.2085 | J22: =ROUND(H22*(1+I22),2) -> 362.55 | K22: =ROUND(J22*0.3,2) -> 108.77 | L22: =J22-K22 -> 253.78 | M22: =ROUND(K22*G22,2) -> 108.77 | N22: =O22-M22 -> 253.78 | O22: =ROUND(G22*J22,2) -> 362.55
B23: 3.1.4 | C23: SINAPI | D23: 97083 | E23: Compactação mecânica de solo para execução de radier, piso de concreto ou laje sobre solo, com compactador de solos a percussão. Af_09/2021 | F23: m² | G23: 4 | H23: 3.75 | I23: 0.2085 | J23: =ROUND(H23*(1+I23),2) -> 4.53 | K23: =ROUND(J23*0.3,2) -> 1.36 | L23: =J23-K23 -> 3.17 | M23: =ROUND(K23*G23,2) -> 5.44 | N23: =O23-M23 -> 12.68 | O23: =ROUND(G23*J23,2) -> 18.12
B24: 3.1.5 | C24: SINAPI | D24: 5680 | E24: Retroescavadeira sobre rodas com carregadeira, tração 4x2, potência líq. 79 HP, caçamba carreg. Cap. Mín. 1 m³, caçamba retro cap. 0,20 m³, peso operacional mín. 6.570 kg, profundidade escavação máx. 4,37 m - chp diurno. Af_06/2014 | F24: chp | G24: 2 | H24: 139.86 | I24: 0.2085 | J24: =ROUND(H24*(1+I24),2) -> 169.02 | K24: =ROUND(J24*0.3,2) -> 50.71 | L24: =J24-K24 -> 118.31 | M24: =ROUND(K24*G24,2) -> 101.42 | N24: =O24-M24 -> 236.62 | O24: =ROUND(G24*J24,2) -> 338.04
B25: 3.1.6 | C25: SINAPI | D25: 100324 | E25: Lastro com material granular (pedra britada n.1 e pedra britada n.2), aplicado em pisos ou lajes sobre solo, espessura de *10 cm*. Af_01/2024 | F25: m³ | G25: 0.4 | H25: 181.09 | I25: 0.2085 | J25: =ROUND(H25*(1+I25),2) -> 218.85 | K25: =ROUND(J25*0.3,2) -> 65.66 | L25: =J25-K25 -> 153.19 | M25: =ROUND(K25*G25,2) -> 26.26 | N25: =O25-M25 -> 61.28 | O25: =ROUND(G25*J25,2) -> 87.54
B26: 3.1.7 | C26: SINAPI | D26: 97101 | E26: Execução de radier, espessura de 10 cm, fck = 30 mpa, com uso de formas em madeira serrada. Af_09/2021 | F26: m² | G26: 4 | H26: 185.37 | I26: 0.2085 | J26: =ROUND(H26*(1+I26),2) -> 224.02 | K26: =ROUND(J26*0.3,2) -> 67.21 | L26: =J26-K26 -> 156.81 | M26: =ROUND(K26*G26,2) -> 268.84 | N26: =O26-M26 -> 627.24 | O26: =ROUND(G26*J26,2) -> 896.08
B27: 3.1.8 | C27: SINAPI | D27: 89298 | E27: Alvenaria estrutural de blocos cerâmicos 14x19x39, (espessura de 14 cm), utilizando colher de pedreiro e argamassa de assentamento com preparo em betoneira. Af_03/2023 | F27: m² | G27: 10.09 | H27: 86.71 | I27: 0.2085 | J27: =ROUND(H27*(1+I27),2) -> 104.79 | K27: =ROUND(J27*0.3,2) -> 31.44 | L27: =J27-K27 -> 73.35 | M27: =ROUND(K27*G27,2) -> 317.23 | N27: =O27-M27 -> 740.1 | O27: =ROUND(G27*J27,2) -> 1057.33
B28: 3.1.9 | C28: SINAPI | D28: 87878 | E28: Chapisco aplicado em alvenarias e estruturas de concreto internas, com colher de pedreiro. Argamassa traço 1:3 com preparo manual. Af_10/2022 | F28: m² | G28: 20.23 | H28: 5.38 | I28: 0.2085 | J28: =ROUND(H28*(1+I28),2) -> 6.5 | K28: =ROUND(J28*0.3,2) -> 1.95 | L28: =J28-K28 -> 4.55 | M28: =ROUND(K28*G28,2) -> 39.45 | N28: =O28-M28 -> 92.05 | O28: =ROUND(G28*J28,2) -> 131.5
B29: 3.1.10 | C29: SINAPI | D29: 87794 | E29: Emboço ou massa única em argamassa traço 1:2:8, preparo manual, aplicada manualmente em panos cegos de fachada (sem presença de vãos), espessura de 25 mm. Af_09/2022 | F29: m² | G29: 20.23 | H29: 46.53 | I29: 0.2085 | J29: =ROUND(H29*(1+I29),2) -> 56.23 | K29: =ROUND(J29*0.3,2) -> 16.87 | L29: =J29-K29 -> 39.36 | M29: =ROUND(K29*G29,2) -> 341.28 | N29: =O29-M29 -> 796.25 | O29: =ROUND(G29*J29,2) -> 1137.53
B30: 3.1.11 | C30: SINAPI | D30: 96530 | E30: Fabricação, montagem e desmontagem de fôrma para viga baldrame, em madeira serrada, e=25 mm, 1 utilização. Af_01/2024 | F30: m² | G30: =4.5*0.3 -> 1.35 | H30: 138.93 | I30: 0.2085 | J30: =ROUND(H30*(1+I30),2) -> 167.9 | K30: =ROUND(J30*0.3,2) -> 50.37 | L30: =J30-K30 -> 117.53 | M30: =ROUND(K30*G30,2) -> 68 | N30: =O30-M30 -> 158.67 | O30: =ROUND(G30*J30,2) -> 226.67
B31: 3.1.12 | C31: SINAPI | D31: 103670 | E31: Lançamento com uso de baldes, adensamento e acabamento de concreto em estruturas. Af_02/2022 | F31: m³ | G31: =ROUND(4.5*0.15*0.2,2) -> 0.14 | H31: 330.94 | I31: 0.2085 | J31: =ROUND(H31*(1+I31),2) -> 399.94 | K31: =ROUND(J31*0.3,2) -> 119.98 | L31: =J31-K31 -> 279.96 | M31: =ROUND(K31*G31,2) -> 16.8 | N31: =O31-M31 -> 39.19 | O31: =ROUND(G31*J31,2) -> 55.99
B32: 3.1.13 | C32: SINAPI | D32: 94969 | E32: Concreto fck = 15mpa, traço 1:3,4:3,5 (em massa seca de cimento/ areia média/ brita 1) - preparo mecânico com betoneira 600 l. Af_05/2021 | F32: m³ | G32: =G31 -> 0.14 | H32: 472.76 | I32: 0.2085 | J32: =ROUND(H32*(1+I32),2) -> 571.33 | K32: =ROUND(J32*0.3,2) -> 171.4 | L32: =J32-K32 -> 399.93 | M32: =ROUND(K32*G32,2) -> 24 | N32: =O32-M32 -> 55.99 | O32: =ROUND(G32*J32,2) -> 79.99
B33: 3.1.14 | C33: SINAPI | D33: 89998 | E33: Armação de cinta de alvenaria estrutural; diâmetro de 10,0 mm. Af_09/2021 | F33: kg | G33: =4.5*0.15*0.2*80 -> 10.8 | H33: 10.46 | I33: 0.2085 | J33: =ROUND(H33*(1+I33),2) -> 12.64 | K33: =ROUND(J33*0.3,2) -> 3.79 | L33: =J33-K33 -> 8.85 | M33: =ROUND(K33*G33,2) -> 40.93 | N33: =O33-M33 -> 95.58 | O33: =ROUND(G33*J33,2) -> 136.51
B34: 3.1.15 | C34: SINAPI-I | D34: 127 | E34: Aditivo impermeabilizante de pega ultrarrapida, liquido e isento de cloretos | F34: l | G34: 1 | H34: 17.5 | I34: 0.2085 | J34: =ROUND(H34*(1+I34),2) -> 21.15 | K34: =ROUND(J34*0.3,2) -> 6.35 | L34: =J34-K34 -> 14.8 | M34: =ROUND(K34*G34,2) -> 6.35 | N34: =O34-M34 -> 14.8 | O34: =ROUND(G34*J34,2) -> 21.15
B35: 3.1.16 | C35: SINAPI | D35: 92543 | E35: Trama de madeira composta por terças para telhados de até 2 águas para telha ondulada de fibrocimento, metálica, plástica ou termoacústica, incluso transporte vertical. Af_10/2025 | F35: m² | G35: =G36 -> 6.25 | H35: 25.93 | I35: 0.2085 | J35: =ROUND(H35*(1+I35),2) -> 31.34 | K35: =ROUND(J35*0.3,2) -> 9.4 | L35: =J35-K35 -> 21.94 | M35: =ROUND(K35*G35,2) -> 58.75 | N35: =O35-M35 -> 137.13 | O35: =ROUND(G35*J35,2) -> 195.88
B36: 3.1.17 | C36: SINAPI | D36: 94213 | E36: Telhamento com telha de aço/alumínio e = 0,5 mm, com até 2 águas, incluso içamento. Af_07/2019 | F36: m² | G36: 6.25 | H36: 58.99 | I36: 0.2085 | J36: =ROUND(H36*(1+I36),2) -> 71.29 | K36: =ROUND(J36*0.3,2) -> 21.39 | L36: =J36-K36 -> 49.9 | M36: =ROUND(K36*G36,2) -> 133.69 | N36: =O36-M36 -> 311.87 | O36: =ROUND(G36*J36,2) -> 445.56
B37: 3.1.18 | C37: SINAPI | D37: 88485 | E37: Fundo selador acrílico, aplicação manual em parede, uma demão. Af_04/2023 | F37: m² | G37: =G29 -> 20.23 | H37: 4.02 | I37: 0.2085 | J37: =ROUND(H37*(1+I37),2) -> 4.86 | K37: =ROUND(J37*0.3,2) -> 1.46 | L37: =J37-K37 -> 3.4 | M37: =ROUND(K37*G37,2) -> 29.54 | N37: =O37-M37 -> 68.78 | O37: =ROUND(G37*J37,2) -> 98.32
B38: 3.1.19 | C38: SINAPI | D38: 88489 | E38: Pintura látex acrílica premium, aplicação manual em paredes, duas demãos. Af_04/2023 | F38: m² | G38: =G37 -> 20.23 | H38: 14.16 | I38: 0.2085 | J38: =ROUND(H38*(1+I38),2) -> 17.11 | K38: =ROUND(J38*0.3,2) -> 5.13 | L38: =J38-K38 -> 11.98 | M38: =ROUND(K38*G38,2) -> 103.78 | N38: =O38-M38 -> 242.36 | O38: =ROUND(G38*J38,2) -> 346.14
B39: 3.1.20 | C39: SINAPI | D39: 100740 | E39: Pintura com tinta alquídica de acabamento (esmalte sintético acetinado) aplicada a rolo ou pincel sobre perfil metálico executado em fábrica (por demão). Af_01/2020 | F39: m² | G39: =2.1*2*0.8 -> 3.36 | H39: 12.27 | I39: 0.2085 | J39: =ROUND(H39*(1+I39),2) -> 14.83 | K39: =ROUND(J39*0.3,2) -> 4.45 | L39: =J39-K39 -> 10.38 | M39: =ROUND(K39*G39,2) -> 14.95 | N39: =O39-M39 -> 34.88 | O39: =ROUND(G39*J39,2) -> 49.83
B40: 3.1.21 | C40: SINAPI | D40: 100719 | E40: Pintura com tinta alquídica de fundo (tipo zarcão) pulverizada sobre perfil metálico executado em fábrica (por demão). Af_01/2020_pe | F40: m² | G40: =G39 -> 3.36 | H40: 11.83 | I40: 0.2085 | J40: =ROUND(H40*(1+I40),2) -> 14.3 | K40: =ROUND(J40*0.3,2) -> 4.29 | L40: =J40-K40 -> 10.01 | M40: =ROUND(K40*G40,2) -> 14.41 | N40: =O40-M40 -> 33.64 | O40: =ROUND(G40*J40,2) -> 48.05
B41: 3.1.22 | C41: SINAPI | D41: 94807 | E41: Porta em aço de abrir tipo veneziana sem guarnição, 90x210cm, fixação com parafusos - fornecimento e instalação. Af_10/2025 | F41: un | G41: =ROUND(0.82*2.1,2) -> 1.72 | H41: 671.3 | I41: 0.2085 | J41: =ROUND(H41*(1+I41),2) -> 811.27 | K41: =ROUND(J41*0.3,2) -> 243.38 | L41: =J41-K41 -> 567.89 | M41: =ROUND(K41*G41,2) -> 418.61 | N41: =O41-M41 -> 976.77 | O41: =ROUND(G41*J41,2) -> 1395.38
B43: 3.2 | E43: Abrigo de poço - Instalações elétricas | N43: Subtotal | O43: =SUM(O44:O53) -> 1218.2
B44: 3.2.1 | C44: SINAPI | D44: 97667 | E44: Eletroduto flexível corrugado, PEAD, DN 50 (1 1/2"), para rede enterrada de distribuição de energia elétrica - fornecimento e instalação. Af_12/2021 | F44: m | G44: 27 | H44: 11.55 | I44: 0.2085 | J44: =ROUND(H44*(1+I44),2) -> 13.96 | K44: =ROUND(J44*0.3,2) -> 4.19 | L44: =J44-K44 -> 9.77 | M44: =ROUND(K44*G44,2) -> 113.13 | N44: =O44-M44 -> 263.79 | O44: =ROUND(G44*J44,2) -> 376.92
B45: 3.2.2 | C45: SINAPI | D45: 101560 | E45: Cabo de cobre flexível isolado, 10 mm², 0,6/1,0 KV, para rede aérea de distribuição de energia elétrica de baixa tensão - fornecimento e instalação. Af_12/2025 | F45: m | G45: 30 | H45: 10.55 | I45: 0.2085 | J45: =ROUND(H45*(1+I45),2) -> 12.75 | K45: =ROUND(J45*0.3,2) -> 3.83 | L45: =J45-K45 -> 8.92 | M45: =ROUND(K45*G45,2) -> 114.9 | N45: =O45-M45 -> 267.6 | O45: =ROUND(G45*J45,2) -> 382.5
B46: 3.2.3 | C46: SINAPI | D46: 91864 | E46: Eletroduto rígido roscável, pvc, DN 32 mm (1"), para circuitos terminais, instalado em forro - fornecimento e instalação. Af_03/2023 | F46: m | G46: 10 | H46: 19.33 | I46: 0.2085 | J46: =ROUND(H46*(1+I46),2) -> 23.36 | K46: =ROUND(J46*0.3,2) -> 7.01 | L46: =J46-K46 -> 16.35 | M46: =ROUND(K46*G46,2) -> 70.1 | N46: =O46-M46 -> 163.5 | O46: =ROUND(G46*J46,2) -> 233.6
B47: 3.2.4 | C47: SINAPI | D47: 91925 | E47: Cabo de cobre flexível isolado, 1,5 mm², anti-chama 0,6/1,0 KV, para circuitos terminais - fornecimento e instalação. Af_03/2023 | F47: m | G47: 10 | H47: 3.84 | I47: 0.2085 | J47: =ROUND(H47*(1+I47),2) -> 4.64 | K47: =ROUND(J47*0.3,2) -> 1.39 | L47: =J47-K47 -> 3.25 | M47: =ROUND(K47*G47,2) -> 13.9 | N47: =O47-M47 -> 32.5 | O47: =ROUND(G47*J47,2) -> 46.4
B48: 3.2.5 | C48: SINAPI | D48: 91927 | E48: Cabo de cobre flexível isolado, 2,5 mm², anti-chama 0,6/1,0 KV, para circuitos terminais - fornecimento e instalação. Af_03/2023 | F48: m | G48: 10 | H48: 5.16 | I48: 0.2085 | J48: =ROUND(H48*(1+I48),2) -> 6.24 | K48: =ROUND(J48*0.3,2) -> 1.87 | L48: =J48-K48 -> 4.37 | M48: =ROUND(K48*G48,2) -> 18.7 | N48: =O48-M48 -> 43.7 | O48: =ROUND(G48*J48,2) -> 62.4
...

Sheet CRONOGRAMA
B1: PREFEITURA MUNICIPAL DE VERANÓPOLIS
B4: CRONOGRAMA FÍSICO-FINANCEIRO
B5: CONSTRUÇÃO PAVILHÃO BOM SAMARITANO - ETAPA 2
F7: =ORÇAMENTO!G6 -> Referência: SINAPI RS 02/2026
F8: =ORÇAMENTO!G7 -> BDI não desonerado: 20,85%
D9: TOTAL | E9: 1° MÊS | F9: 2° MÊS | G9: 3° MÊS | H9: TOTAL
B11: =ORÇAMENTO!B12 -> 1. | C11: =ORÇAMENTO!E12 -> Administração local
C12: Físico | E12: =E13/$D13 -> 0.13982468 | F12: =F13/$D13 -> 0.4416063 | G12: =G13/$D13 -> 0.41856902 | H12: =E12+G12+F12 -> 1
C13: Financeiro | D13: =ORÇAMENTO!O12 -> 1584.13 | E13: =(E16+E19+E22+E25+E28+E31+E37+E40+E34)*$D13/($D34+$D40+$D37+$D31+$D28+$D25+$D22+$D19+$D16) -> 221.50047 | F13: =(F16+F19+F22+F25+F28+F31+F37+F40+F34)*$D13/($D34+$D40+$D37+$D31+$D28+$D25+$D22+$D19+$D16) -> 699.56179 | G13: =(G16+G19+G22+G25+G28+G31+G37+G40+G34)*$D13/($D34+$D40+$D37+$D31+$D28+$D25+$D22+$D19+$D16) -> 663.06774 | H13: =E13+G13++F13 -> 1584.13
B14: =ORÇAMENTO!B15 -> 2. | C14: =ORÇAMENTO!E15 -> Serviços iniciais
C15: Físico | E15: 1 | H15: =E15+G15+F15 -> 1
C16: Financeiro | D16: =ORÇAMENTO!O15 -> 2522.03 | E16: =$D16*E15 -> 2522.03 | F16: =$D16*F15 -> 0 | G16: =$D16*G15 -> 0 | H16: =E16+G16++F16 -> 2522.03
B17: =ORÇAMENTO!B18 -> 3. | C17: =ORÇAMENTO!E18 -> Abrigo de poço
C18: Físico | E18: =E22/D19 -> 0.46435089 | F18: =(F22+F25+F28)/D19 -> 0.53564911 | H18: =E18+G18+F18 -> 1
C19: Financeiro | D19: =ORÇAMENTO!O18 -> 13673.72 | E19: =$D19*E18 -> 6349.404 | F19: =$D19*F18 -> 7324.316 | G19: =$D19*G18 -> 0 | H19: =E19+G19++F19 -> 13673.72
B20: 3.1 | C20: =ORÇAMENTO!E19 -> Abrigo de poço - Construção
C21: Físico | E21: 0.6 | F21: 0.4 | H21: =E21+G21+F21 -> 1
C22: Financeiro | D22: =ORÇAMENTO!O19 -> 10582.34 | E22: =$D22*E21 -> 6349.404 | F22: =$D22*F21 -> 4232.936 | G22: =$D22*G21 -> 0 | H22: =E22+G22++F22 -> 10582.34
B23: 3.2 | C23: =ORÇAMENTO!E43 -> Abrigo de poço - Instalações elétricas
C24: Físico | F24: 1 | H24: =E24+G24+F24 -> 1
C25: Financeiro | D25: =ORÇAMENTO!O43 -> 1218.2 | E25: =$D25*E24 -> 0 | F25: =$D25*F24 -> 1218.2 | G25: =$D25*G24 -> 0 | H25: =E25+G25++F25 -> 1218.2
B26: 3.3 | C26: =ORÇAMENTO!E55 -> Instalações para tratamento de água no abrigo
C27: Físico | F27: 1 | H27: =E27+G27+F27 -> 1
C28: Financeiro | D28: =ORÇAMENTO!O55 -> 1873.18 | E28: =$D28*E27 -> 0 | F28: =$D28*F27 -> 1873.18 | G28: =$D28*G27 -> 0 | H28: =E28+G28++F28 -> 1873.18
B29: 4. | C29: =ORÇAMENTO!E58 -> Poço tubular
C30: Físico | F30: 0.65 | G30: 0.35 | H30: =E30+G30+F30 -> 1
C31: Financeiro | D31: =ORÇAMENTO!O58 -> 36264.56 | E31: =$D31*E30 -> 0 | F31: =$D31*F30 -> 23571.964 | G31: =$D31*G30 -> 12692.596 | H31: =E31+G31++F31 -> 36264.56
B32: 5. | C32: =ORÇAMENTO!E73 -> Reservação
C33: Físico | F33: =F40/D34 -> 0.2305845 | G33: =G37/D34 -> 0.7694155 | H33: =E33+G33+F33 -> 1
C34: Financeiro | D34: =ORÇAMENTO!O73 -> 21361.28 | E34: =$D34*E33 -> 0 | F34: =F40 -> 4925.58 | G34: =G37+G40 -> 16435.7 | H34: =E34+G34++F34 -> 21361.28
B35: 5.1 | C35: =ORÇAMENTO!E74 -> Fornecimento e instalação de reservatorio 20.000 litros
C36: Físico | G36: 1 | H36: =E36+G36+F36 -> 1
C37: Financeiro | D37: =ORÇAMENTO!O74 -> 16435.7 | E37: =$D37*E36 -> 0 | F37: =$D37*F36 -> 0 | G37: =$D37*G36 -> 16435.7 | H37: =E37+G37++F37 -> 16435.7
B38: 5.2 | C38: =ORÇAMENTO!E85 -> Base apoiada em concreto armado 3,5x3,5 metros esp. 20 cm
C39: Físico | F39: 1 | H39: =E39+G39+F39 -> 1
C40: Financeiro | D40: =ORÇAMENTO!O85 -> 4925.58 | E40: =$D40*E39 -> 0 | F40: =$D40*F39 -> 4925.58 | G40: =$D40*G39 -> 0 | H40: =E40+G40++F40 -> 4925.58
B41: 6. | C41: =ORÇAMENTO!E93 -> Escavações, reaterro
C42: Físico | F42: 0.3 | G42: 0.7 | H42: =E42+G42+F42 -> 1
C43: Financeiro | D43: =ORÇAMENTO!O93 -> 8512.52 | E43: =$D43*E42 -> 0 | F43: =$D43*F42 -> 2553.756 | G43: =$D43*G42 -> 5958.764 | H43: =E43+G43++F43 -> 8512.52
B44: 7. | C44: =ORÇAMENTO!E98 -> Adutora
...

Sheet COMPOSIÇÕES
B1: PREFEITURA MUNICIPAL DE ROCA SALES
B3: COMPOSIÇÕES
G6: Referência: SINAPI RS 02/2026
G7: BDI não desonerado: 20,85%
C10: FONTE | D10: CÓDIGO | E10: DESCRIÇÃO | F10: UNIDADE | G10: COEF. | H10: CUSTO UNIT. DES | I10: CUSTO UNIT N. DES.
C12: Composição | D12: 11 | E12: Administração local | F12: cj | H12: 1219.5 | I12: 1310.82
C13: SINAPI | D13: 90778 | E13: Engenheiro civil de obra pleno com encargos complementares | F13: H | G13: 6 | H13: 135.68 | I13: 146.28
C14: SINAPI | D14: 90781 | E14: Topografo com encargos complementares | F14: H | G14: 6 | H14: 44.63 | I14: 47.82
C15: SINAPI | D15: 88253 | E15: Auxiliar de topógrafo com encargos complementares | F15: H | G15: 6 | H15: 22.94 | I15: 24.37
C17: Composição | D17: Cerca | E17: Cercamento com tela de arrame galvanizado | F17: m | H17: 132.62 | I17: 134.79
C18: SINAPI | D18: 88316 | E18: Servente com encargos complementares | F18: H | G18: 0.4492845 | H18: 23.48 | I18: 24.83
C19: SINAPI | D19: 88309 | E19: Pedreiro com encargos complementares | F19: H | G19: 0.898569 | H19: 28.14 | I19: 29.88
C20: SINAPI-I | D20: 43130 | E20: Arame galvanizado 12 bwg, d = 2,76 mm (0,048 kg/m) ou 14 bwg, d = 2,11 mm (0,026 kg/m) | F20: kg | G20: 0.0886 | H20: 20 | I20: 20
C21: SINAPI-I | D21: 10937 | E21: Tela de arame galvanizada revestida em pvc, quadrangular / losangular, fio 2,11 mm (14 bwg), bitola final = *2,8* mm, malha *8 x 8* cm, h = 2 m | F21: m² | G21: 2.11 | H21: 29.73 | I21: 29.73
C22: SINAPI-I | D22: 36799 | E22: Mourao de concreto reto, tipo esticador, *10 x 10* cm, h= 2,50 m | F22: un | G22: 0.44 | H22: 73.37 | I22: 73.37
C24: Composição | D24: BOMBA | E24: BOMBA SUBMERSA TRIFÁSICA 380V 6HP 30E | H24: 10720.95 | I24: 10741.54
C25: SINAPI | D25: 88267 | E25: Encanador ou bombeiro hidráulico com encargos complementares | F25: h | G25: 5.5309815 | H25: 27.68 | I25: 29.41
C26: SINAPI | D26: 88264 | E26: Eletricista com encargos complementares | F26: h | G26: 0.8691791 | H26: 30.11 | I26: 31.99
C27: SINAPI | D27: 88248 | E27: Auxiliar de encanador ou bombeiro hidráulico com encargos complementares | F27: h | G27: 5.5309815 | H27: 24.26 | I27: 25.72
C28: SINAPI | D28: 88247 | E28: Auxiliar de eletricista com encargos complementares | F28: h | G28: 0.8691791 | H28: 25.2 | I28: 26.69
C29: SINAPI-I | D29: 44115 | E29: Mangueira flexivel transparente com espiral azul, em pvc, diam. 2" (50 mm), para servicos leves de succao e descarga | F29: m | G29: 3 | H29: 28.3 | I29: 28.3
C30: SINAPI-I | D30: 5086 | E30: Corrente de elo curto comum, soldada, galvanizada, espessura do elo = 1/2" (12,5 mm) | F30: kg | G30: 10.1376 | H30: 36.37 | I30: 36.37
C31: Cotação | D31: 24 | E31: Bomba submersa trif. 380v 6 hp 30e | F31: un | G31: 1 | H31: 9932 | I31: 9932
B37: Roca Sales, 20 de abril de 2026.
G41: CRISTIANO FUGALI
G42: Eng. Civil - CREA RS236549

Sheet COTAÇÕES
B1: PREFEITURA MUNICIPAL DE ROCA SALES
B3: COTAÇÕES
G6: Referência: SINAPI RS 02/2026
G7: BDI não desonerado: 20,85%
C10: FONTE | D10: CÓDIGO | E10: DESCRIÇÃO | F10: UNIDADE | G10: MEDIANA | H10: DATA COTAÇÃO
C12: COTAÇÃO | D12: 3 | E12: Tampa de poço artesiano em ferro galvanizado 6" x 1 1/2"
C13: EMPRESA | E13: HIDROSOLUÇÕES POÇOS ARTESIANOS E BOMBAS | F13: UN | G13: 200 | H13: 46113
C15: COTAÇÃO | D15: 18 | E15: Luva em PEAD DN 50
C16: EMPRESA | E16: RACAZA | F16: UN | G16: 58.2 | H16: 46113
C18: COTAÇÃO | D18: 19 | E18: Têe de compressão PP/PEAD 50 mm
C19: EMPRESA | E19: RACAZA | F19: UN | G19: 135 | H19: =H16 -> 46113
C21: COTAÇÃO | D21: 20 | E21: Adaptador de Compressão PP p/PEAD R.M. 50 X 1 1/2" - PN 16
C22: EMPRESA | E22: RACAZA | F22: UN | G22: 30.33 | H22: =H19 -> 46113
C24: COTAÇÃO | D24: 21 | E24: Curva longa PVC soldável 90° 50 mm
C25: EMPRESA | E25: RACAZA | F25: UN | G25: 130.65 | H25: =H22 -> 46113
C27: COTAÇÃO | D27: 22 | E27: Automático de bóia superior / inferior 15 A 250 V - acionamento das bombas
C28: EMPRESA | E28: MAGAZINE LUIZA | F28: UN | G28: 220.5 | H28: =H22 -> 46113
C30: COTAÇÃO | D30: 25 | E30: Quadro de comando elétrico para bomba 6 HP completo
C31: EMPRESA | E31: HIDROSOLUÇÕES POÇOS ARTESIANOS E BOMBAS | F31: UN | G31: 3500 | H31: 46113
B37: Roca Sales, 20 de abril de 2026.
G41: CRISTIANO FUGALI
G42: Eng. Civil - CREA RS236549

Sheet Planilha1
A1: Coluna1 | B1: diâmetro | C1: massa (kg) | D1: local | E1: Coluna5
A2: N01 13 mm 12.5 CA-50 84 182 cm 153 m 15 cm 0,02 m³ 147,39 kg FUNDAÇÕES | B2: 12.5 | C2: 147.39 | D2: fundação
A3: N02 16 mm 16 CA-50 46 218 cm 100 m 15 cm 0,02 m³ 158,04 kg FUNDAÇÕES | B3: 16 | C3: 158.04 | D3: fundação
A4: N03 13 mm 12.5 CA-50 28 321 cm 90 m 15 cm 0,01 m³ 86,67 kg FUNDAÇÕES | B4: 12.5 | C4: 86.67 | D4: fundação
A5: N04 10 mm 10 CA-60 16 340 cm 54 m 30 cm 0,00 m³ 33,57 kg FUNDAÇÕES | B5: 10 | C5: 33.57 | D5: fundação
A6: N05 16 mm 16 CA-50 44 182 cm 80 m 15 cm 0,02 m³ 126,49 kg FUNDAÇÕES | B6: 16 | C6: 126.49 | D6: fundação
A7: N06 13 mm 12.5 CA-50 44 182 cm 80 m 15 cm 0,01 m³ 77,28 kg FUNDAÇÕES | B7: 12.5 | C7: 77.28 | D7: fundação
A8: N07 16 mm 16 CA-50 130 <varia> 308 m 15 cm 0,06 m³ 485,59 kg FUNDAÇÕES | B8: 16 | C8: 485.59 | D8: fundação
A9: N08 6 mm 6.3 CA-50 6 631 cm 38 m 30 cm 0,00 m³ 9,26 kg FUNDAÇÕES | B9: 6.3 | C9: 9.26 | D9: fundação
A10: N09 16 mm 16 CA-50 84 338 cm 284 m 15 cm 0,06 m³ 447,70 kg FUNDAÇÕES | B10: 16 | C10: 447.7 | D10: fundação
A11: N10 16 mm 16 CA-50 84 218 cm 183 m 15 cm 0,04 m³ 288,60 kg FUNDAÇÕES | B11: 16 | C11: 288.6 | D11: fundação
A12: N11 13 mm 12.5 CA-50 16 627 cm 100 m 30 cm 0,01 m³ 96,70 kg FUNDAÇÕES | B12: 12.5 | C12: 96.7 | D12: fundação
A13: N12 13 mm 12.5 CA-50 28 640 cm 179 m 15 cm 0,02 m³ 172,69 kg FUNDAÇÕES | B13: 12.5 | C13: 172.69 | D13: fundação
... A33: N32 16 mm 16 CA-50 42 405 cm 170 m 15 cm 0,03 m³ 268,44 kg MESOESTRUTURA | B33: 16 | C33: 268.44 | D33: meso
A34: N33 10 mm 10 CA-50 55 289 cm 159 m 15 cm 0,01 m³ 98,03 kg MESOESTRUTURA | B34: 10 | D34: meso
A35: N34 13 mm 12.5 CA-50 43 403 cm 173 m 15 cm 0,02 m³ 166,84 kg MESOESTRUTURA | B35: 12.5 | D35: meso
A36: N35 10 mm 10 CA-50 56 <varia> 167 m 15 cm 0,01 m³ 103,21 kg MESOESTRUTURA | B36: 10 | D36: meso
A37: N36 13 mm 12.5 CA-50 82 403 cm 330 m 15 cm 0,04 m³ 318,16 kg MESOESTRUTURA | B37: 12.5 | D37: meso
A38: N37 10 mm 10 CA-50 54 <varia> 161 m 15 cm 0,01 m³ 99,51 kg MESOESTRUTURA | B38: 10 | D38: meso
A39: N38 16 mm 16 CA-50 82 405 cm 332 m 15 cm 0,07 m³ 524,09 kg MESOESTRUTURA | B39: 16 | D39: meso
A40: N39 10 mm 10 CA-50 112 <varia> 687 m 15 cm 0,05 m³ 423,65 kg MESOESTRUTURA | B40: 10 | D40: meso
A41: N40 13 mm 12.5 CA-50 42 403 cm 169 m 15 cm 0,02 m³ 162,96 kg MESOESTRUTURA | B41: 12.5 | D41: meso
A42: N41 10 mm 10 CA-50 56 305 cm 171 m 15 cm 0,01 m³ 105,39 kg MESOESTRUTURA | B42: 10 | D42: meso
A43: N42 16 mm 16 CA-50 42 405 cm 170 m 15 cm 0,03 m³ 268,44 kg MESOESTRUTURA | B43: 16 | D43: meso
A44: N43 20 mm 20 CA-50 41 489 cm 201 m 15 cm 0,06 m³ 494,58 kg MESOESTRUTURA | B44: 20 | D44: meso
A45: N44 20 mm 20 CA-50 41 489 cm 201 m 15 cm 0,06 m³ 494,58 kg MESOESTRUTURA | B45: 20 | D45: meso
... A53: N52 32 mm 25 CA-50 16 <varia> 150 m 15 cm 0,12 m³ 947,65 kg VIGAS | B53: 25 | D53: viga
A54: N53 13 mm 12.5 CA-50 26 1816 cm 472 m 20 cm 0,06 m³ 454,78 kg TABULEIRO | B54: 25
A55: N54 6 mm 6.3 CA-50 17 1812 cm 308 m 30 cm 0,01 m³ 75,38 kg TABULEIRO | B55: 12.5
A56: N55 5 mm 5 CA-60 182 82 cm 150 m 20 cm 0,00 m³ 23,05 kg GUARDA RODA | B56: 6.3
A57: N56 10 mm 10 CA-50 8 <varia> 146 m 0,01 m³ 90,22 kg GUARDA RODA | B57: 10
A58: N57 32 mm 25 CA-50 72 150 cm 108 m 100 cm 0,09 m³ 681,84 kg TIRANTES | B58: 25
A59: N58 10 mm 10 CA-50 59 250 cm 147 m 30 cm 0,01 m³ 90,94 kg MESOESTRUTURA | B59: 10
A60: N59 5 mm 5 CA-60 352 64 cm 227 m 30 cm 0,00 m³ 34,99 kg MESOESTRUTURA | B60: 5
A61: N60 16 mm 16 CA-50 174 541 cm 941 m 20 cm 0,19 m³ 1485,64 kg TABULEIRO | B61: 16
A62: N61 4 mm 4.2 CA-60 184 25 cm 46 m 20 cm 0,00 m³ 5,00 kg GUARDA RODA | B62: 4.2
