Workbook
Name ______BDI2: #REF!
Name _____BDI2: #REF!
Name ____BDI2: #REF!
Name ____BDI2: #REF!
Name ___BDI2: #REF!
Name ___BDI2: #REF!
Name __BDI2: #REF!
Name __BDI2: #REF!
Name __BDI2: #REF!
Name __BDI2: #REF!
Name _BDI2: #REF!
Name _BDI2: #REF!
Name _BDI2: #REF!
Name _BDI2: #REF!
Name BASEDECALCULO: #REF!
Name BASEDECALCULO: #REF!
Name BASEDECALCULO: #REF!
Name BASEDECALCULO: #REF!
Name BASEDECALCULO: #REF!
Name BCALC: #REF!
Name BCALC: #REF!
Name BCALC: #REF!
Name BDI: #REF!
Name BDI: #REF!
Name BDI: #REF!
Name CREACAU: #REF!
Name CREACAU: #REF!
Name CREACAU: #REF!
Name DifBDI: #REF!
Name DifBDI: #REF!
Name DifBDI: #REF!
Name DifBDI2: #REF!
Name DifBDI2: #REF!
Name DifBDI2: #REF!
Name ENC: #REF!
Name ENC: #REF!
Name ENC: #REF!
Name ENCARGOS: #REF!
Name ENCARGOS: #REF!
Name ENCARGOS: #REF!
Name ente: #REF!
Name ente: #REF!
Name ente: #REF!
Name regime: #REF!
Name regime: #REF!
Name regime: #REF!

Sheet Resumo
A1: PLANILHA DE ORÇAMENTO
A2: TRECHO: ROTA TURÍSTICA "CAMINHO DO PÃO E DO VINHO" - ROCA SALES/RS | G2: DATA: | H2: 44378
A3: SUB-TRECHO: LOTE 05 - Linha Geral (km 46+280,05 AO km 47+934)
A4: EXTENSÃO: TOTAL 1+653,95 Km | G4: BDI: | H4: 0.221

Sheet BDI
B2: NÃO É NECESSÁRIO IMPRIMIR ESTA ABA
B3: PREENCHA OS CAMPOS EM AMARELO E IMPRIMA A ABA "DECLARAÇÃO"
H5: Prefeitura Municipal de | I5: Empresa
B6: Tomador/Empresa: | E6: Prefeitura Municipal de | F6: Roca Sales | G6: =IF(E6="empresa","",E6) -> Prefeitura Municipal de
B7: Município: | E7: =F6 -> Roca Sales
B8: Nº contrato:
B9: Objeto: | E9: TRECHO ROTA TURÍSTICA "CAMINHO DO PÃO E DO VINHO", PARTE 02 - ROCA SALES/RS
B10: Encargos : | E10: sem desoneração
B11: Data: | E11: 44531
B13: Nome orçamentista: | E13: GIMAS LUSA | Q13: Prefeitura Municipal de | R13: sem desoneração | S13: CREA nº | T13: empreitada por preço global | U13: valor da mão de obra | V13: 1 - Construção de Edifícios
B14: CREA nº | E14: 141479 | H14: CREA nº | I14: CAU nº | Q14: Empresa | R14: desonerados | S14: CAU n° | T14: empreitada por preço unitário | U14: valor total da obra | V14: 2 - Construção de Rodovias e Ferrovias
V15: 3 - Construção de Redes de Abastecimento de Água, Coleta de Esgoto e Construções Correlatas
B16: Nome do prefeito | E16: Amilton Fontana | V16: 4 - Construção e Manutenção de Estações e Redes de Distribuição de Energia Elétrica
B17: CPF do prefeito | E17: 43388400059 | V17: 5 - Obras Portuárias, Marítimas e Fluviais
V18: 6 - Fornecimento de Materiais e Equipamentos
B19: Regime de execução: | E19: empreitada por preço global | G19: empreitada por preço global | H19: empreitada por preço unitário | L19: sem desoneração | M19: desonerados
B21: Alíquota ISSQN: | E21: 2.5 | F21: % | G21: 2 | H21: 5
B22: Base de cálculo ISSQN: | E22: valor da mão de obra | L22: valor total da obra | M22: valor da mão de obra
B23: % de Mão de Obra (em relação ao valor total da obra): | E23: 20 | F23: %
B29: Cálculo do BDI conforme Acórdão 2622/2013 TCU
B31: SELECIONE O TIPO DE OBRA: | D31: 2 - Construção de Rodovias e Ferrovias
B33: Itens | G33: Adotado | H33: MÍN | I33: MÁX | M33: 1 - Construção de Edifícios | P33: MIN | Q33: MÁX
B34: AC | C34: ADM CENTRAL | G34: 4.67 | H34: =VLOOKUP(J34,$O$34:$Q$74,2,FALSE) -> 3.8 | I34: =VLOOKUP(J34,$O$34:$Q$74,3,FALSE) -> 4.67 | J34: =CONCATENATE(LEFT($D$31,1),"a") -> 2a | K34: 0 | L34: =IF($G$51>$I$51,I34,10000) -> 10000 | M34: 2 - Construção de Rodovias e Ferrovias | O34: 1a | P34: 3 | Q34: 5.5
B35: S+G | C35: SEGURO E GARANTIA | G35: 0.74 | H35: =VLOOKUP(J35,$O$34:$Q$74,2,FALSE) -> 0.32 | I35: =VLOOKUP(J35,$O$34:$Q$74,3,FALSE) -> 0.74 | J35: =CONCATENATE(LEFT($D$31,1),"b") -> 2b | K35: 0 | L35: =IF($G$51>$I$51,I35,10000) -> 10000 | M35: 3 - Construção de Redes de Abastecimento de Água, Coleta de Esgoto e Construções Correlatas | O35: 1b | P35: 0.8 | Q35: 1
B36: R | C36: RISCO | G36: 0.97 | H36: =VLOOKUP(J36,$O$34:$Q$74,2,FALSE) -> 0.5 | I36: =VLOOKUP(J36,$O$34:$Q$74,3,FALSE) -> 0.97 | J36: =CONCATENATE(LEFT($D$31,1),"c") -> 2c | K36: 0 | L36: =IF($G$51>$I$51,I36,10000) -> 10000 | M36: 4 - Construção e Manutenção de Estações e Redes de Distribuição de Energia Elétrica | O36: 1c | P36: 0.97 | Q36: 1.27
B37: DF | C37: DESP. FINANCEIRAS | G37: 1.21 | H37: =VLOOKUP(J37,$O$34:$Q$74,2,FALSE) -> 1.02 | I37: =VLOOKUP(J37,$O$34:$Q$74,3,FALSE) -> 1.21 | J37: =CONCATENATE(LEFT($D$31,1),"d") -> 2d | K37: 0 | L37: =IF($G$51>$I$51,I37,10000) -> 10000 | M37: 5 - Obras Portuárias, Marítimas e Fluviais | O37: 1d | P37: 0.59 | Q37: 1.39
B38: L | C38: LUCRO | G38: 8.69 | H38: =VLOOKUP(J38,$O$34:$Q$74,2,FALSE) -> 6.64 | I38: =VLOOKUP(J38,$O$34:$Q$74,3,FALSE) -> 8.69 | J38: =CONCATENATE(LEFT($D$31,1),"e") -> 2e | K38: 0 | L38: =IF($G$51>$I$51,I38,10000) -> 10000 | M38: 6 - Fornecimento de Materiais e Equipamentos | O38: 1e | P38: 6.16 | Q38: 8.96
B39: I | C39: IMPOSTOS | G39: =G40+G41+G42 -> 4.15 | H39: conf. Legislação | O39: 2a | P39: 3.8 | Q39: 4.67
D40: PIS | G40: 0.65 | K40: 0 | L40: =IF($G$51>$I$51,3,10000) -> 10000
D41: COFINS | G41: 3 | K41: 0 | L41: =IF($G$51>$I$51,0.65,10000) -> 10000
D42: ISSQN (Alíquota x %Base de cálculo) | G42: =IF(E22="valor total da obra",$E$21,$E$21*$E$23/100) -> 0.5
D43: CPRB (p/ desonerado) | G43: =IF(E10="desonerados",4.5,0) -> 0
B44: I | C44: IMPOSTOS (Desonerado) | G44: =IF(E10="desonerados",SUM(G40:G43),G39) -> 4.15 | O44: 2b | P44: 0.32 | Q44: 0.74
O45: 2c | P45: 0.5 | Q45: 0.97
B46: Fórmula do BDI | O46: 2d | P46: 1.02 | Q46: 1.21
C47: BDI = | D47: (1 + AC + S + G + R) * (1 + DF) * (1 + L) | G47: -1 | O47: 2e | P47: 6.64 | Q47: 8.69
D48: (1 - I) | O48: 3a | P48: 3.43 | Q48: 6.71
O49: 3b | P49: 0.28 | Q49: 0.75
B50: BDI Resultante | H50: MÍN | I50: MÁX | O50: 3c | P50: 1 | Q50: 1.74
B51: =IF(G51>I51,"BDI Sem Desoneração: ! FORA DOS LIMITES !",IF(G51<H51,"BDI Sem Desoneração: ! FORA DOS LIMITES !","BDI Sem Desoneração:")) -> BDI Sem Desoneração: | G51: =100*ROUND((((1+G34/100+G35/100+G36/100)*(1+G37/100)*(1+G38/100))/(1-G39/100))-1,3) -> 22.1 | H51: =VLOOKUP(J51,$O$34:$Q$74,2,FALSE) -> 19.6 | I51: =VLOOKUP(J51,$O$34:$Q$74,3,FALSE) -> 24.23 | J51: =CONCATENATE(LEFT($D$31,1),"F") -> 2F | O51: 3d | P51: 0.94 | Q51: 1.17
...

Sheet BDI declaração
B1: Declaração
B3: =" A "&BDI!G6&" "&BDI!$F$6&" declara para os devidos e necessários fins que na elaboração do orçamento referente ao objeto ''"&BDI!$E$9&"'',"&BDI!$E$8&" foi adotado percentual de BDI de "&E30& " % (conforme planilha da composição analítica abaixo) e encargos " &BDI!$E$10& " em conformidade com o estabelecido no SINAPI." -> A Prefeitura Municipal de Roca Sales declara para os devidos e necessários fins que na elaboração do orçamento referente ao objeto ''TRECHO ROTA TURÍSTICA "CAMINHO DO PÃO E DO VINHO", PARTE 02 - ROCA SALES/RS'', foi adotado percentual de BDI de 22,1 % (conforme planilha da composição analítica abaixo) e encargos sem desoneração em conformidade com o estabelecido no SINAPI.
B4: =" Declaramos ainda que a alíquota de ISSQN no município é de "&BDI!$E$21&"%, a incidir sobre o "&BDI!$E$22& "." -> Declaramos ainda que a alíquota de ISSQN no município é de 2,5%, a incidir sobre o valor da mão de obra.
B5: =IF(BDI!E22="valor total da obra","","Para a obra em questão é considerada a relação de "&BDI!$E$23&"% é mão de obra e "&100-BDI!$E$23&"% é material.") -> Para a obra em questão é considerada a relação de 20% é mão de obra e 80% é material.
B6: =" O regime de execução da obra será "&BDI!E19&"." -> O regime de execução da obra será empreitada por preço global.
B7: ="Oportunamente, declaramos que a opção de orçamento considerando os encargos "&BDI!E10&" é a opção mais adequada para a Administração Pública Municipal." -> Oportunamente, declaramos que a opção de orçamento considerando os encargos sem desoneração é a opção mais adequada para a Administração Pública Municipal.
B9: Composição do BDI (conforme Acórdão 2622/2013 TCU)
B11: TIPO DE OBRA: | D11: =[1]BDI!D31 -> 2 - Construção de Rodovias e Ferrovias
B13: Itens | E13: Adotado | J13: 1 - Construção de Edifícios | M13: MIN | N13: MÁX
B14: AC | C14: ADM CENTRAL | E14: =[1]BDI!G34 -> 4.67 | J14: 2 - Construção de Rodovias e Ferrovias | L14: 1a | M14: 3 | N14: 5.5
B15: S+G | C15: SEGURO E GARANTIA | E15: =[1]BDI!G35 -> 0.74 | J15: 3 - Construção de Redes de Abastecimento de Água, Coleta de Esgoto e Construções Correlatas | L15: 1b | M15: 0.8 | N15: 1
B16: R | C16: RISCO | E16: =[1]BDI!G36 -> 0.97 | J16: 4 - Construção e Manutenção de Estações e Redes de Distribuição de Energia Elétrica | L16: 1c | M16: 0.97 | N16: 1.27
B17: DF | C17: DESP. FINANCEIRAS | E17: =[1]BDI!G37 -> 1.21 | J17: 5 - Obras Portuárias, Marítimas e Fluviais | L17: 1d | M17: 0.59 | N17: 1.39
B18: L | C18: LUCRO | E18: =[1]BDI!G38 -> 8.69 | J18: 6 - Fornecimento de Materiais e Equipamentos | L18: 1e | M18: 6.16 | N18: 8.96
B19: I | C19: IMPOSTOS | E19: =SUM(E20:E23) -> 4.15 | L19: 2a | M19: 3.8 | N19: 4.67
D20: PIS | E20: =[1]BDI!G40 -> 0.65
D21: COFINS | E21: =[1]BDI!G41 -> 3
D22: ISSQN (Aliquota x %Base de cálculo) | E22: =[1]BDI!G42 -> 0.5
D23: CPRB | E23: =[1]BDI!G43 -> 0
L24: 2c | M24: 0.5 | N24: 0.97
B25: Fórmula do BDI | L25: 2d | M25: 1.02 | N25: 1.21
C26: BDI = | D26: (1 + AC + S + G + R) * (1 + DF) * (1 + L) | E26: -1 | L26: 2e | M26: 6.64 | N26: 8.69
D27: (1 - I) | L27: 3a | M27: 3.43 | N27: 6.71
L28: 3b | M28: 0.28 | N28: 0.75
B29: BDI Resultante | F29: De acordo com o Acórdão 2622/2013-TCU. | L29: 3c | M29: 1 | N29: 1.74
B30: BDI Resultante | E30: =100*ROUND((((1+E14/100+E15/100+E16/100)*(1+E17/100)*(1+E18/100))/(1-E19/100))-1,3) -> 22.1 | L30: 3d | M30: 0.94 | N30: 1.17
L31: 4a | M31: 5.29 | N31: 7.93
E33: Roca Sales, Dezembro de 2021
L34: 4b | M34: 0.25 | N34: 0.56
L35: 4c | M35: 1 | N35: 1.97
B36: Gimas Lusa - Engenheiro Civil | L36: 4d | M36: 1.01 | N36: 1.11
B37: CREA RS 141479 | L37: 4e | M37: 8 | N37: 9.51
L38: 5a | M38: 4 | N38: 7.85
L39: 5b | M39: 0.81 | N39: 1.99
L40: 5c | M40: 1.46 | N40: 3.16
B41: Amilton Fontana - Prefeito Municipal | L41: 5d | M41: 0.94 | N41: 1.33
B42: CPF n° 43388400059 | L42: 6b | M42: 0.3 | N42: 0.82
L43: 6e | M43: 3.5 | N43: 6.22
L44: 1f | M44: 20.34 | N44: 25
L45: 2f | M45: 19.6 | N45: 24.23
...

Sheet Encargos socias
A1: , | B1: CONSTRUÇÃO DE 20 UNIDADES HABITACIONAIS - ROCA SALES/RS
B2: PROGRAMA FNHIS SUB-50
B4: ENCARGOS SOCIAIS E TRABALHISTAS
