Workbook

Sheet Orçamento de referência
A1: Data-base | D1: Obra | E1: B.D.I. | H1: Encargos Sociais
A2: 46113 | D2: Projeto de reforma e amplicação do MTG e implantação de anexo de circulação vertical | E2: Fator K (com ES) | G2: 2.4110033 | H2: 69,29% - Mensalista SD SINAPI RS
E3: Fator K (sem ES) | G3: 1.5620861
E4: TRDE | G4: 1.2251656
A6: Planilha Orçamentária Referencial
A7: Item | B7: Código | C7: Banco | D7: Descrição | E7: Und | F7: Quant. | G7: Custo Unit. (R$) | H7: Preço Unit. (R$) | I7: Total (R$)
A9: 1 | D9: LEVANTAMENTOS INICIAS | I9: =SUM(I10:I15) -> 21484.67
A10: 1.1 | B10: 90781 | C10: SINAPI | D10: TOPOGRAFO COM ENCARGOS COMPLEMENTARES | E10: H | F10: =MC!F10 -> 24 | G10: 47.82 | H10: =TRUNC(G10*$G$3,2) -> 74.69 | I10: =TRUNC(H10*F10,2) -> 1792.56
A11: 1.2 | B11: 88253 | C11: SINAPI | D11: AUXILIAR DE TOPÓGRAFO COM ENCARGOS COMPLEMENTARES | E11: H | F11: =MC!F11 -> 32 | G11: 24.37 | H11: =TRUNC(G11*$G$3,2) -> 38.06 | I11: =TRUNC(H11*F11,2) -> 1217.92
A12: 1.3 | B12: 569 | C12: SBC | D12: TOPOGRAFIA-ALUGUEL DE ESTACAO TOTAL E1 PROCEISAO ANGULAR 10"" | E12: MES | F12: =MC!F12 -> 0.1 | G12: 1660 | H12: =TRUNC(G12*$G$4,2) -> 2033.77 | I12: =TRUNC(H12*F12,2) -> 203.37
A13: 1.4 | B13: 39902 | C13: SBC | D13: SONDAGEM DE SIMPLES RECONHECIMENTO DE SUB-SOLO (PERCUSSAO) | E13: M | F13: =MC!F13 -> 75 | G13: 90.12 | H13: =TRUNC(G13*$G$4,2) -> 110.41 | I13: =TRUNC(H13*F13,2) -> 8280.75
A14: 1.5 | B14: 42245 | C14: SBC | D14: SONDAGEM - TAXA DE MOBILIZAǃO E DESMOBILIZAǃO DE EQUIPAMENTOS PARA EXECUǃO DE SONDAGEM | E14: UN | F14: =MC!F14 -> 1 | G14: 7200 | H14: =TRUNC(G14*$G$4,2) -> 8821.19 | I14: =TRUNC(H14*F14,2) -> 8821.19
A15: 1.6 | B15: 14810 | C15: ORSE | D15: Cadastro com Laser Scan em BIM - Tour 360º, com instalações | E15: m² | F15: =MC!F15 -> 63.63 | G15: 15 | H15: =TRUNC(G15*$G$4,2) -> 18.37 | I15: =TRUNC(H15*F15,2) -> 1168.88
A16: 2 | D16: PROJETOS | I16: =SUM(I17:I19) -> 118398.79
A17: 2.1 | B17: AP MTG | C17: Próprio | D17: ANTEPROJETO EM BIM - MTG CFE PLANILHA (MÉT. CAIXA) | E17: UN | F17: =MC!F17 -> 1 | G17: ='Projetos e fator K'!N18 -> 6888.01 | H17: =TRUNC(G17*$G$2,2) -> 16607.01 | I17: =TRUNC(H17*F17,2) -> 16607.01
A18: 2.2 | B18: PRO MTG | C18: Próprio | D18: PROJETO EM BIM - MTG CFE PLANILHA (MÉT. CAIXA) | E18: UN | F18: =MC!F18 -> 1 | G18: ='Projetos e fator K'!E47 -> 38381.53 | H18: =TRUNC(G18*$G$2,2) -> 92537.99 | I18: =TRUNC(H18*F18,2) -> 92537.99
A19: 2.3 | B19: ASB MTG | C19: Próprio | D19: ASS BUILT EM BIM - MTG CFE PLANILHA (MÉT. CAIXA) | E19: UN | F19: =MC!F19 -> 1 | G19: ='Projetos e fator K'!N22 -> 3838.15 | H19: =TRUNC(G19*$G$2,2) -> 9253.79 | I19: =TRUNC(H19*F19,2) -> 9253.79
A20: 3 | D20: ASSESSORAMENTO DURANTE A EXECUÇÃO DA OBRA | I20: =SUM(I21:I21) -> 39204.25
A21: 3.1 | B21: 93571 | C21: SINAPI | D21: ARQUITETO SENIOR COM ENCARGOS COMPLEMENTARES | E21: MES | F21: =MC!F21 -> 0.96 | G21: 26143.1 | H21: =TRUNC(G21*$G$3,2) -> 40837.77 | I21: =TRUNC(H21*F21,2) -> 39204.25
G23: Total Geral | I23: =I9+I16+I20 -> 179087.71
A25: _______________________________________________________________ Patrícia Pereira Szelest Analista Legislativa - Engenheira Civil

Sheet Projetos e fator K
A1: ORÇAMENTO DOS PROJETOS SEGUNDO METODOLOGIA CAIXA POR ÁREA EQUIVALENTE (ADAPTADO)
A3: Remuneração dos Projetos | J3: Remuneração dos Anteprojetos | S3: Fator K E TRDE (ORIENTAÇÕES PARA ELABORAÇÃO DE PLANILHAS ORÇAMENTÁRIAS DE OBRAS PÚBLICAS - TCU) | W3: Horas técnicas Mensalista SD / 200h
A4: Especialidade | B4: Projeto | C4: Sigla | D4: IR | E4: Custo (sem ES) | F4: Custo (com ES) | G4: Preço (ES fator K) | H4: Preço (ES MO) | J4: Especialidade | K4: Projeto | L4: Sigla | M4: IR | N4: Custo (sem ES) | O4: Custo (com ES) | P4: Preço (ES fator K) | Q4: Preço (ES MO) | S4: K1 | T4: 0.6929 | U4: Encargos Sociais da MO (mensalista SD) | W4: Profissional | X4: Banco | Y4: Código | Z4: Custo mensal | AA4: ht (sem ES) | AB4: ht (com ES)
A5: Arquitetura | B5: Estudo Preliminar | C5: EPR | D5: 0.1 | E5: =TRUNC(($D5*AA$5)*((8/$T$17)^0.4)*$T$17,2) -> 718.04 | F5: =TRUNC(($D5*AB$5)*((8/$T$17)^0.4)*$T$17,2) -> 1215.58 | G5: =TRUNC(E5*$T$11,2) -> 1731.19 | H5: =TRUNC(F5*$T$12,2) -> 1898.84 | J5: Arquitetura | K5: Anteprojeto de Arquitetura (incluso luminotécnico) | L5: AAQ | M5: 0.24 | N5: =TRUNC(($M5*AA$5)*((8/$T$17)^0.4)*$T$17,2) -> 1723.3 | O5: =TRUNC(($M5*AB$5)*((8/$T$17)^0.4)*$T$17,2) -> 2917.4 | P5: =TRUNC(N5*$T$11,2) -> 4154.88 | Q5: =TRUNC(O5*$T$12,2) -> 4557.22 | S5: K2 | T5: 0.275 | U5: Adm. Central - overhead (Média entre Dnit e Codevasf - ORIENTAÇÕES PARA ELABORAÇÃO DE PLANILHAS ORÇAMENTÁRIAS DE OBRAS PÚBLICAS - TCU) | W5: Arquiteto | X5: SINAPI RS 04/2026 | Y5: 93571 | Z5: 26143.1 | AA5: =TRUNC($AB5/(1+$T$4),2) -> 77.21 | AB5: =TRUNC(Z5/200,2) -> 130.71
B6: Executivo | C6: ARQ | D6: 0.8 | E6: =TRUNC(($D6*AA$5)*((8/$T$17)^0.4)*$T$17,2) -> 5744.34 | F6: =TRUNC(($D6*AB$5)*((8/$T$17)^0.4)*$T$17,2) -> 9724.68 | G6: =TRUNC(E6*$T$11,2) -> 13849.62 | H6: =TRUNC(F6*$T$12,2) -> 15190.78 | J6: Civil | K6: Anteprojeto de Anti-Incêndio incluso chuveiros automáticos (sprinklers) | L6: ASP | M6: 0.099 | N6: =TRUNC(($M6*AA$6)*((8/$T$17)^0.4)*$T$17,2) -> 755.42 | O6: =TRUNC(($M6*AB$6)*((8/$T$17)^0.4)*$T$17,2) -> 1278.92 | P6: =TRUNC(N6*$T$11,2) -> 1821.32 | Q6: =TRUNC(O6*$T$12,2) -> 1997.78 | S6: K3 | T6: 0.11 | U6: Lucro (Média entre Dnit e Codevasf - ORIENTAÇÕES PARA ELABORAÇÃO DE PLANILHAS ORÇAMENTÁRIAS DE OBRAS PÚBLICAS - TCU) | W6: Engenheiro | X6: SINAPI RS 04/2026 | Y6: 93568 | Z6: 27783.03 | AA6: =TRUNC($AB6/(1+$T$4),2) -> 82.05 | AB6: =TRUNC(Z6/200,2) -> 138.91
B7: Ambiência | C7: AMB | D7: 0.52 | E7: =TRUNC(($D7*AA$5)*((8/$T$17)^0.4)*$T$17,2) -> 3733.82 | F7: =TRUNC(($D7*AB$5)*((8/$T$17)^0.4)*$T$17,2) -> 6321.04 | G7: =TRUNC(E7*$T$11,2) -> 9002.25 | H7: =TRUNC(F7*$T$12,2) -> 9874 | K7: Anteprojeto de Hidrossanitário e/ou Águas Pluviais | L7: AHS | M7: 0.036 | N7: =TRUNC(($M7*AA$6)*((8/$T$17)^0.4)*$T$17,2) -> 274.69 | O7: =TRUNC(($M7*AB$6)*((8/$T$17)^0.4)*$T$17,2) -> 465.06 | P7: =TRUNC(N7*$T$11,2) -> 662.27 | Q7: =TRUNC(O7*$T$12,2) -> 726.46 | S7: K4 | T7: =1/(1-SUM(T8:T10))-1 -> 0.10375276 | U7: Impostos K4 = (1/1-I)-1; I=ISS+PIS+COFINS
B8: Layout | C8: LAY | D8: 0.2 | E8: =TRUNC(($D8*AA$5)*((8/$T$17)^0.4)*$T$17,2) -> 1436.08 | F8: =TRUNC(($D8*AB$5)*((8/$T$17)^0.4)*$T$17,2) -> 2431.17 | G8: =TRUNC(E8*$T$11,2) -> 3462.39 | H8: =TRUNC(F8*$T$12,2) -> 3797.69 | K8: Anteprojeto Estrutural e Fundações em Concreto Armado | L8: AFC | M8: 0.135 | N8: =TRUNC(($M8*AA$6)*((8/$Y$17)^0.4)*$Y$17,2) -> 957.98 | O8: =TRUNC(($M8*AB$6)*((8/$Y$17)^0.4)*$Y$17,2) -> 1621.86 | P8: =TRUNC(N8*$T$11,2) -> 2309.69 | Q8: =TRUNC(O8*$T$12,2) -> 2533.48 | S8: ISS | T8: 0.02 | U8: Alíquota conforme Código Tributário POA-RS (Decreto 15416/2006 - Anexo VI - Item 7.03.)
B9: Sinalização Interna | C9: SII | D9: 0.13 | E9: =TRUNC(($D9*AA$5)*((8/$T$17)^0.4)*$T$17,2) -> 933.45 | F9: =TRUNC(($D9*AB$5)*((8/$T$17)^0.4)*$T$17,2) -> 1580.26 | G9: =TRUNC(E9*$T$11,2) -> 2250.55 | H9: =TRUNC(F9*$T$12,2) -> 2468.5 | K9: Anteprojeto Estrutural e Fundações em Aço ou Madeira | L9: AFA | M9: 0.141 | N9: =TRUNC(($M9*AA$6)*((8/$Y$18)^0.4)*$Y$18,2) -> 292.3 | O9: =TRUNC(($M9*AB$6)*((8/$Y$18)^0.4)*$Y$18,2) -> 494.86 | P9: =TRUNC(N9*$T$11,2) -> 704.73 | Q9: =TRUNC(O9*$T$12,2) -> 773.01 | S9: PIS | T9: =1.65%*0.8 -> 0.0132 | U9: 1,65% X 80% (ORIENTAÇÕES PARA ELABORAÇÃO DE PLANILHAS ORÇAMENTÁRIAS DE OBRAS PÚBLICAS - TCU)
B10: Luminotécnico | C10: LMT | D10: 0.17 | E10: =TRUNC(($D10*AA$5)*((8/$T$17)^0.4)*$T$17,2) -> 1220.67 | F10: =TRUNC(($D10*AB$5)*((8/$T$17)^0.4)*$T$17,2) -> 2066.49 | G10: =TRUNC(E10*$T$11,2) -> 2943.03 | H10: =TRUNC(F10*$T$12,2) -> 3228.03 | J10: Elétrica | K10: Anteprojeto de Entrada de Energia | L10: AEE | M10: 0.06 | N10: =TRUNC(($M10*AA$6)*((8/$T$17)^0.4)*$T$17,2) -> 457.83 | O10: =TRUNC(($M10*AB$6)*((8/$T$17)^0.4)*$T$17,2) -> 775.1 | P10: =TRUNC(N10*$T$11,2) -> 1103.82 | Q10: =TRUNC(O10*$T$12,2) -> 1210.77 | S10: CONFINS | T10: =7.6%*0.8 -> 0.0608 | U10: 7,60% X 80% (ORIENTAÇÕES PARA ELABORAÇÃO DE PLANILHAS ORÇAMENTÁRIAS DE OBRAS PÚBLICAS - TCU)
A11: Civil | B11: Anti-Incêndio com Extintores | C11: EXT | D11: 0.09 | E11: =TRUNC(($D11*AA$6)*((8/$T$17)^0.4)*$T$17,2) -> 686.74 | F11: =TRUNC(($D11*AB$6)*((8/$T$17)^0.4)*$T$17,2) -> 1162.66 | G11: =TRUNC(E11*$T$11,2) -> 1655.73 | H11: =TRUNC(F11*$T$12,2) -> 1816.17 | K11: Anteprojeto de Instalações Elétricas (incluso comum, estabilizada e ininterrupta) | L11: AEIE | M11: 0.204 | N11: =TRUNC(($M11*AA$6)*((8/$T$17)^0.4)*$T$17,2) -> 1556.63 | O11: =TRUNC(($M11*AB$6)*((8/$T$17)^0.4)*$T$17,2) -> 2635.36 | P11: =TRUNC(N11*$T$11,2) -> 3753.04 | Q11: =TRUNC(O11*$T$12,2) -> 4116.65 | S11: Fator K (com ES) | T11: =(1+$T$4+$T$5)*(1+$T$6)*(1+$T$7) -> 2.4110033 | U11: K = (1+k1+k2)*(1+k3)*(1+k4)
B12: Anti-Incêndio com Hidrantes e Extintores | C12: HEX | D12: 0.17 | E12: =TRUNC(($D12*AA$6)*((8/$T$17)^0.4)*$T$17,2) -> 1297.19 | F12: =TRUNC(($D12*AB$6)*((8/$T$17)^0.4)*$T$17,2) -> 2196.13 | G12: =TRUNC(E12*$T$11,2) -> 3127.52 | H12: =TRUNC(F12*$T$12,2) -> 3430.54 | K12: Anteprojeto de Usiva Fotovoltaica | L12: AFV | M12: 0.09 | N12: =TRUNC(($M12*AA$6)*((8/$T$17)^0.4)*$T$17,2) -> 686.74 | O12: =TRUNC(($M12*AB$6)*((8/$T$17)^0.4)*$T$17,2) -> 1162.66 | P12: =TRUNC(N12*$T$11,2) -> 1655.73 | Q12: =TRUNC(O12*$T$12,2) -> 1816.17 | S12: Fator K (sem ES) | T12: =(1+$T$5)*(1+$T$6)*(1+$T$7) -> 1.5620861 | U12: K = (1+k2)*(1+k3)*(1+k4)
B13: Anti-Incêndio com Sprinklers | C13: SPR | D13: 0.33 | E13: =TRUNC(($D13*AA$6)*((8/$T$17)^0.4)*$T$17,2) -> 2518.07 | F13: =TRUNC(($D13*AB$6)*((8/$T$17)^0.4)*$T$17,2) -> 4263.08 | G13: =TRUNC(E13*$T$11,2) -> 6071.07 | H13: =TRUNC(F13*$T$12,2) -> 6659.29 | J13: Telecomunicações | K13: Anteprojeto de Cabeamento Estruturado | L13: ACE | M13: 0.051 | N13: =TRUNC(($M13*AA$6)*((8/$T$17)^0.4)*$T$17,2) -> 389.15 | O13: =TRUNC(($M13*AB$6)*((8/$T$17)^0.4)*$T$17,2) -> 658.84 | P13: =TRUNC(N13*$T$11,2) -> 938.24 | Q13: =TRUNC(O13*$T$12,2) -> 1029.16 | S13: TRDE | T13: =(1+$T$6)*(1+$T$7) -> 1.2251656 | U13: TRDE = (1+k3)*(1+k4)
B14: Hidrossanitário e/ou Águas Pluviais | C14: HIA | D14: 0.12 | E14: =TRUNC(($D14*AA$6)*((8/$T$17)^0.4)*$T$17,2) -> 915.66 | F14: =TRUNC(($D14*AB$6)*((8/$T$17)^0.4)*$T$17,2) -> 1550.21 | G14: =TRUNC(E14*$T$11,2) -> 2207.65 | H14: =TRUNC(F14*$T$12,2) -> 2421.56 | K14: Anteprojeto de Alarmes, Telecomunicações, Sonorização e CFTV | L14: ATE | M14: 0.054 | N14: =TRUNC(($M14*AA$6)*((8/$T$17)^0.4)*$T$17,2) -> 412.04 | O14: =TRUNC(($M14*AB$6)*((8/$T$17)^0.4)*$T$17,2) -> 697.59 | P14: =TRUNC(N14*$T$11,2) -> 993.42 | Q14: =TRUNC(O14*$T$12,2) -> 1089.69
B15: Aproveitamento de Águas Pluviais | C15: APL | D15: 0.1 | E15: =TRUNC(($D15*AA$6)*((8/$T$17)^0.4)*$T$17,2) -> 763.05 | F15: =TRUNC(($D15*AB$6)*((8/$T$17)^0.4)*$T$17,2) -> 1291.84 | G15: =TRUNC(E15*$T$11,2) -> 1839.71 | H15: =TRUNC(F15*$T$12,2) -> 2017.96 | J15: Controle e Automação | K15: Anteprojeto de Controle de Acesso, Inteligência Predial, Automação de Ar-Condicionado e Energia Elétrica | L15: ACA | M15: 0.054 | N15: =TRUNC(($M15*AA$6)*((8/$T$17)^0.4)*$T$17,2) -> 412.04 | O15: =TRUNC(($M15*AB$6)*((8/$T$17)^0.4)*$T$17,2) -> 697.59 | P15: =TRUNC(N15*$T$11,2) -> 993.42 | Q15: =TRUNC(O15*$T$12,2) -> 1089.69
B16: Fundações | C16: FUD | D16: 0.2 | E16: =TRUNC(($D16*AA$6)*((8/$T$17)^0.4)*$T$17,2) -> 1526.1 | F16: =TRUNC(($D16*AB$6)*((8/$T$17)^0.4)*$T$17,2) -> 2583.68 | G16: =TRUNC(E16*$T$11,2) -> 3679.43 | H16: =TRUNC(F16*$T$12,2) -> 4035.93 | J16: Mecânica | K16: Anteprojeto de Ar-Condicionado – Expansão Direta | L16: AED | M16: 0.108 | N16: =TRUNC(($M16*AA$6)*((8/$T$17)^0.4)*$T$17,2) -> 824.09 | O16: =TRUNC(($M16*AB$6)*((8/$T$17)^0.4)*$T$17,2) -> 1395.19 | P16: =TRUNC(N16*$T$11,2) -> 1986.88 | Q16: =TRUNC(O16*$T$12,2) -> 2179.4 | S16: Área Equivalente | X16: Apd | Y16: Ae
B17: Estrutural para Muro de Arrimo | C17: EMA | D17: 0.15 | E17: =TRUNC(($D17*AA$6)*((8/$T$17)^0.4)*$T$17,2) -> 1144.58 | F17: =TRUNC(($D17*AB$6)*((8/$T$17)^0.4)*$T$17,2) -> 1937.76 | G17: =TRUNC(E17*$T$11,2) -> 2759.58 | H17: =TRUNC(F17*$T$12,2) -> 3026.94 | K17: Anteprojeto de Ar-Condicionado – Expansão Indireta | L17: AEIE | M17: 0.192 | N17: =TRUNC(($M17*AA$6)*((8/$T$17)^0.4)*$T$17,2) -> 1465.06 | O17: =TRUNC(($M17*AB$6)*((8/$T$17)^0.4)*$T$17,2) -> 2480.34 | P17: =TRUNC(N17*$T$11,2) -> 3532.26 | Q17: =TRUNC(O17*$T$12,2) -> 3874.5 | S17: Ae | T17: =(T18+0.5*T19+0.25*T20)*T21 -> 477.2375 | U17: Área Equivalente (m²) | W17: Concreto | X17: =292.53+45.75 -> 338.28 | Y17: =X17*T21 -> 422.85
B18: Estrutural em Concreto Armado | C18: ECA | D18: 0.45 | E18: =TRUNC(($D18*AA$6)*((8/$Y$17)^0.4)*$Y$17,2) -> 3193.29 | F18: =TRUNC(($D18*AB$6)*((8/$Y$17)^0.4)*$Y$17,2) -> 5406.22 | G18: =TRUNC(E18*$T$11,2) -> 7699.03 | H18: =TRUNC(F18*$T$12,2) -> 8444.98 | J18: TOTAL | K18: PROJETOS SELECIONADOS | N18: =SUM(N5,N7:N11,N13:N14,N16) -> 6888.01 | O18: =SUM(O5,O7:O11,O13:O14,O16) -> 11661.26 | P18: =SUM(P5,P7:P11,P13:P14,P16) -> 16606.97 | Q18: =SUM(Q5,Q7:Q11,Q13:Q14,Q16) -> 18215.84 | S18: Apd | T18: 381.79 | U18: Somatório das áreas projetadas de pavimento diferenciado (m²) | W18: Aço | X18: =43.51 -> 43.51 | Y18: =X18*T21 -> 54.3875
B19: Estrutural em Aço ou Madeira | C19: EAM | D19: 0.47 | E19: =TRUNC(($D19*AA$6)*((8/$Y$18)^0.4)*$Y$18,2) -> 974.34 | F19: =TRUNC(($D19*AB$6)*((8/$Y$18)^0.4)*$Y$18,2) -> 1649.55 | G19: =TRUNC(E19*$T$11,2) -> 2349.13 | H19: =TRUNC(F19*$T$12,2) -> 2576.73 | S19: Apt | T19: 0 | U19: Somatório das áreas projetadas de pavimento tipo (m²)
B20: Impermeabilização | C20: IMP | D20: 0.14 | E20: =TRUNC(($D20*AA$6)*((8/$T$17)^0.4)*$T$17,2) -> 1068.27 | F20: =TRUNC(($D20*AB$6)*((8/$T$17)^0.4)*$T$17,2) -> 1808.58 | G20: =TRUNC(E20*$T$11,2) -> 2575.6 | H20: =TRUNC(F20*$T$12,2) -> 2825.15 | J20: Remuneração de Revisões e As Built | S20: Age | T20: 0 | U20: Somatório das áreas projetadas de garagem/estacionamento (m²)
A21: Elétrica | B21: Entrada de Energia | C21: EEN | D21: 0.2 | E21: =TRUNC(($D21*AA$6)*((8/$T$17)^0.4)*$T$17,2) -> 1526.1 | F21: =TRUNC(($D21*AB$6)*((8/$T$17)^0.4)*$T$17,2) -> 2583.68 | G21: =TRUNC(E21*$T$11,2) -> 3679.43 | H21: =TRUNC(F21*$T$12,2) -> 4035.93 | J21: Especialidade | K21: Projeto | L21: Sigla | M21: % | N21: Custo (sem ES) | O21: Custo (com ES) | P21: Preço (ES fator K) | Q21: Preço (ES MO) | S21: Fbim | T21: =SUM(T24:T27) -> 1.25 | U21: Fator de multiplicação da Ae para projetos desenvolvidos em BIM (Projeto tradicional: atribuir 1,00)
B22: SPDA | C22: SPD | D22: 0.09 | E22: =TRUNC(($D22*AA$6)*((8/$T$17)^0.4)*$T$17,2) -> 686.74 | F22: =TRUNC(($D22*AB$6)*((8/$T$17)^0.4)*$T$17,2) -> 1162.66 | G22: =TRUNC(E22*$T$11,2) -> 1655.73 | H22: =TRUNC(F22*$T$12,2) -> 1816.17 | J22: As Built | K22: Todos | L22: AB | M22: 0.1 | N22: =TRUNC(E$47*$M22,2) -> 3838.15 | O22: =TRUNC(F$47*$M22,2) -> 6497.87 | P22: =TRUNC(G$47*$M22,2) -> 9253.78 | Q22: =TRUNC(H$47*$M22,2) -> 10150.22
B23: Energia de Rede Comum | C23: ERC | D23: 0.17 | E23: =TRUNC(($D23*AA$6)*((8/$T$17)^0.4)*$T$17,2) -> 1297.19 | F23: =TRUNC(($D23*AB$6)*((8/$T$17)^0.4)*$T$17,2) -> 2196.13 | G23: =TRUNC(E23*$T$11,2) -> 3127.52 | H23: =TRUNC(F23*$T$12,2) -> 3430.54 | J23: Revisão | K23: Todos | L23: R | M23: 0.1 | N23: =TRUNC(E$47*$M23,2) -> 3838.15 | O23: =TRUNC(F$47*$M23,2) -> 6497.87 | P23: =TRUNC(G$47*$M23,2) -> 9253.78 | Q23: =TRUNC(H$47*$M23,2) -> 10150.22 | S23: Fbim (somatório dos fatores, conforme usos e entregas BIM) | T23: Fator | U23: Entrega BIM
B24: Energia de Rede Estabilizada | C24: EEE | D24: 0.17 | E24: =TRUNC(($D24*AA$6)*((8/$T$17)^0.4)*$T$17,2) -> 1297.19 | F24: =TRUNC(($D24*AB$6)*((8/$T$17)^0.4)*$T$17,2) -> 2196.13 | G24: =TRUNC(E24*$T$11,2) -> 3127.52 | H24: =TRUNC(F24*$T$12,2) -> 3430.54 | T24: 1.1 | U24: Modelagem e documentação
B25: Rede Ininterrupta | C25: GMG | D25: 0.17 | E25: =TRUNC(($D25*AA$6)*((8/$T$17)^0.4)*$T$17,2) -> 1297.19 | F25: =TRUNC(($D25*AB$6)*((8/$T$17)^0.4)*$T$17,2) -> 2196.13 | G25: =TRUNC(E25*$T$11,2) -> 3127.52 | H25: =TRUNC(F25*$T$12,2) -> 3430.54 | T25: 0.05 | U25: Quantitativos automatizados
B26: Usina Fotovoltaica | C26: EEF | D26: 0.3 | E26: =TRUNC(($D26*AA$6)*((8/$T$17)^0.4)*$T$17,2) -> 2289.16 | F26: =TRUNC(($D26*AB$6)*((8/$T$17)^0.4)*$T$17,2) -> 3875.53 | G26: =TRUNC(E26*$T$11,2) -> 5519.17 | H26: =TRUNC(F26*$T$12,2) -> 6053.91 | T26: 0.05 | U26: Compatibilização e clash detection
A27: Telecom | B27: Cabeamento Estruturado | C27: CAE | D27: 0.17 | E27: =TRUNC(($D27*AA$6)*((8/$T$17)^0.4)*$T$17,2) -> 1297.19 | F27: =TRUNC(($D27*AB$6)*((8/$T$17)^0.4)*$T$17,2) -> 2196.13 | G27: =TRUNC(E27*$T$11,2) -> 3127.52 | H27: =TRUNC(F27*$T$12,2) -> 3430.54 | T27: 0.05 | U27: Coordenação BIM e federação de modelos
B28: Alarmes | C28: ALM | D28: 0.06 | E28: =TRUNC(($D28*AA$6)*((8/$T$17)^0.4)*$T$17,2) -> 457.83 | F28: =TRUNC(($D28*AB$6)*((8/$T$17)^0.4)*$T$17,2) -> 775.1 | G28: =TRUNC(E28*$T$11,2) -> 1103.82 | H28: =TRUNC(F28*$T$12,2) -> 1210.77 | T28: 0.05 | U28: Planejamento 4D ou orçamento 5D
B29: Telecomunicações | C29: TLC | D29: 0.06 | E29: =TRUNC(($D29*AA$6)*((8/$T$17)^0.4)*$T$17,2) -> 457.83 | F29: =TRUNC(($D29*AB$6)*((8/$T$17)^0.4)*$T$17,2) -> 775.1 | G29: =TRUNC(E29*$T$11,2) -> 1103.82 | H29: =TRUNC(F29*$T$12,2) -> 1210.77 | T29: 0.05 | U29: Informações para operação/manutenção
B30: Sonorização | C30: SOM | D30: 0.05 | E30: =TRUNC(($D30*AA$6)*((8/$T$17)^0.4)*$T$17,2) -> 381.52 | F30: =TRUNC(($D30*AB$6)*((8/$T$17)^0.4)*$T$17,2) -> 645.92 | G30: =TRUNC(E30*$T$11,2) -> 919.84 | H30: =TRUNC(F30*$T$12,2) -> 1008.98
B31: CFTV | C31: CFT | D31: 0.06 | E31: =TRUNC(($D31*AA$6)*((8/$T$17)^0.4)*$T$17,2) -> 457.83 | F31: =TRUNC(($D31*AB$6)*((8/$T$17)^0.4)*$T$17,2) -> 775.1 | G31: =TRUNC(E31*$T$11,2) -> 1103.82 | H31: =TRUNC(F31*$T$12,2) -> 1210.77
A32: Controle e Automação | B32: Controle de Acesso | C32: CTA | D32: 0.06 | E32: =TRUNC(($D32*AA$6)*((8/$T$17)^0.4)*$T$17,2) -> 457.83 | F32: =TRUNC(($D32*AB$6)*((8/$T$17)^0.4)*$T$17,2) -> 775.1 | G32: =TRUNC(E32*$T$11,2) -> 1103.82 | H32: =TRUNC(F32*$T$12,2) -> 1210.77
B33: Inteligência Predial | C33: AIP | D33: 0.39 | E33: =TRUNC(($D33*AA$6)*((8/$T$17)^0.4)*$T$17,2) -> 2975.91 | F33: =TRUNC(($D33*AB$6)*((8/$T$17)^0.4)*$T$17,2) -> 5038.19 | G33: =TRUNC(E33*$T$11,2) -> 7174.92 | H33: =TRUNC(F33*$T$12,2) -> 7870.08
B34: Automação de Ar-Condicionado | C34: AAC | D34: 0.16 | E34: =TRUNC(($D34*AA$6)*((8/$T$17)^0.4)*$T$17,2) -> 1220.88 | F34: =TRUNC(($D34*AB$6)*((8/$T$17)^0.4)*$T$17,2) -> 2066.95 | G34: =TRUNC(E34*$T$11,2) -> 2943.54 | H34: =TRUNC(F34*$T$12,2) -> 3228.75
B35: Automação de Energia Elétrica | C35: AEE | D35: 0.16 | E35: =TRUNC(($D35*AA$6)*((8/$T$17)^0.4)*$T$17,2) -> 1220.88 | F35: =TRUNC(($D35*AB$6)*((8/$T$17)^0.4)*$T$17,2) -> 2066.95 | G35: =TRUNC(E35*$T$11,2) -> 2943.54 | H35: =TRUNC(F35*$T$12,2) -> 3228.75
A36: Mecânica | B36: Ventilação – sem rede de dutos e acessórios | C36: VSD | D36: 0.08 | E36: =TRUNC(($D36*AA$6)*((8/$T$17)^0.4)*$T$17,2) -> 610.44 | F36: =TRUNC(($D36*AB$6)*((8/$T$17)^0.4)*$T$17,2) -> 1033.47 | G36: =TRUNC(E36*$T$11,2) -> 1471.77 | H36: =TRUNC(F36*$T$12,2) -> 1614.36
B37: Ventilação – com rede de dutos e acessórios | C37: VCD | D37: 0.12 | E37: =TRUNC(($D37*AA$6)*((8/$T$17)^0.4)*$T$17,2) -> 915.66 | F37: =TRUNC(($D37*AB$6)*((8/$T$17)^0.4)*$T$17,2) -> 1550.21 | G37: =TRUNC(E37*$T$11,2) -> 2207.65 | H37: =TRUNC(F37*$T$12,2) -> 2421.56
B38: Condicionador de Janela | C38: COJ | D38: 0.2 | E38: =TRUNC(($D38*AA$6)*((8/$T$17)^0.4)*$T$17,2) -> 1526.1 | F38: =TRUNC(($D38*AB$6)*((8/$T$17)^0.4)*$T$17,2) -> 2583.68 | G38: =TRUNC(E38*$T$11,2) -> 3679.43 | H38: =TRUNC(F38*$T$12,2) -> 4035.93
B39: Mini-split – unitário até 5 TR | C39: MNS | D39: 0.28 | E39: =TRUNC(($D39*AA$6)*((8/$T$17)^0.4)*$T$17,2) -> 2136.55 | F39: =TRUNC(($D39*AB$6)*((8/$T$17)^0.4)*$T$17,2) -> 3617.16 | G39: =TRUNC(E39*$T$11,2) -> 5151.22 | H39: =TRUNC(F39*$T$12,2) -> 5650.31
B40: Self-contained – condensação a ar integrado ou roof-tops | C40: SCA | D40: 0.36 | E40: =TRUNC(($D40*AA$6)*((8/$T$17)^0.4)*$T$17,2) -> 2746.99 | F40: =TRUNC(($D40*AB$6)*((8/$T$17)^0.4)*$T$17,2) -> 4650.64 | G40: =TRUNC(E40*$T$11,2) -> 6623 | H40: =TRUNC(F40*$T$12,2) -> 7264.7
B41: Self-contained com condensador remoto (splitão) – acima de 5 TR – Projeto com tecnologia VRF ou VRV para expansão direta | C41: SCR | D41: 0.4 | E41: =TRUNC(($D41*AA$6)*((8/$T$17)^0.4)*$T$17,2) -> 3052.21 | F41: =TRUNC(($D41*AB$6)*((8/$T$17)^0.4)*$T$17,2) -> 5167.37 | G41: =TRUNC(E41*$T$11,2) -> 7358.88 | H41: =TRUNC(F41*$T$12,2) -> 8071.87
...

Sheet MC
A1: Data-base | D1: Obra
A2: 46113 | D2: Projeto de reforma e amplicação do MTG e implantação de anexo de circulação vertical
A6: Planilha Orçamentária Referencial - Memória de Cálculo
A7: Item | B7: Código | C7: Banco | D7: Descrição | E7: Und | F7: Quant. | G7: Memória de cálculo
A9: 1 | D9: LEVANTAMENTOS INICIAS | G9: LEVANTAMENTOS INICIAS
A10: 1.1 | B10: 90781 | C10: SINAPI | D10: TOPOGRAFO COM ENCARGOS COMPLEMENTARES | E10: H | F10: =3*8 -> 24 | G10: Levantamento: 2 dias. Processamento: 1 dia
A11: 1.2 | B11: 88253 | C11: SINAPI | D11: AUXILIAR DE TOPÓGRAFO COM ENCARGOS COMPLEMENTARES | E11: H | F11: =8*4 -> 32 | G11: Levantamento: 2 dias. Processamento: 2 dias
A12: 1.3 | B12: 569 | C12: SBC | D12: TOPOGRAFIA-ALUGUEL DE ESTACAO TOTAL E1 PROCEISAO ANGULAR 10"" | E12: MES | F12: =(2/30)*1.5 -> 0.1 | G12: Levantamento: 2 dias. FC diária
A13: 1.4 | B13: 39902 | C13: SBC | D13: SONDAGEM DE SIMPLES RECONHECIMENTO DE SUB-SOLO (PERCUSSAO) | E13: M | F13: =5*15 -> 75 | G13: Galpão: 3 furos. Elevador: 2 furos. Estimado 15m por furo
A14: 1.5 | B14: 42245 | C14: SBC | D14: SONDAGEM - TAXA DE MOBILIZAǃO E DESMOBILIZAǃO DE EQUIPAMENTOS PARA EXECUǃO DE SONDAGEM | E14: UN | F14: 1
A15: 1.6 | B15: 14810 | C15: ORSE | D15: Cadastro com Laser Scan em BIM - Tour 360º, com instalações | E15: m² | F15: 63.63 | G15: Área edificação existente
A16: 2 | D16: PROJETOS | G16: PROJETOS
A17: 2.1 | B17: AP MTG | C17: Próprio | D17: ANTEPROJETO EM BIM - MTG CFE PLANILHA (MÉT. CAIXA) | E17: UN | F17: 1 | G17: Conforme composição na aba "Projetos e fator K"
A18: 2.2 | B18: PRO MTG | C18: Próprio | D18: PROJETO EM BIM - MTG CFE PLANILHA (MÉT. CAIXA) | E18: UN | F18: 1 | G18: Conforme composição na aba "Projetos e fator K"
A19: 2.3 | B19: ASB MTG | C19: Próprio | D19: ASS BUILT EM BIM - MTG CFE PLANILHA (MÉT. CAIXA) | E19: UN | F19: 1 | G19: Conforme composição na aba "Projetos e fator K"
A20: 3 | D20: ASSESSORAMENTO DURANTE A EXECUÇÃO DA OBRA | G20: ASSESSORAMENTO DURANTE A EXECUÇÃO DA OBRA
A21: 3.1 | B21: 93571 | C21: SINAPI | D21: ARQUITETO SENIOR COM ENCARGOS COMPLEMENTARES | E21: MES | F21: =(((4*4)+8)/200)*8 -> 0.96 | G21: 1 turno/semana (visitas) + 1 dia/mês (relatório supervisão), durante 8 meses de obra Ainda que haja acompanhamento por mais de um profissional ou carga horária diversa, este é o montante que a Administração se propõe a pagar, de forma global, para a supervisão da obra e assessoramento à fiscalização, incluidas todas as atividades in loco, bem como escritório (Relatório, detalhamentos adicionais, etc). Ressalva-se o equilíbrio econômico-financeiro do contrato nos casos em que comprovado o aumento extraordinário dos encargos assumidos pelo contratado, salvo se os tenha dado causa.

Sheet CFF
A1: Data-base | B1: Obra
A2: 46113 | B2: Projeto de reforma e amplicação do MTG e implantação de anexo de circulação vertical
A6: Cronograma Físico-Financeiro Referencial
A7: Item | B7: Descrição | C7: Desembolso por etapa | D7: Projetos | G7: Assessoramento durante a execução da obra (meses)
D8: 30 dias | E8: 60 dias | F8: 90 dias | G8: 1 | H8: 2 | I8: 3 | J8: 4 | K8: 5 | L8: 6 | M8: 7 | N8: 8
A9: 1 | B9: Anteprojeto | C9: 0.2 | D9: 1
C10: =C9*$C$18 -> 35817.542 | D10: =D9*$C10 -> 35817.542
A11: 2 | B11: Projeto básico | C11: 0.4 | E11: 1
C12: =C11*$C$18 -> 71635.084 | E12: =E11*$C12 -> 71635.084
A13: 3 | B13: Projeto executivo | C13: 0.15 | F13: 1
C14: =C13*$C$18 -> 26863.157 | F14: =F13*$C14 -> 26863.157
A15: 4 | B15: Supervisão da obra e assessoramento técnico | C15: 0.25 | G15: 0.1 | H15: 0.1 | I15: 0.1 | J15: 0.1 | K15: 0.1 | L15: 0.1 | M15: 0.1 | N15: 0.3
C16: =C15*$C$18 -> 44771.928 | G16: =G15*$C$16 -> 4477.1928 | H16: =H15*$C$16 -> 4477.1928 | I16: =I15*$C$16 -> 4477.1928 | J16: =J15*$C$16 -> 4477.1928 | K16: =K15*$C$16 -> 4477.1928 | L16: =L15*$C$16 -> 4477.1928 | M16: =M15*$C$16 -> 4477.1928 | N16: =N15*$C$16 -> 13431.578
A17: Porcentagem | C17: 1 | D17: =D18/$C$18 -> 0.2 | E17: =E18/$C$18 -> 0.4 | F17: =F18/$C$18 -> 0.15 | G17: =G18/$C$18 -> 0.025 | H17: =H18/$C$18 -> 0.025 | I17: =I18/$C$18 -> 0.025 | J17: =J18/$C$18 -> 0.025 | K17: =K18/$C$18 -> 0.025 | ... N17: =N18/$C$18 -> 0.075
A18: Custo | C18: ='Orçamento de referência'!I23 -> 179087.71 | D18: =SUM(D10,D12,D14,D16) -> 35817.542 | E18: =SUM(E10,E12,E14,E16) -> 71635.084 | F18: =SUM(F10,F12,F14,F16) -> 26863.157 | G18: =SUM(G10,G12,G14,G16) -> 4477.1928 | H18: =SUM(H10,H12,H14,H16) -> 4477.1928 | I18: =SUM(I10,I12,I14,I16) -> 4477.1928 | J18: =SUM(J10,J12,J14,J16) -> 4477.1928 | K18: =SUM(K10,K12,K14,K16) -> 4477.1928 | ... N18: =SUM(N10,N12,N14,N16) -> 13431.578
A19: Porcentagem Acumulado | C19: =C20/C18 -> 1 | D19: =D20/$C$20 -> 0.2 | E19: =E20/$C$20 -> 0.6 | F19: =F20/$C$20 -> 0.75 | G19: =G20/$C$20 -> 0.775 | H19: =H20/$C$20 -> 0.8 | I19: =I20/$C$20 -> 0.825 | J19: =J20/$C$20 -> 0.85 | K19: =K20/$C$20 -> 0.875 | ... N19: =N20/$C$20 -> 1
A20: Custo Acumulado | C20: =SUM(C10,C12,C14,C16) -> 179087.71 | D20: =D18 -> 35817.542 | E20: =D20+E18 -> 107452.63 | F20: =E20+F18 -> 134315.78 | G20: =F20+G18 -> 138792.98 | H20: =G20+H18 -> 143270.17 | I20: =H20+I18 -> 147747.36 | J20: =I20+J18 -> 152224.55 | K20: =J20+K18 -> 156701.75 | L20: =K20+L18 -> 161178.94 | ... N20: =M20+N18 -> 179087.71
D22: OIS I | G22: OIS II
A23: Etapas | B23: Descrição
A24: 1. Anteprojeto
A25: 1.1 Projeto completo
A26: 1.2
A27: 2.
A28: 2.1
A29: 2.2
A30: 3.
A31: 3.1
A32: 3.2
