Workbook

Sheet Orçamento
C2: ESTADO DO RIO GRANDE DO SUL
C3: MUNICÍPIO DE IGREJINHA
C4: Secretaria de Planejamento e Meio Ambiente
B7: PLANILHA ORÇAMENTÁRIA
B8: Cliente: Município de Igrejinha-RS | H8: BDI | I8: 0.21
B9: Serviço: extensão de rede para iluminação pública | H9: SINAPI RS | I9: 46082
B10: Elaborado por: Alessandra Regina de Azambuja | H10: ORSE | I10: 46054
B11: Data: 13/05/2026
B13: MATERIAIS
B14: Referência | C14: Discriminação do Insumo | D14: Unid. | E14: Quant. | F14: Custo Unit. s/BDI | G14: Valor Unit. c/BDI | H14: Valor total s/BDI | I14: Valor total c/BDI
B15: Composição 1 | C15: ARMAÇÃO SECUNDÁRIA COM 1 ESTRIBO E 1 ISOLADOR - FORNECIMENTO E INSTALAÇÃO | D15: unid | E15: 150 | F15: 49.04 | G15: 59.65 | H15: =E15*F15 -> 7356 | I15: =E15*G15 -> 8947.5 | M15: 52.96
B16: Composição 2 | C16: HASTE DE ATERRAMENTO 3/4 PARA SPDA - FORNECIMENTO E INSTALAÇÃO | D16: unid | E16: 25 | F16: 231.67 | G16: 276.21 | H16: =E16*F16 -> 5791.75 | I16: =E16*G16 -> 6905.25 | M16: 455.47
B17: Composição 3 | C17: CABO DE COBRE NÚ 16mm2 MEIO DURO - FORNECIMENTO E INSTALAÇÃO | D17: m | E17: 500 | F17: 32.22 | G17: 46.4 | H17: =E17*F17 -> 16110 | I17: =E17*G17 -> 23200
B18: Composição 4 | C18: CINTA PARA POSTE CIRCULAR - FORNECIMENTO E INSTALAÇÃO | D18: unid | E18: 280 | F18: 47.12 | G18: 58.04 | H18: =E18*F18 -> 13193.6 | I18: =E18*G18 -> 16251.2
B19: Composição 5 | C19: CONECTOR PERFURANTE PARA CABO MULTIPLEXADO - FORNECIMENTO E INSTALAÇÃO | D19: unid | E19: 300 | F19: 24.58 | G19: 28.97 | H19: =E19*F19 -> 7374 | I19: =E19*G19 -> 8691
B20: Composição 6 | C20: LUMINÁRIA DE LED PARA ILUMINAÇÃO PÚBLICA COM POTÊNCIA MÁXIMA DE 150W, COM FLUXO LUMINOSO MÍNIMO DE 21.750 LUMENS, EFICIÊNCIA LUMINOSA MÍNIMA DE 145 LM/W, GARANTIA DE 5 ANOS CONTRA DEFEITO DE FABRICAÇÃO COM TECNOLOGIA LED SMD, TEMPERATURA DE COR 4000K - FORNECIMENTO E INSTALAÇÃO | D20: unid | E20: 150 | F20: 525.43 | G20: 867.43 | H20: =E20*F20 -> 78814.5 | I20: =E20*G20 -> 130114.5 | M20: 25
B21: Composição 7 | C21: RELÉ FOTOELÉTRICO 1000W - FORNECIMENTO E INSTALAÇÃO | D21: unid | E21: 150 | F21: 97.9 | G21: 109.64 | H21: =E21*F21 -> 14685 | I21: =E21*G21 -> 16446 | M21: 27.51
B22: Composição 8 | C22: CABO DE COBRE PP CORDPLAST 2x2,50mm2, 450/750V - FORNECIMENTO E INSTALAÇÃO | D22: m | E22: 700 | F22: 8.02 | G22: 13.9 | H22: =E22*F22 -> 5614 | I22: =E22*G22 -> 9730 | M22: ='[1]Orçamentos fora Sinapi'!S27 -> 0
B23: Composição 9 | C23: POSTE DE FIBRA DE VIDRO 10 METROS 300 DAN - FORNECIMENTO E INSTALAÇÃO | D23: unid | E23: 30 | F23: 3919.05 | G23: 4077.71 | H23: =E23*F23 -> 117571.5 | I23: =E23*G23 -> 122331.3 | M23: ='[1]Orçamentos fora Sinapi'!O168 -> 0
B24: Composição 10 | C24: ALÇA PREFORMADA DE DISTRIBUIÇÃO, EM AÇO GALVANIZADO, AWG 1 - FORNECIMENTO E INSTALAÇÃO | D24: unid | E24: 100 | F24: 18.17 | G24: 22.34 | H24: =E24*F24 -> 1817 | I24: =E24*G24 -> 2234
B25: Composição 11 | C25: CABO DE ALUMÍNIO 2X16mm2 MULTIPLEXADO - FORNECIMENTO E INSTALAÇÃO | D25: m | E25: 7500 | F25: 30.7 | G25: 26.52 | H25: =E25*F25 -> 230250 | I25: =E25*G25 -> 198900 | M25: 45.51
B26: Composição 12 | C26: CAIXA COMANDO - FORNECIMENTO E INSTALAÇÃO | D26: unid | E26: 15 | F26: 587.43 | G26: 462.85 | H26: =E26*F26 -> 8811.45 | I26: =E26*G26 -> 6942.75 | M26: 12.47
B27: Composição 13 | C27: DISPOSITIVO RELÉ DE TELEGESTÃO PARA CONTROLE REMOTO DE LUMINÁRIAS DE ILUMINAÇÃO PÚBLICA, COM COORDENADORES/GATEWAYS INCLUSOS, HOMOLOGADO PELA ANATEL - FORNECIMENTO E INSTALAÇÃO | D27: unid | E27: 300 | F27: 621.15 | G27: 755.86 | H27: =E27*F27 -> 186345 | I27: =E27*G27 -> 226758 | M27: 22.21
B28: Composição 14 | C28: LUMINÁRIA LED SOLAR INTEGRADA PARA POSTE, COM SUPORTE PARA FIXAÇÃO - FORNECIMENTO E INSTALAÇÃO | D28: unid | E28: 50 | F28: 7710.94 | G28: 9340.89 | H28: =E28*F28 -> 385547 | I28: =E28*G28 -> 467044.5 | M28: 26.49
B29: Composição 15 | C29: POSTE DE CONCRETO ARMADO DE SEÇÃO DUPLO T, EXTENSÃO DE 9,00m, RESISTÊNCIA DE 150 DAN - FORNECIMENTO E INSTALAÇÃO | D29: unid | E29: 80 | F29: 1363.24 | G29: 1685.02 | H29: =E29*F29 -> 109059.2 | I29: =E29*G29 -> 134801.6 | M29: 163.35
B30: Composição 16 | C30: BRAÇO CURVO EM AÇO GALVANIZADO A FOGO, COM SAPATA DE 48x3000mm - FORNECIMENTO E INSTALAÇÃO | D30: unid | E30: 150 | F30: 539.51 | G30: 673.34 | H30: =E30*F30 -> 80926.5 | I30: =E30*G30 -> 101001 | M30: 163.35
C31: TOTAL | H31: =SUM(H15:H30) -> 1269266.5 | I31: =SUM(I15:I30) -> 1480298.6
C37: Igrejinha, 09 de abril de 2026.
C41: Willian da Silva Procksch | D41: Alessandra Regina de Azambuja
C42: Secretário de Planejamento e Meio Ambiente | D42: Téc. Eletr. 660.453.800-10

Sheet Cronograma
B1: CRONOGRAMA FÍSICO-FINANCEIRO
B2: =Orçamento!D2 -> 0
B3: MUNICÍPIO DE IGREJINHA
B4: =Orçamento!D5 -> 0
A5: ETAPAS DE 30 DIAS (Mensais)
A6: COD. | B6: DISCRIMINAÇÃO | C6: PREÇO | D6: Etapa 01 | E6: Etapa 02 | F6: Etapa 03
A8: 1 | B8: =Orçamento!D12 -> 0 | C8: =Orçamento!J20 -> 0 | D8: =Orçamento!J13+(Orçamento!J14/3) -> 0 | E8: =(Orçamento!J14/3)+(Orçamento!J18/2)+Orçamento!J19/2 -> 0 | F8: =C8-D8-E8 -> 0
D9: =D8/$C$8 -> #DIV/0! | E9: =E8/$C$8 -> #DIV/0! | F9: =F8/$C$8 -> #DIV/0!
A10: 2 | B10: =Orçamento!D21 -> unid | C10: =Orçamento!J27 -> 0 | D10: 0 | E10: =C10/2 -> 0 | F10: =C10-E10 -> 0
D11: =D10/$C$10 -> #DIV/0! | E11: =E10/$C$10 -> #DIV/0! | F11: =F10/$C$10 -> #DIV/0!
A12: 3 | B12: =Orçamento!D28 -> unid | C12: =Orçamento!J33 -> 0 | D12: =Orçamento!J33 -> 0 | E12: =C12-D12 -> 0
D13: =D12/$C$12 -> #DIV/0! | E13: =E12/$C$12 -> #DIV/0! | F13: =F12/$C$12 -> #DIV/0!
A14: 4 | B14: =Orçamento!D34 -> 0 | C14: =Orçamento!J39 -> 0 | D14: =Orçamento!J35 -> 0 | E14: =Orçamento!#REF!*0.8 -> #REF! | F14: =C14-D14-E14 -> #REF!
D15: =D14/$C$14 -> #DIV/0! | E15: =E14/$C$14 -> #REF! | F15: =F14/$C$14 -> #REF!
A16: 5 | B16: =Orçamento!D40 -> 0 | C16: =Orçamento!J45 -> 0 | F16: =Orçamento!J45 -> 0
D17: =D16/$C$16 -> #DIV/0! | E17: =E16/$C$16 -> #DIV/0! | F17: =F16/$C$16 -> #DIV/0!
A18: 6 | B18: =Orçamento!D46 -> 0 | C18: =Orçamento!J51 -> 0 | D18: 0 | E18: =Orçamento!J51/2 -> 0 | F18: =C18-D18-E18 -> 0
D19: =D18/$C$18 -> #DIV/0! | E19: =E18/$C$18 -> #DIV/0! | F19: =F18/$C$18 -> #DIV/0!
A20: 7 | B20: =Orçamento!D52 -> 0 | C20: =Orçamento!J57 -> 0 | F20: =C20 -> 0
D21: =D20/$C$20 -> #DIV/0! | E21: =E20/$C$20 -> #DIV/0! | F21: =F20/$C$20 -> #DIV/0!
A22: 8 | B22: =Orçamento!D58 -> 0 | C22: =Orçamento!J61 -> 0 | D22: 0 | E22: 0 | F22: =C22 -> 0
D23: =D22/$C$22 -> #DIV/0! | E23: =E22/$C$22 -> #DIV/0! | F23: =F22/$C$22 -> #DIV/0!
B25: PREÇO GLOBAL (R$) | C25: =SUM(C8:C23) -> 0 | D25: =D10+D12+D14+D16+D18+D20+D22+D8 -> 0 | E25: =E10+E12+E14+E16+E18+E20+E22+E8 -> #REF! | F25: =F10+F12+F14+F16+F18+F20+F22+F8 -> #REF!
B27: PERCENTAGENS (%) | C27: =SUM(D25:F25)/$C$25 -> #REF! | D27: =D$25/$C$25 -> #DIV/0! | E27: =E$25/$C$25 -> #REF! | F27: =F$25/$C$25 -> #REF!
A29: Igrejinha, 19 de fevereiro de 2026
C30: Leandro Marciano Horlle | E30: Emerson C. Buchmann
C31: Prefeito Municipal | E31: Eng. Civil - CREA RS 126796

Sheet Composições
D1: PLANILHA ORÇAMENTÁRIA ESTIMATIVA
D2: MATERIAL E MÃO DE OBRA PARA INSTALAÇÃO DE POSTES COM ILUMINAÇÃO PÚBLICA EM RUAS E ESTRADAS DO MUNICÍPIO
D3: RUAS E ESTRADAS DO MUNICÍPIO
D4: MUNICÍPIO DE IGREJINHA -09 de abril de 2026 | J4: 21
D5: SINAPI REFERÊNCIA - Janeiro de 2026
B8: CUSTOS UNITÁRIOS POR COMPOSIÇÃO DE CADA ITEM/PRODUTO:
B10: COD. | C10: SINAPI | D10: DISCRIMINAÇÃO | E10: UNID. | F10: QUANT. | H10: CUSTO | I10: B.D.I. | J10: PREÇO
G11: TOTAL | H11: TOTAL | I11: 0.21 | J11: TOTAL
B12: 1 | D12: ARMAÇÃO SECUNDÁRIA COM 1 ESTRIBO E 1 ISOLADOR - FORNECIMENTO E INSTALAÇÃO
B13: 1.1 | C13: 1091 | D13: ARMACAO VERTICAL COM HASTE E CONTRA-PINO, EM CHAPA DE ACO GALVANIZADO 3/16", COM 1 ESTRIBO E 1 ISOLADO | E13: unid | F13: 1 | G13: 26.08 | H13: =F13*G13 -> 26.08 | I13: =H13*$I$11 -> 5.4768 | J13: =H13+I13 -> 31.5568 | N13: 52.96
B14: 1.2 | C14: 11267 | D14: ARRUELA LISA, REDONDA, DE LATAO POLIDO, DIAMETRO NOMINAL 5/8", DIAMETRO EXTERNO = 34 MM, DIAMETRO DO FURO = 17 MM, ESPESSURA = *2,5* MM | E14: unid | F14: 2 | G14: 1.43 | H14: =F14*G14 -> 2.86 | I14: =H14*$I$11 -> 0.6006 | J14: =H14+I14 -> 3.4606 | N14: 455.47
B15: 1.3 | C15: 39996 | D15: VERGALHAO ZINCADO ROSCA TOTAL, 1/4 " (6,3 MM) | E15: unid | F15: 0.17 | G15: 3.85 | H15: =F15*G15 -> 0.6545 | I15: =H15*$I$11 -> 0.137445 | J15: =H15+I15 -> 0.791945
B16: 1.4 | C16: 39997 | D16: PORCA ZINCADA, SEXTAVADA, DIAMETRO 1/4" | E16: unid | F16: 2 | G16: 0.33 | H16: =F16*G16 -> 0.66 | I16: =H16*$I$11 -> 0.1386 | J16: =H16+I16 -> 0.7986
B17: 1.5 | C17: 5928 | D17: GUINDAUTO HIDRÁULICO, CAPACIDADE MÁXIMA DE CARGA 6200 KG, MOMENTO MÁXIMO DE CARGA 11,7 TM, ALCANCE MÁXIMO HORIZONTAL 9,70 M,INCLUSIVE CAMINHÃO TOCO PBT 16.000 KG,POTÊNCIA DE 189 CV - CHP DIURNO. AF_06/2014 | E17: CHP | F17: 0.02 | G17: 294.05 | H17: =F17*G17 -> 5.881 | I17: =H17*$I$11 -> 1.23501 | J17: =H17+I17 -> 7.11601
B18: 1.6 | C18: 88247 | D18: AUXILIAR DE ELETRICISTA | E18: h | F18: 0.04 | G18: 26.69 | H18: =F18*G18 -> 1.0676 | I18: =H18*$I$11 -> 0.224196 | J18: =H18+I18 -> 1.291796 | N18: 25
B19: 1.7 | C19: 88264 | D19: ELETRICISTA | E19: h | F19: 0.37 | G19: 31.99 | H19: =F19*G19 -> 11.8363 | I19: =H19*$I$11 -> 2.485623 | J19: =H19+I19 -> 14.321923 | N19: 27.51
D20: TOTAL | H20: =SUM(H13:H19) -> 49.0394 | I20: =SUM(I13:I19) -> 10.298274 | J20: =SUM(J13:J19) -> 59.337674
B21: 2 | D21: HASTE DE ATERRAMENTO 3/4" PARA SPDA - FORNECIMENTO E INSTALAÇÃO
B22: 2.1 | C22: 3378 | D22: HASTE DE ATERRAMENTO EM AÇO COM 3,00M DE COMPRIMENTO E DN=3/4", REVESTIDA COM BAIXA CAMADA DE COBRE, SEM CONECTOR | E22: unid | F22: 1 | G22: 136.48 | H22: =F22*G22 -> 136.48 | I22: =H22*$I$11 -> 28.6608 | J22: =H22+I22 -> 165.1408 | N22: =#REF! -> #REF!
B23: 2.2 | C23: 426 | D23: GRAMPO METÁLICO TIPO U PARA HASTE DE ATERRAMENTO DE ATÉ 3/4", CONDUTOR DE 10 a 25mm2 | E23: unid | F23: 1 | G23: 48.19 | H23: =F23*G23 -> 48.19 | I23: =H23*$I$11 -> 10.1199 | J23: =H23+I23 -> 58.3099 | N23: =#REF! -> #REF!
B24: 2.3 | C24: 5928 | D24: GUINDAUTO HIDRÁULICO, CAPACIDADE MÁXIMA DE CARGA 6200 KG, MOMENTO MÁXIMO DE CARGA 11,7 TM, ALCANCE MÁXIMO HORIZONTAL 9,70 M,INCLUSIVE CAMINHÃO TOCO PBT 16.000 KG,POTÊNCIA DE 189 CV - CHP DIURNO. AF_06/2014 | E24: CHP | F24: 0.08 | G24: 294.05 | H24: =F24*G24 -> 23.524 | I24: =H24*$I$11 -> 4.94004 | J24: =H24+I24 -> 28.46404
B25: 2.4 | C25: 88247 | D25: AUXILIAR DE ELETRICISTA | E25: h | F25: 0.4 | G25: 26.69 | H25: =F25*G25 -> 10.676 | I25: =H25*$I$11 -> 2.24196 | J25: =H25+I25 -> 12.91796 | N25: =#REF! -> #REF!
B26: 2.5 | C26: 88264 | D26: ELETRICISTA | E26: h | F26: 0.4 | G26: 31.99 | H26: =F26*G26 -> 12.796 | I26: =H26*$I$11 -> 2.68716 | J26: =H26+I26 -> 15.48316 | N26: 45.51
D27: TOTAL | H27: =SUM(H22:H26) -> 231.666 | I27: =SUM(I22:I26) -> 48.64986 | J27: =SUM(J22:J26) -> 280.31586
B28: 3 | D28: CABO DE COBRE NÚ 16mm2 MEIO DURO - FORNECIMENTO E INSTALAÇÃO
B29: 3.1 | C29: 857 | D29: CABO DE COBRE NÚ 16mm2 MEIO DURO - FORNECIMENTO E INSTALAÇÃO | E29: M | F29: 1 | G29: 17.54 | H29: =F29*G29 -> 17.54 | I29: =H29*$I$11 -> 3.6834 | J29: =H29+I29 -> 21.2234 | N29: 12.47
B30: 3.2 | C30: 5928 | D30: GUINDAUTO HIDRÁULICO, CAPACIDADE MÁXIMA DE CARGA 6200 KG, MOMENTO MÁXIMO DE CARGA 11,7 TM, ALCANCE MÁXIMO HORIZONTAL 9,70 M,INCLUSIVE CAMINHÃO TOCO PBT 16.000 KG,POTÊNCIA DE 189 CV - CHP DIURNO. AF_06/2014 | E30: CHP | F30: 0.01 | G30: 294.05 | H30: =F30*G30 -> 2.9405 | I30: =H30*$I$11 -> 0.617505 | J30: =H30+I30 -> 3.558005 | N30: 22.21
B31: 3.3 | C31: 88247 | D31: AUXILIAR DE ELETRICISTA | E31: h | F31: 0.2 | G31: 26.69 | H31: =F31*G31 -> 5.338 | I31: =H31*$I$11 -> 1.12098 | J31: =H31+I31 -> 6.45898 | N31: 26.49
B32: 3.4 | C32: 88264 | D32: ELETRICISTA | E32: h | F32: 0.2 | G32: 31.99 | H32: =F32*G32 -> 6.398 | I32: =H32*$I$11 -> 1.34358 | J32: =H32+I32 -> 7.74158 | N32: 163.35
D33: TOTAL | H33: =SUM(H29:H32) -> 32.2165 | I33: =SUM(I29:I32) -> 6.765465 | J33: =SUM(J29:J32) -> 38.981965
B34: 4 | D34: CINTA PARA POSTE CIRCULAR - FORNECIMENTO E INSTALAÇÃO
B35: 4.1 | C35: 12327 | D35: CINTA CIRCULAR EM ACO GALVANIZADO DE 210 MM DE DIAMETRO PARA INSTALACAO DE TRANSFORMADOR EM POSTE DE CONCRETO | E35: m³ | F35: 1 | G35: 32.4 | H35: =F35*G35 -> 32.4 | I35: =H35*$I$11 -> 6.804 | J35: =H35+I35 -> 39.204 | N35: 157.76
B36: 4.2 | C36: 5928 | D36: GUINDAUTO HIDRÁULICO, CAPACIDADE MÁXIMA DE CARGA 6200 KG, MOMENTO MÁXIMO DE CARGA 11,7 TM, ALCANCE MÁXIMO HORIZONTAL 9,70 M,INCLUSIVE CAMINHÃO TOCO PBT 16.000 KG,POTÊNCIA DE 189 CV - CHP DIURNO. AF_06/2014 | E36: CHP | F36: 0.03 | G36: 294.05 | H36: =F36*G36 -> 8.8215 | I36: =H36*$I$11 -> 1.852515 | J36: =H36+I36 -> 10.674015
B37: 4.3 | C37: 88247 | D37: AUXILIAR DE ELETRICISTA | E37: h | F37: 0.1 | G37: 26.99 | H37: =F37*G37 -> 2.699 | I37: =H37*$I$11 -> 0.56679 | J37: =H37+I37 -> 3.26579 | N37: =#REF! -> #REF!
B38: 4.4 | C38: 88264 | D38: ELETRICISTA | E38: h | F38: 0.1 | G38: 31.99 | H38: =F38*G38 -> 3.199 | I38: =H38*$I$11 -> 0.67179 | J38: =H38+I38 -> 3.87079 | N38: 45.51
D39: TOTAL | H39: =SUM(H35:H38) -> 47.1195 | I39: =SUM(I35:I38) -> 9.895095 | J39: =SUM(J35:J38) -> 57.014595
B40: 5 | D40: CONECTOR PERFURANTE PARA CABO MULTIPLEXADO - FORNECIMENTO E INSTALAÇÃO
B41: 5.1 | C41: 1564 | D41: GRAMPO PARALELO METÁLICO PARA CABO DE 6 a 50mm2 COM 2 PARAFUSOS | E41: unid | F41: 1 | G41: 18.33 | H41: =F41*G41 -> 18.33 | I41: =H41*$I$11 -> 3.8493 | J41: =H41+I41 -> 22.1793
B42: 5.2 | C42: 5928 | D42: GUINDAUTO HIDRÁULICO, CAPACIDADE MÁXIMA DE CARGA 6200 KG, MOMENTO MÁXIMO DE CARGA 11,7 TM, ALCANCE MÁXIMO HORIZONTAL 9,70 M,INCLUSIVE CAMINHÃO TOCO PBT 16.000 KG,POTÊNCIA DE 189 CV - CHP DIURNO. AF_06/2014 | E42: CHP | F42: 0.01 | G42: 294.05 | H42: =F42*G42 -> 2.9405 | I42: =H42*$I$11 -> 0.617505 | J42: =H42+I42 -> 3.558005
B43: 5.3 | C43: 88247 | D43: AUXILIAR DE ELETRICISTA | E43: h | F43: 0.04 | G43: 26.69 | H43: =F43*G43 -> 1.0676 | I43: =H43*$I$11 -> 0.224196 | J43: =H43+I43 -> 1.291796 | N43: =#REF! -> #REF!
...

Sheet composições sem BDI
D1: PLANILHA ORÇAMENTÁRIA ESTIMATIVA
D2: MATERIAL E MÃO DE OBRA PARA INSTALAÇÃO DE POSTES COM ILUMINAÇÃO PÚBLICA EM RUAS E ESTRADAS DO
D3: MUNICÍPIO
D4: MUNICÍPIO DE IGREJINHA -09 de abril de 2026
D5: SINAPI REFERÊNCIA - Janeiro de 2026
B7: CUSTOS UNITÁRIOS POR COMPOSIÇÃO DE CADA ITEM/PRODUTO:
B9: COD. | C9: SINAPI | D9: DISCRIMINAÇÃO | E9: UNID. | F9: QUANT. | H9: CUSTO
G10: TOTAL | H10: TOTAL
B11: 1 | D11: ARMAÇÃO SECUNDÁRIA COM 1 ESTRIBO E 1 ISOLADOR - FORNECIMENTO E INSTALAÇÃO
B12: 1.1 | C12: 1091 | D12: ARMACAO VERTICAL COM HASTE E CONTRA-PINO, EM CHAPA DE ACO GALVANIZADO 3/16", COM 1 ESTRIBO E 1 ISOLADO | E12: unid | F12: 1 | G12: 26.08 | H12: =F12*G12 -> 26.08 | K12: 52.96
B13: 1.2 | C13: 11267 | D13: ARRUELA LISA, REDONDA, DE LATAO POLIDO, DIAMETRO NOMINAL 5/8", DIAMETRO EXTERNO = 34 MM, DIAMETRO DO FURO = 17 MM, ESPESSURA = *2,5* MM | E13: unid | F13: 2 | G13: 1.43 | H13: =F13*G13 -> 2.86 | K13: 455.47
B14: 1.3 | C14: 39996 | D14: VERGALHAO ZINCADO ROSCA TOTAL, 1/4 " (6,3 MM) | E14: unid | F14: 0.17 | G14: 3.85 | H14: =F14*G14 -> 0.6545
B15: 1.4 | C15: 39997 | D15: PORCA ZINCADA, SEXTAVADA, DIAMETRO 1/4" | E15: unid | F15: 2 | G15: 0.33 | H15: =F15*G15 -> 0.66
B16: 1.5 | C16: 5928 | D16: GUINDAUTO HIDRÁULICO, CAPACIDADE MÁXIMA DE CARGA 6200 KG, MOMENTO MÁXIMO DE CARGA 11,7 TM, ALCANCE MÁXIMO HORIZONTAL 9,70 M,INCLUSIVE CAMINHÃO TOCO PBT 16.000 KG,POTÊNCIA DE 189 CV - CHP DIURNO. AF_06/2014 | E16: CHP | F16: 0.02 | G16: 294.05 | H16: =F16*G16 -> 5.881
B17: 1.6 | C17: 88247 | D17: AUXILIAR DE ELETRICISTA | E17: h | F17: 0.04 | G17: 26.69 | H17: =F17*G17 -> 1.0676 | K17: 25
B18: 1.7 | C18: 88264 | D18: ELETRICISTA | E18: h | F18: 0.37 | G18: 31.99 | H18: =F18*G18 -> 11.8363 | K18: 27.51
D19: TOTAL | H19: =SUM(H12:H18) -> 49.0394
B20: 2 | D20: HASTE DE ATERRAMENTO 3/4" PARA SPDA - FORNECIMENTO E INSTALAÇÃO
B21: 2.1 | C21: 3378 | D21: HASTE DE ATERRAMENTO EM AÇO COM 3,00M DE COMPRIMENTO E DN=3/4", REVESTIDA COM BAIXA CAMADA DE COBRE, SEM CONECTOR | E21: unid | F21: 1 | G21: 136.48 | H21: =F21*G21 -> 136.48 | K21: =#REF! -> #REF!
B22: 2.2 | C22: 426 | D22: GRAMPO METÁLICO TIPO U PARA HASTE DE ATERRAMENTO DE ATÉ 3/4", CONDUTOR DE 10 a 25mm2 | E22: unid | F22: 1 | G22: 48.19 | H22: =F22*G22 -> 48.19 | K22: =#REF! -> #REF!
B23: 2.3 | C23: 5928 | D23: GUINDAUTO HIDRÁULICO, CAPACIDADE MÁXIMA DE CARGA 6200 KG, MOMENTO MÁXIMO DE CARGA 11,7 TM, ALCANCE MÁXIMO HORIZONTAL 9,70 M,INCLUSIVE CAMINHÃO TOCO PBT 16.000 KG,POTÊNCIA DE 189 CV - CHP DIURNO. AF_06/2014 | E23: CHP | F23: 0.08 | G23: 294.05 | H23: =F23*G23 -> 23.524
B24: 2.4 | C24: 88247 | D24: AUXILIAR DE ELETRICISTA | E24: h | F24: 0.4 | G24: 26.69 | H24: =F24*G24 -> 10.676 | K24: =#REF! -> #REF!
B25: 2.5 | C25: 88264 | D25: ELETRICISTA | E25: h | F25: 0.4 | G25: 31.99 | H25: =F25*G25 -> 12.796 | K25: 45.51
D26: TOTAL | H26: =SUM(H21:H25) -> 231.666
B27: 3 | D27: CABO DE COBRE NÚ 16mm2 MEIO DURO - FORNECIMENTO E INSTALAÇÃO
B28: 3.1 | C28: 857 | D28: CABO DE COBRE NÚ 16mm2 MEIO DURO - FORNECIMENTO E INSTALAÇÃO | E28: M | F28: 1 | G28: 17.54 | H28: =F28*G28 -> 17.54 | K28: 12.47
B29: 3.2 | C29: 5928 | D29: GUINDAUTO HIDRÁULICO, CAPACIDADE MÁXIMA DE CARGA 6200 KG, MOMENTO MÁXIMO DE CARGA 11,7 TM, ALCANCE MÁXIMO HORIZONTAL 9,70 M,INCLUSIVE CAMINHÃO TOCO PBT 16.000 KG,POTÊNCIA DE 189 CV - CHP DIURNO. AF_06/2014 | E29: CHP | F29: 0.01 | G29: 294.05 | H29: =F29*G29 -> 2.9405 | K29: 22.21
B30: 3.3 | C30: 88247 | D30: AUXILIAR DE ELETRICISTA | E30: h | F30: 0.2 | G30: 26.69 | H30: =F30*G30 -> 5.338 | K30: 26.49
B31: 3.4 | C31: 88264 | D31: ELETRICISTA | E31: h | F31: 0.2 | G31: 31.99 | H31: =F31*G31 -> 6.398 | K31: 163.35
D32: TOTAL | H32: =SUM(H28:H31) -> 32.2165
B33: 4 | D33: CINTA PARA POSTE CIRCULAR - FORNECIMENTO E INSTALAÇÃO
B34: 4.1 | C34: 12327 | D34: CINTA CIRCULAR EM ACO GALVANIZADO DE 210 MM DE DIAMETRO PARA INSTALACAO DE TRANSFORMADOR EM POSTE DE CONCRETO | E34: m³ | F34: 1 | G34: 32.4 | H34: =F34*G34 -> 32.4 | K34: 157.76
B35: 4.2 | C35: 5928 | D35: GUINDAUTO HIDRÁULICO, CAPACIDADE MÁXIMA DE CARGA 6200 KG, MOMENTO MÁXIMO DE CARGA 11,7 TM, ALCANCE MÁXIMO HORIZONTAL 9,70 M,INCLUSIVE CAMINHÃO TOCO PBT 16.000 KG,POTÊNCIA DE 189 CV - CHP DIURNO. AF_06/2014 | E35: CHP | F35: 0.03 | G35: 294.05 | H35: =F35*G35 -> 8.8215
B36: 4.3 | C36: 88247 | D36: AUXILIAR DE ELETRICISTA | E36: h | F36: 0.1 | G36: 26.99 | H36: =F36*G36 -> 2.699 | K36: =#REF! -> #REF!
B37: 4.4 | C37: 88264 | D37: ELETRICISTA | E37: h | F37: 0.1 | G37: 31.99 | H37: =F37*G37 -> 3.199 | K37: 45.51
D38: TOTAL | H38: =SUM(H34:H37) -> 47.1195
B39: 5 | D39: CONECTOR PERFURANTE PARA CABO MULTIPLEXADO - FORNECIMENTO E INSTALAÇÃO
B40: 5.1 | C40: 1564 | D40: GRAMPO PARALELO METÁLICO PARA CABO DE 6 a 50mm2 COM 2 PARAFUSOS | E40: unid | F40: 1 | G40: 18.33 | H40: =F40*G40 -> 18.33
B41: 5.2 | C41: 5928 | D41: GUINDAUTO HIDRÁULICO, CAPACIDADE MÁXIMA DE CARGA 6200 KG, MOMENTO MÁXIMO DE CARGA 11,7 TM, ALCANCE MÁXIMO HORIZONTAL 9,70 M,INCLUSIVE CAMINHÃO TOCO PBT 16.000 KG,POTÊNCIA DE 189 CV - CHP DIURNO. AF_06/2014 | E41: CHP | F41: 0.01 | G41: 294.05 | H41: =F41*G41 -> 2.9405
B42: 5.3 | C42: 88247 | D42: AUXILIAR DE ELETRICISTA | E42: h | F42: 0.04 | G42: 26.69 | H42: =F42*G42 -> 1.0676 | K42: =#REF! -> #REF!
...

Sheet CRONOGRAMA (em construção)
B1: CRONOGRAMA FÍSICO-FINANCEIRO
B2: Hospital Santa Teresa - Pelotas/RS
B3: Fundação de Apoio à Universidade
D4: ETAPAS DE 30 DIAS (Mensais)
A5: COD. | B5: DISCRIMINAÇÃO | C5: PREÇO | D5: Etapa 01 | E5: Etapa 02 | F5: Etapa 03 | G5: Etapa 04 | H5: Etapa 05 | I5: Etapa 06 | J5: Etapa 07 | K5: Etapa 08
A7: 1 | B7: SERVIÇOS INICIAIS | C7: #N/A | D7: =$C7 -> #N/A
D8: =D7/$C7 -> #N/A
A9: 2 | B9: INSTALAÇÃO DE CANTEIRO DE OBRA | C9: #N/A | D9: =$C9*8/10 -> #N/A | E9: =$C9*2/10 -> #N/A
D10: =D9/$C9 -> #N/A | E10: =E9/$C9 -> #N/A
A11: 3 | B11: MOVIMENTO DE TERRA | C11: #N/A | D11: =$C11*9/10 -> #N/A | E11: =$C11*1/10 -> #N/A
D12: =D11/$C11 -> #N/A | E12: =E11/$C11 -> #N/A
A13: 4 | B13: INFRA-ESTRUTURA | C13: #N/A | E13: =$C13*9/10 -> #N/A | F13: =$C13*1/10 -> #N/A
E14: =E13/$C13 -> #N/A | F14: =F13/$C13 -> #N/A
A15: 5 | B15: SUPRA-ESTRUTURA | C15: #N/A | F15: =$C15*5/10 -> #N/A | G15: =$C15*4.5/10 -> #N/A | H15: =$C15*0.5/10 -> #N/A
F16: =F15/$C15 -> #N/A | G16: =G15/$C15 -> #N/A | H16: =H15/$C15 -> #N/A
A17: 6 | B17: PAREDES E PAINÉIS | C17: #N/A | G17: =$C17*5/10 -> #N/A | H17: =$C17*3.5/10 -> #N/A | I17: =$C17*0.5/10 -> #N/A | J17: =$C17*1/10 -> #N/A
G18: =G17/$C17 -> #N/A | H18: =H17/$C17 -> #N/A | I18: =I17/$C17 -> #N/A | J18: =J17/$C17 -> #N/A
A19: 7 | B19: REVESTIMENTOS | C19: #N/A | G19: =$C19*0.5/10 -> #N/A | H19: =$C19*6/10 -> #N/A | I19: =$C19*3/10 -> #N/A | J19: =$C19*0.5/10 -> #N/A
G20: =G19/$C19 -> #N/A | H20: =H19/$C19 -> #N/A | I20: =I19/$C19 -> #N/A | J20: =J19/$C19 -> #N/A
A21: 8 | B21: COBERTURA | C21: #N/A | H21: =$C21*4/10 -> #N/A | I21: =$C21*6/10 -> #N/A
H22: =H21/$C21 -> #N/A | I22: =I21/$C21 -> #N/A
A23: 9 | B23: IMPERMEABILIZAÇÕES | C23: #N/A | F23: =$C23*5/10 -> #N/A | G23: =$C23*2.5/10 -> #N/A | H23: =$C23*2/10 -> #N/A | I23: =$C23*0.5/10 -> #N/A
F24: =F23/$C23 -> #N/A | G24: =G23/$C23 -> #N/A | H24: =H23/$C23 -> #N/A | I24: =I23/$C23 -> #N/A
A25: 10 | B25: FORROS | C25: #N/A | H25: =$C25*2/10 -> #N/A | I25: =$C25*7/10 -> #N/A | J25: =$C25*1/10 -> #N/A
H26: =H25/$C25 -> #N/A | I26: =I25/$C25 -> #N/A | J26: =J25/$C25 -> #N/A
A27: 11 | B27: ESQUADRIAS E VIDROS | C27: #N/A | I27: =$C27*7/10 -> #N/A | J27: =$C27*3/10 -> #N/A
I28: =I27/$C27 -> #N/A | J28: =J27/$C27 -> #N/A
A29: 12 | B29: PISOS | C29: #N/A | H29: =$C29*2.5/10 -> #N/A | I29: =$C29*5/10 -> #N/A | J29: =$C29*2.5/10 -> #N/A
H30: =H29/$C29 -> #N/A | I30: =I29/$C29 -> #N/A | J30: =J29/$C29 -> #N/A
A31: 13 | B31: INSTALAÇÕES HIDROSSANITÁRIAS | C31: #N/A | F31: =$C31*1.5/10 -> #N/A | G31: =$C31*1.5/10 -> #N/A | H31: =$C31*2.5/10 -> #N/A | I31: =$C31*3/10 -> #N/A | J31: =$C31*1.5/10 -> #N/A
F32: =F31/$C31 -> #N/A | G32: =G31/$C31 -> #N/A | H32: =H31/$C31 -> #N/A | I32: =I31/$C31 -> #N/A | J32: =J31/$C31 -> #N/A
A33: 14 | B33: LOUÇAS, EQUIPAMENTOS E ACESSÓRIOS | C33: #N/A | J33: =$C33*3/10 -> #N/A | K33: =$C33*7/10 -> #N/A
J34: =J33/$C33 -> #N/A | K34: =K33/$C33 -> #N/A
A35: 15 | B35: INSTALAÇÕES ELÉTRICAS | C35: #N/A | G35: =$C35*0.5/10 -> #N/A | H35: =$C35*4.5/10 -> #N/A | I35: =$C35*4.5/10 -> #N/A | J35: =$C35*0.5/10 -> #N/A
G36: =G35/$C35 -> #N/A | H36: =H35/$C35 -> #N/A | I36: =I35/$C35 -> #N/A | J36: =J35/$C35 -> #N/A
A37: 16 | B37: SISTEMA DE CLIMATIZAÇÃO E VENTILAÇÃO | C37: #N/A | J37: =$C37*0.15/10 -> #N/A | K37: =$C37*9.85/10 -> #N/A
J38: =J37/$C37 -> #N/A | K38: =K37/$C37 -> #N/A
A39: 17 | B39: INSTALAÇÕES ESPECIAIS | C39: #N/A | G39: =$C39*3/10 -> #N/A | H39: =$C39*4/10 -> #N/A | I39: =$C39*3/10 -> #N/A
G40: =G39/$C39 -> #N/A | H40: =H39/$C39 -> #N/A | I40: =I39/$C39 -> #N/A
A41: 18 | B41: PINTURA | C41: #N/A | J41: =$C41*4/10 -> #N/A | K41: =$C41*6/10 -> #N/A
...
