Workbook

Sheet Mão de Obra
A1: 1. MÃO DE OBRA
A3: COLETA REGULAR/SELETIVA
A5: COLETOR
B6: Unidade | C6: Quantidade | D6: Preço Unitário | E6: Subtotal | F6: Total (R$)
A7: Salário Normal | B7: mês | C7: 1 | D7: 2082.31 | E7: =C7*D7 -> 2082.31
A8: Adicional de Insalubridade | B8: % | C8: 40 | D8: =E7 -> 2082.31 | E8: =D8*C8% -> 832.924
A9: Soma | E9: =SUM(E7:E8) -> 2915.234
A10: Encargos Sociais | B10: % | C10: 74.95 | D10: =E9 -> 2915.234 | E10: =D10*C10% -> 2184.9679
A11: Auxílio Alimentação | B11: dia | C11: 26 | D11: 27.15 | E11: =C11*D11 -> 705.9
A12: Desconto Contribuição empregado auxílio alimentação | B12: % | C12: 19 | D12: =E11 -> 705.9 | E12: =-D12*C12% -> -134.121
A13: Contribuição Plano de Benefício Social Familiar | B13: unidade | C13: 1 | D13: 25.52 | E13: =D13*C13 -> 25.52
A14: Total por coletor | E14: =SUM(E9:E13) -> 5697.5009
A15: Total do efetivo | B15: homem | C15: 15 | D15: =E14 -> 5697.5009 | E15: =D15*C15 -> 85462.513 | F15: =E15 -> 85462.513
A17: MOTORISTA
B18: Unidade | C18: Quantidade | D18: Preço Unitário | E18: Subtotal | F18: Total (R$)
A19: Salário Normal | B19: mês | C19: 1 | D19: 2331.4 | E19: =C19*D19 -> 2331.4
A20: Adicional de Insalubridade | B20: % | C20: 20 | D20: 1212 | E20: =D20*C20% -> 242.4
A21: Soma | E21: =SUM(E19:E20) -> 2573.8
A22: Encargos Sociais | B22: % | C22: 74.95 | D22: =E21 -> 2573.8 | E22: =D22*C22% -> 1929.0631
A23: Auxílio Refeição | B23: dia | C23: 26 | D23: 19 | E23: =C23*D23 -> 494
A24: Desconto Contribuição empregado auxílio alimentação | B24: % | C24: 20 | D24: =E23 -> 494 | E24: =-D24*0.2 -> -98.8
A25: Auxílio Alimentação | B25: mês | C25: 1 | D25: 138 | E25: =C25*D25 -> 138
A26: Total por motorista | E26: =SUM(E21:E25) -> 5036.0631
A27: Total do efetivo | B27: homem | C27: 5 | D27: =E26 -> 5036.0631 | E27: =D27*C27 -> 25180.316 | F27: =E27 -> 25180.316
A29: SUPERVISOR
B30: Unidade | C30: Quantidade | D30: Preço Unitário | E30: Subtotal | F30: Total (R$)
A31: Salário Normal | B31: mês | C31: 1 | D31: 4164.62 | E31: =C31*D31 -> 4164.62
A32: Hora Extra 100% | B32: h | C32: 6.75 | D32: 23.24 | E32: =C32*D32 -> 156.87
A33: Adicional de Insalubridade | B33: % | C33: 20 | D33: 1212 | E33: =D33*C33% -> 242.4
A34: Soma | E34: =SUM(E31:E33) -> 4563.89
A35: Encargos Sociais | B35: % | C35: 74.95 | D35: =E34 -> 4563.89 | E35: =D35*C35% -> 3420.6356
A36: Auxílio Refeição | B36: dia | C36: 26 | D36: 19 | E36: =C36*D36 -> 494
A37: Total por supervisor | E37: =SUM(E34:E36) -> 8478.5256
A38: Total do efetivo | B38: homem | C38: 0.5 | D38: =E37 -> 8478.5256 | E38: =D38*C38 -> 4239.2628 | F38: =E38 -> 4239.2628
A40: TOTAL MÃO DE OBRA COLETA REGULAR R$ | F40: =((F15+F27+F38)/5)*3 -> 68929.255
A42: TOTAL MÃO DE OBRA COLETA SELETIVA R$ | F42: =((F15+F27+F38)/5)*2 -> 45952.837

Sheet EPI
A1: 2. EPIS
A3: COLETA REGULAR/SELETIVA
A5: UNIFORMES E EPI'S PARA COLETORES
B6: Unidade | C6: Quantidade | D6: Preço Unitário | E6: Subtotal | F6: Total (R$)
A7: Jaqueta com Reflexivo (NBR 15.292) | B7: unidade | C7: 0.055555556 | D7: 159.9 | E7: =C7*D7 -> 8.8833333
A8: Calça | B8: unidade | C8: 0.16666667 | D8: 45.5 | E8: =C8*D8 -> 7.5833333
A9: Camiseta Algodão | B9: unidade | C9: 0.16666667 | D9: 25.9 | E9: =C9*D9 -> 4.3166667
A10: Boné | B10: unidade | C10: 0.16666667 | D10: 30.64 | E10: =C10*D10 -> 5.1066667
A11: Calçado de Segurança com solado antiderrapante, solado bidensidade com palmilha de aço | B11: par | C11: 0.16666667 | D11: 52.16 | E11: =C11*D11 -> 8.6933333
A12: Meia de algodão com cano alto | B12: par | C12: 0.16666667 | D12: 12.31 | E12: =C12*D12 -> 2.0516667
A13: Capa de chuva amarela com reflexivo | B13: unidade | C13: 0.055555556 | D13: 35.09 | E13: =C13*D13 -> 1.9494444
A14: Luva de proteção | B14: par | C14: 4 | D14: 18.12 | E14: =C14*D14 -> 72.48
A15: Protetor solar FPS 30 | B15: unidade | C15: 1 | D15: 14.32 | E15: =C15*D15 -> 14.32
A16: Higienização de uniformes e EPI’s | B16: unidade | C16: 1 | D16: 35.88 | E16: =C16*D16 -> 35.88
A17: Total EPI | E17: 102.64
A18: Total efetivo | B18: homem | C18: 15 | D18: =E17 -> 102.64 | E18: =C18*D18 -> 1539.6 | F18: =E18 -> 1539.6
A20: UNIFORMES E EPI'S PARA MOTORISTAS E SUPERVISOR
B21: Unidade | C21: Quantidade | D21: Preço Unitário | E21: Subtotal | F21: Total (R$)
A22: Jaqueta com Reflexivo (NBR 15.292) | B22: unidade | C22: 0.041666667 | D22: 159.9 | E22: =C22*D22 -> 6.6625
A23: Calça | B23: unidade | C23: 0.083333333 | D23: 45.5 | E23: =C23*D23 -> 3.7916667
A24: Camiseta Algodão | B24: unidade | C24: 0.083333333 | D24: 25.9 | E24: =C24*D24 -> 2.1583333
A25: Calçado de Segurança com solado antiderrapante, solado bidensidade com palmilha de aço | B25: par | C25: 0.083333333 | D25: 52.16 | E25: =C25*D25 -> 4.3466667
A26: Capa de chuva amarela com reflexivo | B26: unidade | C26: 0.041666667 | D26: 35.09 | E26: =C26*D26 -> 1.4620833
A27: Protetor solar FPS 30 | B27: unidade | C27: 1 | D27: 14.32 | E27: =C27*D27 -> 14.32
A28: Higienização de uniformes e EPI’s | B28: unidade | C28: 1 | D28: 35.88 | E28: =C28*D28 -> 35.88
A29: Total EPI | E29: =SUM(E22:E28) -> 68.62125
A30: Total efetivo | B30: homem | C30: 6 | D30: =E29 -> 68.62125 | E30: =C30*D30 -> 411.7275 | F30: =E30 -> 411.7275
A33: TOTAL EPI's COLETA REGULAR R$ | F33: =((F18+F30)/5)*3 -> 1170.7965
A35: TOTAL EPI's COLETA REGULAR R$ | F35: =((F18+F30)/5)*2 -> 780.531

Sheet Veículos
A1: 3. VEÍCULOS
A3: COLETA REGULAR/SELETIVA
A5: VEÍCULO COLETOR COMPACTADOR
A7: DEPRECIAÇÃO
B8: Unidade | C8: Quantidade | D8: Preço Unitário | E8: Subtotal | F8: Total (R$)
A9: Custo de aquisição dos chassis | B9: unidade | C9: 4 | D9: 250000 | E9: =D9*C9 -> 1000000
A10: Custo de aquisição dos compactadores | B10: unidade | C10: 4 | D10: 120000 | E10: =D10*C10 -> 480000
A11: Depreciação dos chassis (120 mês) | B11: % | C11: 65 | D11: =E9 -> 1000000 | E11: =D11*C11% -> 650000
A12: Depreciação dos compactadores (120 mês) | B12: % | C12: 65 | D12: =E10 -> 480000 | E12: =D12*C12% -> 312000
A13: Total depreciação | E13: =E11+E12 -> 962000
A14: Depreciação mensal dos veículos coletores | B14: mês | C14: 120 | D14: =E13 -> 962000 | E14: =D14/C14 -> 8016.6667 | F14: =E14 -> 8016.6667
A16: IMPOSTOS E SEGUROS
B17: Unidade | C17: Quantidade | D17: Preço Unitário | E17: Subtotal | F17: Total (R$)
A18: IPVA | B18: unidade | C18: 4 | D18: 11100 | E18: =D18*C18 -> 44400
A19: Seguro contra terceiros | B19: unidade | C19: 4 | D19: 900 | E19: =D19*C19 -> 3600
A20: Total impostos e seguros | E20: =SUM(E18:E19) -> 48000
A21: Impostos e seguros mensal | B21: mês | C21: 12 | D21: =E20 -> 48000 | E21: =D21/C21 -> 4000 | F21: =E21 -> 4000
A23: CONSUMO COLETA REGULAR
B24: Unidade | C24: Quantidade | D24: Preço Unitário | E24: Subtotal | F24: Total (R$)
A25: Custo óleo diesel/Km rodado | B25: Km/L | C25: 1.76 | D25: 6.57 | E25: =D25/C25 -> 3.7329545
A26: Custo mensal com óleo diesel | B26: Km | C26: 6000 | D26: =E25 -> 3.7329545 | E26: =D26*C26 -> 22397.727
A27: C. de óleo do motor | B27: L | C27: 0.005 | D27: 30 | E27: =C27*D27 -> 0.15
A28: Custo mensal com óleo do motor | B28: Km | C28: 6000 | D28: =E27 -> 0.15 | E28: =D28*C28 -> 900
A29: C. de óleo da transmissão/1.000 km | B29: L/1000Km | C29: 0.85 | D29: 50 | E29: =D29*C29 -> 42.5
A30: C. mensal c/ óleo da transmissão | B30: Km | C30: 6000 | D30: =E29/1000 -> 0.0425 | E30: =C30*D30 -> 255
A31: C. de óleo hidráulico | B31: L/1000Km | C31: 0.0016 | D31: 40 | E31: =C31*D31 -> 0.064
A32: Custo mensal com óleo hidráulico | B32: Km | C32: 6000 | D32: =E31 -> 0.064 | E32: =D32*C32 -> 384
A33: C. de graxa /1000Km | B33: Kg | C33: 0.5 | D33: 20.9 | E33: =D33*C33 -> 10.45
A34: Custo mensal com graxa | B34: Km | C34: 6000 | D34: =E33/1000 -> 0.01045 | E34: =C34*D34 -> 62.7
A35: C. do Arla 32 | B35: L | C35: 0.05 | D35: 4.5 | E35: =C35*D35 -> 0.225
A36: Custo mensal de Arla 32 | B36: Km | C36: 6000 | D36: =E35 -> 0.225 | E36: =C36*D36 -> 1350
A37: Total consumo mensal | E37: =E26+E28+E30+E32+E34+E36 -> 25349.427
A38: Consumo mensal | B38: mês | C38: 1 | D38: =E37 -> 25349.427 | E38: =D38*C38 -> 25349.427 | F38: =E38 -> 25349.427
A40: CONSUMO COLETA SELETIVA
B41: Unidade | C41: Quantidade | D41: Preço Unitário | E41: Subtotal | F41: Total (R$)
A42: Custo óleo diesel/Km rodado | B42: Km/L | C42: 1.76 | D42: 6.57 | E42: =D42/C42 -> 3.7329545
A43: Custo mensal com óleo diesel | B43: Km | C43: 4000 | D43: =E42 -> 3.7329545 | E43: =D43*C43 -> 14931.818
A44: C. de óleo do motor | B44: L | C44: 0.005 | D44: 30 | E44: =C44*D44 -> 0.15
A45: Custo mensal com óleo do motor | B45: Km | C45: 4000 | D45: =E44 -> 0.15 | E45: =D45*C45 -> 600
A46: C. de óleo da transmissão/1.000 km | B46: L/1000Km | C46: 0.85 | D46: 50 | E46: =D46*C46 -> 42.5
...

Sheet Sistema de Monitoramento
A1: 4. SISTEMA DE MONITORAMENTO
A3: MONITORAMENTO DA FROTA COLETA REGULAR/COLETA SELETIVA
B5: Unidade | C5: Quantidade | D5: Preço Unitário | E5: Subtotal | F5: Total (R$)
A6: Implantação dos equipamentos de monitoramento | B6: cj | C6: 4 | D6: 150 | E6: =C6*D6 -> 600
A7: Custo mensal com Implantação | B7: mês | C7: 60 | D7: =E6/C7 -> 10 | E7: =D7 -> 10
A8: Custo manutenção | B8: un. | C8: 4 | D8: 60 | E8: =C8*D8 -> 240
A9: Custo mensal manutenção | B9: mês | C9: 12 | D9: =E8 -> 240 | E9: =D9/C9 -> 20
A10: Custo mensal monitoramento | B10: mês | C10: 4 | D10: =E9+E7 -> 30 | E10: =D10*C10 -> 120
A11: Fator de utilização | B11: un. | C11: 4 | D11: =E10 -> 120 | E11: =C11*D11 -> 480
A12: CUSTO MENSAL | B12: mês | C12: 1 | D12: =E11 -> 480 | E12: =C12*D12 -> 480 | F12: =E12 -> 480
A14: TOTAL VEÍCULOS COLETA REGULAR | F14: =F12/2 -> 240
A16: TOTAL VEÍCULOS COLETA SELETIVA | F16: =F12/2 -> 240

Sheet Administração Local
A1: 5. ADMINISTRAÇÃO LOCAL
A3: COLETA REGULAR
A5: ADMINISTRAÇÃO LOCAL COLETA REGULAR/SELETIVA
B6: Unidade | C6: Quantidade | D6: Preço Unitário | E6: Subtotal | F6: Total (R$)
A7: Depesas administrativas mês | B7: un. | C7: 1 | D7: 1800 | E7: =D7*C7 -> 1800
A8: Energia e água | B8: un. | C8: 1 | D8: 500 | E8: =D8*C8 -> 500
A9: CUSTO MENSAL | B9: mês | C9: 1 | D9: =E7+E8 -> 2300 | E9: =D9 -> 2300 | F9: =E9 -> 2300
A12: TOTAL ADMINISTRAÇÃO COLETA REGULAR | F12: =F9/2 -> 1150
A14: TOTAL ADMINISTRAÇÃO COLETA SELETIVA | F14: =F9/2 -> 1150

Sheet Ferramentas e Mat de Consumo
A1: 6. FERRAMENTAS E MATERIAL DE CONSUMO
A3: COLETA REGULAR E SELETIVA
A5: FERRAMENTAS E MATERIAL DE CONSUMO
B6: Unidade | C6: Quantidade | D6: Preço Unitário | E6: Subtotal | F6: Total (R$)
A7: Recipiente térmico para água 5L | B7: unidade | C7: 8 | D7: 50 | E7: =D7*C7 -> 400
A8: Pá de Concha | B8: unidade | C8: 20 | D8: 29.9 | E8: =D8*C8 -> 598
A9: Vassoura | B9: unidade | C9: 30 | D9: 26.9 | E9: =D9*C9 -> 807
A10: Kit de primeiros socorros | B10: unidade | C10: 4 | D10: 84.9 | E10: =D10*C10 -> 339.6
A11: Total Ferramentas e Mat. Consumo | E11: =SUM(E7:E10) -> 2144.6
A12: CUSTO MENSAL | B12: mês | C12: 12 | D12: =E11 -> 2144.6 | E12: =D12/C12 -> 178.71667 | F12: =E12 -> 178.71667
A14: CUSTO TOTAL FERRAMENTAS E MAT. COLETA REGULAR | F14: =F12/2 -> 89.358333
A15: CUSTO TOTAL MENSAL FERRAMENTAS E MAT. COLETA COLETA SELETIVA | F15: =F12/2 -> 89.358333

Sheet Remuneração de Capital
A1: 7. REMUNERAÇÃO DE CAPITAL
A3: COLETA REGULAR/SELETIVA
B4: Chassi | C4: Compactador
A5: i – Taxa de juros do mercado | B5: 14 | C5: 14
A6: V0 – Valor inicial do bem | B6: 250000 | C6: 120000
A7: Vr – Valor residual do bem | B7: 196412.45 | C7: 94277.97
A8: n – Vida útil do bem em anos | B8: 10 | C8: 10
A10: REMUNERAÇÃO DE CAPITAL
B11: Unidade | C11: Quantidade | D11: Preço Unitário | E11: Subtotal | F11: Total (R$)
A12: Investimento Médio por Chassi (Im) | B12: unidade | C12: 4 | D12: =(B6-B7)*((B8+1)/(2*B8))+B7 -> 225885.6 | E12: =D12*C12 -> 903542.41
A13: Remuneração de Capital Chassi (Jm) | B13: ano | C13: 1 | D13: =(E12*B5/100) -> 126495.94 | E13: =D13*C13 -> 126495.94
A14: Remuneração de Capital Chassi (Jm) mensal | B14: mês | C14: 12 | D14: =E13 -> 126495.94 | E14: =D14/C14 -> 10541.328 | F14: =E14 -> 10541.328
A15: Investimento Médio por compactador | B15: unidade | C15: 4 | D15: =(C6-C7)*((C8+1)/(2*C8))+C7 -> 108425.09 | E15: =D15*C15 -> 433700.35
A16: Remuneração de Capital Compactador(Jm) | B16: ano | C16: 1 | D16: =(E15*C5/100) -> 60718.048 | E16: =D16 -> 60718.048
A17: Remuneração de Capital Compactador (Jm) mensal | B17: mês | C17: 12 | D17: =E16 -> 60718.048 | E17: =D17/12 -> 5059.8374 | F17: =E17 -> 5059.8374
A18: Total Remuneração de Capital | F18: =F14+F17 -> 15601.165
A20: TOTAL REMUNERAÇÃO DE CAPITAL COLETA REGULAR | F20: =F18/2 -> 7800.5827
A22: TOTAL REMUNERAÇÃO DE CAPITAL COLETA SELETIVA | F22: =F20 -> 7800.5827

Sheet BDI
A1: 8. BDI
A3: COMPOSIÇÃO DO BDI - BENEFÍCIOS E DESPESAS INDIRETAS
D5: Referência estudo TCE
D6: 1° Quartil | E6: Médio | F6: 3° Quartil
A7: Administração Central | B7: AC | C7: 0.005 | D7: 0.0297 | E7: 0.0508 | F7: 0.0627
A8: Seguros/Riscos/Garantias | B8: SRG | C8: 0.002 | D8: =0.3%+0.56% -> 0.0086 | E8: =0.48%+0.85% -> 0.0133 | F8: =0.82%+0.89% -> 0.0171
A9: Lucro | B9: L | C9: 0.0203 | D9: 0.0778 | E9: 0.1085 | F9: 0.1355
A10: Despesas Financeiras | B10: DF | C10: =(1+E10)^(E11/252)-1 -> 0.0052130753 | D10: i | E10: 0.14
A11: Tributos - ISS | B11: T | C11: 0.03 | D11: DU | E11: 10
A12: Tributos - PIS/COFINS | C12: 0.0365
A13: Fórmula para o cálculo do BDI:
A14: {[(1+AC+SRG) x (1+L) x (1+DF)] / (1-T)} -1
A15: Resultado do cálculo do BDI: | C15: =ROUND((((1+C7+C8)*(1+C9)*(1+C10))/(1-(C11+C12))-1),4) -> 0.1064 | D15: 0.2143 | E15: 0.2717 | F15: 0.3362
A18: COMPOSIÇÃO DO BDI - BENEFÍCIOS E DESPESAS INDIRETAS

Sheet COLETA REGULAR
A1: 9. TOTAL COLETA REGULAR
B3: Custo (R$) | C3: %
A4: 1. Mão de Obra | B4: ='Mão de Obra'!F40 -> 68929.255 | C4: =(B4/$B$12)*100 -> 52.519037
A5: 2. EPI | B5: =EPI!F33 -> 1170.7965 | C5: =(B5/$B$12)*100 -> 0.89206107
A6: 3. Veículos | B6: =Veículos!F86 -> 39244.581 | C6: =(B6/$B$12)*100 -> 29.901492
A7: 4. Sistema de Monitoramento | B7: ='Sistema de Monitoramento'!F14 -> 240 | C7: =(B7/$B$12)*100 -> 0.1828624
A8: 5. Administração Central | B8: ='Administração Local'!F12 -> 1150 | C8: =(B8/$B$12)*100 -> 0.87621566
A9: 6. Ferramentas e Mat. Consumo | B9: ='Ferramentas e Mat de Consumo'!F14 -> 89.358333 | C9: =(B9/$B$12)*100 -> 0.068084497
A10: 7. Remuneração de Capital | B10: ='Remuneração de Capital'!F20 -> 7800.5827 | C10: =(B10/$B$12)*100 -> 5.943472
A11: 8. BDI | B11: =SUM(B4:B10)*BDI!C15 -> 12621.655 | C11: =(B11/$B$12)*100 -> 9.6167751
A12: CUSTO MENSAL COLETA REGULAR R$ | B12: =SUM(B4:B11) -> 131246.23 | C12: =SUM(C4:C11) -> 100

Sheet COLETA SELETIVA
A1: 10. TOTAL COLETA SELETIVA
B3: Custo (R$) | C3: %
A4: 1. Mão de Obra | B4: ='Mão de Obra'!F42 -> 45952.837 | C4: =(B4/$B$12)*100 -> 48.627155
A5: 2. EPI | B5: =EPI!F35 -> 780.531 | C5: =(B5/$B$12)*100 -> 0.82595558
A6: 3. Veículos | B6: =Veículos!F88 -> 29399.165 | C6: =(B6/$B$12)*100 -> 31.110109
A7: 4. Sistema de Monitoramento | B7: ='Sistema de Monitoramento'!F16 -> 240 | C7: =(B7/$B$12)*100 -> 0.25396728
A8: 5. Administração Central | B8: ='Administração Local'!F14 -> 1150 | C8: =(B8/$B$12)*100 -> 1.2169266
A9: 6. Ferramentas e Mat. Consumo | B9: ='Ferramentas e Mat de Consumo'!F15 -> 89.358333 | C9: =(B9/$B$12)*100 -> 0.094558722
A10: 7. Remuneração de Capital | B10: ='Remuneração de Capital'!F22 -> 7800.5827 | C10: =(B10/$B$12)*100 -> 8.2545534
A11: 8. BDI | B11: =SUM(B4:B10)*BDI!C15 -> 9087.8872 | C11: =(B11/$B$12)*100 -> 9.6167751
A12: CUSTO MENSAL COLETA SELETIVA R$ | B12: =SUM(B4:B11) -> 94500.361 | C12: =SUM(C4:C11) -> 100

Sheet TOTAL
A1: CUSTOS RESUMIDOS
B2: R$
A3: COLETA REGULAR | B3: ='COLETA REGULAR'!B12 -> 131246.23
A4: COLETA SELETIVA | B4: ='COLETA SELETIVA'!B12 -> 94500.361
A5: TOTAL (R$) | B5: =SUM(B3:B4) -> 225746.59

Sheet Encargos Sociais
A1: 9. ENCARGOS SOCIAIS
A3: GRUPO A | B3: (%)
A4: INSS | B4: 20
A5: Sesi | B5: 1.5
A6: Senai | B6: 1
A7: Incra | B7: 0.2
A8: Sebrae | B8: 0.6
A9: FGTS | B9: 8
A10: Seg. Acid. De Trabalho | B10: 3
A11: Salário Educação | B11: 2.5
A12: SUBTOTAL | B12: =SUM(B4:B11) -> 36.8
A14: GRUPO B | B14: (%)
A15: Férias | B15: 5.74
A16: 13° Salário | B16: 8.33
A17: Licença Paternidade | B17: 0.06
A18: Faltas justificadas | B18: 0.82
A19: Auxílio acidente de trabalho | B19: 0.31
A20: Auxílio Doença | B20: 1.66
A21: SUBTOTAL | B21: =SUM(B15:B20) -> 16.92
A23: GRUPO C | B23: (%)
A24: Aviso prévio indenizado | B24: 3.9
A25: Férias indenizada | B25: 5.37
A26: Férias indenizada s/ aviso prévio indenizado | B26: 0.43
A27: Depósito rescisão sem justa causa | B27: 3.59
A28: Indenização adicional | B28: 0.27
A29: SUBTOTAL | B29: =SUM(B24:B28) -> 13.56
A31: INCIDÊNICA CUMULATIVA | B31: (%)
A32: Grupo A sobre Grupo B | B32: 6.23
A33: Grupo A sobre aviso prévio | B33: 1.44
A34: SUBTOTAL | B34: =SUM(B32:B33) -> 7.67
A36: SOMA ENCARGOS | B36: =B12+B21+B29+B34 -> 74.95
