Workbook

Sheet Roteiro 39
A1: MUNICÍPIO DE SANTA ROSA
A2: SECRETARIA DE ADMINISTRAÇÃO E FAZENDA
A3: Departamento de Contabilidade e Finanças
B4: Empresa | C4: Empresa:
A5: PLANILHA DE CUSTOS TRANSPORTE ESCOLAR 2025 | C5: ROTEIRO Nº 39
A6: Diversas Vias - Bela União e Bairro Cruzeiro | C6: KM DIA: | D6: MEDIA DIAS UTEIS: | E6: Nº ALUNOS: | F6: TURNO:
C7: 120 | D7: 20 | E7: 35 | F7: Manha/Tarde
A8: PLANILHA DE CÁLCULO TARIFÁRIO DO TRANSPORTE DE ESCOLARES
A9: I - CUSTOS VARIÁVEIS
A10: A - Combustível | C10: Nº. de veículos | D10: R$ Diesel/Litro | E10: Coefic. de consumo | F10: Custo por km
A11: Ônibus | C11: 1 | E11: 0.3333 | F11: =+E11*D11*C11 -> 0
A12: Total da Frota | C12: =+C11 -> 1 | F12: =+F11 -> 0
A13: Custo ponderado por km | F13: =+F12/C12 -> 0
A15: B - Óleos Lubrificantes | C15: Nº. de veículos | D15: Preço por litro | E15: Coefic. de consumo | F15: Custo por km
A16: Óleo do motor sem ar | C16: =+C12 -> 1 | E16: 0.0004 | F16: =+E16*D16*C16 -> 0
A17: Óleo da caixa de mudança sem ar | C17: =+C12 -> 1 | E17: 3e-05 | F17: =+E17*D17*C17 -> 0
A18: Óleo do diferencial sem ar | C18: =+C12 -> 1 | E18: 3e-05 | F18: =+E18*D18*C18 -> 0
A19: Óleo da direção hidráulica sem ar | C19: =+C12 -> 1 | E19: 2e-05 | F19: =+E19*D19*C19 -> 0
A20: Óleo do freio veículo sem ar | C20: =+C12 -> 1 | E20: 3e-05 | F20: =+E20*D20*C20 -> 0
A21: Total da frota | C21: =+C12 -> 1 | F21: =SUM(F16:F20) -> 0
A22: Custo ponderado por km | F22: =+F21/C21 -> 0
A24: Rodagem por km | D24: Preço unitário | E24: Quant. por veículo | F24: Preço total
A25: Pneu novo | C25: =C12 -> 1 | D25: =0/C7 -> 0 | E25: 6 | F25: =E25*C25*D25 -> 0
A26: Recapagem | C26: =C12 -> 1 | D26: 0 | E26: 0 | F26: =E26*C26*D26 -> 0
A27: Protetor | C27: =C12 -> 1 | D27: 0 | E27: 0 | F27: =E27*C27*D27 -> 0
A28: Total | F28: =SUM(F25:F27) -> 0
A30: Custo ponderado da rodagem por km | D30: Custo por veículo | E30: Quant. de veículos | F30: Custo total
A31: Custo rodagem | D31: =+F28 -> 0 | E31: =+C12 -> 1 | F31: =+E31*D31 -> 0
A32: Total da frota | E32: =+C12 -> 1 | F32: =+F31 -> 0
A33: Custo ponderado da rodagem por veículo | F33: =+D31 -> 0
A34: Quilometragem mínima | F34: =C7*D7 -> 2400
A35: Custo ponderado da rodagem por km | F35: =+F33/F34 -> 0
A37: Resumo dos custos variáveis
A38: A - Combustíveis | F38: =+F13 -> 0
A39: B - Óleos Lubricantes | F39: =+F22 -> 0
A40: C - Rodagem | F40: =+F35 -> 0
A41: Custo variável total por km | F41: =+F40+F39+F38 -> 0
A43: II - CUSTOS FIXOS | C43: Ano do veículo | D43: Nº. de veículos | E43: Preço atual | F43: Preço total
A44: Frota | D44: =+C12 -> 1 | F44: =+E44*D44 -> 0
A45: Ônibus Rural Escolar – Tipo ORE 3 | D45: =+C12 -> 1 | F45: =+F44 -> 0
...

Sheet Roteiro 40
A1: MUNICÍPIO DE SANTA ROSA
A2: SECRETARIA DE ADMINISTRAÇÃO E FAZENDA
A3: Departamento de Contabilidade e Finanças
B4: Empresa | C4: Empresa:
A5: PLANILHA DE CUSTOS TRANSPORTE ESCOLAR 2025 | C5: ROTEIRO Nº 40
A6: Diversas Vias - Bairro Gloria, Bairro Central, Vila Jardim, Vila Progresso | C6: KM DIA: | D6: MEDIA DIAS UTEIS: | E6: Nº ALUNOS: | F6: TURNO:
C7: 120 | D7: 20 | E7: 35 | F7: Manha/Tarde
A8: PLANILHA DE CÁLCULO TARIFÁRIO DO TRANSPORTE DE ESCOLARES
A9: I - CUSTOS VARIÁVEIS
A10: A - Combustível | C10: Nº. de veículos | D10: R$ Diesel/Litro | E10: Coefic. de consumo | F10: Custo por km
A11: Ônibus | C11: 1 | E11: 0.3333 | F11: =+E11*D11*C11 -> 0
A12: Total da Frota | C12: =+C11 -> 1 | F12: =+F11 -> 0
A13: Custo ponderado por km | F13: =+F12/C12 -> 0
A15: B - Óleos Lubrificantes | C15: Nº. de veículos | D15: Preço por litro | E15: Coefic. de consumo | F15: Custo por km
A16: Óleo do motor sem ar | C16: =+C12 -> 1 | E16: 0.0004 | F16: =+E16*D16*C16 -> 0
A17: Óleo da caixa de mudança sem ar | C17: =+C12 -> 1 | E17: 3e-05 | F17: =+E17*D17*C17 -> 0
A18: Óleo do diferencial sem ar | C18: =+C12 -> 1 | E18: 3e-05 | F18: =+E18*D18*C18 -> 0
A19: Óleo da direção hidráulica sem ar | C19: =+C12 -> 1 | E19: 2e-05 | F19: =+E19*D19*C19 -> 0
A20: Óleo do freio veículo sem ar | C20: =+C12 -> 1 | E20: 3e-05 | F20: =+E20*D20*C20 -> 0
A21: Total da frota | C21: =+C12 -> 1 | F21: =SUM(F16:F20) -> 0
A22: Custo ponderado por km | F22: =+F21/C21 -> 0
A24: Rodagem por km | D24: Preço unitário | E24: Quant. por veículo | F24: Preço total
A25: Pneu novo | C25: =C12 -> 1 | D25: =0/C7 -> 0 | E25: 6 | F25: =E25*C25*D25 -> 0
A26: Recapagem | C26: =C12 -> 1 | D26: 0 | E26: 0 | F26: =E26*C26*D26 -> 0
A27: Protetor | C27: =C12 -> 1 | D27: 0 | E27: 0 | F27: =E27*C27*D27 -> 0
A28: Total | F28: =SUM(F25:F27) -> 0
A30: Custo ponderado da rodagem por km | D30: Custo por veículo | E30: Quant. de veículos | F30: Custo total
A31: Custo rodagem | D31: =+F28 -> 0 | E31: =+C12 -> 1 | F31: =+E31*D31 -> 0
A32: Total da frota | E32: =+C12 -> 1 | F32: =+F31 -> 0
A33: Custo ponderado da rodagem por veículo | F33: =+D31 -> 0
A34: Quilometragem mínima | F34: =C7*D7 -> 2400
A35: Custo ponderado da rodagem por km | F35: =+F33/F34 -> 0
A37: Resumo dos custos variáveis
A38: A - Combustíveis | F38: =+F13 -> 0
A39: B - Óleos Lubricantes | F39: =+F22 -> 0
A40: C - Rodagem | F40: =+F35 -> 0
A41: Custo variável total por km | F41: =+F40+F39+F38 -> 0
A43: II - CUSTOS FIXOS | C43: Ano do veículo | D43: Nº. de veículos | E43: Preço atual | F43: Preço total
A44: Frota | D44: =+C12 -> 1 | F44: =+E44*D44 -> 0
A45: Ônibus Rural Escolar – Tipo ORE 3 | D45: =+C12 -> 1 | F45: =+F44 -> 0
...

Sheet Roteiro 41
A1: MUNICÍPIO DE SANTA ROSA
A2: SECRETARIA DE ADMINISTRAÇÃO E FAZENDA
A3: Departamento de Contabilidade e Finanças
B4: Empresa | C4: Empresa:
A5: PLANILHA DE CUSTOS TRANSPORTE ESCOLAR 2025 | C5: ROTEIRO Nº 41
A6: Diversas Vias - Bairro Rolim, Bairro São francisco, Bairro Faxinal, Bairro Industrial, Bairro Planalto, Bairro Figueira | C6: KM DIA: | D6: MEDIA DIAS UTEIS: | E6: Nº ALUNOS: | F6: TURNO:
C7: 120 | D7: 20 | E7: 35 | F7: Manha/Tarde
A8: PLANILHA DE CÁLCULO TARIFÁRIO DO TRANSPORTE DE ESCOLARES
A9: I - CUSTOS VARIÁVEIS
A10: A - Combustível | C10: Nº. de veículos | D10: R$ Diesel/Litro | E10: Coefic. de consumo | F10: Custo por km
A11: Ônibus | C11: 1 | E11: 0.3333 | F11: =+E11*D11*C11 -> 0
A12: Total da Frota | C12: =+C11 -> 1 | F12: =+F11 -> 0
A13: Custo ponderado por km | F13: =+F12/C12 -> 0
A15: B - Óleos Lubrificantes | C15: Nº. de veículos | D15: Preço por litro | E15: Coefic. de consumo | F15: Custo por km
A16: Óleo do motor sem ar | C16: =+C12 -> 1 | E16: 0.0004 | F16: =+E16*D16*C16 -> 0
A17: Óleo da caixa de mudança sem ar | C17: =+C12 -> 1 | E17: 3e-05 | F17: =+E17*D17*C17 -> 0
A18: Óleo do diferencial sem ar | C18: =+C12 -> 1 | E18: 3e-05 | F18: =+E18*D18*C18 -> 0
A19: Óleo da direção hidráulica sem ar | C19: =+C12 -> 1 | E19: 2e-05 | F19: =+E19*D19*C19 -> 0
A20: Óleo do freio veículo sem ar | C20: =+C12 -> 1 | E20: 3e-05 | F20: =+E20*D20*C20 -> 0
A21: Total da frota | C21: =+C12 -> 1 | F21: =SUM(F16:F20) -> 0
A22: Custo ponderado por km | F22: =+F21/C21 -> 0
A24: Rodagem por km | D24: Preço unitário | E24: Quant. por veículo | F24: Preço total
A25: Pneu novo | C25: =C12 -> 1 | D25: =0/C7 -> 0 | E25: 6 | F25: =E25*C25*D25 -> 0
A26: Recapagem | C26: =C12 -> 1 | D26: 0 | E26: 0 | F26: =E26*C26*D26 -> 0
A27: Protetor | C27: =C12 -> 1 | D27: 0 | E27: 0 | F27: =E27*C27*D27 -> 0
A28: Total | F28: =SUM(F25:F27) -> 0
A30: Custo ponderado da rodagem por km | D30: Custo por veículo | E30: Quant. de veículos | F30: Custo total
A31: Custo rodagem | D31: =+F28 -> 0 | E31: =+C12 -> 1 | F31: =+E31*D31 -> 0
A32: Total da frota | E32: =+C12 -> 1 | F32: =+F31 -> 0
A33: Custo ponderado da rodagem por veículo | F33: =+D31 -> 0
A34: Quilometragem mínima | F34: =C7*D7 -> 2400
A35: Custo ponderado da rodagem por km | F35: =+F33/F34 -> 0
A37: Resumo dos custos variáveis
A38: A - Combustíveis | F38: =+F13 -> 0
A39: B - Óleos Lubricantes | F39: =+F22 -> 0
A40: C - Rodagem | F40: =+F35 -> 0
A41: Custo variável total por km | F41: =+F40+F39+F38 -> 0
A43: II - CUSTOS FIXOS | C43: Ano do veículo | D43: Nº. de veículos | E43: Preço atual | F43: Preço total
A44: Frota | D44: =+C12 -> 1 | F44: =+E44*D44 -> 0
A45: Ônibus Rural Escolar – Tipo ORE 3 | D45: =+C12 -> 1 | F45: =+F44 -> 0
...

Sheet Roteiro 42
A1: MUNICÍPIO DE SANTA ROSA
A2: SECRETARIA DE ADMINISTRAÇÃO E FAZENDA
A3: Departamento de Contabilidade e Finanças
B4: Empresa | C4: Empresa:
A5: PLANILHA DE CUSTOS TRANSPORTE ESCOLAR 2025 | C5: ROTEIRO Nº 42
A6: Diversas Vias - Bairro Auxiliadora, Bairro Guia Lopes, Bairro Sulina, Bairro Ipe, Bairro Timbauva e Bairro Centro | C6: KM DIA: | D6: MEDIA DIAS UTEIS: | E6: Nº ALUNOS: | F6: TURNO:
C7: 120 | D7: 20 | E7: 35 | F7: Manha/Tarde
A8: PLANILHA DE CÁLCULO TARIFÁRIO DO TRANSPORTE DE ESCOLARES
A9: I - CUSTOS VARIÁVEIS
A10: A - Combustível | C10: Nº. de veículos | D10: R$ Diesel/Litro | E10: Coefic. de consumo | F10: Custo por km
A11: Ônibus | C11: 1 | E11: 0.3333 | F11: =+E11*D11*C11 -> 0
A12: Total da Frota | C12: =+C11 -> 1 | F12: =+F11 -> 0
A13: Custo ponderado por km | F13: =+F12/C12 -> 0
A15: B - Óleos Lubrificantes | C15: Nº. de veículos | D15: Preço por litro | E15: Coefic. de consumo | F15: Custo por km
A16: Óleo do motor sem ar | C16: =+C12 -> 1 | E16: 0.0004 | F16: =+E16*D16*C16 -> 0
A17: Óleo da caixa de mudança sem ar | C17: =+C12 -> 1 | E17: 3e-05 | F17: =+E17*D17*C17 -> 0
A18: Óleo do diferencial sem ar | C18: =+C12 -> 1 | E18: 3e-05 | F18: =+E18*D18*C18 -> 0
A19: Óleo da direção hidráulica sem ar | C19: =+C12 -> 1 | E19: 2e-05 | F19: =+E19*D19*C19 -> 0
A20: Óleo do freio veículo sem ar | C20: =+C12 -> 1 | E20: 3e-05 | F20: =+E20*D20*C20 -> 0
A21: Total da frota | C21: =+C12 -> 1 | F21: =SUM(F16:F20) -> 0
A22: Custo ponderado por km | F22: =+F21/C21 -> 0
A24: Rodagem por km | D24: Preço unitário | E24: Quant. por veículo | F24: Preço total
A25: Pneu novo | C25: =C12 -> 1 | D25: =0/C7 -> 0 | E25: 6 | F25: =E25*C25*D25 -> 0
A26: Recapagem | C26: =C12 -> 1 | D26: 0 | E26: 0 | F26: =E26*C26*D26 -> 0
A27: Protetor | C27: =C12 -> 1 | D27: 0 | E27: 0 | F27: =E27*C27*D27 -> 0
A28: Total | F28: =SUM(F25:F27) -> 0
A30: Custo ponderado da rodagem por km | D30: Custo por veículo | E30: Quant. de veículos | F30: Custo total
A31: Custo rodagem | D31: =+F28 -> 0 | E31: =+C12 -> 1 | F31: =+E31*D31 -> 0
A32: Total da frota | E32: =+C12 -> 1 | F32: =+F31 -> 0
A33: Custo ponderado da rodagem por veículo | F33: =+D31 -> 0
A34: Quilometragem mínima | F34: =C7*D7 -> 2400
A35: Custo ponderado da rodagem por km | F35: =+F33/F34 -> 0
A37: Resumo dos custos variáveis
A38: A - Combustíveis | F38: =+F13 -> 0
A39: B - Óleos Lubricantes | F39: =+F22 -> 0
A40: C - Rodagem | F40: =+F35 -> 0
A41: Custo variável total por km | F41: =+F40+F39+F38 -> 0
A43: II - CUSTOS FIXOS | C43: Ano do veículo | D43: Nº. de veículos | E43: Preço atual | F43: Preço total
A44: Frota | D44: =+C12 -> 1 | F44: =+E44*D44 -> 0
A45: Ônibus Rural Escolar – Tipo ORE 3 | D45: =+C12 -> 1 | F45: =+F44 -> 0
...

Sheet Roteiro 43
A1: MUNICÍPIO DE SANTA ROSA
A2: SECRETARIA DE ADMINISTRAÇÃO E FAZENDA
A3: Departamento de Contabilidade e Finanças
B4: Empresa | C4: Empresa:
A5: PLANILHA DE CUSTOS TRANSPORTE ESCOLAR 2025 | C5: ROTEIRO Nº 43
A6: Diversas Vias - Bairro Cruzeiro e Bairro Central | C6: KM DIA: | D6: MEDIA DIAS UTEIS: | E6: Nº ALUNOS: | F6: TURNO:
C7: 120 | D7: 20 | E7: 35 | F7: Manha/Tarde
A8: PLANILHA DE CÁLCULO TARIFÁRIO DO TRANSPORTE DE ESCOLARES
A9: I - CUSTOS VARIÁVEIS
A10: A - Combustível | C10: Nº. de veículos | D10: R$ Diesel/Litro | E10: Coefic. de consumo | F10: Custo por km
A11: Ônibus | C11: 1 | E11: 0.3333 | F11: =+E11*D11*C11 -> 0
A12: Total da Frota | C12: =+C11 -> 1 | F12: =+F11 -> 0
A13: Custo ponderado por km | F13: =+F12/C12 -> 0
A15: B - Óleos Lubrificantes | C15: Nº. de veículos | D15: Preço por litro | E15: Coefic. de consumo | F15: Custo por km
A16: Óleo do motor sem ar | C16: =+C12 -> 1 | E16: 0.0004 | F16: =+E16*D16*C16 -> 0
A17: Óleo da caixa de mudança sem ar | C17: =+C12 -> 1 | E17: 3e-05 | F17: =+E17*D17*C17 -> 0
A18: Óleo do diferencial sem ar | C18: =+C12 -> 1 | E18: 3e-05 | F18: =+E18*D18*C18 -> 0
A19: Óleo da direção hidráulica sem ar | C19: =+C12 -> 1 | E19: 2e-05 | F19: =+E19*D19*C19 -> 0
A20: Óleo do freio veículo sem ar | C20: =+C12 -> 1 | E20: 3e-05 | F20: =+E20*D20*C20 -> 0
A21: Total da frota | C21: =+C12 -> 1 | F21: =SUM(F16:F20) -> 0
A22: Custo ponderado por km | F22: =+F21/C21 -> 0
A24: Rodagem por km | D24: Preço unitário | E24: Quant. por veículo | F24: Preço total
A25: Pneu novo | C25: =C12 -> 1 | D25: =0/C7 -> 0 | E25: 6 | F25: =E25*C25*D25 -> 0
A26: Recapagem | C26: =C12 -> 1 | D26: 0 | E26: 0 | F26: =E26*C26*D26 -> 0
A27: Protetor | C27: =C12 -> 1 | D27: 0 | E27: 0 | F27: =E27*C27*D27 -> 0
A28: Total | F28: =SUM(F25:F27) -> 0
A30: Custo ponderado da rodagem por km | D30: Custo por veículo | E30: Quant. de veículos | F30: Custo total
A31: Custo rodagem | D31: =+F28 -> 0 | E31: =+C12 -> 1 | F31: =+E31*D31 -> 0
A32: Total da frota | E32: =+C12 -> 1 | F32: =+F31 -> 0
A33: Custo ponderado da rodagem por veículo | F33: =+D31 -> 0
A34: Quilometragem mínima | F34: =C7*D7 -> 2400
A35: Custo ponderado da rodagem por km | F35: =+F33/F34 -> 0
A37: Resumo dos custos variáveis
A38: A - Combustíveis | F38: =+F13 -> 0
A39: B - Óleos Lubricantes | F39: =+F22 -> 0
A40: C - Rodagem | F40: =+F35 -> 0
A41: Custo variável total por km | F41: =+F40+F39+F38 -> 0
A43: II - CUSTOS FIXOS | C43: Ano do veículo | D43: Nº. de veículos | E43: Preço atual | F43: Preço total
A44: Frota | D44: =+C12 -> 1 | F44: =+E44*D44 -> 0
A45: Ônibus Rural Escolar – Tipo ORE 3 | D45: =+C12 -> 1 | F45: =+F44 -> 0
...

Sheet Consolidado
A1: CONSOLIDADO - PLANILHA DE CUSTOS TRANSPORTE ESCOLAR 2025
A2: Roteiros | C2: Aumento % | E2: R$ p/Km Anterior | F2: Empresa | G2: R$ p/km Atual | H2: KM DIA: | I2: Total Dia R$ Atual | J2: Média Dia Util | K2: Total R$ Mês | L2: Total R$ Ano Letivo | M2: nº Alunos | N2: R$ Aluno/Mês | O2: R$ Aluno/Dia | P2: Nº Veiculos
A3: ROTEIRO Nº 39 | C3: =(#REF!/E3)-1 -> #REF! | E3: 4.63 | F3: ='Roteiro 39'!C4:F4 -> 0 | H3: ='Roteiro 39'!C7 -> 120 | I3: =H3*G3 -> 0 | J3: ='Roteiro 39'!D7 -> 20 | K3: =I3*J3 -> 0 | L3: =K3*10 -> 0 | M3: ='Roteiro 39'!E7 -> 35 | N3: =K3/M3 -> 0 | O3: =I3/M3 -> 0 | P3: ='Roteiro 39'!C12 -> 1
A4: ROTEIRO Nº 40 | C4: =(#REF!/E4)-1 -> #REF! | D4: =(H4/#REF!)-1 -> #REF! | E4: 3.75 | F4: ='Roteiro 40'!C4:F4 -> 0 | H4: ='Roteiro 40'!C7 -> 120 | I4: =H4*G4 -> 0 | J4: ='Roteiro 40'!D7 -> 20 | K4: =I4*J4 -> 0 | L4: =K4*10 -> 0 | M4: ='Roteiro 40'!E7 -> 35 | N4: =K4/M4 -> 0 | O4: =I4/M4 -> 0 | P4: ='Roteiro 40'!C12 -> 1
A5: ROTEIRO Nº 41 | C5: =(#REF!/E5)-1 -> #REF! | D5: =(H5/#REF!)-1 -> #REF! | E5: 4.83 | F5: ='Roteiro 41'!C4:F4 -> 0 | H5: ='Roteiro 41'!C7 -> 120 | I5: =H5*G5 -> 0 | J5: ='Roteiro 41'!D7 -> 20 | K5: =I5*J5 -> 0 | L5: =K5*10 -> 0 | M5: ='Roteiro 41'!E7 -> 35 | N5: =K5/M5 -> 0 | O5: =I5/M5 -> 0 | P5: ='Roteiro 41'!C12 -> 1
A6: ROTEIRO Nº 42 | C6: =(#REF!/E6)-1 -> #REF! | D6: =(H6/#REF!)-1 -> #REF! | E6: 2.47 | F6: ='Roteiro 42'!C4:F4 -> 0 | H6: ='Roteiro 42'!C7 -> 120 | I6: =H6*G6 -> 0 | J6: ='Roteiro 42'!D7 -> 20 | K6: =I6*J6 -> 0 | L6: =K6*10 -> 0 | M6: ='Roteiro 42'!E7 -> 35 | N6: =K6/M6 -> 0 | O6: =I6/M6 -> 0 | P6: ='Roteiro 42'!C12 -> 1
A7: ROTEIRO Nº 43 | C7: =(#REF!/E7)-1 -> #REF! | D7: =(H7/#REF!)-1 -> #REF! | E7: 2.77 | F7: ='Roteiro 43'!C4:F4 -> 0 | H7: ='Roteiro 43'!C7 -> 120 | I7: =H7*G7 -> 0 | J7: ='Roteiro 43'!D7 -> 20 | K7: =I7*J7 -> 0 | L7: =K7*10 -> 0 | M7: ='Roteiro 43'!E7 -> 35 | N7: =K7/M7 -> 0 | O7: =I7/M7 -> 0 | P7: ='Roteiro 43'!C12 -> 1
A9: Totais Consolidados | H9: =SUM(H3:H8) -> 600 | I9: =SUM(I3:I8) -> 0 | K9: =SUM(K3:K8) -> 0 | L9: =SUM(L3:L8) -> 0 | M9: =SUM(M3:M8) -> 175 | N9: =SUM(N3:N8) -> 0 | O9: =SUM(O3:O8) -> 0 | P9: =SUM(P3:P8) -> 5
