Workbook

Sheet 1. Limpeza Publica
A1: SERVIÇO DE LIMPEZA URBANA
A2: Planilha de Composição de Custos para instruir processo licitatório
A4: Orçamento Sintético
A5: Descrição do Item | E5: Custo (R$/mês) | F5: %
A6: =A44 -> 1. MÃO-DE-OBRA | E6: =F158 -> 0 | F6: =E6/E29 -> #DIV/0!
A7: =A34 -> 1.1. TRABALHADOR DE SERVIÇO DE LIMPEZA E CONSERVAÇÃO DE ÁREAS PÚBLICAS - CBO 5142-25 | E7: =F58 -> 0 | F7: =IFERROR(E7/$E$29,0) -> 0
A8: =A35 -> 1.2. RECEPCIONISTA - CBO 4221 | E8: =F72 -> 0 | F8: =IFERROR(E8/$E$29,0) -> 0
A9: =A36 -> 1.3. ENCARREGADO / TRABALHADOR DE SERVIÇO DE LIMPEZA E CONSERVAÇÃO DE ÁREAS PÚBLICAS - CBO 5142-25 | E9: =F86 -> 0 | F9: =IFERROR(E9/$E$29,0) -> 0
A10: =A37 -> 1.4. OPERADOR DE MAQUINAS RODOVIÁRIA CBO 7151 | E10: =F100 -> 0 | F10: =IFERROR(E10/$E$29,0) -> 0
A11: =A38 -> 1.5. MOTORISTA DE CAMINHÃO - CBO 7825‑10 | E11: =F114 -> 0 | F11: =IFERROR(E11/$E$29,0) -> 0
A12: =A116 -> 1.6. MOTORISTA DE CAMINHÃO COLETA- CBO 7825‑10 | E12: =F128 -> 0 | F12: =IFERROR(E12/$E$29,0) -> 0
A13: =A40 -> 1.7. AUXILIAR DE MECÂNICO- CBO‐9144 | E13: =F142 -> 0 | F13: =IFERROR(E13/$E$29,0) -> 0
A14: =A144 -> 0 | E14: =F156 -> 0 | F14: =IFERROR(E14/$E$29,0) -> 0
A15: =A160 -> 2. VALE TRANSPORTE E AUXÍLIO ALIMENTAÇÃO | E15: =F187 -> 0 | F15: =IFERROR(E15/$E$29,0) -> 0
A16: =A189 -> 3. UNIFORMES E EQUIPAMENTOS DE PROTEÇÃO INDIVIDUAL | E16: =F216 -> 0 | F16: =IFERROR(E16/$E$29,0) -> 0
A17: =A885 -> 4. TOTAL MENSAL VEÍCULOS E EQUIPAMENTOS | E17: =F885 -> #DIV/0! | F17: =IFERROR(E17/$E$29,0) -> 0
A18: =A221 -> 4.1 ROÇADEIRA | E18: =F260 -> 0 | F18: =IFERROR(E18/$E$29,0) -> 0
A19: =A263 -> 4.2. RETROESCAVADEIRA | E19: =F337 -> 0 | F19: =IFERROR(E19/$E$29,0) -> 0
A20: =A339 -> 4.3. MINICARREGADEIRA COM ESCOVÃO | E20: =F417 -> 0 | F20: =IFERROR(E20/$E$29,0) -> 0
A21: =A419 -> 4.4. TRATOR ROÇADEIRA COM BRAÇO ARTICULADO | E21: =F504 -> 0 | F21: =IFERROR(E21/$E$29,0) -> 0
A22: =A506 -> 4.5. VEÍCULO CAMINHÃO BAÚ | E22: =F582 -> #DIV/0! | F22: =IFERROR(E22/$E$29,0) -> 0
A23: =A584 -> 4.6. CAMINHÃO TOCO CARROCERIA BAIXA | E23: =F660 -> #DIV/0! | F23: =IFERROR(E23/$E$29,0) -> 0
A24: =A662 -> 4.7. VEÍCULO CAMINHÃO COM CAÇAMBA BASCULANTE | E24: =F728 -> 0 | F24: =IFERROR(E24/$E$29,0) -> 0
A25: =A730 -> 4.8. TRATOR ESCOVÃO CAPINADEIRA | E25: =F815 -> 0 | F25: =IFERROR(E25/$E$29,0) -> 0
A26: =A817 -> 4.9. MICRO-ÔNIBUS | E26: =F883 -> #DIV/0! | F26: =IFERROR(E26/$E$29,0) -> 0
A27: =A901 -> 5. TOTAL MENSAL FERRAMENTAS E MATERIAL | E27: =F901 -> #DIV/0! | F27: =IFERROR(E27/$E$29,0) -> 0
A28: =A906 -> 6. Benefícios e Despesas Indiretas - BDI | E28: =+F912 -> #DIV/0! | F28: =IFERROR(E28/$E$29,0) -> 0
A29: PREÇO TOTAL MENSAL | E29: =F915 -> #DIV/0! | F29: =F6+F15+F16+F17+F27+F28 -> #DIV/0!
A32: Quantitativos
A33: Mão-de-obra | E33: Quantidade
A34: =+A46 -> 1.1. TRABALHADOR DE SERVIÇO DE LIMPEZA E CONSERVAÇÃO DE ÁREAS PÚBLICAS - CBO 5142-25 | E34: 207
A35: =A60 -> 1.2. RECEPCIONISTA - CBO 4221 | E35: 11
A36: =A74 -> 1.3. ENCARREGADO / TRABALHADOR DE SERVIÇO DE LIMPEZA E CONSERVAÇÃO DE ÁREAS PÚBLICAS - CBO 5142-25 | E36: 8
A37: =A88 -> 1.4. OPERADOR DE MAQUINAS RODOVIÁRIA CBO 7151 | E37: 4
A38: =A102 -> 1.5. MOTORISTA DE CAMINHÃO - CBO 7825‑10 | E38: 5
A39: =A116 -> 1.6. MOTORISTA DE CAMINHÃO COLETA- CBO 7825‑10 | E39: 4
A40: =A130 -> 1.7. AUXILIAR DE MECÂNICO- CBO‐9144 | E40: 2
A42: Total de mão-de-obra (postos de trabalho) | E42: =SUM(E34:E41) -> 241
A44: 1. MÃO-DE-OBRA
A46: 1.1. TRABALHADOR DE SERVIÇO DE LIMPEZA E CONSERVAÇÃO DE ÁREAS PÚBLICAS - CBO 5142-25
...

Sheet 2.Encargos Sociais
A1: Orientações para preenchimento:
A2: 1. Preencha previamente os dados de entrada na planilha 3.CAGED
A4: O TCE/RS não se responsabiliza pelo uso incorreto desta planilha.
A5: O orçamento deve ser realizado por responsável técnico habilitado e é de responsabilidade do seu autor.
A7: 2. Composição dos Encargos Sociais
A8: Código | B8: Descrição | C8: Valor
A9: A1 | B9: INSS | C9: 0.2
A10: A2 | B10: SESI | C10: 0.015
A11: A3 | B11: SENAI | C11: 0.01
A12: A4 | B12: INCRA | C12: 0.002
A13: A5 | B13: SEBRAE | C13: 0.006
A14: A6 | B14: Salário educação | C14: 0.025
A15: A7 | B15: Seguro contra acidentes de trabalho | C15: 0.03
A16: A8 | B16: FGTS | C16: 0.08
A17: A | B17: SOMA GRUPO A | C17: =SUM(C9:C16) -> 0.368
A19: B1 | B19: Férias gozadas | C19: =ROUND(IF('3.CAGED'!C28>24,(1-12/'3.CAGED'!C28)*0.1111,0.1111-C28),4) -> #VALUE!
A20: B2 | B20: 13º salário | C20: =ROUND('3.CAGED'!C32/'3.CAGED'!C29,4) -> 0.0833
A21: B3 | B21: Licença Paternidade | C21: 0.0006
A22: B4 | B22: Faltas justificadas | C22: 0.0082
A23: B5 | B23: Auxilio acidente de trabalho | C23: 0.0031
A24: B6 | B24: Auxilio doença | C24: 0.0166
A25: B | B25: SOMA GRUPO B | C25: =SUM(C19:C24) -> #VALUE!
A27: C1 | B27: Aviso prévio indenizado | C27: =ROUND(('3.CAGED'!C33) *'3.CAGED'!C26/'3.CAGED'!C29,4) -> #VALUE!
A28: C2 | B28: Férias indenizadas | C28: =ROUND(IF('3.CAGED'!C28>12,12/'3.CAGED'!C28*0.1111,0.1111),4) -> #VALUE!
A29: C3 | B29: Férias indenizadas s/ aviso previo inden. | C29: =C27*C28 -> #VALUE!
A30: C4 | B30: Depósito rescisão sem justa causa | C30: =ROUND(('3.CAGED'!C29+'3.CAGED'!C30+'3.CAGED'!C32)/'3.CAGED'!C27*'3.CAGED'!C34*'3.CAGED'!C35*'3.CAGED'!C26/'3.CAGED'!C29,4) -> #VALUE!
A31: C5 | B31: Indenização adicional | C31: =ROUND(('3.CAGED'!C31/'3.CAGED'!C29)*'3.CAGED'!C26/12,4) -> #VALUE!
A32: C | B32: SOMA GRUPO C | C32: =SUM(C27:C31) -> #VALUE!
A34: D1 | B34: Reincidência de Grupo A sobre Grupo B | C34: =ROUND(C17*C25,4) -> #VALUE!
A35: D2 | B35: Reincidência de FGTS sobre aviso prévio indenizado | C35: =ROUND((C27*C16),4) -> #VALUE!
A36: D | B36: SOMA GRUPO D | C36: =SUM(C34:C35) -> #VALUE!
B37: SOMA (A+B+C+D) | C37: =C36+C32+C25+C17 -> #VALUE!

Sheet 3.CAGED
A1: CÁLCULO DAS VERBAS INDENIZATÓRIAS DOS EMPREGADOS NO SETOR DE COLETA DE RSU
A3: Tendo em vista que o CAGED foi descontinuado em janeiro de 2020, esta planilha foi atualizada até 31/12/2019.
A5: Preencha as células em amarelo
B7: 3. CAGED
B8: Rio Grande do Sul - Coleta de Resíduos Não-Perigosos - CNAE 38114
B9: Admissões
B10: Desligamentos
B11: Dispensados com justa causa
B12: Dispensados sem justa causa
B13: Espontâneos
B14: Fim de contrato por prazo determinado
B15: Término de contrato
B16: Aposentados
B17: Mortos
B18: Transferência de saída
... B22: Estoque recuperado final do Período 31-12-2024
B23: Variação Emprego Absoluta de 01-01-2024 a 31-12-2024 | C23: =C9-C10 -> 0
B25: Estoque Médio | C25: =MEDIAN(C21,C22) -> #VALUE!
B26: % Demitidos s/ Justa Causa em relação ao Estoque Médio | C26: =C12/C25 -> #VALUE!
B27: Taxa de Rotatividade | C27: =MEDIAN(C9,C10)/C25 -> #VALUE!
B28: Rotatividade temporal (meses) | C28: =12/C27 -> #VALUE!
B29: Dias ano | C29: 360
B30: 1/3 de férias (dias) | C30: 10
B31: Férias (dias) | C31: 30
B32: 13º Salário (dias) | C32: 30
B33: Dias de Aviso prévio | C33: =30+(3*TRUNC(1/C27)) -> #VALUE!
B34: FGTS | C34: 0.08
B35: Multa FGTS | C35: 0.4

Sheet 4.BDI
A1: Orientações para preenchimento:
A2: 1. Esta planilha é somente um modelo-base e deve ser ajustada conforme cada caso concreto.
A3: 2. Preencher somente células em amarelo
A5: O TCE/RS não se responsabiliza pelo uso incorreto desta planilha.
A6: O orçamento deve ser realizado por responsável técnico habilitado e é de responsabilidade do seu autor.
A8: 4. Composição do BDI - Benefícios e Despesas Indiretas
D10: Referência estudo TCE
D11: 1° Quartil | E11: Médio | F11: 3° Quartil
A12: Administração Central | B12: AC | D12: 0.0297 | E12: 0.0508 | F12: 0.0627
A13: Seguros/Riscos/Garantias | B13: SRG | D13: =0.3%+0.56% -> 0.0086 | E13: =0.48%+0.85% -> 0.0133 | F13: =0.82%+0.89% -> 0.0171
A14: Lucro | B14: L | D14: 0.0778 | E14: 0.1085 | F14: 0.1355
A15: Despesas Financeiras | B15: DF | D15: i
A16: Tributos - ISS | B16: T | D16: DU
A17: Tributos - PIS/COFINS
A18: Fórmula para o cálculo do BDI:
A19: {[(1+AC+SRG) x (1+L) x (1+DF)] / (1-T)} -1
A20: Resultado do cálculo do BDI: | C20: =ROUND((((1+C12+C13)*(1+C14)*(1+C15))/(1-(C16+C17))-1),4) -> 0 | D20: 0.2143 | E20: 0.2717 | F20: 0.3362

Sheet 5. Depreciação
A1: 5. Depreciação Referencial TCE/RS (%)
A2: Idade do veículo (ano) | B2: Depreciação Média
A3: 1 | B3: 33.63
A4: 2 | B4: 43.13
A5: 3 | B5: 48.68
A6: 4 | B6: 52.62
A7: 5 | B7: 55.68
A8: 6 | B8: 58.18
A9: 7 | B9: 60.29
A10: 8 | B10: 62.12
A11: 9 | B11: 63.73
A12: 10 | B12: 65.18
A13: 11 | B13: 66.48
A14: 12 | B14: 67.67
... A17: 15 | B17: 70.73

Sheet 6.Remuneração de capital
A1: 6. Remuneração de Capital
A3: Fórmula de cálculo da remuneração de capital:
A12: Jm = remuneração de capital mensal
A13: i = taxa de juros do mercado (sugere-se adotar a taxa SELIC)
A14: Im = investimento médio
A15: V0 = valor inicial do bem
A16: Vr = valor residual do bem
A17: n = vida útil do bem em anos

Sheet Planilha7
