Workbook

Sheet Orçamento Sintético
D1: Obra | E1: Bancos | G1: B.D.I. | I1: Encargos Sociais
D2: =Cronograma!B2 -> Reconstrução da Ponte Wilson Mattos Branco | E2: SICRO3 - Rio Grande do Sul - 04/2025 | G2: =BDI!E16 -> 0.27002427
A3: Planilha Orçamentária
A4: Item | B4: Código | C4: Banco | D4: Descrição | E4: Und | F4: Quant. | G4: Valor Unit | H4: Valor Unit com BDI | I4: Total | J4: Peso (%)
A5: 1 | B5: Serviços Iniciais | I5: =SUM(I6:I11) -> 723777.27 | J5: =I5/$H$63 -> 0.25220695
A6: 1.1 | B6: 5301074 | C6: SICRO3 | D6: Implantação de placa de sinalização náutica em obra de arte especial - equipamentos e mão de obra | E6: un | F6: 2 | G6: 1724.04 | H6: =ROUND(G6+G6*$G$2,2) -> 2189.57 | I6: =ROUND(F6*H6,2) -> 4379.14 | J6: =I6/$H$63 -> 0.0015259522
A7: 1.2 | B7: M0065 | C7: Próprio | D7: Contêiner com janela e banheiro - L = 2,44 m e 4,58 m (3/4 TEU) c/ Entrada de Energia e instalações elétricas | E7: un | F7: 1 | G7: 64023.34 | H7: =ROUND(G7+G7*$G$2,2) -> 81311.2 | I7: =ROUND(F7*H7,2) -> 81311.2 | J7: =I7/$H$63 -> 0.028333647
A8: 1.3 | B8: 5213386 | C8: SICRO3 | D8: Barreira de sinalização tipo II de direcionamento ou bloqueio - confecção | E8: un | F8: 2 | G8: 622.16 | H8: =ROUND(G8+G8*$G$2,2) -> 790.16 | I8: =ROUND(F8*H8,2) -> 1580.32 | J8: =I8/$H$63 -> 0.00055067726
A9: 1.4 | B9: P9869 | C9: SICRO3 | D9: Encarregado de Obras | E9: mês | F9: 6 | G9: 8229.77 | H9: =ROUND(G9+G9*$G$2,2) -> 10452.01 | I9: =ROUND(F9*H9,2) -> 62712.06 | J9: =I9/$H$63 -> 0.021852603
A10: 1.5 | B10: P9819 | C10: SICRO3 | D10: Engenheiro Supervisor | E10: mês | F10: 6 | G10: 27874.71 | H10: =ROUND(G10+G10*$G$2,2) -> 35401.56 | I10: =ROUND(F10*H10,2) -> 212409.36 | J10: =I10/$H$63 -> 0.074016025
A11: 1.6 | B11: * | D11: Provisão de Riscos | E11: unid. | F11: 1 | G11: 361385.19 | H11: 361385.19 | I11: =H11 -> 361385.19 | J11: =I11/$H$63 -> 0.12592804
A12: 2 | B12: Teste Iniciais | I12: =SUM(I13:I17) -> 278728.66 | J12: =I12/$H$63 -> 0.097125604
A13: 2.1 | B13: P9955 | C13: SICRO3 | D13: Laudo de inspeção em pontes | E13: h | F13: 150 | G13: =37357.38/8/22 -> 212.25784 | H13: =ROUND(G13+G13*$G$2,2) -> 269.57 | I13: =ROUND(F13*H13,2) -> 40435.5 | J13: =I13/$H$63 -> 0.014090128
A14: 2.2 | B14: * | D14: Ensaio SPT submerso - com embarcação de apoio (2 pontos) | E14: pontos | F14: 3 | G14: 27346.5 | H14: =ROUND(G14+G14*$G$2,2) -> 34730.72 | I14: =ROUND(F14*H14,2) -> 104192.16 | J14: =I14/$H$63 -> 0.036306731
A15: 2.3 | B15: E9673 | C15: SICRO3 | D15: Batimetria Multifeixe | E15: h | F15: 20 | G15: 234.15 | H15: =ROUND(G15+G15*$G$2,2) -> 297.38 | I15: =ROUND(F15*H15,2) -> 5947.6 | J15: =I15/$H$63 -> 0.0020724968
A16: 2.4 | B16: P9837 | C16: SICRO3 | D16: Estudo Hidrológico da região | E16: h | F16: =3*8*22 -> 528 | G16: =12409.27/8/22 -> 70.507216 | H16: =ROUND(G16+G16*$G$2,2) -> 89.55 | I16: =ROUND(F16*H16,2) -> 47282.4 | J16: =I16/$H$63 -> 0.016475994
A17: 2.5 | B17: P9955 | C17: SICRO3 | D17: Projeto Básico e Executivo Recuperação Ponte | E17: h | F17: 300 | G17: =G13 -> 212.25784 | H17: =ROUND(G17+G17*$G$2,2) -> 269.57 | I17: =ROUND(F17*H17,2) -> 80871 | J17: =I17/$H$63 -> 0.028180255
A18: 3 | B18: Recuperação das mesas e Fundação | I18: =I19+I22 -> 811730.5 | J18: =I18/$H$63 -> 0.28285507
A19: 3.1 | B19: Abertura das Juntas | I19: =I20+I21 -> 30809.14 | J19: =I19/$H$63 -> 0.010735733
A20: 3.1.1 | B20: 1600990 | C20: SICRO3 | D20: Demolição de concreto armado com martelete e corte oxiacetileno | E20: m³ | F20: =6*8*0.2*0.25 -> 2.4 | G20: 777.3 | H20: =ROUND(G20+G20*$G$2,2) -> 987.19 | I20: =ROUND(F20*H20,2) -> 2369.26 | J20: =I20/$H$63 -> 0.00082559077
A21: 3.1.2 | B21: 3107965 | C21: SICRO3 | D21: Confecção de forma metálica | E21: m | F21: =6*7 -> 42 | G21: 533.17 | H21: =ROUND(G21+G21*$G$2,2) -> 677.14 | I21: =ROUND(F21*H21,2) -> 28439.88 | J21: =I21/$H$63 -> 0.0099101417
A22: 3.2 | B22: Estaqueamento | I22: =SUM(I23:I31) -> 780921.36 | J22: =I22/$H$63 -> 0.27211934
A23: 3.2.1 | B23: P9949 | C23: SICRO3 | D23: TOPOGRAFO COM ENCARGOS COMPLEMENTARES | E23: MES | F23: 6 | G23: 6855.33 | H23: =ROUND(G23+G23*$G$2,2) -> 8706.44 | I23: =ROUND(F23*H23,2) -> 52238.64 | J23: =I23/$H$63 -> 0.018203042
A24: 3.2.2 | B24: P9950 | C24: SICRO3 | D24: AUXILIAR DE TOPÓGRAFO COM ENCARGOS COMPLEMENTARES | E24: MES | F24: 12 | G24: 4923.29 | H24: =ROUND(G24+G24*$G$2,2) -> 6252.7 | I24: =ROUND(F24*H24,2) -> 75032.4 | J24: =I24/$H$63 -> 0.02614574
A25: 3.2.3 | B25: 2306248 | C25: SICRO3 | D25: Arrasamento de estacas de concreto com seção superior à 900 cm² | E25: m³ | F25: 24 | G25: 555.8 | H25: =ROUND(G25+G25*$G$2,2) -> 705.88 | I25: =ROUND(F25*H25,2) -> 16941.12 | J25: =I25/$H$63 -> 0.0059032915
A26: 3.2.4 | B26: 5914479 | C26: SICRO3 | D26: Transporte com caminhão carroceria - Estacas | E26: Tkm | F26: 51840 | G26: 1.21 | H26: =ROUND(G26+G26*$G$2,2) -> 1.54 | I26: =ROUND(F26*H26,2) -> 79833.6 | J26: =I26/$H$63 -> 0.027818763
A27: 3.2.5 | B27: 2306000 | C27: SICRO3 | D27: Estaca pré-moldada de concreto armado centrifugado com compressão admissível de 125 t - sem emenda - fornecimento e cravação | E27: m | F27: 480 | G27: 430.12 | H27: =ROUND(G27+G27*$G$2,2) -> 546.26 | I27: =ROUND(F27*H27,2) -> 262204.8 | J27: =I27/$H$63 -> 0.091367711
A28: 3.2.6 | B28: E9603 | C28: SICRO3 | D28: Embarcação multipropósito com guindaste hidráulico (Bate Estaca) | E28: h | F28: =8*25 -> 200 | G28: 421.34 | H28: =ROUND(G28+G28*$G$2,2) -> 535.11 | I28: =ROUND(F28*H28,2) -> 107022 | J28: =I28/$H$63 -> 0.037292815
A29: 3.2.7 | B29: E9106 | C29: SICRO3 | D29: Mobilização e Desmobilização por Balsa 200T | E29: h | F29: =8*10 -> 80 | G29: 78.56 | H29: =ROUND(G29+G29*$G$2,2) -> 99.77 | I29: =ROUND(F29*H29,2) -> 7981.6 | J29: =I29/$H$63 -> 0.002781263
A30: 3.2.8 | B30: 2306726 | C30: SICRO3 | D30: Apoio náutico para a execução da cravação | E30: m | F30: 480 | G30: 252.14 | H30: =ROUND(G30+G30*$G$2,2) -> 320.22 | I30: =ROUND(F30*H30,2) -> 153705.6 | J30: =I30/$H$63 -> 0.053560152
A31: 3.2.9 | B31: 4816023 | C31: SICRO3 | D31: Operação de Mergulho | E31: h | F31: =8*10 -> 80 | G31: 255.52 | H31: =ROUND(G31+G31*$G$2,2) -> 324.52 | I31: =ROUND(F31*H31,2) -> 25961.6 | J31: =I31/$H$63 -> 0.0090465619
A32: 4 | B32: Estrutural | I32: =I33+I39 -> 500361.24 | J32: =I32/$H$63 -> 0.17435555
A33: 4.1 | B33: Vigas de Apoio | I33: =SUM(I34:I38) -> 177614.35 | J33: =I33/$H$63 -> 0.061891379
A34: 4.1.1 | B34: 407819 | C34: SICRO3 | D34: Armação em aço CA-50 - fornecimento, preparo e colocação | E34: KG | F34: =478*2 -> 956 | G34: 12.66 | H34: =ROUND(G34+G34*$G$2,2) -> 16.08 | I34: =ROUND(F34*H34,2) -> 15372.48 | J34: =I34/$H$63 -> 0.0053566842
A35: 4.1.2 | B35: 3107965 | C35: SICRO3 | D35: Confecção de forma metálica em chapa 3/16" | E35: m² | F35: =(11.56*(0.8*2+0.55)*2+4*0.55*0.8)+(11.56*(1.1+0.9*2)+0.9*1.1*2) -> 86.972 | G35: 533.17 | H35: =ROUND(G35+G35*$G$2,2) -> 677.14 | I35: =ROUND(F35*H35,2) -> 58892.22 | J35: =I35/$H$63 -> 0.020521544
A36: 4.1.3 | B36: =B51 -> E9676 | C36: SICRO3 | D36: =D51 -> Embarcação de transporte de pessoal e apoio logístico | E36: =E51 -> h | F36: =8*20 -> 160 | G36: 263.71 | H36: =ROUND(G36+G36*$G$2,2) -> 334.92 | I36: =ROUND(F36*H36,2) -> 53587.2 | J36: =I36/$H$63 -> 0.01867296
A37: 4.1.4 | B37: 2105933 | C37: =C30 -> SICRO3 | D37: Escoramento metálico - sem reaproveitamento - fornecimento e instalação | E37: m² | F37: =8*2.2 -> 17.6 | G37: 643.36 | H37: =ROUND(G37+G37*$G$2,2) -> 817.08 | I37: =ROUND(F37*H37,2) -> 14380.61 | J37: =I37/$H$63 -> 0.0050110578
A38: 4.1.5 | B38: 1207722 | C38: SICRO3 | D38: Concreto fck = 40 Mpa | E38: m³ | F38: =(11.56*0.9*1.1+11.56*0.8*0.55*2)*1.1 -> 23.77892 | G38: 1171.59 | H38: =ROUND(G38+G38*$G$2,2) -> 1487.95 | I38: =ROUND(F38*H38,2) -> 35381.84 | J38: =I38/$H$63 -> 0.012329133
A39: 4.2 | B39: Bloco de Coroamento | I39: =SUM(I40:I44) -> 322746.89 | J39: =I39/$H$63 -> 0.11246417
A40: 4.2.1 | B40: =B34 -> 407819 | C40: =C34 -> SICRO3 | D40: =D34 -> Armação em aço CA-50 - fornecimento, preparo e colocação | E40: =E34 -> KG | F40: 543 | G40: =G34 -> 12.66 | H40: =ROUND(G40+G40*$G$2,2) -> 16.08 | I40: =ROUND(F40*H40,2) -> 8731.44 | J40: =I40/$H$63 -> 0.0030425518
...

Sheet BDI
A1: BDI - BENEFÍCIOS E DESPESAS INDIRETAS
A4: Percentual base de cálculo para o ISS (Decreto municipal 13484/2015): | D4: 1
A5: Alíquota do ISS: | D5: 0.03
C7: Itens | D7: Sigla | E7: Adotado
C8: Administração Central | D8: AC | E8: 0.04
C9: Seguro e Garantia | D9: SG | E9: 0
C10: Risco | D10: R | E10: 0
C11: Despesas Financeiras | D11: DF | E11: 0.0094
C12: Lucro | D12: L | E12: 0.0858
C13: Tributos (impostos COFINS 3% e PIS 0,65%) | D13: CP | E13: 0.0365
C14: Tributos (ISS, variável de acordo com o município) | D14: ISS | E14: =D4*D5 -> 0.03
C15: Tributos (contribuição previdência sobre a receita bruta) | D15: CPRB | E15: 0.036
C16: BDI COM DESONERAÇÃO | D16: BDI DES | E16: =(((1+E8+E9+E10)*(1+E11)*(1+E12))/(1-E13-E14-E15))-1 -> 0.27002427
I18: ='Orçamento Sintético'!H70 -> Rio Grande, 13 de Julho de 2025.
B19: BDI = | C19: ( ((1-AC+SG+R)*(1+DF)*(1+L))/(1-CP-ISS-CRPB))-1
C20: Conforme Acórdãos TCU nº 2622/2013 e nº 2369/2011
B23: Responsável técnico: | D23: Chefe de Gabinete:
C25: Gilberto Arabidian Junior | E25: Giovana Trindade
C26: CREA RS 159864 | D26: Chefe do Gabinete de Programas e Projetos Especiais

Sheet Cronograma
B1: Obra
B2: Reconstrução da Ponte Wilson Mattos Branco
A3: Cronograma Físico-Financeiro
A4: Item | B4: Descrição | C4: Mês 1 | E4: Mês 2 | G4: Mês 3 | I4: Mês 4 | K4: Mês 5 | M4: Mês 6 | O4: Mês 7 | Q4: Mês 8 | S4: Total | T4: Peso (%)
A5: 1 | B5: Serviços Iniciais (1.1, 1.2, 1.3, 1.4, 1.5) | C5: 0.25 | D5: =C5*$S5 -> 90598.02 | E5: 0 | F5: =E5*$S5 -> 0 | G5: 0.12 | H5: =G5*$S5 -> 43487.05 | I5: 0.12 | J5: =I5*$S$5 -> 43487.05 | K5: 0.12 | L5: =K5*$S$5 -> 43487.05 | M5: 0.13 | N5: =M5*$S$5 -> 47110.97 | O5: 0.13 | P5: =O5*$S$5 -> 47110.97 | Q5: 0.13 | R5: =Q5*$S$5 -> 47110.97 | S5: ='Orçamento Sintético'!I6+'Orçamento Sintético'!I7+'Orçamento Sintético'!I8+'Orçamento Sintético'!I9+'Orçamento Sintético'!I10 -> 362392.08 | T5: =S5/$S$15 -> 0.1262789
A6: 1 .6 | B6: ='Orçamento Sintético'!D11 -> Provisão de Riscos | C6: 0.09 | D6: =ROUND(C6*$S6,2) -> 32524.67 | E6: 0.06 | F6: =ROUND(E6*$S6,2) -> 21683.11 | G6: 0.21 | H6: =ROUND(G6*$S6,2) -> 75890.89 | I6: 0.2 | J6: =ROUND(I6*$S6,2) -> 72277.04 | K6: 0.08 | L6: =ROUND(K6*$S6,2) -> 28910.82 | M6: 0.13 | N6: =ROUND(M6*$S6,2) -> 46980.07 | O6: 0.1 | P6: =ROUND(O6*$S6,2) -> 36138.52 | Q6: 0.13 | R6: =ROUND(Q6*$S6,2) -> 46980.07 | S6: ='Orçamento Sintético'!I11 -> 361385.19 | T6: =S6/$S$15 -> 0.12592804
A7: 2 | B7: Testes Iniciais | C7: 0.5 | D7: =C7*$S7 -> 139364.33 | E7: 0.5 | F7: =E7*$S7 -> 139364.33 | H7: =G7*$S7 -> 0 | J7: =I7*$S$5 -> 0 | L7: =K7*$S7 -> 0 | N7: =M7*$S7 -> 0 | P7: =O7*$S7 -> 0 | R7: =Q7*$S7 -> 0 | S7: ='Orçamento Sintético'!I12 -> 278728.66 | T7: =S7/$S$15 -> 0.097125604
A8: 3 | B8: Recuperação das Mesas e Fundação | G8: 0.6 | H8: =G8*$S8 -> 487038.3 | I8: 0.4 | J8: =I8*$S8 -> 324692.2 | K8: 0 | L8: =K8*$S8 -> 0 | N8: =M8*$S8 -> 0 | P8: =O8*$S8 -> 0 | R8: =Q8*$S8 -> 0 | S8: ='Orçamento Sintético'!I18 -> 811730.5 | T8: =S8/$S$15 -> 0.28285507
A9: 4 | B9: Estrutural | H9: =G9*$S9 -> 0 | I9: 0.25 | J9: =I9*$S9 -> 125090.31 | K9: 0.25 | L9: =K9*$S9 -> 125090.31 | M9: 0.5 | N9: =M9*$S9 -> 250180.62 | O9: 0 | P9: =O9*$S9 -> 0 | R9: =Q9*$S9 -> 0 | S9: ='Orçamento Sintético'!I32 -> 500361.24 | T9: =S9/$S$15 -> 0.17435555
A10: 5 | B10: Elevação da Mesa | H10: =G10*$S10 -> 0 | J10: =I10*$S10 -> 0 | K10: 0.3 | L10: =K10*$S10 -> 13789.485 | M10: 0.7 | N10: =M10*$S10 -> 32175.465 | P10: =O10*$S10 -> 0 | R10: =Q10*$S10 -> 0 | S10: ='Orçamento Sintético'!I45 -> 45964.95 | T10: =S10/$S$15 -> 0.016016916
A11: 6 | B11: Recuperação dos Consoles | H11: =G11*$S11 -> 0 | J11: =I11*$S11 -> 0 | K11: 0.5 | L11: =K11*$S11 -> 6374.43 | M11: 0.5 | N11: =M11*$S11 -> 6374.43 | P11: =O11*$S11 -> 0 | R11: =Q11*$S11 -> 0 | S11: ='Orçamento Sintético'!I49 -> 12748.86 | T11: =S11/$S$15 -> 0.0044424593
A12: 7 | B12: Recuperação dos Guarda Corpos | H12: =G12*$S12 -> 0 | J12: =I12*$S12 -> 0 | L12: =K12*$S12 -> 0 | N12: =M12*$S12 -> 0 | O12: 0.5 | P12: =O12*$S12 -> 183048.9 | Q12: 0.5 | R12: =Q12*$S12 -> 183048.9 | S12: ='Orçamento Sintético'!I52 -> 366097.8 | T12: =S12/$S$15 -> 0.1275702
A13: 8 | B13: Testes e Laudos Finais | H13: =G13*$S13 -> 0 | J13: =I13*$S13 -> 0 | L13: =K13*$S13 -> 0 | N13: =M13*$S13 -> 0 | O13: 0.2 | P13: =O13*$S13 -> 26073.204 | Q13: 0.8 | R13: =Q13*$S13 -> 104292.82 | S13: ='Orçamento Sintético'!I59 -> 130366.02 | T13: =S13/$S$15 -> 0.045427257
D14: =SUM(D5:D13) -> 262487.02 | F14: =SUM(F5:F13) -> 161047.44 | H14: =SUM(H5:H13) -> 606416.24 | J14: =SUM(J5:J13) -> 565546.6 | L14: =SUM(L5:L13) -> 217652.09 | N14: =SUM(N5:N13) -> 382821.56 | P14: =SUM(P5:P13) -> 292371.59 | R14: =SUM(R5:R13) -> 381432.76
S15: =SUM(S5:S13) -> 2869775.3
R18: Rio Grande, 13 de Julho de 2025.
C19: Gilberto Arabidian Junior | I19: Chefe do Gabinete - Giovana Corvo Trindade
