Workbook

Sheet RESUMO
A3: ESTIMATIVA DE CUSTO - RESUMO
A5: Item | B5: Função | C5: CBO | D5: Qtde. empregados por posto | E5: Valor por empregado | F5: Total Mensal | G5: Total anual
A6: 1 | B6: Enfermeiro 8h | C6: 2235-05 | D6: 1 | E6: =Enfermeiro!$D$142 -> 14471.75 | F6: =E6*D6 -> 14471.75 | G6: =F6*12 -> 173661
A7: 2 | B7: Téc. Enfremagem 12x36 noturno | C7: 3222-05 | D7: 4 | E7: ='Téc. Enferm. 12x36 Noturno '!D142 -> 9537.08 | F7: =E7*D7 -> 38148.32 | G7: =F7*12 -> 457779.84
A8: 3 | B8: Téc. Enfremagem 12x36 diurno | C8: 3222-05 | D8: 4 | E8: ='Téc. Enferm. 12x36 Diurno '!D142 -> 8952.64 | F8: =E8*D8 -> 35810.56 | G8: =F8*12 -> 429726.72
A9: 4 | B9: Téc. Enfremagem 12x36 noturno folguista | C9: 3222-05 | D9: 2 | E9: ='Tec. Enferm.(folguista) Noturno'!D142 -> 9537.08 | F9: =E9*D9 -> 19074.16 | G9: =F9*12 -> 228889.92
A10: 5 | B10: Condutor Ambulancia 12x36 noturno | C10: 7823-20 | D10: 2 | E10: ='Cond. Amb_SAMU. 12x36 Noturno'!D142 -> 6173.94 | F10: =E10*D10 -> 12347.88 | G10: =F10*12 -> 148174.56
A11: 6 | B11: Condutor Ambulancia 12x36 diurno | C11: 7823-20 | D11: 2 | E11: ='Cond. Amb_SAMU. 12x36 Diurno'!D142 -> 5879.01 | F11: =E11*D11 -> 11758.02 | G11: =F11*12 -> 141096.24
A12: 7 | B12: Condutor Ambulancia 12x36 noturno Folguista | C12: 7823-20 | D12: 1 | E12: ='Cond Amb_SAMU Folguista Noturno'!D142 -> 6173.94 | F12: =E12*D12 -> 6173.94 | G12: =F12*12 -> 74087.28
A13: 8 | B13: Condutor SAMU 12x36 noturno | C13: 7823-20 | D13: 2 | E13: ='Cond. Amb_SAMU. 12x36 Noturno'!D142 -> 6173.94 | F13: =E13*D13 -> 12347.88 | G13: =F13*12 -> 148174.56
A14: 9 | B14: Condutor SAMU 12x36 diurno | C14: 7823-20 | D14: 2 | E14: ='Cond. Amb_SAMU. 12x36 Diurno'!D142 -> 5879.01 | F14: =E14*D14 -> 11758.02 | G14: =F14*12 -> 141096.24
A15: 10 | B15: Condutor SAMU 12x36 noturno folguista | C15: 7823-20 | D15: 1 | E15: ='Cond Amb_SAMU Folguista Noturno'!D142 -> 6173.94 | F15: =E15*D15 -> 6173.94 | G15: =F15*12 -> 74087.28
A16: 11 | B16: Mestre Ambulancha 12x36 noturno | C16: 3412-10 | D16: 2 | E16: ='Mestre 12x36 Noturno'!D142 -> 10046.93 | F16: =E16*D16 -> 20093.86 | G16: =F16*12 -> 241126.32
A17: 12 | B17: Mestre Ambulancha 12x36 diurno | C17: 3412-10 | D17: 2 | E17: ='Mestre 12x36 Diurno'!D142 -> 9702.6 | F17: =E17*D17 -> 19405.2 | G17: =F17*12 -> 232862.4
A18: 13 | B18: Mestre Ambulancha 12x36 noturno folguista | C18: 3412-10 | D18: 1 | E18: ='Mestre Noturno Folguista'!D142 -> 10046.93 | F18: =E18*D18 -> 10046.93 | G18: =F18*12 -> 120563.16
A19: 14 | B19: Moço de convés 12x36 noturno | C19: 7827-15 | D19: 2 | E19: ='Moço de Convés 12x36 Noturno'!D142 -> 8675.71 | F19: =E19*D19 -> 17351.42 | G19: =F19*12 -> 208217.04
A20: 15 | B20: Moço de convés 12x36 diurno | C20: 7827-15 | D20: 2 | E20: ='Moço de Convés 12x36 Diurno'!D142 -> 8224.52 | F20: =E20*D20 -> 16449.04 | G20: =F20*12 -> 197388.48
A21: 16 | B21: Moço de convés 12x36 noturno Folguista | C21: 7827-15 | D21: 1 | E21: ='Mestre Noturno Folguista'!D142 -> 10046.93 | F21: =E21*D21 -> 10046.93 | G21: =F21*12 -> 120563.16
A22: 17 | B22: Higienizador 8h | C22: 5143-20 | D22: 3 | E22: ='Higienizador 8h'!D142 -> 6019.89 | F22: =E22*D22 -> 18059.67 | G22: =F22*12 -> 216716.04
A23: 18 | B23: Coordenador de Manutenção | C23: 1427-05 | D23: 1 | E23: ='Coord. de Manutenção 8h'!D142 -> 5347.98 | F23: =E23*D23 -> 5347.98 | G23: =F23*12 -> 64175.76
A24: 19 | B24: Coordenador Administrativo | C24: 4101-05 | D24: 1 | E24: ='Coordendador Administrativo 8h'!D142 -> 5758.79 | F24: =E24*D24 -> 5758.79 | G24: =F24*12 -> 69105.48
A25: 20 | F25: =E25*D25 -> 0 | G25: =F25*12 -> 0
A26: Total geral estimado da contratação | F26: =SUM(F6:F25) -> 290624.29 | G26: =SUM(G6:G24) -> 3487491.5

Sheet Modelo Retenção Conta Vinculada
B2: PLANILHA DE RETENÇÃO EM CONTA VINCULADA | G2: MÊS DE REFERÊNCIA:
A3: Ordem | B3: Nome Empregado | C3: CPF | D3: Cargo | E3: Modulo 01 Remuneração (com adicionais) | F3: 13º | G3: Adicional de férias | H3: Provisão para rescisão | I3: Substituto Ausências legais | J3: Total
F4: 0.0833 | G4: 0.0303 | H4: 0.0728
A5: 1 | D5: Enfermeiro | E5: =Enfermeiro!D33 -> 6398.4 | F5: =E5*$F$4 -> 532.98672 | G5: =E5*$G$4 -> 193.87152 | H5: =E5*$H$4 -> 465.80352 | I5: =Enfermeiro!D102 -> 660.69 | J5: =SUM(F5:I5) -> 1853.3518
A6: 2 | D6: Tec. de enfermagem noturno | E6: ='Téc. Enferm. 12x36 Noturno '!D33 -> 4173.11 | F6: =E6*$F$4 -> 347.62006 | G6: =E6*$G$4 -> 126.44523 | H6: =E6*$H$4 -> 303.80241 | I6: ='Téc. Enferm. 12x36 Noturno '!$D$102 -> 51.54 | J6: =SUM(F6:I6) -> 829.4077
A7: 3 | D7: Tec. de enfremagem noturno | E7: ='Téc. Enferm. 12x36 Noturno '!D33 -> 4173.11 | F7: =E7*$F$4 -> 347.62006 | G7: =E7*$G$4 -> 126.44523 | H7: =E7*$H$4 -> 303.80241 | I7: ='Téc. Enferm. 12x36 Noturno '!$D$102 -> 51.54 | J7: =SUM(F7:I7) -> 829.4077
A8: 4 | D8: Tec. de enfermagem noturno | E8: ='Téc. Enferm. 12x36 Noturno '!D33 -> 4173.11 | F8: =E8*$F$4 -> 347.62006 | G8: =E8*$G$4 -> 126.44523 | H8: =E8*$H$4 -> 303.80241 | I8: ='Téc. Enferm. 12x36 Noturno '!$D$102 -> 51.54 | J8: =SUM(F8:I8) -> 829.4077
A9: 5 | D9: Tec. de enfremagem noturno | E9: ='Téc. Enferm. 12x36 Noturno '!D33 -> 4173.11 | F9: =E9*$F$4 -> 347.62006 | G9: =E9*$G$4 -> 126.44523 | H9: =E9*$H$4 -> 303.80241 | I9: ='Téc. Enferm. 12x36 Noturno '!$D$102 -> 51.54 | J9: =SUM(F9:I9) -> 829.4077
A10: 6 | D10: Tec. de enfremagem diurno | E10: ='Téc. Enferm. 12x36 Diurno '!D33 -> 3822.26 | F10: =E10*$F$4 -> 318.39426 | G10: =E10*$G$4 -> 115.81448 | H10: =E10*$H$4 -> 278.26053 | I10: ='Téc. Enferm. 12x36 Diurno '!$D$102 -> 61.7 | J10: =SUM(F10:I10) -> 774.16926
A11: 7 | D11: Tec. de enfremagem diurno | E11: ='Téc. Enferm. 12x36 Diurno '!D33 -> 3822.26 | F11: =E11*$F$4 -> 318.39426 | G11: =E11*$G$4 -> 115.81448 | H11: =E11*$H$4 -> 278.26053 | I11: ='Téc. Enferm. 12x36 Diurno '!$D$102 -> 61.7 | J11: =SUM(F11:I11) -> 774.16926
A12: 8 | D12: Tec. de enfremagem diurno | E12: ='Téc. Enferm. 12x36 Diurno '!D33 -> 3822.26 | F12: =E12*$F$4 -> 318.39426 | G12: =E12*$G$4 -> 115.81448 | H12: =E12*$H$4 -> 278.26053 | I12: ='Téc. Enferm. 12x36 Diurno '!$D$102 -> 61.7 | J12: =SUM(F12:I12) -> 774.16926
A13: 9 | D13: Tec. de enfremagem diurno | E13: ='Téc. Enferm. 12x36 Diurno '!D33 -> 3822.26 | F13: =E13*$F$4 -> 318.39426 | G13: =E13*$G$4 -> 115.81448 | H13: =E13*$H$4 -> 278.26053 | I13: ='Téc. Enferm. 12x36 Diurno '!$D$102 -> 61.7 | J13: =SUM(F13:I13) -> 774.16926
A14: 10 | D14: Tec. de enfermagem noturno folguista | E14: ='Tec. Enferm.(folguista) Noturno'!D33 -> 4173.11 | F14: =E14*$F$4 -> 347.62006 | G14: =E14*$G$4 -> 126.44523 | H14: =E14*$H$4 -> 303.80241 | I14: ='Tec. Enferm.(folguista) Noturno'!D102 -> 51.54 | J14: =SUM(F14:I14) -> 829.4077
A15: 11 | D15: Tec. de enfremagem noturno folguista | E15: ='Tec. Enferm.(folguista) Noturno'!D33 -> 4173.11 | F15: =E15*$F$4 -> 347.62006 | G15: =E15*$G$4 -> 126.44523 | H15: =E15*$H$4 -> 303.80241 | I15: ='Tec. Enferm.(folguista) Noturno'!D102 -> 51.54 | J15: =SUM(F15:I15) -> 829.4077
A16: 12 | D16: Condutor de ambulancia noturno | E16: ='Cond. Amb_SAMU. 12x36 Noturno'!D33 -> 2555.87 | F16: =E16*$F$4 -> 212.90397 | G16: =E16*$G$4 -> 77.442861 | H16: =E16*$H$4 -> 186.06734 | I16: ='Cond. Amb_SAMU. 12x36 Noturno'!$D$102 -> 29.72 | J16: =SUM(F16:I16) -> 506.13417
A17: 13 | D17: Condutor de ambulancia noturno | E17: ='Cond. Amb_SAMU. 12x36 Noturno'!D33 -> 2555.87 | F17: =E17*$F$4 -> 212.90397 | G17: =E17*$G$4 -> 77.442861 | H17: =E17*$H$4 -> 186.06734 | I17: ='Cond. Amb_SAMU. 12x36 Noturno'!$D$102 -> 29.72 | J17: =SUM(F17:I17) -> 506.13417
A18: 14 | D18: Condutor de ambulancia diurno | E18: ='Cond. Amb_SAMU. 12x36 Diurno'!D33 -> 2366 | F18: =E18*$F$4 -> 197.0878 | G18: =E18*$G$4 -> 71.6898 | H18: =E18*$H$4 -> 172.2448 | I18: ='Cond. Amb_SAMU. 12x36 Noturno'!$D$102 -> 29.72 | J18: =SUM(F18:I18) -> 470.7424
A19: 15 | D19: Condutor de ambulancia diurno | E19: ='Cond. Amb_SAMU. 12x36 Diurno'!D33 -> 2366 | F19: =E19*$F$4 -> 197.0878 | G19: =E19*$G$4 -> 71.6898 | H19: =E19*$H$4 -> 172.2448 | I19: ='Cond. Amb_SAMU. 12x36 Noturno'!$D$102 -> 29.72 | J19: =SUM(F19:I19) -> 470.7424
A20: 16 | D20: Condutor de ambulancia noturno folguista | E20: ='Cond Amb_SAMU Folguista Noturno'!D33 -> 2555.87 | F20: =E20*$F$4 -> 212.90397 | G20: =E20*$G$4 -> 77.442861 | H20: =E20*$H$4 -> 186.06734 | I20: ='Cond Amb_SAMU Folguista Noturno'!D102 -> 29.72 | J20: =SUM(F20:I20) -> 506.13417
A21: 17 | D21: Mestre ambulancha noturno | E21: ='Mestre 12x36 Noturno'!D33 -> 3787.37 | F21: =E21*$F$4 -> 315.48792 | G21: =E21*$G$4 -> 114.75731 | H21: =E21*$H$4 -> 275.72054 | I21: ='Cond. Amb_SAMU. 12x36 Noturno'!$D$102 -> 29.72 | J21: =SUM(F21:I21) -> 735.68577
A22: 18 | D22: Mestre ambulancha noturno | E22: ='Mestre 12x36 Noturno'!D33 -> 3787.37 | F22: =E22*$F$4 -> 315.48792 | G22: =E22*$G$4 -> 114.75731 | H22: =E22*$H$4 -> 275.72054 | I22: ='Mestre 12x36 Noturno'!$D$102 -> 44.01 | J22: =SUM(F22:I22) -> 749.97577
A23: 19 | D23: Mestre ambulancha diurno | E23: ='Mestre 12x36 Diurno'!D33 -> 3458.78 | F23: =E23*$F$4 -> 288.11637 | G23: =E23*$G$4 -> 104.80103 | H23: =E23*$H$4 -> 251.79918 | I23: ='Mestre 12x36 Noturno'!$D$102 -> 44.01 | J23: =SUM(F23:I23) -> 688.72659
A24: 20 | D24: Mestre ambulancha diurno | E24: ='Mestre 12x36 Diurno'!D33 -> 3458.78 | F24: =E24*$F$4 -> 288.11637 | G24: =E24*$G$4 -> 104.80103 | H24: =E24*$H$4 -> 251.79918 | I24: ='Mestre 12x36 Noturno'!$D$102 -> 44.01 | J24: =SUM(F24:I24) -> 688.72659
A25: 21 | D25: Mestre ambulancha noturno folguista | E25: ='Mestre Noturno Folguista'!D33 -> 3787.37 | F25: =E25*$F$4 -> 315.48792 | G25: =E25*$G$4 -> 114.75731 | H25: =E25*$H$4 -> 275.72054 | I25: ='Mestre Noturno Folguista'!D102 -> 44.01 | J25: =SUM(F25:I25) -> 749.97577
A26: 22 | D26: Higienizador | E26: ='Higienizador 8h'!$D$33 -> 2414.26 | F26: =E26*$F$4 -> 201.10786 | G26: =E26*$G$4 -> 73.152078 | H26: =E26*$H$4 -> 175.75813 | I26: ='Higienizador 8h'!$D$102 -> 29.65 | J26: =SUM(F26:I26) -> 479.66806
A27: 23 | D27: Higienizador | E27: ='Higienizador 8h'!$D$33 -> 2414.26 | F27: =E27*$F$4 -> 201.10786 | G27: =E27*$G$4 -> 73.152078 | H27: =E27*$H$4 -> 175.75813 | I27: ='Higienizador 8h'!$D$102 -> 29.65 | J27: =SUM(F27:I27) -> 479.66806
A28: 24 | D28: Higienizador | E28: ='Higienizador 8h'!$D$33 -> 2414.26 | F28: =E28*$F$4 -> 201.10786 | G28: =E28*$G$4 -> 73.152078 | H28: =E28*$H$4 -> 175.75813 | I28: ='Higienizador 8h'!$D$102 -> 29.65 | J28: =SUM(F28:I28) -> 479.66806
A29: 25 | D29: Coordenador de manutenção | E29: ='Coord. de Manutenção 8h'!D33 -> 2090.06 | F29: =E29*$F$4 -> 174.102 | G29: =E29*$G$4 -> 63.328818 | H29: =E29*$H$4 -> 152.15637 | I29: ='Coord. de Manutenção 8h'!$D$102 -> 24.36 | J29: =SUM(F29:I29) -> 413.94718
A30: 26 | D30: Coordenador administrativo | E30: ='Coordendador Administrativo 8h'!D33 -> 2307.83 | F30: =E30*$F$4 -> 192.24224 | G30: =E30*$G$4 -> 69.927249 | H30: =E30*$H$4 -> 168.01002 | I30: ='Coordendador Administrativo 8h'!$D$102 -> 28.03 | J30: =SUM(F30:I30) -> 458.20951
A31: 27 | F31: =E31*$F$4 -> 0 | G31: =E31*$G$4 -> 0 | H31: =E31*$H$4 -> 0 | I31: =E31*$I$4 -> 0 | J31: =SUM(F31:I31) -> 0
A32: 28 | F32: =E32*$F$4 -> 0 | G32: =E32*$G$4 -> 0 | H32: =E32*$H$4 -> 0 | I32: =E32*$I$4 -> 0 | J32: =SUM(F32:I32) -> 0
A33: 29 | F33: =E33*$F$4 -> 0 | G33: =E33*$G$4 -> 0 | H33: =E33*$H$4 -> 0 | I33: =E33*$I$4 -> 0 | J33: =SUM(F33:I33) -> 0
A34: 30 | B34: ... | F34: =E34*$F$4 -> 0 | G34: =E34*$G$4 -> 0 | H34: =E34*$H$4 -> 0 | I34: =E34*$I$4 -> 0 | J34: =SUM(F34:I34) -> 0
A35: 31 | B35: .. | F35: =E35*$F$4 -> 0 | G35: =E35*$G$4 -> 0 | H35: =E35*$H$4 -> 0 | I35: =E35*$I$4 -> 0 | J35: =SUM(F35:I35) -> 0
A36: TOTAIS | E36: =SUM(E5:E35) -> 89046.05 | F36: =SUM(F5:F35) -> 7417.536 | G36: =SUM(G5:G35) -> 2698.0953 | H36: =SUM(H5:H35) -> 6482.5524 | I36: =SUM(I5:I35) -> 1712.43 | J36: =SUM(J5:J35) -> 18310.614 | K36: <==== Valor da guia

Sheet Enfermeiro
A1: PLANILHA DE CUSTO E FORMAÇÃO DE PREÇO - IN 05/2017 (atualizada pela IN 07/2018)
A2: SERVIÇO DE URGÊNCIA E EMERGÊNCIA
A3: Nº do processo:
A4: Nº da Licitação:
A5: Data / hora:
A7: Discriminação dos serviços ( dados referentes à contratação)
A8: A | B8: Data de apresentação da proposta (dia/mês/ano)
A9: B | B9: Município/UF | D9: SÃO JOSÉ DO NORTE/RS
A10: C | B10: Ano do Acordo, Convenção ou Dissídio Coletivo | D10: 2022
A11: D | B11: Nº de meses de execução contratual | D11: 12
A13: Identificação do Serviço
A14: Tipo de Serviço | C14: Unidade de Medida | D14: Qtde total a contratar (em função da unidade de medida)
A15: SERVIÇO DE URGÊNCIA E EMERGÊNCIA | C15: 1 | D15: 1
A17: MÓDULOS DE MÃO DE OBRA VINCULADA À EXECUÇÃO CONTRATUAL
A19: Dados para composição dos custos referentes à mão-de-obra
A20: 1 | B20: Tipo de serviço (mesmo serviço com características distintas) | D20: Enfermagem 8h
A21: 2 | B21: Classificação Brasileira de Ocupações (CBO) | D21: =RESUMO!C6 -> 2235-05
A22: 3 | B22: Salário Nominativo da Categoria Profissional | D22: 4750 | E22: Conforme Lei Federal 14434/2022
A23: 4 | B23: Categoria profissional (vinculada à execução contratual) | D23: Enfermeiro
A24: 5 | B24: Data base da categoria (dia/mês/ano)
A26: 1 | B26: Módulo 1 - Composição da Remuneração | C26: % | D26: Valor (R$) | E26: SALÁRIO MÍNIMO NACIONAL
A27: A | B27: Salário Base | D27: =D22 -> 4750 | E27: 1621
A28: B | B28: Adicional de Periculosidade | D28: =C28*D27 -> 0 | E28: = Salario base x % de periculosidade
A29: C | B29: Adicional de Insalubridade | C29: 0.4 | D29: =C29*E27 -> 648.4 | E29: = Salario minimo x % de insalubridade
A30: D | B30: Adicional Noturno (22h às 5h) Horas: | D30: =IF(C30="",0,C30*15.2*((D27+D28)/220)*0.2) -> 0 | E30: = Horas de adicional noturno x qtde de dias no mês x ((salario base + periculosidade)/220 horas) x 20% de adicional
A31: E | B31: Adicional de Hora Noturna Reduzida Horas: | C31: =IF(C30=8,"",IF(C30=7,1,"")) | D31: =IF(C31<>1,0,1*15.2*(D27+D28)/220*0.2) -> 0 | E31: = 1 hora noturna reduzida x qtde de dias no mês x ((salario base + periculosidade)/220 horas) x 20% de adicional (Somente se for considerado 7 horas de adicional noturno)
A32: F | B32: Gratificação de Função (RT) | D32: 1000
A33: Total da Remuneração | D33: =TRUNC(SUM(D27:D32),2) -> 6398.4
A34: Nota 1: O Módulo 1 refere-se ao valor mensal devido ao empregado pela prestação do serviço no período de 12 meses.
A36: Módulo 2: Encargos e Benefícios Anuais, Mensais e Diários
A38: 2.1 | B38: 13º Salário, Férias e Adicional de Férias | C38: % | D38: Valor (R$)
A39: A | B39: 13 (Décimo-terceiro) salário | C39: =1/12 -> 0.083333333 | D39: =$D$33*C39 -> 533.2 | E39: [(1/12) x 100] = 1 Remuneração/12
A40: B | B40: Adicional de Férias | C40: =(5/55)/3 -> 0.03030303 | D40: =$D$33*C40 -> 193.89091
A41: Subtotal | D41: =SUM(D39:D40) -> 727.09091
A42: C | B42: Incidência dos encargos previstos no submódulo 2.2 sobre o item 2.1 | C42: =C58 -> 0.408 | D42: =D41*C42 -> 296.65309 | E42: = Percentual total do submódulo 2.2
A43: Total | D43: =TRUNC(SUM(D41:D42),2) -> 1023.74
A44: Nota 1: Como a planilha de custos e formação de preços é calculada mensalmente, provisiona-se proporcionalmente 1/12 (um doze avos) dos valores referentes a gratificação natalina, férias e adicional de férias. (Redação dada pela Instrução Normativa nº 7, de 2018)
A45: Nota 2: O adicional de férias contido no Submódulo 2.1 corresponde a 1/3 (um terço) da remuneração que por sua vez é divido por 12 (doze) conforme Nota 1 acima.
A46: Nota 3: Levando em consideração a vigência contratual prevista no art. 57 da Lei nº 8.666, de 23 de junho de 1993, a rubrica férias tem como objetivo principal suprir a necessidade do pagamento das férias remuneradas ao final do contrato de 12 meses. Esta rubrica, quando da prorrogação contratual, torna-se custo não renovável. (Incluído pela Instrução Normativa nº 7, de 2018)
A48: 2.2 | B48: Encargos Previdenciário (GPS), Fundo de garantia por tempo de Serviço ( FGTS) e outras Contribuições | C48: % | D48: Valor (R$)
...

Sheet Téc. Enferm. 12x36 Noturno 
A1: PLANILHA DE CUSTO E FORMAÇÃO DE PREÇO - IN 05/2017 (atualizada pela IN 07/2018)
A2: SERVIÇO DE URGÊNCIA E EMERGÊNCIA
A3: Nº do processo:
A4: Nº da Licitação:
A5: Data / hora:
A7: Discriminação dos serviços ( dados referentes à contratação)
A8: A | B8: Data de apresentação da proposta (dia/mês/ano)
A9: B | B9: Município/UF | D9: SÃO JOSÉ DO NORTE/RS
A10: C | B10: Ano do Acordo, Convenção ou Dissídio Coletivo | D10: 2022
A11: D | B11: Nº de meses de execução contratual | D11: 12
A13: Identificação do Serviço
A14: Tipo de Serviço | C14: Unidade de Medida | D14: Qtde total a contratar (em função da unidade de medida)
A15: SERVIÇO DE URGÊNCIA E EMERGÊNCIA | C15: 1 | D15: 1
A17: MÓDULOS DE MÃO DE OBRA VINCULADA À EXECUÇÃO CONTRATUAL
A19: Dados para composição dos custos referentes à mão-de-obra
A20: 1 | B20: Tipo de serviço (mesmo serviço com características distintas) | D20: =RESUMO!B7 -> Téc. Enfremagem 12x36 noturno
A21: 2 | B21: Classificação Brasileira de Ocupações (CBO) | D21: =RESUMO!C7 -> 3222-05
A22: 3 | B22: Salário Nominativo da Categoria Profissional | D22: =(42*3325)/44 -> 3173.8636 | E22: Conforme Lei Federal 14434/2022
A23: 4 | B23: Categoria profissional (vinculada à execução contratual) | D23: Téc. De Enfermagem
A24: 5 | B24: Data base da categoria (dia/mês/ano)
A26: 1 | B26: Módulo 1 - Composição da Remuneração | C26: % | D26: Valor (R$) | E26: SALÁRIO MÍNIMO NACIONAL
A27: A | B27: Salário Base | D27: =D22 -> 3173.8636 | E27: 1621
A28: B | B28: Adicional de Periculosidade | D28: =C28*D27 -> 0 | E28: = Salario base x % de periculosidade
A29: C | B29: Adicional de Insalubridade | C29: 0.4 | D29: =C29*E27 -> 648.4 | E29: = Salario minimo x % de insalubridade
A30: D | B30: Adicional Noturno (22h às 5h) Horas: | C30: 7 | D30: =IF(C30="",0,C30*15.2*((D27+D28)/220)*0.2) -> 306.99917 | E30: = Horas de adicional noturno x qtde de dias no mês x ((salario base + periculosidade)/220 horas) x 20% de adicional
A31: E | B31: Adicional de Hora Noturna Reduzida Horas: | C31: =IF(C30=8,"",IF(C30=7,1,"")) -> 1 | D31: =IF(C31<>1,0,1*15.2*(D27+D28)/220*0.2) -> 43.857025 | E31: = 1 hora noturna reduzida x qtde de dias no mês x ((salario base + periculosidade)/220 horas) x 20% de adicional (Somente se for considerado 7 horas de adicional noturno)
A32: F | B32: Gratificação de Função (RT) | D32: 0
A33: Total da Remuneração | D33: =TRUNC(SUM(D27:D32),2) -> 4173.11
A34: Nota 1: O Módulo 1 refere-se ao valor mensal devido ao empregado pela prestação do serviço no período de 12 meses.
A36: Módulo 2: Encargos e Benefícios Anuais, Mensais e Diários
A38: 2.1 | B38: 13º Salário, Férias e Adicional de Férias | C38: % | D38: Valor (R$)
A39: A | B39: 13 (Décimo-terceiro) salário | C39: =1/12 -> 0.083333333 | D39: =$D$33*C39 -> 347.75917 | E39: [(1/12) x 100] = 1 Remuneração/12
A40: B | B40: Adicional de Férias | C40: =(5/55)/3 -> 0.03030303 | D40: =$D$33*C40 -> 126.45788
A41: Subtotal | D41: =SUM(D39:D40) -> 474.21705
A42: C | B42: Incidência dos encargos previstos no submódulo 2.2 sobre o item 2.1 | C42: =C58 -> 0.408 | D42: =D41*C42 -> 193.48055 | E42: = Percentual total do submódulo 2.2
A43: Total | D43: =TRUNC(SUM(D41:D42),2) -> 667.69
A44: Nota 1: Como a planilha de custos e formação de preços é calculada mensalmente, provisiona-se proporcionalmente 1/12 (um doze avos) dos valores referentes a gratificação natalina, férias e adicional de férias. (Redação dada pela Instrução Normativa nº 7, de 2018)
A45: Nota 2: O adicional de férias contido no Submódulo 2.1 corresponde a 1/3 (um terço) da remuneração que por sua vez é divido por 12 (doze) conforme Nota 1 acima.
A46: Nota 3: Levando em consideração a vigência contratual prevista no art. 57 da Lei nº 8.666, de 23 de junho de 1993, a rubrica férias tem como objetivo principal suprir a necessidade do pagamento das férias remuneradas ao final do contrato de 12 meses. Esta rubrica, quando da prorrogação contratual, torna-se custo não renovável. (Incluído pela Instrução Normativa nº 7, de 2018)
A48: 2.2 | B48: Encargos Previdenciário (GPS), Fundo de garantia por tempo de Serviço ( FGTS) e outras Contribuições | C48: % | D48: Valor (R$)
...

Sheet Téc. Enferm. 12x36 Diurno 
A1: PLANILHA DE CUSTO E FORMAÇÃO DE PREÇO - IN 05/2017 (atualizada pela IN 07/2018)
A2: SERVIÇO DE URGÊNCIA E EMERGÊNCIA
A3: Nº do processo:
A4: Nº da Licitação:
A5: Data / hora:
A7: Discriminação dos serviços ( dados referentes à contratação)
A8: A | B8: Data de apresentação da proposta (dia/mês/ano)
A9: B | B9: Município/UF | D9: SÃOJOSÉ DO NORTE/RS
A10: C | B10: Ano do Acordo, Convenção ou Dissídio Coletivo | D10: 2022
A11: D | B11: Nº de meses de execução contratual | D11: 12
A13: Identificação do Serviço
A14: Tipo de Serviço | C14: Unidade de Medida | D14: Qtde total a contratar (em função da unidade de medida)
A15: SERVIÇO DE URGÊNCIA E EMERGÊNCIA | C15: 1 | D15: 1
A17: MÓDULOS DE MÃO DE OBRA VINCULADA À EXECUÇÃO CONTRATUAL
A19: Dados para composição dos custos referentes à mão-de-obra
A20: 1 | B20: Tipo de serviço (mesmo serviço com características distintas) | D20: =RESUMO!B8 -> Téc. Enfremagem 12x36 diurno
A21: 2 | B21: Classificação Brasileira de Ocupações (CBO) | D21: =RESUMO!C7 -> 3222-05
A22: 3 | B22: Salário Nominativo da Categoria Profissional | D22: =(42*3325)/44 -> 3173.8636 | E22: Conforme Lei Federal 14434/2022
A23: 4 | B23: Categoria profissional (vinculada à execução contratual) | D23: Téc. De Enfermagem
A24: 5 | B24: Data base da categoria (dia/mês/ano)
A26: 1 | B26: Módulo 1 - Composição da Remuneração | C26: % | D26: Valor (R$) | E26: SALÁRIO MÍNIMO NACIONAL
A27: A | B27: Salário Base | D27: =D22 -> 3173.8636 | E27: 1621
A28: B | B28: Adicional de Periculosidade | D28: =C28*D27 -> 0 | E28: = Salario base x % de periculosidade
A29: C | B29: Adicional de Insalubridade | C29: 0.4 | D29: =C29*E27 -> 648.4 | E29: = Salario minimo x % de insalubridade
A30: D | B30: Adicional Noturno (22h às 5h) Horas: | C30: 0 | D30: =IF(C30="",0,C30*15.2*((D27+D28)/220)*0.2) -> 0 | E30: = Horas de adicional noturno x qtde de dias no mês x ((salario base + periculosidade)/220 horas) x 20% de adicional
A31: E | B31: Adicional de Hora Noturna Reduzida Horas: | C31: =IF(C30=8,"",IF(C30=7,1,"")) | D31: =IF(C31<>1,0,1*15.2*(D27+D28)/220*0.2) -> 0 | E31: = 1 hora noturna reduzida x qtde de dias no mês x ((salario base + periculosidade)/220 horas) x 20% de adicional (Somente se for considerado 7 horas de adicional noturno)
A32: F | B32: Gratificação de Função (RT) | D32: 0
A33: Total da Remuneração | D33: =TRUNC(SUM(D27:D32),2) -> 3822.26
A34: Nota 1: O Módulo 1 refere-se ao valor mensal devido ao empregado pela prestação do serviço no período de 12 meses.
A36: Módulo 2: Encargos e Benefícios Anuais, Mensais e Diários
A38: 2.1 | B38: 13º Salário, Férias e Adicional de Férias | C38: % | D38: Valor (R$)
A39: A | B39: 13 (Décimo-terceiro) salário | C39: =1/12 -> 0.083333333 | D39: =$D$33*C39 -> 318.52167 | E39: [(1/12) x 100] = 1 Remuneração/12
A40: B | B40: Adicional de Férias | C40: =(5/55)/3 -> 0.03030303 | D40: =$D$33*C40 -> 115.82606
A41: Subtotal | D41: =SUM(D39:D40) -> 434.34773
A42: C | B42: Incidência dos encargos previstos no submódulo 2.2 sobre o item 2.1 | C42: =C58 -> 0.408 | D42: =D41*C42 -> 177.21387 | E42: = Percentual total do submódulo 2.2
A43: Total | D43: =TRUNC(SUM(D41:D42),2) -> 611.56
A44: Nota 1: Como a planilha de custos e formação de preços é calculada mensalmente, provisiona-se proporcionalmente 1/12 (um doze avos) dos valores referentes a gratificação natalina, férias e adicional de férias. (Redação dada pela Instrução Normativa nº 7, de 2018)
A45: Nota 2: O adicional de férias contido no Submódulo 2.1 corresponde a 1/3 (um terço) da remuneração que por sua vez é divido por 12 (doze) conforme Nota 1 acima.
A46: Nota 3: Levando em consideração a vigência contratual prevista no art. 57 da Lei nº 8.666, de 23 de junho de 1993, a rubrica férias tem como objetivo principal suprir a necessidade do pagamento das férias remuneradas ao final do contrato de 12 meses. Esta rubrica, quando da prorrogação contratual, torna-se custo não renovável. (Incluído pela Instrução Normativa nº 7, de 2018)
A48: 2.2 | B48: Encargos Previdenciário (GPS), Fundo de garantia por tempo de Serviço ( FGTS) e outras Contribuições | C48: % | D48: Valor (R$)
...

Sheet Tec. Enferm.(folguista) Noturno
A1: PLANILHA DE CUSTO E FORMAÇÃO DE PREÇO - IN 05/2017 (atualizada pela IN 07/2018)
A2: SERVIÇO DE URGÊNCIA E EMERGÊNCIA
A3: Nº do processo:
A4: Nº da Licitação:
A5: Data / hora:
A7: Discriminação dos serviços ( dados referentes à contratação)
A8: A | B8: Data de apresentação da proposta (dia/mês/ano)
A9: B | B9: Município/UF | D9: SÃO JOSÉ DO NORTE/RS
A10: C | B10: Ano do Acordo, Convenção ou Dissídio Coletivo | D10: 2022
A11: D | B11: Nº de meses de execução contratual | D11: 12
A13: Identificação do Serviço
A14: Tipo de Serviço | C14: Unidade de Medida | D14: Qtde total a contratar (em função da unidade de medida)
A15: SERVIÇO DE URGÊNCIA E EMERGÊNCIA | C15: 1 | D15: 1
A17: MÓDULOS DE MÃO DE OBRA VINCULADA À EXECUÇÃO CONTRATUAL
A19: Dados para composição dos custos referentes à mão-de-obra
A20: 1 | B20: Tipo de serviço (mesmo serviço com características distintas) | D20: =RESUMO!B7 -> Téc. Enfremagem 12x36 noturno
A21: 2 | B21: Classificação Brasileira de Ocupações (CBO) | D21: =RESUMO!C7 -> 3222-05
A22: 3 | B22: Salário Nominativo da Categoria Profissional | D22: =(42*3325)/44 -> 3173.8636 | E22: Conforme Lei Federal 14434/2022
A23: 4 | B23: Categoria profissional (vinculada à execução contratual) | D23: Téc. De Enfermagem
A24: 5 | B24: Data base da categoria (dia/mês/ano) | D24: 2024/2025
A26: 1 | B26: Módulo 1 - Composição da Remuneração | C26: % | D26: Valor (R$) | E26: SALÁRIO MÍNIMO NACIONAL
A27: A | B27: Salário Base | D27: =D22 -> 3173.8636 | E27: 1621
A28: B | B28: Adicional de Periculosidade | D28: =C28*D27 -> 0 | E28: = Salario base x % de periculosidade
A29: C | B29: Adicional de Insalubridade | C29: 0.4 | D29: =C29*E27 -> 648.4 | E29: = Salario minimo x % de insalubridade
A30: D | B30: Adicional Noturno (22h às 5h) Horas: | C30: 7 | D30: =IF(C30="",0,C30*15.2*((D27+D28)/220)*0.2) -> 306.99917 | E30: = Horas de adicional noturno x qtde de dias no mês x ((salario base + periculosidade)/220 horas) x 20% de adicional
A31: E | B31: Adicional de Hora Noturna Reduzida Horas: | C31: =IF(C30=8,"",IF(C30=7,1,"")) -> 1 | D31: =IF(C31<>1,0,1*15.2*(D27+D28)/220*0.2) -> 43.857025 | E31: = 1 hora noturna reduzida x qtde de dias no mês x ((salario base + periculosidade)/220 horas) x 20% de adicional (Somente se for considerado 7 horas de adicional noturno)
A32: F | B32: Gratificaçã de Função (RT) | D32: 0
A33: Total da Remuneração | D33: =TRUNC(SUM(D27:D32),2) -> 4173.11
A34: Nota 1: O Módulo 1 refere-se ao valor mensal devido ao empregado pela prestação do serviço no período de 12 meses.
A36: Módulo 2: Encargos e Benefícios Anuais, Mensais e Diários
A38: 2.1 | B38: 13º Salário, Férias e Adicional de Férias | C38: % | D38: Valor (R$)
A39: A | B39: 13 (Décimo-terceiro) salário | C39: =1/12 -> 0.083333333 | D39: =$D$33*C39 -> 347.75917 | E39: [(1/12) x 100] = 1 Remuneração/12
A40: B | B40: Adicional de Férias | C40: =(5/55)/3 -> 0.03030303 | D40: =$D$33*C40 -> 126.45788
A41: Subtotal | D41: =SUM(D39:D40) -> 474.21705
A42: C | B42: Incidência dos encargos previstos no submódulo 2.2 sobre o item 2.1 | C42: =C58 -> 0.408 | D42: =D41*C42 -> 193.48055 | E42: = Percentual total do submódulo 2.2
A43: Total | D43: =TRUNC(SUM(D41:D42),2) -> 667.69
A44: Nota 1: Como a planilha de custos e formação de preços é calculada mensalmente, provisiona-se proporcionalmente 1/12 (um doze avos) dos valores referentes a gratificação natalina, férias e adicional de férias. (Redação dada pela Instrução Normativa nº 7, de 2018)
A45: Nota 2: O adicional de férias contido no Submódulo 2.1 corresponde a 1/3 (um terço) da remuneração que por sua vez é divido por 12 (doze) conforme Nota 1 acima.
A46: Nota 3: Levando em consideração a vigência contratual prevista no art. 57 da Lei nº 8.666, de 23 de junho de 1993, a rubrica férias tem como objetivo principal suprir a necessidade do pagamento das férias remuneradas ao final do contrato de 12 meses. Esta rubrica, quando da prorrogação contratual, torna-se custo não renovável. (Incluído pela Instrução Normativa nº 7, de 2018)
A48: 2.2 | B48: Encargos Previdenciário (GPS), Fundo de garantia por tempo de Serviço ( FGTS) e outras Contribuições | C48: % | D48: Valor (R$)
...

Sheet Cond. Amb_SAMU. 12x36 Noturno
A1: PLANILHA DE CUSTO E FORMAÇÃO DE PREÇO - IN 05/2017 (atualizada pela IN 07/2018)
A2: SERVIÇO DE URGÊNCIA E EMERGÊNCIA
A3: Nº do processo:
A4: Nº da Licitação:
A5: Data / hora:
A7: Discriminação dos serviços ( dados referentes à contratação)
A8: A | B8: Data de apresentação da proposta (dia/mês/ano)
A9: B | B9: Município/UF | D9: SÃO JOSÉ DO NORTE/RS
A10: C | B10: Ano do Acordo, Convenção ou Dissídio Coletivo
A11: D | B11: Nº de meses de execução contratual | D11: 12
A13: Identificação do Serviço
A14: Tipo de Serviço | C14: Unidade de Medida | D14: Qtde total a contratar (em função da unidade de medida)
A15: SERVIÇO DE URGÊNCIA E EMERGÊNCIA | C15: 1 | D15: 1
A17: MÓDULOS DE MÃO DE OBRA VINCULADA À EXECUÇÃO CONTRATUAL
A19: Dados para composição dos custos referentes à mão-de-obra
A20: 1 | B20: Tipo de serviço (mesmo serviço com características distintas) | D20: =RESUMO!B10 -> Condutor Ambulancia 12x36 noturno
A21: 2 | B21: Classificação Brasileira de Ocupações (CBO) | D21: =RESUMO!C10 -> 7823-20
A22: 3 | B22: Salário Nominativo da Categoria Profissional | D22: 1717.6
A23: 4 | B23: Categoria profissional (vinculada à execução contratual) | D23: Condutor de Ambulancia/SAMU
A24: 5 | B24: Data base da categoria (dia/mês/ano)
A26: 1 | B26: Módulo 1 - Composição da Remuneração | C26: % | D26: Valor (R$) | E26: SALÁRIO MÍNIMO NACIONAL
A27: A | B27: Salário Base | D27: =D22 -> 1717.6 | E27: 1621
A28: B | B28: Adicional de Periculosidade | D28: =C28*D27 -> 0 | E28: = Salario base x % de periculosidade
A29: C | B29: Adicional de Insalubridade | C29: 0.4 | D29: =C29*E27 -> 648.4 | E29: = Salario minimo x % de insalubridade
A30: D | B30: Adicional Noturno (22h às 5h) Horas: | C30: 7 | D30: =IF(C30="",0,C30*15.2*((D27+D28)/220)*0.2) -> 166.13876 | E30: = Horas de adicional noturno x qtde de dias no mês x ((salario base + periculosidade)/220 horas) x 20% de adicional
A31: E | B31: Adicional de Hora Noturna Reduzida Horas: | C31: =IF(C30=8,"",IF(C30=7,1,"")) -> 1 | D31: =IF(C31<>1,0,1*15.2*(D27+D28)/220*0.2) -> 23.734109 | E31: = 1 hora noturna reduzida x qtde de dias no mês x ((salario base + periculosidade)/220 horas) x 20% de adicional (Somente se for considerado 7 horas de adicional noturno)
A32: F | B32: Gratificaçã de Função (RT) | D32: 0
A33: Total da Remuneração | D33: =TRUNC(SUM(D27:D32),2) -> 2555.87
A34: Nota 1: O Módulo 1 refere-se ao valor mensal devido ao empregado pela prestação do serviço no período de 12 meses.
A36: Módulo 2: Encargos e Benefícios Anuais, Mensais e Diários
A38: 2.1 | B38: 13º Salário, Férias e Adicional de Férias | C38: % | D38: Valor (R$)
A39: A | B39: 13 (Décimo-terceiro) salário | C39: =1/12 -> 0.083333333 | D39: =$D$33*C39 -> 212.98917 | E39: [(1/12) x 100] = 1 Remuneração/12
A40: B | B40: Adicional de Férias | C40: =(5/55)/3 -> 0.03030303 | D40: =$D$33*C40 -> 77.450606
A41: Subtotal | D41: =SUM(D39:D40) -> 290.43977
A42: C | B42: Incidência dos encargos previstos no submódulo 2.2 sobre o item 2.1 | C42: =C58 -> 0.408 | D42: =D41*C42 -> 118.49943 | E42: = Percentual total do submódulo 2.2
A43: Total | D43: =TRUNC(SUM(D41:D42),2) -> 408.93
A44: Nota 1: Como a planilha de custos e formação de preços é calculada mensalmente, provisiona-se proporcionalmente 1/12 (um doze avos) dos valores referentes a gratificação natalina, férias e adicional de férias. (Redação dada pela Instrução Normativa nº 7, de 2018)
A45: Nota 2: O adicional de férias contido no Submódulo 2.1 corresponde a 1/3 (um terço) da remuneração que por sua vez é divido por 12 (doze) conforme Nota 1 acima.
A46: Nota 3: Levando em consideração a vigência contratual prevista no art. 57 da Lei nº 8.666, de 23 de junho de 1993, a rubrica férias tem como objetivo principal suprir a necessidade do pagamento das férias remuneradas ao final do contrato de 12 meses. Esta rubrica, quando da prorrogação contratual, torna-se custo não renovável. (Incluído pela Instrução Normativa nº 7, de 2018)
A48: 2.2 | B48: Encargos Previdenciário (GPS), Fundo de garantia por tempo de Serviço ( FGTS) e outras Contribuições | C48: % | D48: Valor (R$)
...

Sheet Cond. Amb_SAMU. 12x36 Diurno
A1: PLANILHA DE CUSTO E FORMAÇÃO DE PREÇO - IN 05/2017 (atualizada pela IN 07/2018)
A2: SERVIÇO DE URGÊNCIA E EMERGÊNCIA
A3: Nº do processo:
A4: Nº da Licitação:
A5: Data / hora:
A7: Discriminação dos serviços ( dados referentes à contratação)
A8: A | B8: Data de apresentação da proposta (dia/mês/ano)
A9: B | B9: Município/UF | D9: SÃOJOSÉ DO NORTE/RS
A10: C | B10: Ano do Acordo, Convenção ou Dissídio Coletivo
A11: D | B11: Nº de meses de execução contratual | D11: 12
A13: Identificação do Serviço
A14: Tipo de Serviço | C14: Unidade de Medida | D14: Qtde total a contratar (em função da unidade de medida)
A15: SERVIÇO DE URGÊNCIA E EMERGÊNCIA | C15: 1 | D15: 1
A17: MÓDULOS DE MÃO DE OBRA VINCULADA À EXECUÇÃO CONTRATUAL
A19: Dados para composição dos custos referentes à mão-de-obra
A20: 1 | B20: Tipo de serviço (mesmo serviço com características distintas) | D20: =RESUMO!B10 -> Condutor Ambulancia 12x36 noturno
A21: 2 | B21: Classificação Brasileira de Ocupações (CBO) | D21: =RESUMO!C10 -> 7823-20
A22: 3 | B22: Salário Nominativo da Categoria Profissional | D22: 1717.6
A23: 4 | B23: Categoria profissional (vinculada à execução contratual) | D23: Condutor de Ambuncia/SAMU
A24: 5 | B24: Data base da categoria (dia/mês/ano)
A26: 1 | B26: Módulo 1 - Composição da Remuneração | C26: % | D26: Valor (R$) | E26: SALÁRIO MÍNIMO NACIONAL
A27: A | B27: Salário Base | D27: =D22 -> 1717.6 | E27: 1621
A28: B | B28: Adicional de Periculosidade | D28: =C28*D27 -> 0 | E28: = Salario base x % de periculosidade
A29: C | B29: Adicional de Insalubridade | C29: 0.4 | D29: =C29*E27 -> 648.4 | E29: = Salario minimo x % de insalubridade
A30: D | B30: Adicional Noturno (22h às 5h) Horas: | C30: 0 | D30: =IF(C30="",0,C30*15.2*((D27+D28)/220)*0.2) -> 0 | E30: = Horas de adicional noturno x qtde de dias no mês x ((salario base + periculosidade)/220 horas) x 20% de adicional
A31: E | B31: Adicional de Hora Noturna Reduzida Horas: | C31: =IF(C30=8,"",IF(C30=7,1,"")) | D31: =IF(C31<>1,0,1*15.2*(D27+D28)/220*0.2) -> 0 | E31: = 1 hora noturna reduzida x qtde de dias no mês x ((salario base + periculosidade)/220 horas) x 20% de adicional (Somente se for considerado 7 horas de adicional noturno)
A32: F | B32: Gratificaçã de Função (RT) | D32: 0
A33: Total da Remuneração | D33: =TRUNC(SUM(D27:D32),2) -> 2366
A34: Nota 1: O Módulo 1 refere-se ao valor mensal devido ao empregado pela prestação do serviço no período de 12 meses.
A36: Módulo 2: Encargos e Benefícios Anuais, Mensais e Diários
A38: 2.1 | B38: 13º Salário, Férias e Adicional de Férias | C38: % | D38: Valor (R$)
A39: A | B39: 13 (Décimo-terceiro) salário | C39: =1/12 -> 0.083333333 | D39: =$D$33*C39 -> 197.16667 | E39: [(1/12) x 100] = 1 Remuneração/12
A40: B | B40: Adicional de Férias | C40: =(5/55)/3 -> 0.03030303 | D40: =$D$33*C40 -> 71.69697
A41: Subtotal | D41: =SUM(D39:D40) -> 268.86364
A42: C | B42: Incidência dos encargos previstos no submódulo 2.2 sobre o item 2.1 | C42: =C58 -> 0.408 | D42: =D41*C42 -> 109.69636 | E42: = Percentual total do submódulo 2.2
A43: Total | D43: =TRUNC(SUM(D41:D42),2) -> 378.56
A44: Nota 1: Como a planilha de custos e formação de preços é calculada mensalmente, provisiona-se proporcionalmente 1/12 (um doze avos) dos valores referentes a gratificação natalina, férias e adicional de férias. (Redação dada pela Instrução Normativa nº 7, de 2018)
A45: Nota 2: O adicional de férias contido no Submódulo 2.1 corresponde a 1/3 (um terço) da remuneração que por sua vez é divido por 12 (doze) conforme Nota 1 acima.
A46: Nota 3: Levando em consideração a vigência contratual prevista no art. 57 da Lei nº 8.666, de 23 de junho de 1993, a rubrica férias tem como objetivo principal suprir a necessidade do pagamento das férias remuneradas ao final do contrato de 12 meses. Esta rubrica, quando da prorrogação contratual, torna-se custo não renovável. (Incluído pela Instrução Normativa nº 7, de 2018)
A48: 2.2 | B48: Encargos Previdenciário (GPS), Fundo de garantia por tempo de Serviço ( FGTS) e outras Contribuições | C48: % | D48: Valor (R$)
...

Sheet Cond Amb_SAMU Folguista Noturno
A1: PLANILHA DE CUSTO E FORMAÇÃO DE PREÇO - IN 05/2017 (atualizada pela IN 07/2018)
A2: SERVIÇO DE URGÊNCIA E EMERGÊNCIA
A3: Nº do processo:
A4: Nº da Licitação:
A5: Data / hora:
A7: Discriminação dos serviços ( dados referentes à contratação)
A8: A | B8: Data de apresentação da proposta (dia/mês/ano)
A9: B | B9: Município/UF | D9: SÃOJOSÉ DO NORTE/RS
A10: C | B10: Ano do Acordo, Convenção ou Dissídio Coletivo
A11: D | B11: Nº de meses de execução contratual | D11: 12
A13: Identificação do Serviço
A14: Tipo de Serviço | C14: Unidade de Medida | D14: Qtde total a contratar (em função da unidade de medida)
A15: SERVIÇO DE URGÊNCIA E EMERGÊNCIA | C15: 1 | D15: 1
A17: MÓDULOS DE MÃO DE OBRA VINCULADA À EXECUÇÃO CONTRATUAL
A19: Dados para composição dos custos referentes à mão-de-obra
A20: 1 | B20: Tipo de serviço (mesmo serviço com características distintas) | D20: =RESUMO!B10 -> Condutor Ambulancia 12x36 noturno
A21: 2 | B21: Classificação Brasileira de Ocupações (CBO) | D21: =RESUMO!C10 -> 7823-20
A22: 3 | B22: Salário Nominativo da Categoria Profissional | D22: 1717.6
A23: 4 | B23: Categoria profissional (vinculada à execução contratual) | D23: Condutor de Ambulancia/SAMU
A24: 5 | B24: Data base da categoria (dia/mês/ano)
A26: 1 | B26: Módulo 1 - Composição da Remuneração | C26: % | D26: Valor (R$) | E26: SALÁRIO MÍNIMO NACIONAL
A27: A | B27: Salário Base | D27: =D22 -> 1717.6 | E27: 1621
A28: B | B28: Adicional de Periculosidade | D28: =C28*D27 -> 0 | E28: = Salario base x % de periculosidade
A29: C | B29: Adicional de Insalubridade | C29: 0.4 | D29: =C29*E27 -> 648.4 | E29: = Salario minimo x % de insalubridade
A30: D | B30: Adicional Noturno (22h às 5h) Horas: | C30: 7 | D30: =IF(C30="",0,C30*15.2*((D27+D28)/220)*0.2) -> 166.13876 | E30: = Horas de adicional noturno x qtde de dias no mês x ((salario base + periculosidade)/220 horas) x 20% de adicional
A31: E | B31: Adicional de Hora Noturna Reduzida Horas: | C31: =IF(C30=8,"",IF(C30=7,1,"")) -> 1 | D31: =IF(C31<>1,0,1*15.2*(D27+D28)/220*0.2) -> 23.734109 | E31: = 1 hora noturna reduzida x qtde de dias no mês x ((salario base + periculosidade)/220 horas) x 20% de adicional (Somente se for considerado 7 horas de adicional noturno)
A32: F | B32: Gratificaçã de Função (RT) | D32: 0
A33: Total da Remuneração | D33: =TRUNC(SUM(D27:D32),2) -> 2555.87
A34: Nota 1: O Módulo 1 refere-se ao valor mensal devido ao empregado pela prestação do serviço no período de 12 meses.
A36: Módulo 2: Encargos e Benefícios Anuais, Mensais e Diários
A38: 2.1 | B38: 13º Salário, Férias e Adicional de Férias | C38: % | D38: Valor (R$)
A39: A | B39: 13 (Décimo-terceiro) salário | C39: =1/12 -> 0.083333333 | D39: =$D$33*C39 -> 212.98917 | E39: [(1/12) x 100] = 1 Remuneração/12
A40: B | B40: Adicional de Férias | C40: =(5/55)/3 -> 0.03030303 | D40: =$D$33*C40 -> 77.450606
A41: Subtotal | D41: =SUM(D39:D40) -> 290.43977
A42: C | B42: Incidência dos encargos previstos no submódulo 2.2 sobre o item 2.1 | C42: =C58 -> 0.408 | D42: =D41*C42 -> 118.49943 | E42: = Percentual total do submódulo 2.2
A43: Total | D43: =TRUNC(SUM(D41:D42),2) -> 408.93
A44: Nota 1: Como a planilha de custos e formação de preços é calculada mensalmente, provisiona-se proporcionalmente 1/12 (um doze avos) dos valores referentes a gratificação natalina, férias e adicional de férias. (Redação dada pela Instrução Normativa nº 7, de 2018)
A45: Nota 2: O adicional de férias contido no Submódulo 2.1 corresponde a 1/3 (um terço) da remuneração que por sua vez é divido por 12 (doze) conforme Nota 1 acima.
A46: Nota 3: Levando em consideração a vigência contratual prevista no art. 57 da Lei nº 8.666, de 23 de junho de 1993, a rubrica férias tem como objetivo principal suprir a necessidade do pagamento das férias remuneradas ao final do contrato de 12 meses. Esta rubrica, quando da prorrogação contratual, torna-se custo não renovável. (Incluído pela Instrução Normativa nº 7, de 2018)
A48: 2.2 | B48: Encargos Previdenciário (GPS), Fundo de garantia por tempo de Serviço ( FGTS) e outras Contribuições | C48: % | D48: Valor (R$)
...

Sheet Mestre 12x36 Noturno
A1: PLANILHA DE CUSTO E FORMAÇÃO DE PREÇO - IN 05/2017 (atualizada pela IN 07/2018)
A2: SERVIÇO DE URGÊNCIA E EMERGÊNCIA
A3: Nº do processo:
A4: Nº da Licitação:
A5: Data / hora:
A7: Discriminação dos serviços ( dados referentes à contratação)
A8: A | B8: Data de apresentação da proposta (dia/mês/ano)
A9: B | B9: Município/UF | D9: SÃO JOSÉ DO NORTE/RS
A10: C | B10: Ano do Acordo, Convenção ou Dissídio Coletivo | D10: 2026/2027
A11: D | B11: Nº de meses de execução contratual | D11: 12
A13: Identificação do Serviço
A14: Tipo de Serviço | C14: Unidade de Medida | D14: Qtde total a contratar (em função da unidade de medida)
A15: SERVIÇO DE URGÊNCIA E EMERGÊNCIA | C15: 1 | D15: 1
A17: MÓDULOS DE MÃO DE OBRA VINCULADA À EXECUÇÃO CONTRATUAL
A19: Dados para composição dos custos referentes à mão-de-obra
A20: 1 | B20: Tipo de serviço (mesmo serviço com características distintas) | D20: =RESUMO!B16 -> Mestre Ambulancha 12x36 noturno
A21: 2 | B21: Classificação Brasileira de Ocupações (CBO) | D21: =RESUMO!C16 -> 3412-10
A22: 3 | B22: Salário Nominativo da Categoria Profissional | D22: 2972.48
A23: 4 | B23: Categoria profissional (vinculada à execução contratual) | D23: Mestre de Cabotagem
A24: 5 | B24: Data base da categoria (dia/mês/ano) | D24: 2026/2027
A26: 1 | B26: Módulo 1 - Composição da Remuneração | C26: % | D26: Valor (R$) | E26: SALÁRIO MÍNIMO NACIONAL
A27: A | B27: Salário Base | D27: =D22 -> 2972.48 | E27: 1621
A28: B | B28: Adicional de Periculosidade | D28: =C28*D27 -> 0 | E28: = Salario base x % de periculosidade
A29: C | B29: Adicional de Insalubridade | C29: 0.3 | D29: =C29*E27 -> 486.3 | E29: = Salario minimo x % de insalubridade
A30: D | B30: Adicional Noturno (22h às 5h) Horas: | C30: 7 | D30: =IF(C30="",0,C30*15.2*((D27+D28)/220)*0.2) -> 287.51988 | E30: = Horas de adicional noturno x qtde de dias no mês x ((salario base + periculosidade)/220 horas) x 20% de adicional
A31: E | B31: Adicional de Hora Noturna Reduzida Horas: | C31: =IF(C30=8,"",IF(C30=7,1,"")) -> 1 | D31: =IF(C31<>1,0,1*15.2*(D27+D28)/220*0.2) -> 41.074269 | E31: = 1 hora noturna reduzida x qtde de dias no mês x ((salario base + periculosidade)/220 horas) x 20% de adicional (Somente se for considerado 7 horas de adicional noturno)
A32: F | B32: Gratificaçã de Função (RT) | D32: 0
A33: Total da Remuneração | D33: =TRUNC(SUM(D27:D32),2) -> 3787.37
A34: Nota 1: O Módulo 1 refere-se ao valor mensal devido ao empregado pela prestação do serviço no período de 12 meses.
A36: Módulo 2: Encargos e Benefícios Anuais, Mensais e Diários
A38: 2.1 | B38: 13º Salário, Férias e Adicional de Férias | C38: % | D38: Valor (R$)
A39: A | B39: 13 (Décimo-terceiro) salário | C39: =1/12 -> 0.083333333 | D39: =$D$33*C39 -> 315.61417 | E39: [(1/12) x 100] = 1 Remuneração/12
A40: B | B40: Adicional de Férias | C40: =(5/55)/3 -> 0.03030303 | D40: =$D$33*C40 -> 114.76879
A41: Subtotal | D41: =SUM(D39:D40) -> 430.38295
A42: C | B42: Incidência dos encargos previstos no submódulo 2.2 sobre o item 2.1 | C42: =C58 -> 0.408 | D42: =D41*C42 -> 175.59625 | E42: = Percentual total do submódulo 2.2
A43: Total | D43: =TRUNC(SUM(D41:D42),2) -> 605.97
A44: Nota 1: Como a planilha de custos e formação de preços é calculada mensalmente, provisiona-se proporcionalmente 1/12 (um doze avos) dos valores referentes a gratificação natalina, férias e adicional de férias. (Redação dada pela Instrução Normativa nº 7, de 2018)
A45: Nota 2: O adicional de férias contido no Submódulo 2.1 corresponde a 1/3 (um terço) da remuneração que por sua vez é divido por 12 (doze) conforme Nota 1 acima.
A46: Nota 3: Levando em consideração a vigência contratual prevista no art. 57 da Lei nº 8.666, de 23 de junho de 1993, a rubrica férias tem como objetivo principal suprir a necessidade do pagamento das férias remuneradas ao final do contrato de 12 meses. Esta rubrica, quando da prorrogação contratual, torna-se custo não renovável. (Incluído pela Instrução Normativa nº 7, de 2018)
A48: 2.2 | B48: Encargos Previdenciário (GPS), Fundo de garantia por tempo de Serviço ( FGTS) e outras Contribuições | C48: % | D48: Valor (R$)
...

Sheet Mestre Noturno Folguista
A1: PLANILHA DE CUSTO E FORMAÇÃO DE PREÇO - IN 05/2017 (atualizada pela IN 07/2018)
A2: SERVIÇO DE URGÊNCIA E EMERGÊNCIA
A3: Nº do processo:
A4: Nº da Licitação:
A5: Data / hora:
A7: Discriminação dos serviços ( dados referentes à contratação)
A8: A | B8: Data de apresentação da proposta (dia/mês/ano)
A9: B | B9: Município/UF | D9: SÃOJOSÉ DO NORTE/RS
A10: C | B10: Ano do Acordo, Convenção ou Dissídio Coletivo | D10: 2026/2027
A11: D | B11: Nº de meses de execução contratual | D11: 12
A13: Identificação do Serviço
A14: Tipo de Serviço | C14: Unidade de Medida | D14: Qtde total a contratar (em função da unidade de medida)
A15: SERVIÇO DE URGÊNCIA E EMERGÊNCIA | C15: 1 | D15: 1
A17: MÓDULOS DE MÃO DE OBRA VINCULADA À EXECUÇÃO CONTRATUAL
A19: Dados para composição dos custos referentes à mão-de-obra
A20: 1 | B20: Tipo de serviço (mesmo serviço com características distintas) | D20: =RESUMO!B16 -> Mestre Ambulancha 12x36 noturno
A21: 2 | B21: Classificação Brasileira de Ocupações (CBO) | D21: =RESUMO!C16 -> 3412-10
A22: 3 | B22: Salário Nominativo da Categoria Profissional | D22: 2972.48
A23: 4 | B23: Categoria profissional (vinculada à execução contratual) | D23: Mestre de Cabotagem
A24: 5 | B24: Data base da categoria (dia/mês/ano) | D24: 2026/2027
A26: 1 | B26: Módulo 1 - Composição da Remuneração | C26: % | D26: Valor (R$) | E26: SALÁRIO MÍNIMO NACIONAL
A27: A | B27: Salário Base | D27: =D22 -> 2972.48 | E27: 1621
A28: B | B28: Adicional de Periculosidade | D28: =C28*D27 -> 0 | E28: = Salario base x % de periculosidade
A29: C | B29: Adicional de Insalubridade | C29: 0.3 | D29: =C29*E27 -> 486.3 | E29: = Salario minimo x % de insalubridade
A30: D | B30: Adicional Noturno (22h às 5h) Horas: | C30: 7 | D30: =IF(C30="",0,C30*15.2*((D27+D28)/220)*0.2) -> 287.51988 | E30: = Horas de adicional noturno x qtde de dias no mês x ((salario base + periculosidade)/220 horas) x 20% de adicional
A31: E | B31: Adicional de Hora Noturna Reduzida Horas: | C31: =IF(C30=8,"",IF(C30=7,1,"")) -> 1 | D31: =IF(C31<>1,0,1*15.2*(D27+D28)/220*0.2) -> 41.074269 | E31: = 1 hora noturna reduzida x qtde de dias no mês x ((salario base + periculosidade)/220 horas) x 20% de adicional (Somente se for considerado 7 horas de adicional noturno)
A32: F | B32: Gratificaçã de Função (RT) | D32: 0
A33: Total da Remuneração | D33: =TRUNC(SUM(D27:D32),2) -> 3787.37
A34: Nota 1: O Módulo 1 refere-se ao valor mensal devido ao empregado pela prestação do serviço no período de 12 meses.
A36: Módulo 2: Encargos e Benefícios Anuais, Mensais e Diários
A38: 2.1 | B38: 13º Salário, Férias e Adicional de Férias | C38: % | D38: Valor (R$)
A39: A | B39: 13 (Décimo-terceiro) salário | C39: =1/12 -> 0.083333333 | D39: =$D$33*C39 -> 315.61417 | E39: [(1/12) x 100] = 1 Remuneração/12
A40: B | B40: Adicional de Férias | C40: =(5/55)/3 -> 0.03030303 | D40: =$D$33*C40 -> 114.76879
A41: Subtotal | D41: =SUM(D39:D40) -> 430.38295
A42: C | B42: Incidência dos encargos previstos no submódulo 2.2 sobre o item 2.1 | C42: =C58 -> 0.408 | D42: =D41*C42 -> 175.59625 | E42: = Percentual total do submódulo 2.2
A43: Total | D43: =TRUNC(SUM(D41:D42),2) -> 605.97
A44: Nota 1: Como a planilha de custos e formação de preços é calculada mensalmente, provisiona-se proporcionalmente 1/12 (um doze avos) dos valores referentes a gratificação natalina, férias e adicional de férias. (Redação dada pela Instrução Normativa nº 7, de 2018)
A45: Nota 2: O adicional de férias contido no Submódulo 2.1 corresponde a 1/3 (um terço) da remuneração que por sua vez é divido por 12 (doze) conforme Nota 1 acima.
A46: Nota 3: Levando em consideração a vigência contratual prevista no art. 57 da Lei nº 8.666, de 23 de junho de 1993, a rubrica férias tem como objetivo principal suprir a necessidade do pagamento das férias remuneradas ao final do contrato de 12 meses. Esta rubrica, quando da prorrogação contratual, torna-se custo não renovável. (Incluído pela Instrução Normativa nº 7, de 2018)
A48: 2.2 | B48: Encargos Previdenciário (GPS), Fundo de garantia por tempo de Serviço ( FGTS) e outras Contribuições | C48: % | D48: Valor (R$)
...

Sheet Mestre 12x36 Diurno
A1: PLANILHA DE CUSTO E FORMAÇÃO DE PREÇO - IN 05/2017 (atualizada pela IN 07/2018)
A2: SERVIÇO DE URGÊNCIA E EMERGÊNCIA
A3: Nº do processo:
A4: Nº da Licitação:
A5: Data / hora:
A7: Discriminação dos serviços ( dados referentes à contratação)
A8: A | B8: Data de apresentação da proposta (dia/mês/ano)
A9: B | B9: Município/UF | D9: SÃOJOSÉ DO NORTE/RS
A10: C | B10: Ano do Acordo, Convenção ou Dissídio Coletivo | D10: 2026/2027
A11: D | B11: Nº de meses de execução contratual | D11: 12
A13: Identificação do Serviço
A14: Tipo de Serviço | C14: Unidade de Medida | D14: Qtde total a contratar (em função da unidade de medida)
A15: SERVIÇO DE URGÊNCIA E EMERGÊNCIA | C15: 1 | D15: 1
A17: MÓDULOS DE MÃO DE OBRA VINCULADA À EXECUÇÃO CONTRATUAL
A19: Dados para composição dos custos referentes à mão-de-obra
A20: 1 | B20: Tipo de serviço (mesmo serviço com características distintas) | D20: =RESUMO!B16 -> Mestre Ambulancha 12x36 noturno
A21: 2 | B21: Classificação Brasileira de Ocupações (CBO) | D21: =RESUMO!C16 -> 3412-10
A22: 3 | B22: Salário Nominativo da Categoria Profissional | D22: 2972.48
A23: 4 | B23: Categoria profissional (vinculada à execução contratual) | D23: Mestre de Cabotagem
A24: 5 | B24: Data base da categoria (dia/mês/ano) | D24: 2026/2027
A26: 1 | B26: Módulo 1 - Composição da Remuneração | C26: % | D26: Valor (R$) | E26: SALÁRIO MÍNIMO NACIONAL
A27: A | B27: Salário Base | D27: =D22 -> 2972.48 | E27: 1621
A28: B | B28: Adicional de Periculosidade | D28: =C28*D27 -> 0 | E28: = Salario base x % de periculosidade
A29: C | B29: Adicional de Insalubridade | C29: 0.3 | D29: =C29*E27 -> 486.3 | E29: = Salario minimo x % de insalubridade
A30: D | B30: Adicional Noturno (22h às 5h) Horas: | C30: 0 | D30: =IF(C30="",0,C30*15.2*((D27+D28)/220)*0.2) -> 0 | E30: = Horas de adicional noturno x qtde de dias no mês x ((salario base + periculosidade)/220 horas) x 20% de adicional
A31: E | B31: Adicional de Hora Noturna Reduzida Horas: | C31: =IF(C30=8,"",IF(C30=7,1,"")) | D31: =IF(C31<>1,0,1*15.2*(D27+D28)/220*0.2) -> 0 | E31: = 1 hora noturna reduzida x qtde de dias no mês x ((salario base + periculosidade)/220 horas) x 20% de adicional (Somente se for considerado 7 horas de adicional noturno)
A32: F | B32: Gratificaçã de Função (RT) | D32: 0
A33: Total da Remuneração | D33: =TRUNC(SUM(D27:D32),2) -> 3458.78
A34: Nota 1: O Módulo 1 refere-se ao valor mensal devido ao empregado pela prestação do serviço no período de 12 meses.
A36: Módulo 2: Encargos e Benefícios Anuais, Mensais e Diários
A38: 2.1 | B38: 13º Salário, Férias e Adicional de Férias | C38: % | D38: Valor (R$)
A39: A | B39: 13 (Décimo-terceiro) salário | C39: =1/12 -> 0.083333333 | D39: =$D$33*C39 -> 288.23167 | E39: [(1/12) x 100] = 1 Remuneração/12
A40: B | B40: Adicional de Férias | C40: =(5/55)/3 -> 0.03030303 | D40: =$D$33*C40 -> 104.81152
A41: Subtotal | D41: =SUM(D39:D40) -> 393.04318
A42: C | B42: Incidência dos encargos previstos no submódulo 2.2 sobre o item 2.1 | C42: =C58 -> 0.408 | D42: =D41*C42 -> 160.36162 | E42: = Percentual total do submódulo 2.2
A43: Total | D43: =TRUNC(SUM(D41:D42),2) -> 553.4
A44: Nota 1: Como a planilha de custos e formação de preços é calculada mensalmente, provisiona-se proporcionalmente 1/12 (um doze avos) dos valores referentes a gratificação natalina, férias e adicional de férias. (Redação dada pela Instrução Normativa nº 7, de 2018)
A45: Nota 2: O adicional de férias contido no Submódulo 2.1 corresponde a 1/3 (um terço) da remuneração que por sua vez é divido por 12 (doze) conforme Nota 1 acima.
A46: Nota 3: Levando em consideração a vigência contratual prevista no art. 57 da Lei nº 8.666, de 23 de junho de 1993, a rubrica férias tem como objetivo principal suprir a necessidade do pagamento das férias remuneradas ao final do contrato de 12 meses. Esta rubrica, quando da prorrogação contratual, torna-se custo não renovável. (Incluído pela Instrução Normativa nº 7, de 2018)
A48: 2.2 | B48: Encargos Previdenciário (GPS), Fundo de garantia por tempo de Serviço ( FGTS) e outras Contribuições | C48: % | D48: Valor (R$)
...

Sheet Moço de Convés 12x36 Noturno
A1: PLANILHA DE CUSTO E FORMAÇÃO DE PREÇO - IN 05/2017 (atualizada pela IN 07/2018)
A2: SERVIÇO DE URGÊNCIA E EMERGÊNCIA
A3: Nº do processo:
A4: Nº da Licitação:
A5: Data / hora:
A7: Discriminação dos serviços ( dados referentes à contratação)
A8: A | B8: Data de apresentação da proposta (dia/mês/ano)
A9: B | B9: Município/UF | D9: SÃOJOSÉ DO NORTE/RS
A10: C | B10: Ano do Acordo, Convenção ou Dissídio Coletivo | D10: 2026/2027
A11: D | B11: Nº de meses de execução contratual | D11: 12
A13: Identificação do Serviço
A14: Tipo de Serviço | C14: Unidade de Medida | D14: Qtde total a contratar (em função da unidade de medida)
A15: SERVIÇO DE URGÊNCIA E EMERGÊNCIA | C15: 1 | D15: 1
A17: MÓDULOS DE MÃO DE OBRA VINCULADA À EXECUÇÃO CONTRATUAL
A19: Dados para composição dos custos referentes à mão-de-obra
A20: 1 | B20: Tipo de serviço (mesmo serviço com características distintas) | D20: =RESUMO!B19 -> Moço de convés 12x36 noturno
A21: 2 | B21: Classificação Brasileira de Ocupações (CBO) | D21: =RESUMO!C19 -> 7827-15
A22: 3 | B22: Salário Nominativo da Categoria Profissional | D22: 2377.98
A23: 4 | B23: Categoria profissional (vinculada à execução contratual) | D23: Moço de convés
A24: 5 | B24: Data base da categoria (dia/mês/ano) | D24: 2026/2027
A26: 1 | B26: Módulo 1 - Composição da Remuneração | C26: % | D26: Valor (R$) | E26: SALÁRIO MÍNIMO NACIONAL
A27: A | B27: Salário Base | D27: =D22 -> 2377.98 | E27: 1621
A28: B | B28: Adicional de Periculosidade | D28: =C28*D27 -> 0 | E28: = Salario base x % de periculosidade
A29: C | B29: Adicional de Insalubridade | C29: 0.3 | D29: =C29*E27 -> 486.3 | E29: = Salario minimo x % de insalubridade
A30: D | B30: Adicional Noturno (22h às 5h) Horas: | C30: 7 | D30: =IF(C30="",0,C30*15.2*((D27+D28)/220)*0.2) -> 230.01552 | E30: = Horas de adicional noturno x qtde de dias no mês x ((salario base + periculosidade)/220 horas) x 20% de adicional
A31: E | B31: Adicional de Hora Noturna Reduzida Horas: | C31: =IF(C30=8,"",IF(C30=7,1,"")) -> 1 | D31: =IF(C31<>1,0,1*15.2*(D27+D28)/220*0.2) -> 32.85936 | E31: = 1 hora noturna reduzida x qtde de dias no mês x ((salario base + periculosidade)/220 horas) x 20% de adicional (Somente se for considerado 7 horas de adicional noturno)
A32: F | B32: Gratificaçã de Função (RT) | D32: 0
A33: Total da Remuneração | D33: =TRUNC(SUM(D27:D32),2) -> 3127.15
A34: Nota 1: O Módulo 1 refere-se ao valor mensal devido ao empregado pela prestação do serviço no período de 12 meses.
A36: Módulo 2: Encargos e Benefícios Anuais, Mensais e Diários
A38: 2.1 | B38: 13º Salário, Férias e Adicional de Férias | C38: % | D38: Valor (R$)
A39: A | B39: 13 (Décimo-terceiro) salário | C39: =1/12 -> 0.083333333 | D39: =$D$33*C39 -> 260.59583 | E39: [(1/12) x 100] = 1 Remuneração/12
A40: B | B40: Adicional de Férias | C40: =(5/55)/3 -> 0.03030303 | D40: =$D$33*C40 -> 94.762121
A41: Subtotal | D41: =SUM(D39:D40) -> 355.35795
A42: C | B42: Incidência dos encargos previstos no submódulo 2.2 sobre o item 2.1 | C42: =C58 -> 0.408 | D42: =D41*C42 -> 144.98605 | E42: = Percentual total do submódulo 2.2
A43: Total | D43: =TRUNC(SUM(D41:D42),2) -> 500.34
A44: Nota 1: Como a planilha de custos e formação de preços é calculada mensalmente, provisiona-se proporcionalmente 1/12 (um doze avos) dos valores referentes a gratificação natalina, férias e adicional de férias. (Redação dada pela Instrução Normativa nº 7, de 2018)
A45: Nota 2: O adicional de férias contido no Submódulo 2.1 corresponde a 1/3 (um terço) da remuneração que por sua vez é divido por 12 (doze) conforme Nota 1 acima.
A46: Nota 3: Levando em consideração a vigência contratual prevista no art. 57 da Lei nº 8.666, de 23 de junho de 1993, a rubrica férias tem como objetivo principal suprir a necessidade do pagamento das férias remuneradas ao final do contrato de 12 meses. Esta rubrica, quando da prorrogação contratual, torna-se custo não renovável. (Incluído pela Instrução Normativa nº 7, de 2018)
A48: 2.2 | B48: Encargos Previdenciário (GPS), Fundo de garantia por tempo de Serviço ( FGTS) e outras Contribuições | C48: % | D48: Valor (R$)
...

Sheet Moço de Convés 12x36 Diurno
A1: PLANILHA DE CUSTO E FORMAÇÃO DE PREÇO - IN 05/2017 (atualizada pela IN 07/2018)
A2: SERVIÇO DE URGÊNCIA E EMERGÊNCIA
A3: Nº do processo:
A4: Nº da Licitação:
A5: Data / hora:
A7: Discriminação dos serviços ( dados referentes à contratação)
A8: A | B8: Data de apresentação da proposta (dia/mês/ano)
A9: B | B9: Município/UF | D9: SÃOJOSÉ DO NORTE/RS
A10: C | B10: Ano do Acordo, Convenção ou Dissídio Coletivo | D10: 2026/2027
A11: D | B11: Nº de meses de execução contratual | D11: 12
A13: Identificação do Serviço
A14: Tipo de Serviço | C14: Unidade de Medida | D14: Qtde total a contratar (em função da unidade de medida)
A15: SERVIÇO DE URGÊNCIA E EMERGÊNCIA | C15: 1 | D15: 1
A17: MÓDULOS DE MÃO DE OBRA VINCULADA À EXECUÇÃO CONTRATUAL
A19: Dados para composição dos custos referentes à mão-de-obra
A20: 1 | B20: Tipo de serviço (mesmo serviço com características distintas) | D20: =RESUMO!B19 -> Moço de convés 12x36 noturno
A21: 2 | B21: Classificação Brasileira de Ocupações (CBO) | D21: =RESUMO!C19 -> 7827-15
A22: 3 | B22: Salário Nominativo da Categoria Profissional | D22: 2377.98
A23: 4 | B23: Categoria profissional (vinculada à execução contratual) | D23: Moço de convés
A24: 5 | B24: Data base da categoria (dia/mês/ano) | D24: 2026/2027
A26: 1 | B26: Módulo 1 - Composição da Remuneração | C26: % | D26: Valor (R$) | E26: SALÁRIO MÍNIMO NACIONAL
A27: A | B27: Salário Base | D27: =D22 -> 2377.98 | E27: 1621
A28: B | B28: Adicional de Periculosidade | D28: =C28*D27 -> 0 | E28: = Salario base x % de periculosidade
A29: C | B29: Adicional de Insalubridade | C29: 0.3 | D29: =C29*E27 -> 486.3 | E29: = Salario minimo x % de insalubridade
A30: D | B30: Adicional Noturno (22h às 5h) Horas: | C30: 0 | D30: =IF(C30="",0,C30*15.2*((D27+D28)/220)*0.2) -> 0 | E30: = Horas de adicional noturno x qtde de dias no mês x ((salario base + periculosidade)/220 horas) x 20% de adicional
A31: E | B31: Adicional de Hora Noturna Reduzida Horas: | C31: =IF(C30=8,"",IF(C30=7,1,"")) | D31: =IF(C31<>1,0,1*15.2*(D27+D28)/220*0.2) -> 0 | E31: = 1 hora noturna reduzida x qtde de dias no mês x ((salario base + periculosidade)/220 horas) x 20% de adicional (Somente se for considerado 7 horas de adicional noturno)
A32: F | B32: Gratificaçã de Função (RT) | D32: 0
A33: Total da Remuneração | D33: =TRUNC(SUM(D27:D32),2) -> 2864.28
A34: Nota 1: O Módulo 1 refere-se ao valor mensal devido ao empregado pela prestação do serviço no período de 12 meses.
A36: Módulo 2: Encargos e Benefícios Anuais, Mensais e Diários
A38: 2.1 | B38: 13º Salário, Férias e Adicional de Férias | C38: % | D38: Valor (R$)
A39: A | B39: 13 (Décimo-terceiro) salário | C39: =1/12 -> 0.083333333 | D39: =$D$33*C39 -> 238.69 | E39: [(1/12) x 100] = 1 Remuneração/12
