Workbook
Name JR_PAGE_ANCHOR_0_1: orcamento!#REF!
Name VALOR_TOTAL: orcamento!$O$72

Sheet orcamento
C1: Obra | D1: Bancos: | H1: B.D.I: | L1: Encargos Sociais
C2: CERCAMENTO - EMEI ÊNIO SPIER Rua Antônio Schoeler, 2036 - Linha Imperial | D2: SINAPI - 08/2025 - RS SP Educação - 07/2025 - SP ORSE - 07/2025 - Sergipe EMOP - 06/2025 - RJ | H2: 0.2232 | L2: Não Desonerado: embutido nos preços unitário dos insumos de mão de obra, de acordo com as bases.
A3: Orçamento Sintético com Material e Mão de Obra
A4: ITEM | B4: CÓDIGO | C4: DESCRIÇÃO | D4: FONTE | E4: QTD | F4: UND | G4: CUSTO UNITÁRIO | I4: CUSTO TOTAL SEM BDI | L4: BDI % | M4: CUSTO TOTAL COM BDI | P4: PESO %
G5: Material R$ | H5: Mão de Obra R$ | I5: Material R$ | J5: Mao de Obra R$ | K5: Total (R$) | M5: Material R$ | N5: Mao de Obra R$ | O5: TOTAL (R$)
A6: 1 | B6: SERVIÇOS INICIAIS | K6: =SUM(K7:K9) -> 2047.0496 | O6: =ROUND(SUM(O7:O9),2) -> 2503.95 | P6: =SUM(P7:P9) -> 0.0070282878
A7: 1.1 | B7: 103689 | C7: FORNECIMENTO E INSTALAÇÃO DE PLACA DE OBRA COM CHAPA GALVANIZADA E ESTRUTURA DE MADEIRA. AF_03/2022_PS | D7: SINAPI | E7: 4 | F7: M2 | G7: 427.95 | H7: 30.71 | I7: =E7*G7 -> 1711.8 | J7: =E7*H7 -> 122.84 | K7: =I7+J7 -> 1834.64 | L7: 0.2232 | M7: =I7*1.2232 -> 2093.8738 | N7: =J7*1.2232 -> 150.25789 | O7: =M7+N7 -> 2244.1316 | P7: =O7/VALOR_TOTAL -> 0.0062990061
A8: 1.2 | B8: S12375 | C8: REMOÇÃO E REINSTALAÇÃO DE AR CONDICIONADO TIPO SPLIT | D8: ORSE | E8: 1 | F8: UN | G8: 35.25 | H8: 144.54 | I8: =E8*G8 -> 35.25 | J8: =E8*H8 -> 144.54 | K8: =I8+J8 -> 179.79 | L8: 0.2232 | M8: =I8*1.2232 -> 43.1178 | N8: =J8*1.2232 -> 176.80133 | O8: =M8+N8 -> 219.91913 | P8: =O8/VALOR_TOTAL -> 0.00061728639
A9: 1.3 | B9: S13334 | C9: RETIRADA MANUAL DE GRAMA COM REAPROVEITAMENTO | D9: ORSE | E9: 8.84 | F9: M2 | G9: 0.78 | H9: 2.91 | I9: =E9*G9 -> 6.8952 | J9: =E9*H9 -> 25.7244 | K9: =I9+J9 -> 32.6196 | L9: 0.2232 | M9: =I9*1.2232 -> 8.4342086 | N9: =J9*1.2232 -> 31.466086 | O9: =M9+N9 -> 39.900295 | P9: =O9/VALOR_TOTAL -> 0.0001119953
A10: 2 | B10: ESQUADRIAS PVC | K10: =K11+K13 -> 8787.6375 | O10: =ROUND(O11+O13,2) -> 10749.04 | P10: =P11+P13 -> 0.03017125
A11: 2.1 | B11: ESQUADRIA DA DESPENSA | K11: =SUM(K12) -> 124.3875 | O11: =ROUND(SUM(O12:O12),2) -> 152.15 | P11: =SUM(P12) -> 0.00042706886
A12: 2.1.1 | B12: 14.003.0400-A | C12: TELA TIPO MOSQUITEIRO, EM POLIETILENO, COM MOLDURA EM PERFIL DE ALUMINIO ANODIZADO.FORNECIMENTO E COLOCACAO | D12: EMOP | E12: 1.07 | F12: M2 | G12: 78.99 | H12: 37.26 | I12: =E12*G12 -> 84.5193 | J12: =E12*H12 -> 39.8682 | K12: =I12+J12 -> 124.3875 | L12: 0.2232 | M12: =I12*1.2232 -> 103.38401 | N12: =J12*1.2232 -> 48.766782 | O12: =M12+N12 -> 152.15079 | P12: =O12 / VALOR_TOTAL -> 0.00042706886
A13: 2.2 | B13: ESQUADRIA PVC DO BERÇÁRIO | K13: =SUM(K14) -> 8663.25 | O13: =ROUND(SUM(O14:O14),2) -> 10596.89 | P13: =SUM(P14) -> 0.029744181
A14: 2.2.1 | B14: 1 | C14: ESQUADRIA EM PVC, 1 FOLHA PORTA DE ABRIR 90CM, 1 FOLHA ABERTURA MÁXIMO AR, 1 BANDEIRA INFERIOR FIXA E 2 BANDEIRAS SUPERIORES FIXAS - VÃO 2,00X3,13M - FORNECIMENTO E INSTALAÇÃO | D14: PRÓPRIO | E14: 1 | F14: UN. | G14: 8663.25 | H14: 0 | I14: =E14*G14 -> 8663.25 | J14: =E14*H14 -> 0 | K14: =I14+J14 -> 8663.25 | L14: 0.2232 | M14: =I14*1.2232 -> 10596.887 | N14: =J14*1.2232 -> 0 | O14: =SUM(M14:N14) -> 10596.887 | P14: =O14/VALOR_TOTAL -> 0.029744181
A15: 3 | B15: PAVIMENTAÇÃO | K15: =SUM(K16:K22) -> 7743.6929 | O15: =ROUND(SUM(O16:O22),2) -> 9472.09 | P15: =SUM(P16:P22) -> 0.026586997
A16: 3.1 | B16: 13.02.019 | C16: LADRILHO HIDRAULICO 25X25 E=2CM - PISO TATIL DE ALERTA | D16: SP EDUCAÇÃO | E16: 2.25 | F16: M2 | G16: 120.86 | H16: 26.94 | I16: =E16*G16 -> 271.935 | J16: =E16*H16 -> 60.615 | K16: =I16+J16 -> 332.55 | L16: 0.2232 | M16: =I16*1.2232 -> 332.63089 | N16: =J16*1.2232 -> 74.144268 | O16: =SUM(M16:N16) -> 406.77516 | P16: =O16/VALOR_TOTAL -> 0.0011417687
A17: 3.2 | B17: 13.02.020 | C17: LADRILHO HIDRAULICO 25X25 E=2CM - PISO TATIL DIRECIONAL | D17: SP EDUCAÇÃO | E17: 1.25 | F17: M2 | G17: 121.71 | H17: 26.94 | I17: =E17*G17 -> 152.1375 | J17: =E17*H17 -> 33.675 | K17: =I17+J17 -> 185.8125 | L17: 0.2232 | M17: =I17*1.2232 -> 186.09459 | N17: =J17*1.2232 -> 41.19126 | O17: =SUM(M17:N17) -> 227.28585 | P17: =O17/VALOR_TOTAL -> 0.00063796389
A18: 3.3 | B18: - | C18: PAVIMENTO EM PLACAS EMBORRACHADAS DRENANTE, ANTIDERRAPANTE, PROTEÇÃO UV, NÃO QUEIMA DURANTE A QUEDA | D18: PRÓPRIO | E18: 17.1 | F18: M2 | G18: 195 | H18: 0 | I18: =E18*G18 -> 3334.5 | J18: =E18*H18 -> 0 | K18: =I18+J18 -> 3334.5 | L18: 0.2232 | M18: =I18*1.2232 -> 4078.7604 | N18: =J18*1.2232 -> 0 | O18: =SUM(M18:N18) -> 4078.7604 | P18: =O18/VALOR_TOTAL -> 0.011448587
A19: 3.4 | B19: S04639 | C19: SOLEIRA EM GRANITO CINZA ANDORINHA, L = 22 CM, E = 2 CM | D19: ORSE | E19: 2.1 | F19: M | G19: 133.87 | H19: 13.43 | I19: =E19*G19 -> 281.127 | J19: =E19*H19 -> 28.203 | K19: =I19+J19 -> 309.33 | L19: 0.2232 | M19: =I19*1.2232 -> 343.87455 | N19: =J19*1.2232 -> 34.49791 | O19: =SUM(M19:N19) -> 378.37246 | P19: =O19/VALOR_TOTAL -> 0.0010620457
A20: 3.5 | B20: S92392S | C20: EXECUÇÃO DE PAVIMENTO EM PISO INTERTRAVADO, COM BLOCO PISOGRAMA DE 35 X 15 CM, ESPESSURA 8 CM. AF_10/2022 | D20: ORSE | E20: 9.28 | F20: M2 | G20: 92.25 | H20: 3.68 | I20: =E20*G20 -> 856.08 | J20: =E20*H20 -> 34.1504 | K20: =I20+J20 -> 890.2304 | L20: 0.2232 | M20: =I20*1.2232 -> 1047.1571 | N20: =J20*1.2232 -> 41.772769 | O20: =SUM(M20:N20) -> 1088.9298 | P20: =O20/VALOR_TOTAL -> 0.0030564943
A21: 3.6 | B21: S87644S | C21: Contrapiso em argamassa pronta, preparo manual, aplicado em áreas secas sobre laje, aderido, acabamento não reforçado, espessura 4cm. af_07/2021 | D21: ORSE | E21: 17 | F21: M2 | G21: 126.48 | H21: 17.95 | I21: =E21*G21 -> 2150.16 | J21: =E21*H21 -> 305.15 | K21: =I21+J21 -> 2455.31 | L21: 0.2232 | M21: =I21*1.2232 -> 2630.0757 | N21: =J21*1.2232 -> 373.25948 | O21: =SUM(M21:N21) -> 3003.3352 | P21: =O21/VALOR_TOTAL -> 0.0084299986
A22: 3.7 | B22: 13.80.032 | C22: Tela q-92 para piso de concreto - BDI = 23,00 | D22: SP Educação | E22: 17 | F22: M2 | G22: 12.3 | H22: 1.58 | I22: =E22*G22 -> 209.1 | J22: =E22*H22 -> 26.86 | K22: =I22+J22 -> 235.96 | L22: 0.2232 | M22: =I22*1.2232 -> 255.77112 | N22: =J22*1.2232 -> 32.855152 | O22: =SUM(M22:N22) -> 288.62627 | P22: =O22/VALOR_TOTAL -> 0.00081013903
A23: 4 | B23: COBERTURA ENTRADA | K23: =SUM(K24:K32) -> 23333.056 | O23: =ROUND(SUM(O24:O32),2) -> 28540.99 | P23: =SUM(P24:P32) -> 0.080111118
A24: 4.1 | B24: S13948 | C24: REVESTIMENTO EM ACM, COR AÇO CORTEN, CINZA ESCURO E PRATA, COM ESPESSURA DE 4MM, COM ESTRUTURA AUXILIAR DE ALUMÍNIO, COM JUNTA SECA, CONFORME PROJETO. OBRA - REFORMA TCE-SE | D24: ORSE | E24: 16.22 | F24: M2 | G24: 980 | H24: 0 | I24: =E24*G24 -> 15895.6 | J24: =E24*H24 -> 0 | K24: =I24+J24 -> 15895.6 | L24: 0.2232 | M24: =I24*1.2232 -> 19443.498 | N24: =J24*1.2232 -> 0 | O24: =SUM(M24:N24) -> 19443.498 | P24: =O24/VALOR_TOTAL -> 0.054575547
A25: 4.2 | B25: 08.12.034 | C25: RUFO EM CHAPA GALVANIZADA N 24 - CORTE 0,50 M | D25: SP EDUCAÇÃO | E25: 4.25 | F25: M | G25: 72.99 | H25: 30.58 | I25: =E25*G25 -> 310.2075 | J25: =E25*H25 -> 129.965 | K25: =I25+J25 -> 440.1725 | L25: 0.2232 | M25: =I25*1.2232 -> 379.44581 | N25: =J25*1.2232 -> 158.97319 | O25: =SUM(M25:N25) -> 538.419 | P25: =O25/VALOR_TOTAL -> 0.001511277
A26: 4.3 | B26: 96523 | C26: ESCAVAÇÃO MANUAL PARA BLOCO DE COROAMENTO OU SAPATA (INCLUINDO ESCAVAÇÃO PARA COLOCAÇÃO DE FÔRMAS). AF_01/2024 | D26: SINAPI | E26: 1.73 | F26: M3 | G26: 24.51 | H26: 71.37 | I26: =E26*G26 -> 42.4023 | J26: =E26*H26 -> 123.4701 | K26: =I26+J26 -> 165.8724 | L26: 0.2232 | M26: =I26*1.2232 -> 51.866493 | N26: =J26*1.2232 -> 151.02863 | O26: =SUM(M26:N26) -> 202.89512 | P26: =O26/VALOR_TOTAL -> 0.00056950206
A27: 4.4 | B27: 101174 | C27: ESTACA BROCA DE CONCRETO, DIÂMETRO DE 25CM, ESCAVAÇÃO MANUAL COM TRADO CONCHA, COM ARMADURA DE ARRANQUE. AF_05/2020 | D27: SINAPI | E27: 4.8 | F27: M | G27: 51.87 | H27: 35.36 | I27: =E27*G27 -> 248.976 | J27: =E27*H27 -> 169.728 | K27: =I27+J27 -> 418.704 | L27: 0.2232 | M27: =I27*1.2232 -> 304.54744 | N27: =J27*1.2232 -> 207.61129 | O27: =SUM(M27:N27) -> 512.15873 | P27: =O27/VALOR_TOTAL -> 0.0014375676
A28: 4.5 | B28: 104919 | C28: ARMAÇÃO DE SAPATA ISOLADA, VIGA BALDRAME E SAPATA CORRIDA UTILIZANDO AÇO CA-50 DE 10 MM - MONTAGEM. AF_01/2024 | D28: SINAPI | E28: 90 | F28: KG | G28: 10.87 | H28: 2.4 | I28: =E28*G28 -> 978.3 | J28: =E28*H28 -> 216 | K28: =I28+J28 -> 1194.3 | L28: 0.2232 | M28: =I28*1.2232 -> 1196.6566 | N28: =J28*1.2232 -> 264.2112 | O28: =SUM(M28:N28) -> 1460.8678 | P28: =O28/VALOR_TOTAL -> 0.0041004791
A29: 4.6 | B29: S13753 | C29: CALHA EM CHAPA DE ALUMINIO, DESENVOLVIMENTO 80CM, ESP. = 0,7MM | D29: ORSE | E29: 2.2 | F29: M | G29: 204.3 | H29: 42.01 | I29: =E29*G29 -> 449.46 | J29: =E29*H29 -> 92.422 | K29: =I29+J29 -> 541.882 | L29: 0.2232 | M29: =I29*1.2232 -> 549.77947 | N29: =J29*1.2232 -> 113.05059 | O29: =SUM(M29:N29) -> 662.83006 | P29: =O29/VALOR_TOTAL -> 0.0018604838
A30: 4.7 | B30: 89578 | C30: TUBO PVC, SÉRIE R, ÁGUA PLUVIAL, DN 100 MM, FORNECIDO E INSTALADO EM CONDUTORES VERTICAIS DE ÁGUAS PLUVIAIS. AF_06/2022 | D30: SINAPI | E30: 3.5 | F30: M | G30: 33.08 | H30: 2.91 | I30: =E30*G30 -> 115.78 | J30: =E30*H30 -> 10.185 | K30: =I30+J30 -> 125.965 | L30: 0.2232 | M30: =I30*1.2232 -> 141.6221 | N30: =J30*1.2232 -> 12.458292 | O30: =SUM(M30:N30) -> 154.08039 | P30: =O30/VALOR_TOTAL -> 0.00043248501
A31: 4.8 | B31: S09961 | C31: TELHAMENTO COM TELHA METÁLICA EM CHAPA DE AÇO GALVANIZADO NATURAL ONDULADA E=0,5MM | D31: ORSE | E31: 17 | F31: M² | G31: 65.17 | H31: 13.43 | I31: =E31*G31 -> 1107.89 | J31: =E31*H31 -> 228.31 | K31: =I31+J31 -> 1336.2 | L31: 0.2232 | M31: =I31*1.2232 -> 1355.171 | N31: =J31*1.2232 -> 279.26879 | O31: =SUM(M31:N31) -> 1634.4398 | P31: =O31/VALOR_TOTAL -> 0.0045876749
A32: 4.9 | B32: S12509 | C32: ESTRUTURA METÁLICA P/ COBERTURA C/VIGAS-TRELIÇA PRATT E TERÇAS EM UDC 127, 2 ÁGUAS, SEM LANTERNIN, VÃOS 10,01 A 20,0M, PINTADA 1 D OXIDO FERRO + 2 D ESMALTE EPÓXI BRANCO, EXCETO FORN. TELHAS - EXECUTADA | D32: ORSE | E32: 17 | F32: M2 | G32: 143.56 | H32: 45.52 | I32: =E32*G32 -> 2440.52 | J32: =E32*H32 -> 773.84 | K32: =I32+J32 -> 3214.36 | L32: 0.2232 | M32: =I32*1.2232 -> 2985.2441 | N32: =J32*1.2232 -> 946.56109 | O32: =SUM(M32:N32) -> 3931.8052 | P32: =O32/VALOR_TOTAL -> 0.011036101
A33: 5 | B33: ESTRUTURAS CERCAS/GRADES | K33: =K34+K42+K47 -> 42766.195 | O33: =ROUND(O34+O42+O47,2) -> 52311.61 | P33: =P34+P42+P47 -> 0.14683236
A34: 5.1 | B34: BASE CERCA/GRADIL H = 2,50M | K34: =SUM(K35:K41) -> 30374.467 | O34: =ROUND(SUM(O35:O41),2) -> 37154.05 | P34: =SUM(P35:P41) -> 0.10428692
A35: 5.1.1 | B35: 96527 | C35: ESCAVAÇÃO MANUAL PARA VIGA BALDRAME OU SAPATA CORRIDA (INCLUINDO ESCAVAÇÃO PARA COLOCAÇÃO DE FÔRMAS). AF_01/2024 | D35: SINAPI | E35: =13.18+2.95 -> 16.13 | F35: M3 | G35: 27.06 | H35: 78.54 | I35: =E35*G35 -> 436.4778 | J35: =E35*H35 -> 1266.8502 | K35: =I35+J35 -> 1703.328 | L35: 0.2232 | M35: =I35*1.2232 -> 533.89964 | N35: =J35*1.2232 -> 1549.6112 | O35: =M35+N35 -> 2083.5108 | P35: =O35 / VALOR_TOTAL -> 0.0058481628
A36: 5.1.2 | B36: 96533 | C36: FABRICAÇÃO, MONTAGEM E DESMONTAGEM DE FÔRMA PARA VIGA BALDRAME, EM MADEIRA SERRADA, E=25 MM, 2 UTILIZAÇÕES. AF_01/2024 | D36: SINAPI | E36: 92.64 | F36: M2 | G36: 48.67 | H36: 37.54 | I36: =E36*G36 -> 4508.7888 | J36: =E36*H36 -> 3477.7056 | K36: =I36+J36 -> 7986.4944 | L36: 0.2232 | M36: =I36*1.2232 -> 5515.1505 | N36: =J36*1.2232 -> 4253.9295 | O36: =M36+N36 -> 9769.08 | P36: =O36 / VALOR_TOTAL -> 0.027420626
A37: 5.1.3 | B37: 104919 | C37: ARMAÇÃO DE SAPATA ISOLADA, VIGA BALDRAME E SAPATA CORRIDA UTILIZANDO AÇO CA-50 DE 10 MM - MONTAGEM. AF_01/2024 | D37: SINAPI | E37: 371.32 | F37: KG | G37: 10.87 | H37: 2.4 | I37: =E37*G37 -> 4036.2484 | J37: =E37*H37 -> 891.168 | K37: =I37+J37 -> 4927.4164 | L37: 0.2232 | M37: =I37*1.2232 -> 4937.139 | N37: =J37*1.2232 -> 1090.0767 | O37: =M37+N37 -> 6027.2157 | P37: =O37 / VALOR_TOTAL -> 0.016917665
A38: 5.1.4 | B38: 96555 | C38: CONCRETAGEM DE BLOCO DE COROAMENTO OU VIGA BALDRAME, FCK 30 MPA, COM USO DE JERICA - LANÇAMENTO, ADENSAMENTO E ACABAMENTO. AF_01/2024 | D38: SINAPI | E38: 13.18 | F38: M3 | G38: 622.93 | H38: 176.64 | I38: =E38*G38 -> 8210.2174 | J38: =E38*H38 -> 2328.1152 | K38: =I38+J38 -> 10538.333 | L38: 0.2232 | M38: =I38*1.2232 -> 10042.738 | N38: =J38*1.2232 -> 2847.7505 | O38: =M38+N38 -> 12890.488 | P38: =O38 / VALOR_TOTAL -> 0.036182042
A39: 5.1.5 | B39: 94263 | C39: GUIA (MEIO-FIO) CONCRETO, MOLDADA IN LOCO EM TRECHO RETO COM EXTRUSORA, 13 CM BASE X 22 CM ALTURA. AF_01/2024 | D39: SINAPI | E39: 18.4 | F39: M | G39: 23.02 | H39: 12.64 | I39: =E39*G39 -> 423.568 | J39: =E39*H39 -> 232.576 | K39: =I39+J39 -> 656.144 | L39: 0.2232 | M39: =I39*1.2232 -> 518.10838 | N39: =J39*1.2232 -> 284.48696 | O39: =M39+N39 -> 802.59534 | P39: =O39 / VALOR_TOTAL -> 0.002252788
A40: 5.1.6 | B40: 101174 | C40: ESTACA BROCA DE CONCRETO, DIÂMETRO DE 25CM, ESCAVAÇÃO MANUAL COM TRADO CONCHA, COM ARMADURA DE ARRANQUE. AF_05/2020 | D40: SINAPI | E40: 44.8 | F40: M | G40: 51.87 | H40: 37.56 | I40: =E40*G40 -> 2323.776 | J40: =E40*H40 -> 1682.688 | K40: =I40+J40 -> 4006.464 | L40: 0.2232 | M40: =I40*1.2232 -> 2842.4428 | N40: =J40*1.2232 -> 2058.264 | O40: =M40+N40 -> 4900.7068 | P40: =O40 / VALOR_TOTAL -> 0.013755691
...

Sheet cronograma
B1: Obra: | E1: Bancos: | F1: B.D.I: | G1: Encargos Sociais:
B2: CERCAMENTO EMEI ÊNIO SPIER Rua Antônio Schoeler, 2036 Linha Imperial | E2: SINAPI - 08/2025 - RS SP Educação - 07/2025 - SP ORSE - 07/2025 - Sergipe EMOP - 06/2025 - RJ | F2: 0.2232 | G2: Não Desonerado: embutido nos preços unitário dos insumos de mão de obra, de acordo com as bases.
A3: Cronograma físico-financeiro
A4: ITEM | B4: DESCRIÇÃO | C4: VALOR (R$) | D4: MÊS 1 | E4: MÊS 2 | F4: MÊS 3 | G4: Total parcela
A5: 1 | B5: SERVIÇOS INICIAIS | C5: =orcamento!O6 -> 2503.95 | D5: 1 | G5: =SUM(D5:F5) -> 1
D6: =C5*1 -> 2503.95 | E6: =IF(E5>0,IF(AND(SUM(D5:E5)=1,G5=1),C5-SUM(D6:D6),ROUND(C5*E5,2)),"") | F6: =IF(F5>0,IF(AND(SUM(D5:F5)=1,G5=1),C5-SUM(D6:E6),ROUND(C5*F5,2)),"") | G6: =SUM(D6:F6) -> 2503.95
A7: 2 | B7: ESQUADRIAS PVC | C7: =orcamento!O10 -> 10749.04 | F7: 1 | G7: =SUM(D7:F7) -> 1
D8: =IF(D7>0,ROUND(C7*D7,2),"") | E8: =IF(E7>0,IF(AND(SUM(D7:E7)=1,G7=1),C7-SUM(D8:D8),ROUND(C7*E7,2)),"") | F8: =C7*1 -> 10749.04 | G8: =SUM(D8:F8) -> 10749.04
A9: 3 | B9: PAVIMENTAÇÃO | C9: =orcamento!O15 -> 9472.09 | D9: 0.5 | E9: 0.5 | G9: =SUM(D9:F9) -> 1
D10: =C9*0.5 -> 4736.045 | E10: =C9*0.5 -> 4736.045 | F10: =IF(F9>0,IF(AND(SUM(D9:F9)=1,G9=1),C9-SUM(D10:E10),ROUND(C9*F9,2)),"") | G10: =SUM(D10:F10) -> 9472.09
A11: 4 | B11: COBERTURA ENTRADA | C11: =orcamento!O23 -> 28540.99 | D11: 0.2 | E11: 0.4 | F11: 0.4 | G11: =SUM(D11:F11) -> 1
D12: =C11*0.2 -> 5708.198 | E12: =C11*0.4 -> 11416.396 | F12: =C11*0.4 -> 11416.396 | G12: =SUM(D12:F12) -> 28540.99
A13: 5 | B13: ESTRUTURAS CERCAS/GRADES | C13: =orcamento!O33 -> 52311.61 | D13: 0.5 | E13: 0.4 | F13: 0.1 | G13: =SUM(D13:F13) -> 1
D14: =C13*0.5 -> 26155.805 | E14: =C13*0.4 -> 20924.644 | F14: =C13*0.1 -> 5231.161 | G14: =SUM(D14:F14) -> 52311.61
A15: 6 | B15: INSTALAÇÕES | C15: =orcamento!O53 -> 2472.3 | E15: 0.5 | F15: 0.5 | G15: =SUM(D15:F15) -> 1
D16: =IF(D15>0,ROUND(C15*D15,2),"") | E16: =C15*0.5 -> 1236.15 | F16: =C15*0.5 -> 1236.15 | G16: =SUM(D16:F16) -> 2472.3
A17: 7 | B17: CERCAMENTO | C17: =orcamento!O59 -> 249309.99 | D17: 0.33 | E17: 0.33 | F17: 0.34 | G17: =SUM(D17:F17) -> 1
D18: =C17*0.33 -> 82272.297 | E18: =C17*0.33 -> 82272.297 | F18: =C17*0.34 -> 84765.397 | G18: =SUM(D18:F18) -> 249309.99
A19: 8 | B19: LIMPEZA GERAL | C19: =orcamento!O66 -> 907.61 | F19: 1 | G19: =SUM(D19:F19) -> 1
D20: =IF(D19>0,ROUND(C19*D19,2),"") | E20: =IF(E19>0,IF(AND(SUM(D19:E19)=1,G19=1),C19-SUM(D20:D20),ROUND(C19*E19,2)),"") | F20: =C19*1 -> 907.61 | G20: =SUM(D20:F20) -> 907.61
B21: TOTAIS | C21: =SUM(C5,C7,C9,C11,C13,C15,C17,C19) -> 356267.58 | D21: =D6+D10+D12+D14+D18 -> 121376.29 | E21: =SUM(E6,E8,E10,E12,E14,E16,E18,E20) -> 120585.53 | F21: =SUM(F6,F8,F10,F12,F14,F16,F18,F20) -> 114305.75 | G21: =G6+G8+G10+G12+G14+G16+G18+G20 -> 356267.58
B22: Total Acumulado | D22: =D21+C22 -> 121376.29 | E22: =E21+D22 -> 241961.83 | F22: =F21+E22 -> 356267.58
E26: Nova Petrópolis, 29 de setembro de 2025.
A27: ______________________________________________________________ Cristina Alves Tavares Arquiteta e Urbanista - CAU A339679 Secretaria de Planejamento, Coordenação, Trânsito e Habitação
