Workbook
Name JR_PAGE_ANCHOR_0_1: PO!$A$5

Sheet PO
C2: PREFEITURA MUNICIPAL DE NOVA PETRÓPOLIS | F2: OBRA: | G2: Pavimentação da Rua Emílio Dinnebier Filho - TERRAPLENAGEM, PAVIMENTAÇÃO E DRENAGEM | L2: BDI 1: | M2: 0.2338
C3: SECRETARIA DE PLANEJAMENTO, COORDENAÇÃO, TRÂNSITO E HABITAÇÃO | L3: BDI 2: | M3: -
F4: LOCAL: | G4: LINHA BRASIL | L4: LEIS SOCIAIS: | M4: 1.1284
A6: ITEM | B6: CÓDIGO | C6: DESCRIÇÃO | D6: FONTE | E6: UNIDADE | F6: QTD | G6: CUSTO DIRETO (R$) | J6: BDI (%) | K6: CUSTO DIRETO C/BDI (R$)
G7: MÃO DE OBRA SEM BDI | H7: MATERIAL SEM BDI | I7: PREÇO UNITÁRIO SEM BDI | K7: MÃO DE OBRA COM BDI | L7: MATERIAL COM BDI | M7: TOTAL COM BDI
A8: 1 | B8: PAVIMENTAÇÃO E DRENAGEM DA RUA EMÍLIO DINEBIER - FASE 5 | L8: DATA BASE: | M8: 45962
A9: 1.1 | B9: 90777 | C9: ENGENHEIRO CIVIL DE OBRA JUNIOR (HORISTA) | D9: SINAPI | E9: H | F9: 22 | G9: 126.67 | H9: 2.29 | I9: =G9+H9 -> 128.96 | J9: 0.2338 | K9: =ROUND((F9*G9)*(1+J9),2) -> 3438.28 | L9: =ROUND((F9*H9)*(1+J9),2) -> 62.16 | M9: =K9+L9 -> 3500.44
A10: 1.2 | B10: 103689 | C10: FORNECIMENTO E INSTALAÇÃO DE PLACA DE OBRA COM CHAPA GALVANIZADA E ESTRUTURA DE MADEIRA. AF_03/2022_PS | D10: SINAPI | E10: M2 | F10: 6.84 | G10: 32.42 | H10: 426.93 | I10: =G10+H10 -> 459.35 | J10: 0.2338 | K10: =ROUND((F10*G10)*(1+J10),2) -> 273.6 | L10: =ROUND((F10*H10)*(1+J10),2) -> 3602.94 | M10: =K10+L10 -> 3876.54
A11: 1.3 | B11: 103689 | C11: FORNECIMENTO E INSTALAÇÃO DE PLACA DE OBRA COM CHAPA GALVANIZADA E ESTRUTURA DE MADEIRA. AF_03/2022_PS | D11: SINAPI | E11: M2 | F11: 2 | G11: 32.42 | H11: 426.93 | I11: =G11+H11 -> 459.35 | J11: 0.2338 | K11: =ROUND((F11*G11)*(1+J11),2) -> 80 | L11: =ROUND((F11*H11)*(1+J11),2) -> 1053.49 | M11: =K11+L11 -> 1133.49
A12: 1.4 | B12: 90781 | C12: TOPOGRAFO COM ENCARGOS COMPLEMENTARES | D12: SINAPI | E12: H | F12: 8 | G12: 39.26 | H12: 2.3 | I12: =G12+H12 -> 41.56 | J12: 0.2338 | K12: =ROUND((F12*G12)*(1+J12),2) -> 387.51 | L12: =ROUND((F12*H12)*(1+J12),2) -> 22.7 | M12: =K12+L12 -> 410.21
A13: 1.5 | B13: 88253 | C13: AUXILIAR DE TOPÓGRAFO COM ENCARGOS COMPLEMENTARES | D13: SINAPI | E13: H | F13: 16 | G13: 17.65 | H13: 2.3 | I13: =G13+H13 -> 19.95 | J13: 0.2338 | K13: =ROUND((F13*G13)*(1+J13),2) -> 348.43 | L13: =ROUND((F13*H13)*(1+J13),2) -> 45.4 | M13: =K13+L13 -> 393.83
A14: 1.6 | B14: 102279 | C14: ESCAVAÇÃO MECANIZADA DE VALA COM PROF. ATÉ 1,5 M (MÉDIA MONTANTE E JUSANTE/UMA COMPOSIÇÃO POR TRECHO), ESCAVADEIRA (0,8 M3),LARG. MENOR QUE 1,5 M, EM SOLO DE 1A CATEGORIA, LOCAIS COM BAIXO NÍVEL DE INTERFERÊNCIA. AF_09/2024 | D14: SINAPI | E14: M3 | F14: 254.17 | G14: 1.87 | H14: 5.34 | I14: =G14+H14 -> 7.21 | J14: 0.2338 | K14: =ROUND((F14*G14)*(1+J14),2) -> 586.42 | L14: =ROUND((F14*H14)*(1+J14),2) -> 1674.6 | M14: =K14+L14 -> 2261.02
A15: 1.7 | B15: 93379 | C15: REATERRO MECANIZADO DE VALA COM RETROESCAVADEIRA (CAPACIDADE DA CAÇAMBA DA RETRO: 0,26 M³/POTÊNCIA: 88 HP), LARGURA 0,8 A 1,5 M, PROFUNDIDADE ATÉ 1,5 M, COM SOLO (SEM SUBSTITUIÇÃO) DE 1ª CATEGORIA, COM COMPACTADOR DE SOLOS DE PERCUSSÃO AF_08/2023 | D15: SINAPI | E15: M3 | F15: 99.2 | G15: 9.78 | H15: 10.8 | I15: =G15+H15 -> 20.58 | J15: 0.2338 | K15: =ROUND((F15*G15)*(1+J15),2) -> 1197 | L15: =ROUND((F15*H15)*(1+J15),2) -> 1321.84 | M15: =K15+L15 -> 2518.84
A16: 1.8 | B16: 92210 | C16: TUBO DE CONCRETO PARA REDES COLETORAS DE ÁGUAS PLUVIAIS, DIÂMETRO DE 400 MM, JUNTA RÍGIDA, INSTALADO EM LOCAL COM BAIXO NÍVEL DE INTERFERÊNCIAS - FORNECIMENTO E ASSENTAMENTO. AF_03/2024 | D16: SINAPI | E16: M | F16: 79 | G16: 15.81 | H16: 145.1 | I16: =G16+H16 -> 160.91 | J16: 0.2338 | K16: =ROUND((F16*G16)*(1+J16),2) -> 1541 | L16: =ROUND((F16*H16)*(1+J16),2) -> 14142.93 | M16: =K16+L16 -> 15683.93
A17: 1.9 | B17: 101623 | C17: PREPARO DE FUNDO DE VALA COM LARGURA MENOR QUE 1,5 M, COM CAMADA DE BRITA, LANÇAMENTO MECANIZADO. AF_08/2020 | D17: SINAPI | E17: M3 | F17: 21.17 | G17: 73.99 | H17: 172.32 | I17: =G17+H17 -> 246.31 | J17: 0.2338 | K17: =ROUND((F17*G17)*(1+J17),2) -> 1932.59 | L17: =ROUND((F17*H17)*(1+J17),2) -> 4500.92 | M17: =K17+L17 -> 6433.51
A18: 1.10 | B18: 92211 | C18: TUBO DE CONCRETO PARA REDES COLETORAS DE ÁGUAS PLUVIAIS, DIÂMETRO DE 500 MM, JUNTA RÍGIDA, INSTALADO EM LOCAL COM BAIXO NÍVEL DE INTERFERÊNCIAS - FORNECIMENTO E ASSENTAMENTO. AF_03/2024 | D18: SINAPI | E18: M | F18: 88 | G18: 20.26 | H18: 175.55 | I18: =G18+H18 -> 195.81 | J18: 0.2338 | K18: =ROUND((F18*G18)*(1+J18),2) -> 2199.72 | L18: =ROUND((F18*H18)*(1+J18),2) -> 19060.24 | M18: =K18+L18 -> 21259.96
A19: 1.11 | B19: 92212 | C19: TUBO DE CONCRETO PARA REDES COLETORAS DE ÁGUAS PLUVIAIS, DIÂMETRO DE 600 MM, JUNTA RÍGIDA, INSTALADO EM LOCAL COM BAIXO NÍVEL DE INTERFERÊNCIAS - FORNECIMENTO E ASSENTAMENTO. AF_03/2024 | D19: SINAPI | E19: M | F19: 14 | G19: 24.76 | H19: 274.31 | I19: =G19+H19 -> 299.07 | J19: 0.2338 | K19: =ROUND((F19*G19)*(1+J19),2) -> 427.68 | L19: =ROUND((F19*H19)*(1+J19),2) -> 4738.21 | M19: =K19+L19 -> 5165.89
A20: 1.12 | B20: 92214 | C20: TUBO DE CONCRETO PARA REDES COLETORAS DE ÁGUAS PLUVIAIS, DIÂMETRO DE 800 MM, JUNTA RÍGIDA, INSTALADO EM LOCAL COM BAIXO NÍVEL DE INTERFERÊNCIAS - FORNECIMENTO E ASSENTAMENTO. AF_03/2024 | D20: SINAPI | E20: M | F20: 14 | G20: 33.9 | H20: 448.14 | I20: =G20+H20 -> 482.04 | J20: 0.2338 | K20: =ROUND((F20*G20)*(1+J20),2) -> 585.56 | L20: =ROUND((F20*H20)*(1+J20),2) -> 7740.81 | M20: =K20+L20 -> 8326.37
... A23: 1.15 | B23: 105756 | C23: EXECUÇÃO DE IMPRIMAÇÃO COM ASFALTO DILUIDO | D23: SINAPI | E23: M2 | F23: 4050 | G23: 0.63 | H23: 4.26 | I23: =G23+H23 -> 4.89 | J23: 0.2338 | K23: =ROUND((F23*G23)*(1+J23),2) -> 3148.04 | L23: =ROUND((F23*H23)*(1+J23),2) -> 21286.75 | M23: =K23+L23 -> 24434.79
A24: 1.16 | B24: 104375 | C24: EXECUÇÃO DE PINTURA DE LIGAÇÃO COM RR-1C | D24: SINAPI | E24: M2 | F24: =F23 -> 4050 | G24: 0.43 | H24: 1.89 | I24: =G24+H24 -> 2.32 | J24: 0.2338 | K24: =ROUND((F24*G24)*(1+J24),2) -> 2148.66 | L24: =ROUND((F24*H24)*(1+J24),2) -> 9444.12 | M24: =K24+L24 -> 11592.78
A25: 1.17 | B25: 102332 | C25: TRANSPORTE COM CAMINHÃO TANQUE DE TRANSPORTE DE MATERIAL ASFÁLTICO DE 20000 L, EM VIA URBANA PAVIMENTADA, DMT ATÉ 30KM (UNIDADE: TXKM). AF_07/2020 | D25: SINAPI | E25: TXKM | F25: 1115.76 | G25: 0.17 | H25: 1.75 | I25: =G25+H25 -> 1.92 | J25: 0.2338 | K25: =ROUND((F25*G25)*(1+J25),2) -> 234.03 | L25: =ROUND((F25*H25)*(1+J25),2) -> 2409.09 | M25: =K25+L25 -> 2643.12
A26: 1.18 | B26: 102333 | C26: TRANSPORTE COM CAMINHÃO TANQUE DE TRANSPORTE DE MATERIAL ASFÁLTICO DE 20000 L, EM VIA URBANA PAVIMENTADA, ADICIONAL PARA DMT EXCEDENTE A 30 KM (UNIDADE: TXKM). AF_07/2020 | D26: SINAPI | E26: TXKM | F26: 42.77 | G26: 0.07 | H26: 0.69 | I26: =G26+H26 -> 0.76 | J26: 0.2338 | K26: =ROUND((F26*G26)*(1+J26),2) -> 3.69 | L26: =ROUND((F26*H26)*(1+J26),2) -> 36.41 | M26: =K26+L26 -> 40.1
A27: 1.19 | B27: 105742 | C27: EXECUÇÃO DE SUB BASE DE RACHÃO 25 CM | D27: SINAPI | E27: M3 | F27: 1012.5 | G27: 6.75 | H27: 109.33 | I27: =G27+H27 -> 116.08 | J27: 0.2338 | K27: =ROUND((F27*G27)*(1+J27),2) -> 8432.25 | L27: =ROUND((F27*H27)*(1+J27),2) -> 136577.5 | M27: =K27+L27 -> 145009.75
A28: 1.20 | B28: 96396 | C28: CONSTRUÇÃO DE BASE E SUB-BASE PARA PAVIMENTAÇÃO DE BRITA GRADUADA SIMPLES, COM ESPESSURA DE 15 CM - EXCLUSIVE CARGA E TRANSPORTE. AF_09/2024 | D28: SINAPI | E28: M3 | F28: 607.5 | G28: 7.03 | H28: 156.81 | I28: =G28+H28 -> 163.84 | J28: 0.2338 | K28: =ROUND((F28*G28)*(1+J28),2) -> 5269.22 | L28: =ROUND((F28*H28)*(1+J28),2) -> 117534.35 | M28: =K28+L28 -> 122803.57
A29: 1.21 | B29: 93599 | C29: TRANSPORTE COM CAMINHÃO BASCULANTE DE 14 M³, EM VIA URBANA PAVIMENTADA, ADICIONAL PARA DMT EXCEDENTE A 30 KM (UNIDADE: TXKM). AF_07/2020 | D29: SINAPI | E29: TXKM | F29: 28813.73 | G29: 0.06 | H29: 0.56 | I29: =G29+H29 -> 0.62 | J29: 0.2338 | K29: =ROUND((F29*G29)*(1+J29),2) -> 2133.02 | L29: =ROUND((F29*H29)*(1+J29),2) -> 19908.21 | M29: =K29+L29 -> 22041.23
A30: 1.22 | B30: 102332 | C30: TRANSPORTE COM CAMINHÃO TANQUE DE TRANSPORTE DE MATERIAL ASFÁLTICO DE 20000 L, EM VIA URBANA PAVIMENTADA, DMT ATÉ 30KM (UNIDADE: TXKM). AF_07/2020 | D30: SINAPI | E30: TXKM | F30: 255.15 | G30: 0.17 | H30: 1.75 | I30: =G30+H30 -> 1.92 | J30: 0.2338 | K30: =ROUND((F30*G30)*(1+J30),2) -> 53.52 | L30: =ROUND((F30*H30)*(1+J30),2) -> 550.91 | M30: =K30+L30 -> 604.43
A31: 1.23 | B31: 102333 | C31: TRANSPORTE COM CAMINHÃO TANQUE DE TRANSPORTE DE MATERIAL ASFÁLTICO DE 20000 L, EM VIA URBANA PAVIMENTADA, ADICIONAL PARA DMT EXCEDENTE A 30 KM (UNIDADE: TXKM). AF_07/2020 | D31: SINAPI | E31: TXKM | F31: 204.12 | G31: 0.07 | H31: 0.69 | I31: =G31+H31 -> 0.76 | J31: 0.2338 | K31: =ROUND((F31*G31)*(1+J31),2) -> 17.63 | L31: =ROUND((F31*H31)*(1+J31),2) -> 173.77 | M31: =K31+L31 -> 191.4
A32: 1.24 | B32: 101002 | C32: CARGA DE MISTURA ASFÁLTICA EM CAMINHÃO BASCULANTE 10 M³ (UNIDADE: T). AF_07/2020 | D32: SINAPI | E32: T | F32: 517.34 | G32: 0.75 | H32: 5.63 | I32: =G32+H32 -> 6.38 | J32: 0.2338 | K32: =ROUND((F32*G32)*(1+J32),2) -> 478.72 | L32: =ROUND((F32*H32)*(1+J32),2) -> 3593.6 | M32: =K32+L32 -> 4072.32
A33: 1.25 | B33: 95995 | C33: EXECUÇÃO DE PAVIMENTO COM CAPA DE ROLAMENTO EXCLUSIVE CARGA E TRANSPORTE | D33: SINAPI | E33: M3 | F33: 202.5 | G33: 40.29 | H33: 1132.67 | I33: =G33+H33 -> 1172.96 | J33: 0.2338 | K33: =ROUND((F33*G33)*(1+J33),2) -> 10066.23 | L33: =ROUND((F33*H33)*(1+J33),2) -> 282991.37 | M33: =K33+L33 -> 293057.6
A34: 1.26 | B34: 93599 | C34: TRANSPORTE COM CAMINHÃO BASCULANTE DE 14 M³, EM VIA URBANA PAVIMENTADA, ADICIONAL PARA DMT EXCEDENTE A 30 KM (UNIDADE: TXKM). AF_07/2020 | D34: SINAPI | E34: TXKM | F34: 27936.74 | G34: 0.06 | H34: 0.56 | I34: =G34+H34 -> 0.62 | J34: 0.2338 | K34: =ROUND((F34*G34)*(1+J34),2) -> 2068.1 | L34: =ROUND((F34*H34)*(1+J34),2) -> 19302.28 | M34: =K34+L34 -> 21370.38
A35: 1.27 | B35: 102512 | C35: PINTURA DE EIXO VIÁRIO SOBRE ASFALTO COM TINTA RETRORREFLETIVA A BASE DE RESINA ACRÍLICA COM MICROESFERAS DE VIDRO, E = 10 CM, APLICAÇÃO MECÂNICA COM DEMARCADORA AUTOPROPELIDA. AF_05/2021 | D35: SINAPI | E35: M | F35: 1350 | G35: 2.18 | H35: 4.65 | I35: =G35+H35 -> 6.83 | J35: 0.2338 | K35: =ROUND((F35*G35)*(1+J35),2) -> 3631.07 | L35: =ROUND((F35*H35)*(1+J35),2) -> 7745.18 | M35: =K35+L35 -> 11376.25
A36: 1.28 | B36: 94266 | C36: GUIA (MEIO-FIO) CONCRETO, MOLDADA IN LOCO EM TRECHO CURVO COM EXTRUSORA, 15 CM BASE X 30 CM ALTURA. AF_01/2024 | D36: SINAPI | E36: M | F36: 900 | G36: 18.23 | H36: 37.03 | I36: =G36+H36 -> 55.26 | J36: 0.2338 | K36: =ROUND((F36*G36)*(1+J36),2) -> 20242.96 | L36: =ROUND((F36*H36)*(1+J36),2) -> 41118.85 | M36: =K36+L36 -> 61361.81
I37: TOTAIS: | K37: =SUM(K9:K36) -> 76134.19 | L37: =SUM(L9:L36) -> 738577.47 | M37: =SUM(M9:M36) -> 814711.66
J39: Nova Petrópolis, 06 de janeiro de 2026.
C42: Rodrigo Emanuel Rabello
C43: Engenheiro Civil - CREA-RS 167.175

Sheet Cronograma
C2: PREFEITURA MUNICIPAL DE NOVA PETRÓPOLIS
C3: SECRETARIA DE PLANEJAMENTO, COORDENAÇÃO, TRÂNSITO E HABITAÇÃO
A6: ITEM | B6: CÓDIGO | C6: DESCRIÇÃO | D6: UNID. | E6: VALOR (R$) | F6: 1 | H6: =F6+1 -> 2 | J6: =H6+1 -> 3 | L6: =J6+1 -> 4 | N6: =L6+1 -> 5 | P6: =N6+1 -> 6 | R6: =P6+1 -> 7 | T6: =R6+1 -> 8
A8: 1 | B8: PAVIMENTAÇÃO E DRENAGEM DA RUA EMÍLIO DINEBIER - FASE 5
A9: 1.1 | B9: 90777 | C9: ENGENHEIRO CIVIL DE OBRA JUNIOR (HORISTA) | D9: H | E9: =PO!M9 -> 3500.44 | F9: 0.1 | G9: =F9*$E9 -> 350.044 | H9: =1/8 -> 0.125 | I9: =H9*$E9 -> 437.555 | J9: =1/8 -> 0.125 | K9: =J9*$E9 -> 437.555 | L9: =1/8 -> 0.125 | M9: =L9*$E9 -> 437.555 | N9: =1/8 -> 0.125 | O9: =N9*$E9 -> 437.555 | P9: =1/8 -> 0.125 | Q9: =P9*$E9 -> 437.555 | R9: =1/8 -> 0.125 | S9: =R9*$E9 -> 437.555 | T9: 0.15 | U9: =T9*$E9 -> 525.066 | V9: =SUM(F9:U9)-E9 -> 1
A10: 1.2 | B10: 103689 | C10: FORNECIMENTO E INSTALAÇÃO DE PLACA DE OBRA COM CHAPA GALVANIZADA E ESTRUTURA DE MADEIRA. AF_03/2022_PS | D10: M2 | E10: =PO!M10 -> 3876.54 | F10: 1 | G10: =F10*$E10 -> 3876.54 | I10: =H10*$E10 -> 0 | K10: =J10*$E10 -> 0 | M10: =L10*$E10 -> 0 | O10: =N10*$E10 -> 0 | Q10: =P10*$E10 -> 0 | S10: =R10*$E10 -> 0 | U10: =T10*$E10 -> 0 | V10: =SUM(F10:U10)-E10 -> 1
A11: 1.3 | B11: 103689 | C11: FORNECIMENTO E INSTALAÇÃO DE PLACA DE OBRA COM CHAPA GALVANIZADA E ESTRUTURA DE MADEIRA. AF_03/2022_PS | D11: M2 | E11: =PO!M11 -> 1133.49 | F11: 1 | G11: =F11*$E11 -> 1133.49 | I11: =H11*$E11 -> 0 | K11: =J11*$E11 -> 0 | M11: =L11*$E11 -> 0 | O11: =N11*$E11 -> 0 | Q11: =P11*$E11 -> 0 | S11: =R11*$E11 -> 0 | U11: =T11*$E11 -> 0 | V11: =SUM(F11:U11)-E11 -> 1
A12: 1.4 | B12: 90781 | C12: TOPOGRAFO COM ENCARGOS COMPLEMENTARES | D12: H | E12: =PO!M12 -> 410.21 | F12: 1 | G12: =F12*$E12 -> 410.21 | I12: =H12*$E12 -> 0 | K12: =J12*$E12 -> 0 | M12: =L12*$E12 -> 0 | O12: =N12*$E12 -> 0 | Q12: =P12*$E12 -> 0 | S12: =R12*$E12 -> 0 | U12: =T12*$E12 -> 0 | V12: =SUM(F12:U12)-E12 -> 1
A13: 1.5 | B13: 88253 | C13: AUXILIAR DE TOPÓGRAFO COM ENCARGOS COMPLEMENTARES | D13: H | E13: =PO!M13 -> 393.83 | F13: 1 | G13: =F13*$E13 -> 393.83 | I13: =H13*$E13 -> 0 | K13: =J13*$E13 -> 0 | M13: =L13*$E13 -> 0 | O13: =N13*$E13 -> 0 | Q13: =P13*$E13 -> 0 | S13: =R13*$E13 -> 0 | U13: =T13*$E13 -> 0 | V13: =SUM(F13:U13)-E13 -> 1
A14: 1.6 | B14: 102279 | C14: ESCAVAÇÃO MECANIZADA DE VALA COM PROF. ATÉ 1,5 M (MÉDIA MONTANTE E JUSANTE/UMA COMPOSIÇÃO POR TRECHO), ESCAVADEIRA (0,8 M3),LARG. MENOR QUE 1,5 M, EM SOLO DE 1A CATEGORIA, LOCAIS COM BAIXO NÍVEL DE INTERFERÊNCIA. AF_09/2024 | D14: M3 | E14: =PO!M14 -> 2261.02 | G14: =F14*$E14 -> 0 | H14: 0.2 | I14: =H14*$E14 -> 452.204 | J14: 0.2 | K14: =J14*$E14 -> 452.204 | L14: 0.2 | M14: =L14*$E14 -> 452.204 | N14: 0.2 | O14: =N14*$E14 -> 452.204 | P14: 0.2 | Q14: =P14*$E14 -> 452.204 | S14: =R14*$E14 -> 0 | U14: =T14*$E14 -> 0 | V14: =SUM(F14:U14)-E14 -> 1
A15: 1.7 | B15: 93379 | C15: REATERRO MECANIZADO DE VALA COM RETROESCAVADEIRA (CAPACIDADE DA CAÇAMBA DA RETRO: 0,26 M³/POTÊNCIA: 88 HP), LARGURA 0,8 A 1,5 M, PROFUNDIDADE ATÉ 1,5 M, COM SOLO (SEM SUBSTITUIÇÃO) DE 1ª CATEGORIA, COM COMPACTADOR DE SOLOS DE PERCUSSÃO AF_08/2023 | D15: M3 | E15: =PO!M15 -> 2518.84 | G15: =F15*$E15 -> 0 | H15: 0.2 | I15: =H15*$E15 -> 503.768 | J15: 0.2 | K15: =J15*$E15 -> 503.768 | L15: 0.2 | M15: =L15*$E15 -> 503.768 | N15: 0.2 | O15: =N15*$E15 -> 503.768 | P15: 0.2 | Q15: =P15*$E15 -> 503.768 | S15: =R15*$E15 -> 0 | U15: =T15*$E15 -> 0 | V15: =SUM(F15:U15)-E15 -> 1
A16: 1.8 | B16: 92210 | C16: TUBO DE CONCRETO PARA REDES COLETORAS DE ÁGUAS PLUVIAIS, DIÂMETRO DE 400 MM, JUNTA RÍGIDA, INSTALADO EM LOCAL COM BAIXO NÍVEL DE INTERFERÊNCIAS - FORNECIMENTO E ASSENTAMENTO. AF_03/2024 | D16: M | E16: =PO!M16 -> 15683.93 | G16: =F16*$E16 -> 0 | H16: 0.2 | I16: =H16*$E16 -> 3136.786 | J16: 0.2 | K16: =J16*$E16 -> 3136.786 | L16: 0.2 | M16: =L16*$E16 -> 3136.786 | N16: 0.2 | O16: =N16*$E16 -> 3136.786 | P16: 0.2 | Q16: =P16*$E16 -> 3136.786 | S16: =R16*$E16 -> 0 | U16: =T16*$E16 -> 0 | V16: =SUM(F16:U16)-E16 -> 1
A17: 1.9 | B17: 101623 | C17: PREPARO DE FUNDO DE VALA COM LARGURA MENOR QUE 1,5 M, COM CAMADA DE BRITA, LANÇAMENTO MECANIZADO. AF_08/2020 | D17: M3 | E17: =PO!M17 -> 6433.51 | G17: =F17*$E17 -> 0 | H17: 0.2 | I17: =H17*$E17 -> 1286.702 | J17: 0.2 | K17: =J17*$E17 -> 1286.702 | L17: 0.2 | M17: =L17*$E17 -> 1286.702 | N17: 0.2 | O17: =N17*$E17 -> 1286.702 | P17: 0.2 | Q17: =P17*$E17 -> 1286.702 | S17: =R17*$E17 -> 0 | U17: =T17*$E17 -> 0 | V17: =SUM(F17:U17)-E17 -> 1
A18: 1.10 | B18: 92211 | C18: TUBO DE CONCRETO PARA REDES COLETORAS DE ÁGUAS PLUVIAIS, DIÂMETRO DE 500 MM, JUNTA RÍGIDA, INSTALADO EM LOCAL COM BAIXO NÍVEL DE INTERFERÊNCIAS - FORNECIMENTO E ASSENTAMENTO. AF_03/2024 | D18: M | E18: =PO!M18 -> 21259.96 | G18: =F18*$E18 -> 0 | H18: 0.2 | I18: =H18*$E18 -> 4251.992 | J18: 0.2 | K18: =J18*$E18 -> 4251.992 | L18: 0.2 | M18: =L18*$E18 -> 4251.992 | N18: 0.2 | O18: =N18*$E18 -> 4251.992 | P18: 0.2 | Q18: =P18*$E18 -> 4251.992 | S18: =R18*$E18 -> 0 | U18: =T18*$E18 -> 0 | V18: =SUM(F18:U18)-E18 -> 1
A19: 1.11 | B19: 92212 | C19: TUBO DE CONCRETO PARA REDES COLETORAS DE ÁGUAS PLUVIAIS, DIÂMETRO DE 600 MM, JUNTA RÍGIDA, INSTALADO EM LOCAL COM BAIXO NÍVEL DE INTERFERÊNCIAS - FORNECIMENTO E ASSENTAMENTO. AF_03/2024 | D19: M | E19: =PO!M19 -> 5165.89 | G19: =F19*$E19 -> 0 | H19: 0.2 | I19: =H19*$E19 -> 1033.178 | J19: 0.2 | K19: =J19*$E19 -> 1033.178 | L19: 0.2 | M19: =L19*$E19 -> 1033.178 | N19: 0.2 | O19: =N19*$E19 -> 1033.178 | P19: 0.2 | Q19: =P19*$E19 -> 1033.178 | S19: =R19*$E19 -> 0 | U19: =T19*$E19 -> 0 | V19: =SUM(F19:U19)-E19 -> 1
A20: 1.12 | B20: 92214 | C20: TUBO DE CONCRETO PARA REDES COLETORAS DE ÁGUAS PLUVIAIS, DIÂMETRO DE 800 MM, JUNTA RÍGIDA, INSTALADO EM LOCAL COM BAIXO NÍVEL DE INTERFERÊNCIAS - FORNECIMENTO E ASSENTAMENTO. AF_03/2024 | D20: M | E20: =PO!M20 -> 8326.37 | G20: =F20*$E20 -> 0 | H20: 0.2 | I20: =H20*$E20 -> 1665.274 | J20: 0.2 | K20: =J20*$E20 -> 1665.274 | L20: 0.2 | M20: =L20*$E20 -> 1665.274 | N20: 0.2 | O20: =N20*$E20 -> 1665.274 | P20: 0.2 | Q20: =P20*$E20 -> 1665.274 | S20: =R20*$E20 -> 0 | U20: =T20*$E20 -> 0 | V20: =SUM(F20:U20)-E20 -> 1
A21: 1.13 | B21: 100576 | C21: REGULARIZAÇÃO E COMPACTAÇÃO DE SUBLEITO DE SOLO PREDOMINANTEMENTE ARGILOSO, PARA OBRAS DE CONSTRUÇÃO DE PAVIMENTOS. AF_09/2024 | D21: M2 | E21: =PO!M21 -> 15290.49 | G21: =F21*$E21 -> 0 | H21: 0.2 | I21: =H21*$E21 -> 3058.098 | J21: 0.2 | K21: =J21*$E21 -> 3058.098 | L21: 0.2 | M21: =L21*$E21 -> 3058.098 | N21: 0.2 | O21: =N21*$E21 -> 3058.098 | P21: 0.2 | Q21: =P21*$E21 -> 3058.098 | S21: =R21*$E21 -> 0 | U21: =T21*$E21 -> 0 | V21: =SUM(F21:U21)-E21 -> 1
A22: 1.14 | B22: 5502163 | C22: Escavação, carga e transporte de material de 1ª categoria - DMT de 400 a 600 m - caminho de serviço pavimentado - com escavadeira e caminhão basculante de 14 m³ | D22: m³ | E22: =PO!M22 -> 7857.61 | F22: 0 | G22: =F22*$E22 -> 0 | H22: 0.2 | I22: =H22*$E22 -> 1571.522 | J22: 0.4 | K22: =J22*$E22 -> 3143.044 | L22: 0.4 | M22: =L22*$E22 -> 3143.044 | O22: =N22*$E22 -> 0 | Q22: =P22*$E22 -> 0 | S22: =R22*$E22 -> 0 | U22: =T22*$E22 -> 0 | V22: =SUM(F22:U22)-E22 -> 1
A23: 1.15 | B23: 105756 | C23: EXECUÇÃO DE IMPRIMAÇÃO COM ASFALTO DILUIDO | D23: M2 | E23: =PO!M23 -> 24434.79 | G23: =F23*$E23 -> 0 | I23: =H23*$E23 -> 0 | K23: =J23*$E23 -> 0 | M23: =L23*$E23 -> 0 | O23: =N23*$E23 -> 0 | P23: 0.5 | Q23: =P23*$E23 -> 12217.395 | R23: 0.5 | S23: =R23*$E23 -> 12217.395 | U23: =T23*$E23 -> 0 | V23: =SUM(F23:U23)-E23 -> 1
A24: 1.16 | B24: 104375 | C24: EXECUÇÃO DE PINTURA DE LIGAÇÃO COM RR-1C | D24: M2 | E24: =PO!M24 -> 11592.78 | G24: =F24*$E24 -> 0 | I24: =H24*$E24 -> 0 | K24: =J24*$E24 -> 0 | M24: =L24*$E24 -> 0 | O24: =N24*$E24 -> 0 | P24: 0.5 | Q24: =P24*$E24 -> 5796.39 | R24: 0.5 | S24: =R24*$E24 -> 5796.39 | U24: =T24*$E24 -> 0 | V24: =SUM(F24:U24)-E24 -> 1
A25: 1.17 | B25: 102332 | C25: TRANSPORTE COM CAMINHÃO TANQUE DE TRANSPORTE DE MATERIAL ASFÁLTICO DE 20000 L, EM VIA URBANA PAVIMENTADA, DMT ATÉ 30KM (UNIDADE: TXKM). AF_07/2020 | D25: TXKM | E25: =PO!M25 -> 2643.12 | G25: =F25*$E25 -> 0 | I25: =H25*$E25 -> 0 | K25: =J25*$E25 -> 0 | M25: =L25*$E25 -> 0 | O25: =N25*$E25 -> 0 | P25: 0.5 | Q25: =P25*$E25 -> 1321.56 | R25: 0.5 | S25: =R25*$E25 -> 1321.56 | U25: =T25*$E25 -> 0 | V25: =SUM(F25:U25)-E25 -> 1
A26: 1.18 | B26: 102333 | C26: TRANSPORTE COM CAMINHÃO TANQUE DE TRANSPORTE DE MATERIAL ASFÁLTICO DE 20000 L, EM VIA URBANA PAVIMENTADA, ADICIONAL PARA DMT EXCEDENTE A 30 KM (UNIDADE: TXKM). AF_07/2020 | D26: TXKM | E26: =PO!M26 -> 40.1 | G26: =F26*$E26 -> 0 | I26: =H26*$E26 -> 0 | K26: =J26*$E26 -> 0 | M26: =L26*$E26 -> 0 | O26: =N26*$E26 -> 0 | P26: 0.5 | Q26: =P26*$E26 -> 20.05 | R26: 0.5 | S26: =R26*$E26 -> 20.05 | U26: =T26*$E26 -> 0 | V26: =SUM(F26:U26)-E26 -> 1
A27: 1.19 | B27: 105742 | C27: EXECUÇÃO DE SUB BASE DE RACHÃO 25 CM | D27: M3 | E27: =PO!M27 -> 145009.75 | G27: =F27*$E27 -> 0 | I27: =H27*$E27 -> 0 | K27: =J27*$E27 -> 0 | M27: =L27*$E27 -> 0 | N27: 0.2 | O27: =N27*$E27 -> 29001.95 | P27: 0.45 | Q27: =P27*$E27 -> 65254.388 | R27: 0.35 | S27: =R27*$E27 -> 50753.412 | T27: 0 | U27: =T27*$E27 -> 0 | V27: =SUM(F27:U27)-E27 -> 1
A28: 1.20 | B28: 96396 | C28: CONSTRUÇÃO DE BASE E SUB-BASE PARA PAVIMENTAÇÃO DE BRITA GRADUADA SIMPLES, COM ESPESSURA DE 15 CM - EXCLUSIVE CARGA E TRANSPORTE. AF_09/2024 | D28: M3 | E28: =PO!M28 -> 122803.57 | G28: =F28*$E28 -> 0 | I28: =H28*$E28 -> 0 | K28: =J28*$E28 -> 0 | M28: =L28*$E28 -> 0 | N28: 0.2 | O28: =N28*$E28 -> 24560.714 | P28: 0.45 | Q28: =P28*$E28 -> 55261.607 | R28: 0.35 | S28: =R28*$E28 -> 42981.249 | T28: 0 | U28: =T28*$E28 -> 0 | V28: =SUM(F28:U28)-E28 -> 1
A29: 1.21 | B29: 93599 | C29: TRANSPORTE COM CAMINHÃO BASCULANTE DE 14 M³, EM VIA URBANA PAVIMENTADA, ADICIONAL PARA DMT EXCEDENTE A 30 KM (UNIDADE: TXKM). AF_07/2020 | D29: TXKM | E29: =PO!M29 -> 22041.23 | G29: =F29*$E29 -> 0 | I29: =H29*$E29 -> 0 | K29: =J29*$E29 -> 0 | M29: =L29*$E29 -> 0 | N29: 0.2 | O29: =N29*$E29 -> 4408.246 | P29: 0.45 | Q29: =P29*$E29 -> 9918.5535 | R29: 0.35 | S29: =R29*$E29 -> 7714.4305 | T29: 0 | U29: =T29*$E29 -> 0 | V29: =SUM(F29:U29)-E29 -> 1
A30: 1.22 | B30: 102332 | C30: TRANSPORTE COM CAMINHÃO TANQUE DE TRANSPORTE DE MATERIAL ASFÁLTICO DE 20000 L, EM VIA URBANA PAVIMENTADA, DMT ATÉ 30KM (UNIDADE: TXKM). AF_07/2020 | D30: TXKM | E30: =PO!M30 -> 604.43 | G30: =F30*$E30 -> 0 | I30: =H30*$E30 -> 0 | K30: =J30*$E30 -> 0 | M30: =L30*$E30 -> 0 | N30: 0.2 | O30: =N30*$E30 -> 120.886 | P30: 0.45 | Q30: =P30*$E30 -> 271.9935 | R30: 0.35 | S30: =R30*$E30 -> 211.5505 | T30: 0 | U30: =T30*$E30 -> 0 | V30: =SUM(F30:U30)-E30 -> 1
A31: 1.23 | B31: 102333 | C31: TRANSPORTE COM CAMINHÃO TANQUE DE TRANSPORTE DE MATERIAL ASFÁLTICO DE 20000 L, EM VIA URBANA PAVIMENTADA, ADICIONAL PARA DMT EXCEDENTE A 30 KM (UNIDADE: TXKM). AF_07/2020 | D31: TXKM | E31: =PO!M31 -> 191.4 | G31: =F31*$E31 -> 0 | I31: =H31*$E31 -> 0 | K31: =J31*$E31 -> 0 | M31: =L31*$E31 -> 0 | N31: 0.2 | O31: =N31*$E31 -> 38.28 | P31: 0.45 | Q31: =P31*$E31 -> 86.13 | R31: 0.35 | S31: =R31*$E31 -> 66.99 | T31: 0 | U31: =T31*$E31 -> 0 | V31: =SUM(F31:U31)-E31 -> 1
A32: 1.24 | B32: 101002 | C32: CARGA DE MISTURA ASFÁLTICA EM CAMINHÃO BASCULANTE 10 M³ (UNIDADE: T). AF_07/2020 | D32: T | E32: =PO!M32 -> 4072.32 | G32: =F32*$E32 -> 0 | I32: =H32*$E32 -> 0 | K32: =J32*$E32 -> 0 | M32: =L32*$E32 -> 0 | N32: 0.2 | O32: =N32*$E32 -> 814.464 | P32: 0.45 | Q32: =P32*$E32 -> 1832.544 | R32: 0.35 | S32: =R32*$E32 -> 1425.312 | T32: 0 | U32: =T32*$E32 -> 0 | V32: =SUM(F32:U32)-E32 -> 1
A33: 1.25 | B33: 95995 | C33: EXECUÇÃO DE PAVIMENTO COM CAPA DE ROLAMENTO EXCLUSIVE CARGA E TRANSPORTE | D33: M3 | E33: =PO!M33 -> 293057.6 | G33: =F33*$E33 -> 0 | I33: =H33*$E33 -> 0 | K33: =J33*$E33 -> 0 | M33: =L33*$E33 -> 0 | N33: 0 | O33: =N33*$E33 -> 0 | P33: 0 | Q33: =P33*$E33 -> 0 | R33: 0.7 | S33: =R33*$E33 -> 205140.32 | T33: 0.3 | U33: =T33*$E33 -> 87917.28 | V33: =SUM(F33:U33)-E33 -> 1
A34: 1.26 | B34: 93599 | C34: TRANSPORTE COM CAMINHÃO BASCULANTE DE 14 M³, EM VIA URBANA PAVIMENTADA, ADICIONAL PARA DMT EXCEDENTE A 30 KM (UNIDADE: TXKM). AF_07/2020 | D34: TXKM | E34: =PO!M34 -> 21370.38 | G34: =F34*$E34 -> 0 | I34: =H34*$E34 -> 0 | K34: =J34*$E34 -> 0 | M34: =L34*$E34 -> 0 | N34: 0.2 | O34: =N34*$E34 -> 4274.076 | P34: 0.45 | Q34: =P34*$E34 -> 9616.671 | R34: 0.35 | S34: =R34*$E34 -> 7479.633 | T34: 0 | U34: =T34*$E34 -> 0 | V34: =SUM(F34:U34)-E34 -> 1
A35: 1.27 | B35: 102512 | C35: PINTURA DE EIXO VIÁRIO SOBRE ASFALTO COM TINTA RETRORREFLETIVA A BASE DE RESINA ACRÍLICA COM MICROESFERAS DE VIDRO, E = 10 CM, APLICAÇÃO MECÂNICA COM DEMARCADORA AUTOPROPELIDA. AF_05/2021 | D35: M | E35: =PO!M35 -> 11376.25 | G35: =F35*$E35 -> 0 | I35: =H35*$E35 -> 0 | K35: =J35*$E35 -> 0 | M35: =L35*$E35 -> 0 | N35: 0 | O35: =N35*$E35 -> 0 | P35: 0 | Q35: =P35*$E35 -> 0 | R35: 0 | S35: =R35*$E35 -> 0 | T35: 1 | U35: =T35*$E35 -> 11376.25 | V35: =SUM(F35:U35)-E35 -> 1
A36: 1.28 | B36: 94266 | C36: GUIA (MEIO-FIO) CONCRETO, MOLDADA IN LOCO EM TRECHO CURVO COM EXTRUSORA, 15 CM BASE X 30 CM ALTURA. AF_01/2024 | D36: M | E36: =PO!M36 -> 61361.81 | G36: =F36*$E36 -> 0 | I36: =H36*$E36 -> 0 | K36: =J36*$E36 -> 0 | M36: =L36*$E36 -> 0 | N36: 0.2 | O36: =N36*$E36 -> 12272.362 | P36: 0.45 | Q36: =P36*$E36 -> 27612.815 | R36: 0.35 | S36: =R36*$E36 -> 21476.633 | T36: 0 | U36: =T36*$E36 -> 0 | V36: =SUM(F36:U36)-E36 -> 1
F37: =SUM(G9:G36) -> 6164.114 | H37: =SUM(I9:I36) -> 17397.079 | J37: =SUM(K9:K36) -> 18968.601 | L37: =SUM(M9:M36) -> 18968.601 | N37: =SUM(O9:O36) -> 91316.535 | P37: =SUM(Q9:Q36) -> 205035.65 | R37: =SUM(S9:S36) -> 357042.48 | T37: =SUM(U9:U36) -> 99818.596
F38: =F37 -> 6164.114 | H38: =H37+F38 -> 23561.193 | J38: =J37+H38 -> 42529.794 | L38: =L37+J38 -> 61498.395 | N38: =N37+L38 -> 152814.93 | P38: =P37+N38 -> 357850.58 | R38: =R37+P38 -> 714893.06 | T38: =T37+R38 -> 814711.66
P41: Nova Petrópolis, 20 de janeiro de 2026.
G46: Rodrigo Emanuel Rabello
G47: Engenheiro Civil - CREA-RS 167.175

Sheet LEIS SOCIAIS
