Workbook
Name ID: #REF!

Sheet ANEXO XII - PROPOSTA FINANCEIRA
B2: ANEXO XII - MODELO DE PROPOSTA FINANCEIRA - REFORMA CASAS DE BOMBAS
A8: ITEM | B8: DESCRIÇÃO | C8: VALOR (R$) COM BDI | D8: % | E8: CB 01 | G8: CB 02 | I8: CB 03 | K8: CB 04
E9: TOTAL DO ITEM | F9: PESO | G9: TOTAL DO ITEM | H9: PESO | I9: TOTAL DO ITEM | J9: PESO | K9: TOTAL DO ITEM | L9: PESO
A10: 1 | B10: ESTUDOS E PROJETOS
A11: 2 | B11: SERVIÇOS INICIAIS
A12: 3 | B12: ADMINISTRAÇÃO DE OBRA
A13: 4 | B13: SERVIÇOS ACESSÓRIOS (para o funcionamento ininterrupto da CB ao longo da obra)
A14: 5 | B14: RELIGADORES TELECOMANDADOS
A15: 6 | B15: ENTRADA DE ENERGIA EM MT, QGBT/CCMs, ALIMENTADORES, AUTOMAÇÃO E INST. PREDIAL
A16: 7 | B16: SERVIÇOS ELÉTRICOS COMPLEMENTARES (ILUMINAÇÃO EXTERNA E SPDA)
A17: 8 | B17: REFORMAS E SUBSTITUIÇÕES MECÂNICAS (MOTOBOMBAS, TUBULAÇÕES, COMPORTAS, VÁLVULAS, GRADES DE RETENÇÃO, STOP LOGS, TAMPAS DE COBERTURA, PONTES ROLANTES, ESTRUTURAS DE APOIO, ETC)
A18: 9 | B18: REFORMAS CIVIS - ELEVAÇÃO PAINÉIS DE COMANDO, REVESTIMENTOS INTERNOS/EXTERNOS E COBERTURAS
A19: 10 | B19: SERVIÇOS FINAIS
B20: TOTAL | C20: 0 | D20: 0 | E20: 0 | F20: 0 | G20: 0 | H20: 0 | I20: 0 | J20: 0 | K20: 0 | L20: 0
A24: ITEM | B24: DESCRIÇÃO | C24: CB CC | E24: CB 06 | G24: CB 07 | I24: CB 08 | K24: SOBRESSALENTES
C25: TOTAL DO ITEM | D25: PESO | E25: TOTAL DO ITEM | F25: PESO | G25: TOTAL DO ITEM | H25: PESO | I25: TOTAL DO ITEM | J25: PESO | K25: TOTAL DO ITEM | L25: PESO
A26: 1 | B26: ESTUDOS E PROJETOS
A27: 2 | B27: SERVIÇOS INICIAIS
A28: 3 | B28: ADMINISTRAÇÃO DE OBRA
A29: 4 | B29: SERVIÇOS ACESSÓRIOS (para o funcionamento ininterrupto da CB ao longo da obra)
A30: 5 | B30: RELIGADORES TELECOMANDADOS
A31: 6 | B31: ENTRADA DE ENERGIA EM MT, QGBT/CCMs, ALIMENTADORES, AUTOMAÇÃO E INST. PREDIAL
A32: 7 | B32: SERVIÇOS ELÉTRICOS COMPLEMENTARES (ILUMINAÇÃO EXTERNA E SPDA)
A33: 8 | B33: REFORMAS E SUBSTITUIÇÕES MECÂNICAS (MOTOBOMBAS, TUBULAÇÕES, COMPORTAS, VÁLVULAS, GRADES DE RETENÇÃO, STOP LOGS, TAMPAS DE COBERTURA, PONTES ROLANTES, ESTRUTURAS DE APOIO, ETC)
A34: 9 | B34: REFORMAS CIVIS - ELEVAÇÃO PAINÉIS DE COMANDO, REVESTIMENTOS INTERNOS/EXTERNOS E COBERTURAS
A35: 10 | B35: SERVIÇOS FINAIS
B36: TOTAL | C36: 0 | D36: 0 | E36: 0 | F36: 0 | G36: 0 | H36: 0 | I36: 0 | J36: 0 | K36: 0 | L36: 0

Sheet ANEXO XIII - MODELO CRONOGRAMA
D1: CONFIGURAR PAGINA COM TAMANHO DE 1200 X 2900 MM PARA IMPRESSÃO
B6: ANEXO XIII - MODELO DE CRONOGRAMA FÍSICO FINANCEIRO - REFORMA CASAS DE BOMBAS
B7: CASA DE BOMBAS Nº 07/CINCO COLONIAS | C7: ITEM | D7: DESCRIÇÃO | E7: VALOR (R$) COM BDI | F7: % | G7: MÊS 01 | J7: MÊS 02 | M7: MÊS 03 | P7: MÊS 04 | S7: MÊS 05 | V7: MÊS 06 | Y7: MÊS 07 | AB7: MÊS 08 | AE7: MÊS 09 | AH7: MÊS 10 | AK7: MÊS 11 | AN7: MÊS 12 | AQ7: MÊS 13 | AT7: MÊS 14 | AW7: MÊS 15 | AZ7: MÊS 16 | BC7: MÊS 17 | BF7: MÊS 18 | BI7: MÊS 19 | BL7: MÊS 20 | BO7: MÊS 21 | BR7: MÊS 22 | BU7: MÊS 23 | BX7: MÊS 24 | CA7: MÊS 25 | CD7: MÊS 26 | CG7: MÊS 27 | CJ7: MÊS 28 | CM7: MÊS 29 | CP7: MÊS 30
G8: R$ | H8: % | I8: % ACUM. | J8: R$ | K8: % | L8: % ACUM. | M8: R$ | N8: % | O8: % ACUM. | P8: R$ | Q8: % | R8: % ACUM. | S8: R$ | T8: % | U8: % ACUM. | V8: R$ | W8: % | X8: % ACUM. | Y8: R$ | Z8: % | AA8: % ACUM. | AB8: R$ | AC8: % | AD8: % ACUM. | AE8: R$ | AF8: % | AG8: % ACUM. | AH8: R$ | AI8: % | AJ8: % ACUM. | AK8: R$ | AL8: % | AM8: % ACUM. | AN8: R$ | AO8: % | AP8: % ACUM. | AQ8: R$ | AR8: % | AS8: % ACUM. | AT8: R$ | AU8: % | AV8: % ACUM. | AW8: R$ | AX8: % | AY8: % ACUM. | AZ8: R$ | BA8: % | BB8: % ACUM. | BC8: R$ | BD8: % | BE8: % ACUM. | BF8: R$ | BG8: % | BH8: % ACUM. | BI8: R$ | BJ8: % | BK8: % ACUM. | BL8: R$ | BM8: % | BN8: % ACUM. | BO8: R$ | BP8: % | BQ8: % ACUM. | BR8: R$ | BS8: % | BT8: % ACUM. | BU8: R$ | BV8: % | BW8: % ACUM. | BX8: R$ | BY8: % | BZ8: % ACUM. | CA8: R$ | CB8: % | CC8: % ACUM. | CD8: R$ | CE8: % | CF8: % ACUM. | CG8: R$ | CH8: % | CI8: % ACUM. | CJ8: R$ | CK8: % | CL8: % ACUM. | CM8: R$ | CN8: % | CO8: % ACUM. | CP8: R$ | CQ8: % | CR8: % ACUM.
D9: CB7
C10: 1 | D10: ESTUDOS E PROJETOS
C11: 2 | D11: SERVIÇOS INICIAIS
C12: 3 | D12: ADMINISTRAÇÃO DE OBRA
C13: 4 | D13: SERVIÇOS ACESSÓRIOS (para o funcionamento ininterrupto da CB ao longo da obra)
C14: 5 | D14: RELIGADORES TELECOMANDADOS
C15: 6 | D15: ENTRADA DE ENERGIA EM MT, QGBT/CCMs, ALIMENTADORES, AUTOMAÇÃO E INST. PREDIAL
C16: 7 | D16: SERVIÇOS ELÉTRICOS COMPLEMENTARES (ILUMINAÇÃO EXTERNA E SPDA)
C17: ='[1]Planilha CB 07'!E463 -> 8.1 | D17: TROCA DE CONJUNTO DE BOMBEAMENTO COMPLETO VAZÃO 9.000 M3/H, INCLUSO REMOÇÃO CONJUNTO ANTIGO, FORNECIMENTO DE MOTOBOMBA, TUBOS, VÁLVULAS, STOP LOGS, GRADES DE RETENÇÃO, ESTRUTURAS DE APOIO, INSTALAÇÃO DE NOVO CONJUNTO. EXCLUSO FORÇA, COMANDO E CCM ELÉTRICO
C18: ='[1]Planilha CB 07'!E465 -> 8.3 | D18: TROCA DE CONJUNTO DE COMPORTA DE GRAVIDADE DE BYPASS, INCLUSO REMOÇÃO CONJUNTO ANTIGO, FORNECIMENTO DE TUBULAÇÃO, VÁLVULAS, COMPORTAS, STOP LOG, GRADES DE RETENÇÃO, ESTRUTURAS DE APOIO E INSTALAÇÃO DE NOVO CONJUNTO
C19: ='[1]Planilha CB 07'!E466 -> 8.4 | D19: TROCA DE PONTE ROLANTE, INCLUSO REMOÇÃO CONJUNTO ANTIGO, FORNECIMENTO E INSTALAÇÃO DE NOVA PONTE ROLANTE
C20: ='[1]Planilha CB 07'!E467 -> 8.5 | D20: FECHAMENTO DE COMPORTA DE GRAVIDADE ABAIXO DA BOMBA, INCLUSO REMOÇÃO CONJUNTO ANTIGO E FECHAMENTO DO VÃO COM CONCRETO ESTRUTURADO
C21: 9 | D21: REFORMAS CIVIS - ELEVAÇÃO PAINÉIS DE COMANDO, REVESTIMENTOS INTERNOS/EXTERNOS E COBERTURAS
C22: 10 | D22: SERVIÇOS FINAIS
D24: CBCC - CINCO COLONIAS
C25: 1 | D25: ESTUDOS E PROJETOS
C26: 2 | D26: SERVIÇOS INICIAIS
C27: 3 | D27: ADMINISTRAÇÃO DE OBRA
C28: 4 | D28: SERVIÇOS ACESSÓRIOS (para o funcionamento ininterrupto da CB ao longo da obra)
C29: 5 | D29: RELIGADORES TELECOMANDADOS
C30: 6 | D30: ENTRADA DE ENERGIA EM MT, QGBT/CCMs, ALIMENTADORES, AUTOMAÇÃO E INST. PREDIAL
C31: 7 | D31: SERVIÇOS ELÉTRICOS COMPLEMENTARES (ILUMINAÇÃO EXTERNA E SPDA)
C32: ='[1]Planilha CB CC'!E420 -> 8.1 | D32: TROCA DE CONJUNTO DE BOMBEAMENTO COMPLETO VAZÃO 200 L/S, INCLUSO REMOÇÃO CONJUNTO ANTIGO, FORNECIMENTO DE MOTOBOMBA, TUBOS, VÁLVULAS, ESTRUTURAS DE APOIO, INSTALAÇÃO DE NOVO CONJUNTO. EXCLUSO FORÇA, COMANDO E CCM ELÉTRICO
C33: ='[1]Planilha CB CC'!E421 -> 8.2 | D33: TROCA DE CONJUNTO DE ESCOAMENTO POR GRAVIDADE, INCLUSO REMOÇÃO CONJUNTO ANTIGO, FORNECIMENTO DE COMPORTAS, TUBOS, VÁLVULAS, ESTRUTURAS DE APOIO, INSTALAÇÃO DE NOVO CONJUNTO
C34: ='[1]Planilha CB CC'!E422 -> 8.3 | D34: TROCA RESTANTE COMPONENTES MECÂNICOS. INCLUSO REMOÇÃO CONJUNTO ANTIGO, FORNECIMENTO DE GRADES DE RETENÇÃO, TAMPAS DE INSPEÇÃO, TALHA ELETRICA, TROLEY, STOP LOG, INSTALAÇÃO DE NOVO CONJUNTO.
C35: 9 | D35: REFORMAS CIVIS - ELEVAÇÃO PAINÉIS DE COMANDO, REVESTIMENTOS INTERNOS/EXTERNOS E COBERTURAS
C36: 10 | D36: SERVIÇOS FINAIS
B38: CASA DE BOMBAS Nº 01, Nº 03 E Nº 06 | D38: CB1
C39: 1 | D39: ESTUDOS E PROJETOS
C40: 2 | D40: SERVIÇOS INICIAIS
C41: 3 | D41: ADMINISTRAÇÃO DE OBRA
C42: 4 | D42: SERVIÇOS ACESSÓRIOS (para o funcionamento ininterrupto da CB ao longo da obra)
C43: 5 | D43: RELIGADORES TELECOMANDADOS
C44: 6 | D44: ENTRADA DE ENERGIA EM MT, QGBT/CCMs, ALIMENTADORES, AUTOMAÇÃO E INST. PREDIAL
C45: 7 | D45: SERVIÇOS ELÉTRICOS COMPLEMENTARES (ILUMINAÇÃO EXTERNA E SPDA)
C46: 8.1 | D46: TROCA DE CONJUNTO DE BOMBEAMENTO COMPLETO VAZÃO 9.000 M3/H, INCLUSO REMOÇÃO CONJUNTO ANTIGO, FORNECIMENTO DE MOTOBOMBA, TUBOS, VÁLVULAS, STOP LOGS, GRADES DE RETENÇÃO, ESTRUTURAS DE APOIO, INSTALAÇÃO DE NOVO CONJUNTO. EXCLUSO FORÇA, COMANDO E CCM ELÉTRICO
...

Sheet Filtro Aux
A1: CLASSE | C1: CLASSE | D1: TIPO
A2: {=_xlfn.UNIQUE(Comp_Desonerado!A7:A8000)} -> #NAME? | B2: =COUNTIF(Comp_Desonerado!$A$7:$A$8000,A2) -> 0 | C2: =IFERROR(INDEX(Comp_Desonerado!$A$7:$C$8000,MATCH(D2,Comp_Desonerado!$C$7:$C$8000,0),1),"") | D2: {=_xlfn.UNIQUE(Comp_Desonerado!C7:C8000)} -> #NAME? | E2: =COUNTIF(Comp_Desonerado!$C$7:$C$8000,D2) -> 0
A3: #NAME? | B3: =COUNTIF(Comp_Desonerado!$A$7:$A$8000,A3) -> 0 | C3: =IFERROR(INDEX(Comp_Desonerado!$A$7:$C$8000,MATCH(D3,Comp_Desonerado!$C$7:$C$8000,0),1),"") | D3: #NAME? | E3: =COUNTIF(Comp_Desonerado!$C$7:$C$8000,D3) -> 0
A4: #NAME? | B4: =COUNTIF(Comp_Desonerado!$A$7:$A$8000,A4) -> 0 | C4: =IFERROR(INDEX(Comp_Desonerado!$A$7:$C$8000,MATCH(D4,Comp_Desonerado!$C$7:$C$8000,0),1),"") | D4: #NAME? | E4: =COUNTIF(Comp_Desonerado!$C$7:$C$8000,D4) -> 0
A5: #NAME? | B5: =COUNTIF(Comp_Desonerado!$A$7:$A$8000,A5) -> 0 | C5: =IFERROR(INDEX(Comp_Desonerado!$A$7:$C$8000,MATCH(D5,Comp_Desonerado!$C$7:$C$8000,0),1),"") | D5: #NAME? | E5: =COUNTIF(Comp_Desonerado!$C$7:$C$8000,D5) -> 0
A6: #NAME? | B6: =COUNTIF(Comp_Desonerado!$A$7:$A$8000,A6) -> 0 | C6: =IFERROR(INDEX(Comp_Desonerado!$A$7:$C$8000,MATCH(D6,Comp_Desonerado!$C$7:$C$8000,0),1),"") | D6: #NAME? | E6: =COUNTIF(Comp_Desonerado!$C$7:$C$8000,D6) -> 0
A7: #NAME? | B7: =COUNTIF(Comp_Desonerado!$A$7:$A$8000,A7) -> 0 | C7: =IFERROR(INDEX(Comp_Desonerado!$A$7:$C$8000,MATCH(D7,Comp_Desonerado!$C$7:$C$8000,0),1),"") | D7: #NAME? | E7: =COUNTIF(Comp_Desonerado!$C$7:$C$8000,D7) -> 0
A8: #NAME? | B8: =COUNTIF(Comp_Desonerado!$A$7:$A$8000,A8) -> 0 | C8: =IFERROR(INDEX(Comp_Desonerado!$A$7:$C$8000,MATCH(D8,Comp_Desonerado!$C$7:$C$8000,0),1),"") | D8: #NAME? | E8: =COUNTIF(Comp_Desonerado!$C$7:$C$8000,D8) -> 0
A9: #NAME? | B9: =COUNTIF(Comp_Desonerado!$A$7:$A$8000,A9) -> 0 | C9: =IFERROR(INDEX(Comp_Desonerado!$A$7:$C$8000,MATCH(D9,Comp_Desonerado!$C$7:$C$8000,0),1),"") | D9: #NAME? | E9: =COUNTIF(Comp_Desonerado!$C$7:$C$8000,D9) -> 0
A10: #NAME? | B10: =COUNTIF(Comp_Desonerado!$A$7:$A$8000,A10) -> 0 | C10: =IFERROR(INDEX(Comp_Desonerado!$A$7:$C$8000,MATCH(D10,Comp_Desonerado!$C$7:$C$8000,0),1),"") | D10: #NAME? | E10: =COUNTIF(Comp_Desonerado!$C$7:$C$8000,D10) -> 0
A11: #NAME? | B11: =COUNTIF(Comp_Desonerado!$A$7:$A$8000,A11) -> 0 | C11: =IFERROR(INDEX(Comp_Desonerado!$A$7:$C$8000,MATCH(D11,Comp_Desonerado!$C$7:$C$8000,0),1),"") | D11: #NAME? | E11: =COUNTIF(Comp_Desonerado!$C$7:$C$8000,D11) -> 0
A12: #NAME? | B12: =COUNTIF(Comp_Desonerado!$A$7:$A$8000,A12) -> 0 | C12: =IFERROR(INDEX(Comp_Desonerado!$A$7:$C$8000,MATCH(D12,Comp_Desonerado!$C$7:$C$8000,0),1),"") | D12: #NAME? | E12: =COUNTIF(Comp_Desonerado!$C$7:$C$8000,D12) -> 0
A13: #NAME? | B13: =COUNTIF(Comp_Desonerado!$A$7:$A$8000,A13) -> 0 | C13: =IFERROR(INDEX(Comp_Desonerado!$A$7:$C$8000,MATCH(D13,Comp_Desonerado!$C$7:$C$8000,0),1),"") | D13: #NAME? | E13: =COUNTIF(Comp_Desonerado!$C$7:$C$8000,D13) -> 0
A14: #NAME? | B14: =COUNTIF(Comp_Desonerado!$A$7:$A$8000,A14) -> 0 | C14: =IFERROR(INDEX(Comp_Desonerado!$A$7:$C$8000,MATCH(D14,Comp_Desonerado!$C$7:$C$8000,0),1),"") | D14: #NAME? | E14: =COUNTIF(Comp_Desonerado!$C$7:$C$8000,D14) -> 0
... A25: #NAME? | B25: =COUNTIF(Comp_Desonerado!$A$7:$A$8000,A25) -> 0 | C25: =IFERROR(INDEX(Comp_Desonerado!$A$7:$C$8000,MATCH(D25,Comp_Desonerado!$C$7:$C$8000,0),1),"") | D25: #NAME? | E25: =COUNTIF(Comp_Desonerado!$C$7:$C$8000,D25) -> 0
A26: #NAME? | C26: =IFERROR(INDEX(Comp_Desonerado!$A$7:$C$8000,MATCH(D26,Comp_Desonerado!$C$7:$C$8000,0),1),"") | D26: #NAME? | E26: =COUNTIF(Comp_Desonerado!$C$7:$C$8000,D26) -> 0
C27: =IFERROR(INDEX(Comp_Desonerado!$A$7:$C$8000,MATCH(D27,Comp_Desonerado!$C$7:$C$8000,0),1),"") | D27: #NAME? | E27: =COUNTIF(Comp_Desonerado!$C$7:$C$8000,D27) -> 0
C28: =IFERROR(INDEX(Comp_Desonerado!$A$7:$C$8000,MATCH(D28,Comp_Desonerado!$C$7:$C$8000,0),1),"") | D28: #NAME? | E28: =COUNTIF(Comp_Desonerado!$C$7:$C$8000,D28) -> 0
C29: =IFERROR(INDEX(Comp_Desonerado!$A$7:$C$8000,MATCH(D29,Comp_Desonerado!$C$7:$C$8000,0),1),"") | D29: #NAME? | E29: =COUNTIF(Comp_Desonerado!$C$7:$C$8000,D29) -> 0
C30: =IFERROR(INDEX(Comp_Desonerado!$A$7:$C$8000,MATCH(D30,Comp_Desonerado!$C$7:$C$8000,0),1),"") | D30: #NAME? | E30: =COUNTIF(Comp_Desonerado!$C$7:$C$8000,D30) -> 0
C31: =IFERROR(INDEX(Comp_Desonerado!$A$7:$C$8000,MATCH(D31,Comp_Desonerado!$C$7:$C$8000,0),1),"") | D31: #NAME? | E31: =COUNTIF(Comp_Desonerado!$C$7:$C$8000,D31) -> 0
C32: =IFERROR(INDEX(Comp_Desonerado!$A$7:$C$8000,MATCH(D32,Comp_Desonerado!$C$7:$C$8000,0),1),"") | D32: #NAME? | E32: =COUNTIF(Comp_Desonerado!$C$7:$C$8000,D32) -> 0
C33: =IFERROR(INDEX(Comp_Desonerado!$A$7:$C$8000,MATCH(D33,Comp_Desonerado!$C$7:$C$8000,0),1),"") | D33: #NAME? | E33: =COUNTIF(Comp_Desonerado!$C$7:$C$8000,D33) -> 0
C34: =IFERROR(INDEX(Comp_Desonerado!$A$7:$C$8000,MATCH(D34,Comp_Desonerado!$C$7:$C$8000,0),1),"") | D34: #NAME? | E34: =COUNTIF(Comp_Desonerado!$C$7:$C$8000,D34) -> 0
C35: =IFERROR(INDEX(Comp_Desonerado!$A$7:$C$8000,MATCH(D35,Comp_Desonerado!$C$7:$C$8000,0),1),"") | D35: #NAME? | E35: =COUNTIF(Comp_Desonerado!$C$7:$C$8000,D35) -> 0
C36: =IFERROR(INDEX(Comp_Desonerado!$A$7:$C$8000,MATCH(D36,Comp_Desonerado!$C$7:$C$8000,0),1),"") | D36: #NAME? | E36: =COUNTIF(Comp_Desonerado!$C$7:$C$8000,D36) -> 0
C37: =IFERROR(INDEX(Comp_Desonerado!$A$7:$C$8000,MATCH(D37,Comp_Desonerado!$C$7:$C$8000,0),1),"") | D37: #NAME? | E37: =COUNTIF(Comp_Desonerado!$C$7:$C$8000,D37) -> 0
C38: =IFERROR(INDEX(Comp_Desonerado!$A$7:$C$8000,MATCH(D38,Comp_Desonerado!$C$7:$C$8000,0),1),"") | D38: #NAME? | E38: =COUNTIF(Comp_Desonerado!$C$7:$C$8000,D38) -> 0
... C155: =IFERROR(INDEX(Comp_Desonerado!$A$7:$C$8000,MATCH(D155,Comp_Desonerado!$C$7:$C$8000,0),1),"") | D155: #NAME? | E155: =COUNTIF(Comp_Desonerado!$C$7:$C$8000,D155) -> 0
C156: =IFERROR(INDEX(Comp_Desonerado!$A$7:$C$8000,MATCH(D156,Comp_Desonerado!$C$7:$C$8000,0),1),"") | D156: #NAME?
C157: =IFERROR(INDEX(Comp_Desonerado!$A$7:$C$8000,MATCH(D157,Comp_Desonerado!$C$7:$C$8000,0),1),"") | D157: #NAME?
C158: =IFERROR(INDEX(Comp_Desonerado!$A$7:$C$8000,MATCH(D158,Comp_Desonerado!$C$7:$C$8000,0),1),"") | D158: #NAME?
C159: =IFERROR(INDEX(Comp_Desonerado!$A$7:$C$8000,MATCH(D159,Comp_Desonerado!$C$7:$C$8000,0),1),"") | D159: #NAME?
C160: =IFERROR(INDEX(Comp_Desonerado!$A$7:$C$8000,MATCH(D160,Comp_Desonerado!$C$7:$C$8000,0),1),"")
C161: =IFERROR(INDEX(Comp_Desonerado!$A$7:$C$8000,MATCH(D161,Comp_Desonerado!$C$7:$C$8000,0),1),"")
C162: =IFERROR(INDEX(Comp_Desonerado!$A$7:$C$8000,MATCH(D162,Comp_Desonerado!$C$7:$C$8000,0),1),"")
C163: =IFERROR(INDEX(Comp_Desonerado!$A$7:$C$8000,MATCH(D163,Comp_Desonerado!$C$7:$C$8000,0),1),"")
C164: =IFERROR(INDEX(Comp_Desonerado!$A$7:$C$8000,MATCH(D164,Comp_Desonerado!$C$7:$C$8000,0),1),"")
C165: =IFERROR(INDEX(Comp_Desonerado!$A$7:$C$8000,MATCH(D165,Comp_Desonerado!$C$7:$C$8000,0),1),"")

Sheet Filtro Ins
A1: CODIGO | B1: DESCRICAO DO INSUMO | C1: UNIDADE DE MEDIDA | D1: ORIGEM DO PRECO | E1: PRECO MEDIANO R$
A4: CODIGO | B4: DESCRICAO DO INSUMO | C4: UNIDADE DE MEDIDA | D4: ORIGEM DO PRECO | E4: PRECO MEDIANO R$

Sheet Filtro Comp
A1: DESCRICAO DA CLASSE | B1: SIGLA DA CLASSE | C1: DESCRICAO DO TIPO 1 | D1: SIGLA DO TIPO 1 | E1: CODIGO DO AGRUPADOR | F1: DESCRICAO DO AGRUPADOR | G1: CODIGO DA COMPOSICAO | H1: DESCRICAO DA COMPOSICAO | I1: UNIDADE | J1: ORIGEM DE PREÇO | K1: CUSTO TOTAL | L1: VINCULO
A4: DESCRICAO DA CLASSE | B4: SIGLA DA CLASSE | C4: DESCRICAO DO TIPO 1 | D4: SIGLA DO TIPO 1 | E4: CODIGO DO AGRUPADOR | F4: DESCRICAO DO AGRUPADOR | G4: CODIGO DA COMPOSICAO | H4: DESCRICAO DA COMPOSICAO | I4: UNIDADE | J4: ORIGEM DE PREÇO | K4: CUSTO TOTAL | L4: VINCULO
L5: CAIXA REFERENCIAL
L6: CAIXA REFERENCIAL
L7: CAIXA REFERENCIAL
L8: CAIXA REFERENCIAL
L9: CAIXA REFERENCIAL
L10: CAIXA REFERENCIAL
L11: CAIXA REFERENCIAL
L12: CAIXA REFERENCIAL
L13: CAIXA REFERENCIAL
L14: CAIXA REFERENCIAL

Sheet Filtro SicComp
A1: Código | B1: Descrição do Serviço | C1: Unidade | D1: Custo Unitário (R$)
A4: Código | B4: Descrição do Serviço | C4: Unidade | D4: Custo Unitário (R$)

Sheet Filtro SicMat
A1: Código | B1: Descrição | C1: Unidade | D1: Preço Unitário (R$)
A4: Código | B4: Descrição | C4: Unidade | D4: Preço Unitário (R$)

Sheet Filtro SicEquip
A1: Código | B1: Descrição | C1: Valor de Aquisição (R$) | D1: Depreciação (R$/h) | E1: Oportunidade de Capital (R$/h) | F1: Seguros e Impostos (R$/h) | G1: Manutenção (R$/h) | H1: Operação (R$/h) | I1: Mão de Obra de Operação (R$/h) | J1: Custo Produtivo (R$/h) | K1: Custo Improdutivo (R$/h)
A4: Código | B4: Descrição | C4: Valor de Aquisição (R$) | D4: Depreciação (R$/h) | E4: Oportunidade de Capital (R$/h) | F4: Seguros e Impostos (R$/h) | G4: Manutenção (R$/h) | H4: Operação (R$/h) | I4: Mão de Obra de Operação (R$/h) | J4: Custo Produtivo (R$/h) | K4: Custo Improdutivo (R$/h)

Sheet Filtro SicMO
A1: Código | B1: Descrição | C1: Unidade | D1: Salário (R$) | E1: Encargos Totais | F1: Custo (R$) | G1: Periculosidade/ Insalubridade
A4: Código | B4: Descrição | C4: Unidade | D4: Salário (R$) | E4: Encargos Totais | F4: Custo (R$) | G4: Periculosidade/ Insalubridade

Sheet Sicro_Comp
A1: CGCIT | B1: SISTEMA DE CUSTOS REFERENCIAIS DE OBRAS - SICRO | D1: DNIT
B2: Rio Grande do Sul - Janeiro/2022
A3: Código | B3: Descrição do Serviço | C3: Unidade | D3: Custo Unitário (R$)
A4: 307731 | B4: Aparelho de apoio de neoprene fretado para estruturas moldadas no local - fornecimento e instalação | C4: dm³ | D4: 99.22
A5: 307732 | B5: Aparelho de apoio de neoprene fretado para estruturas pré-moldadas - fornecimento e instalação | C5: dm³ | D5: 79.02
A6: 308308 | B6: Aparelho de apoio metálico elastomérico fixo com capacidade de 1.500 kN - fornecimento e instalação | C6: un | D6: 17175.76
A7: 308313 | B7: Aparelho de apoio metálico elastomérico fixo com capacidade de 10.000 kN - fornecimento e instalação | C7: un | D7: 113067.12
A8: 308309 | B8: Aparelho de apoio metálico elastomérico fixo com capacidade de 2.500 kN - fornecimento e instalação | C8: un | D8: 28116.2
A9: 308310 | B9: Aparelho de apoio metálico elastomérico fixo com capacidade de 4.000 kN - fornecimento e instalação | C9: un | D9: 45351.63
A10: 308311 | B10: Aparelho de apoio metálico elastomérico fixo com capacidade de 5.500 kN - fornecimento e instalação | C10: un | D10: 60894.73
A11: 308312 | B11: Aparelho de apoio metálico elastomérico fixo com capacidade de 7.500 kN - fornecimento e instalação | C11: un | D11: 83568.73
A12: 308307 | B12: Aparelho de apoio metálico elastomérico fixo com capacidade de 700 kN - fornecimento e instalação | C12: un | D12: 11466.6
A13: 308322 | B13: Aparelho de apoio metálico elastomérico multidirecional com capacidade de 1.500 kN - fornecimento e instalação | C13: un | D13: 9081.53
A14: 308327 | B14: Aparelho de apoio metálico elastomérico multidirecional com capacidade de 10.000 kN - fornecimento e instalação | C14: un | D14: 56803.81
A15: 308323 | B15: Aparelho de apoio metálico elastomérico multidirecional com capacidade de 2.500 kN - fornecimento e instalação | C15: un | D15: 13911.39
... A6375: 7119700 | B6375: Tratamento superficial e pintura das obras vivas e mortas externas do flutuante (fundo, costados e espelhos de proa e popa) | C6375: m² | D6375: 47.18

Sheet Sicro_Mat
A1: CGCIT | B1: SISTEMA DE CUSTOS REFERENCIAIS DE OBRAS - SICRO | D1: DNIT
B2: Rio Grande do Sul - Janeiro/2022
A3: Código | B3: Descrição | C3: Unidade | D3: Preço Unitário (R$)
A4: M0003 | B4: Aço CA 25 | C4: kg | D4: 9.3124
A5: M0004 | B5: Aço CA 50 | C5: kg | D5: 8.4168
A6: M0005 | B6: Brita 0 | C6: m³ | D6: 105.8824
A7: M0006 | B7: Fibra de poliamida para concreto | C7: kg | D7: 16.9184
A8: M0007 | B8: Fibra de aço para concreto | C8: kg | D8: 12.8325
A9: M0008 | B9: Detergente líquido neutro | C9: l | D9: 3.7185
A10: M0009 | B10: Aço CP 175 RB | C10: kg | D10: 10.5707
A11: M0010 | B11: Aditivo superplastificante para concreto e argamassa | C11: kg | D11: 11.8936
A12: M0011 | B12: Aditivo modificador de viscosidade para concreto e argamassa | C12: kg | D12: 6.9143
A13: M0012 | B13: Silicato de alumínio | C13: kg | D13: 1.5077
A14: M0013 | B14: Grampo de ancoragem em aço CA 50 - D = 12,5 mm | C14: kg | D14: 8.4168
A15: M0014 | B15: Aço CA 60 | C15: kg | D15: 9.7337
... A81: M0103 | B81: Aditivo acelerador de pega para concreto e argamassa projetados | C81: kg | D81: 5.8298
A82: M0104 | B82: Asfalto diluído de petróleo - CM-30 | C82: t | D82: -
A83: M0105 | B83: Ancoragem ativa para 4 cordoalhas - D = 15,2 mm | C83: un | D83: 343.7111
A84: M0106 | B84: Ancoragem ativa para 6 cordoalhas - D = 15,2 mm | C84: un | D84: 508.6144
A85: M0107 | B85: Geocomposto para drenagem | C85: m² | D85: 26.5998
A86: M0108 | B86: Ancoragem ativa para 7 cordoalhas - D = 15,2 mm | C86: un | D86: 601.2987
A87: M0109 | B87: Geodreno vertical - L = 10 cm e E = 5 mm | C87: m | D87: 4.0888
A88: M0110 | B88: Ancoragem ativa para 10 cordoalhas - D = 15,2 mm | C88: un | D88: 902.7649
A89: M0111 | B89: Ancoragem ativa para 9 cordoalhas - D = 15,2 mm | C89: un | D89: 808.2597
A90: M0112 | B90: Disco diamantado segmentado para corte de pavimento - D = 1.000 mm | C90: un | D90: 5057.667
A91: M0113 | B91: Ancoragem ativa para 12 cordoalhas - D = 15,2 mm | C91: un | D91: 1110.7681
A92: M0114 | B92: Disco diamantado segmentado para corte de pavimento - D = 1.500 mm | C92: un | D92: 22125.679
A93: M0115 | B93: Biomanta vegetal de fibras de coco entrelaçadas com fios de polipropileno biodegradáveis - densidade 0,4 kg/m² | C93: m² | D93: 5.7232
A94: M0116 | B94: Mangote flangeado de borracha reforçada com lonas sintéticas - C = 1,80 m e D = 0,30 m | C94: un | D94: 14235.448
... A221: M0450 | B221: Compensado de virola - E = 6 mm | C221: m² | D221: 24.0747
A222: M0451 | B222: Concreto usinado - fck = 20 MPa (comercial) | C222: m³ | D222: -
A223: M0452 | B223: Concreto usinado - fck = 25 MPa (comercial) | C223: m³ | D223: -
A224: M0453 | B224: Concreto usinado - fck = 30 MPa (comercial) | C224: m³ | D224: -
A225: M0454 | B225: Concreto usinado - fck = 35 MPa (comercial) | C225: m³ | D225: -
A226: M0459 | B226: Compensado plastificado - E = 14 mm | C226: m² | D226: 54.9586
A227: M0465 | B227: Barra redonda em aço SAE 1020 - D = 15,88 mm (5/8") | C227: kg | D227: 13.4008
A228: M0466 | B228: Luva de PVC rosqueável - D = 42,1 mm (1 1/4") | C228: un | D228: 7.2197
A229: M0467 | B229: Luva em aço para emenda tipo prensada - D = 20,0 mm | C229: un | D229: 39.6246
A230: M0468 | B230: Luva em aço para emenda tipo prensada - D = 25,0 mm | C230: un | D230: 65.6106
A231: M0469 | B231: Luva em aço para emenda tipo prensada - D = 32,0 mm | C231: un | D231: 135.9093
...

Sheet Sicro_Eq_Des
A1: CGCIT | B1: SISTEMA DE CUSTOS REFERENCIAIS DE OBRAS - SICRO | K1: DNIT
B2: Rio Grande do Sul - Janeiro/2022 - Com desoneração
A3: Código | B3: Descrição | C3: Valor de Aquisição (R$) | D3: Depreciação (R$/h) | E3: Oportunidade de Capital (R$/h) | F3: Seguros e Impostos (R$/h) | G3: Manutenção (R$/h) | H3: Operação (R$/h) | I3: Mão de Obra de Operação (R$/h) | J3: Custo Produtivo (R$/h) | K3: Custo Improdutivo (R$/h)
A4: E9001 | B4: Conjunto vibratório para tubos de concreto com encaixe PB e 3 jogos de fôrmas - D = 0,60 m - 2,20 kW | C4: 59059.787 | D4: 7.8746 | E4: 1.822 | F4: 0 | G4: 5.906 | H4: 0 | I4: 0 | J4: 15.6026 | K4: 9.6966
A5: E9002 | B5: Conjunto vibratório para tubos de concreto com encaixe PB e 3 jogos de fôrmas - D = 0,80 m - 2,20 kW | C5: 64017.5 | D5: 8.5357 | E5: 1.9749 | F5: 0 | G5: 6.4018 | H5: 0 | I5: 0 | J5: 16.9124 | K5: 10.5106
A6: E9003 | B6: Conjunto vibratório para tubos de concreto com encaixe PB e 3 jogos de fôrmas - D = 1,00 m - 2,20 kW | C6: 70202.733 | D6: 9.3604 | E6: 2.1658 | F6: 0 | G6: 7.0203 | H6: 0 | I6: 0 | J6: 18.5465 | K6: 11.5262
A7: E9004 | B7: Conjunto vibratório para tubos de concreto com encaixe PB e 3 jogos de fôrmas - D = 1,20 m - 2,20 kW | C7: 70602.453 | D7: 9.4137 | E7: 2.1781 | F7: 0 | G7: 7.0602 | H7: 0 | I7: 0 | J7: 18.652 | K7: 11.5918
A8: E9005 | B8: Conjunto vibratório para tubos de concreto com encaixe PB e 3 jogos de fôrmas - D = 1,50 m - 2,20 kW | C8: 73271.673 | D8: 9.7696 | E8: 2.2604 | F8: 0 | G8: 7.3272 | H8: 0 | I8: 0 | J8: 19.3572 | K8: 12.03
A9: E9006 | B9: Equipamento para sondagem manual | C9: 2128.4563 | D9: 0.3618 | E9: 0.0788 | F9: 0 | G9: 0.2128 | H9: 0 | I9: 0 | J9: 0.6534 | K9: 0.4406
A10: E9007 | B10: Bomba de pistão triplex com capacidade de 7,80 m³/h (130 l/min) - 8,20 kW | C10: 67022.628 | D10: 5.3618 | E10: 1.2406 | F10: 0 | G10: 4.6916 | H10: 7.0995 | I10: 0 | J10: 18.3935 | K10: 6.6024
A11: E9008 | B11: Transportador manual de tubos de concreto com capacidade de 1 t | C11: 2133.2097 | D11: 1.9199 | E11: 0.1316 | F11: 0 | G11: 1.0666 | H11: 0 | I11: 0 | J11: 3.1181 | K11: 2.0515
A12: E9009 | B12: Embarcação rebocadora - 268 kW | C12: 626819.01 | D12: 8.1617 | E12: 3.6369 | F12: 0 | G12: 18.1371 | H12: 232.0323 | I12: 107.0903 | J12: 369.0583 | K12: 118.8889
A13: E9010 | B13: Balança plataforma digital com mesa de 75 x 75 cm com capacidade de 500 kg | C13: 6062.5592 | D13: 0.9094 | E13: 0.1247 | F13: 0 | G13: 0.5052 | H13: 0 | I13: 0 | J13: 1.5393 | K13: 1.0341
A14: E9011 | B14: Carro manual modelo plataforma de 200 x 80 cm com capacidade de 800 kg | C14: 1795.991 | D14: 0.3233 | E14: 0.0665 | F14: 0 | G14: 0.1796 | H14: 0 | I14: 0 | J14: 0.5694 | K14: 0.3898
A15: E9014 | B15: Deflectômetro de impacto (FWD) instalado em picape com reboque e faixa de carga de 7 a 120 kN - 147 kW | C15: 2103765.6 | D15: 168.3012 | E15: 38.9407 | F15: 0 | G15: 105.1883 | H15: 0 | I15: 24.0447 | J15: 336.4749 | K15: 231.2866
... A366: E9798 | B366: Perfuratriz hidráulica rotopercussiva - 123 kW | C366: 1745573.3 | D366: 116.3716 | E366: 31.413 | F366: 0 | G366: 116.3716 | H366: 84.073 | I366: 23.5067 | J366: 371.7359 | K366: 171.2913
A367: E9013 | B367: Caminhão tanque de asfalto com capacidade de 31.000 l - 265 kW | J367: 377.0943 | K367: 86.9973
A368: A9335 | B368: Cavalo mecânico estradeiro 6 x 2, PBT 23.000 kg - 265 kW - condição de trabalho severa - Motorista de caminhão | C368: 785747.6 | D368: 33.6749 | E368: 13.8516 | F368: 5.6125 | G368: 50.5123 | H368: 229.4349 | I368: 20.1859 | J368: 353.2721 | K368: 73.3249
A369: A9364 | B369: Tanque isotérmico de asfalto com capacidade de 31.000 l | C369: 253743.95 | D369: 10.1498 | E369: 3.5226 | F369: 0 | G369: 10.1498 | H369: 0 | I369: 0 | J369: 23.8222 | K369: 13.6724
A370: E9018 | B370: Cavalo mecânico com dolly intermediário e semirreboque de 4 eixos com capacidade de 53 t - 323 kW | J370: 450.9322 | K370: 143.1788
A371: A9324 | B371: Cavalo mecânico estradeiro 6 x 4, PBT 23.000 kg - 323 kW - Motorista de veículo especial | C371: 912826.18 | D371: 39.1211 | E371: 16.0918 | F371: 6.5202 | G371: 58.6817 | H371: 206.0585 | I371: 24.0447 | J371: 350.518 | K371: 85.7778
A372: A9355 | B372: Semirreboque com 4 eixos | C372: 476098.8 | D372: 31.7399 | E372: 15.9116 | F372: 0 | G372: 35.7074 | H372: 0 | I372: 0 | J372: 83.3589 | K372: 47.6515
A373: A9382 | B373: Dolly intermediário com 2 eixos para semirreboque | C373: 97410.417 | D373: 6.494 | E373: 3.2555 | F373: 0 | G373: 7.3058 | H373: 0 | I373: 0 | J373: 17.0553 | K373: 9.7495
A374: E9027 | B374: Caminhão distribuidor de cimento e cal com capacidade de 17 m³ - 210 kW | J374: 362.5198 | K374: 103.4094
A375: A9333 | B375: Caminhão plataforma 8 x 2, PBTC 36.000 kg e distância entre eixos 4,8 m - 210 kW - Motorista de caminhão | C375: 640003.36 | D375: 27.4287 | E375: 11.2823 | F375: 4.5715 | G375: 41.1431 | H375: 181.8163 | I375: 20.1859 | J375: 286.4278 | K375: 63.4684
A376: A9365 | B376: Distribuidor de cimento montado sobre chassi com capacidade de 17 m³ | C376: 425778.07 | D376: 32.1342 | E376: 7.8068 | F376: 0 | G376: 36.151 | H376: 0 | I376: 0 | J376: 76.092 | K376: 39.941
A377: E9037 | B377: Plataforma de inspeção sob pontes montada em caminhão com capacidade de 500 kg e alcance de 15 m - 188 kW | J377: 613.2974 | K377: 259.6293
A378: A9334 | B378: Caminhão plataforma 8 x 2, PBT 29.000 kg e distância entre eixos 4,8 m - 188 kW - condição de trabalho severa - Motorista de veículo especial | C378: 613515.83 | D378: 26.2935 | E378: 10.8154 | F378: 4.3823 | G378: 39.4403 | H378: 162.7689 | I378: 24.0447 | J378: 267.7451 | K378: 65.5359
A379: A9378 | B379: Plataforma telescópica para inspeção de pontes montada sobre chassi com capacidade de 500 kg | C379: 2356027.7 | D379: 134.6302 | E379: 41.5334 | F379: 0 | G379: 151.4589 | H379: 0 | I379: 17.9298 | J379: 345.5523 | K379: 194.0934
A380: E9041 | B380: Caminhão carroceria com guindauto com capacidade de 45 t.m - 188 kW | J380: 344.4134 | K380: 116.0497
A381: A9313 | B381: Caminhão plataforma 6 x 2, PBT 23.000 kg e distância entre eixos 5,4 m - 188 kW - Motorista de veículo especial | C381: 645252.64 | D381: 27.6537 | E381: 11.3749 | F381: 4.6089 | G381: 41.4805 | H381: 162.7689 | I381: 24.0447 | J381: 271.9316 | K381: 67.6822
A382: A9351 | B382: Carroceria de madeira com capacidade de 11 t | C382: 35215.586 | D382: 2.4287 | E382: 0.6369 | F382: 0 | G382: 2.4287 | H382: 0 | I382: 0 | J382: 5.4943 | K382: 3.0656
A383: A9373 | B383: Guindaste articulado montado sobre chassi com capacidade de 45 t.m | C383: 314440.5 | D383: 21.6856 | E383: 5.6865 | F383: 0 | G383: 21.6856 | H383: 0 | I383: 17.9298 | J383: 66.9875 | K383: 45.3019
A384: E9082 | B384: Bate-estaca hidráulico para defensas montado em caminhão guindauto com capacidade de 20 t.m e carroceria de 4 t - 136 kW | J384: 297.1132 | K384: 122.9863
A385: A9323 | B385: Caminhão plataforma 4 x 2, PBT 14.300 kg e distância entre eixos 4,8 m - 136 kW - condição de trabalho severa - Motorista de caminhão | C385: 494579.28 | D385: 21.1963 | E385: 8.7187 | F385: 3.5327 | G385: 31.7944 | H385: 117.7477 | I385: 20.1859 | J385: 203.1757 | K385: 53.6336
A386: A9347 | B386: Carroceria de madeira com capacidade de 4 t | C386: 17692.92 | D386: 1.2202 | E386: 0.32 | F386: 0 | G386: 1.2202 | H386: 0 | I386: 0 | J386: 2.7604 | K386: 1.5402
A387: A9372 | B387: Guindaste articulado montado sobre chassi com capacidade de 20 t.m | C387: 179777.8 | D387: 12.3985 | E387: 3.2512 | F387: 0 | G387: 12.3985 | H387: 0 | I387: 17.9298 | J387: 45.978 | K387: 33.5795
A388: A9379 | B388: Bate-estaca hidráulico para defensas metálicas montada sobre chassi | C388: 205615 | D388: 11.6515 | E388: 4.6517 | F388: 0 | G388: 10.9661 | H388: 0 | I388: 17.9298 | J388: 45.1991 | K388: 34.233
A389: E9097 | B389: Caminhão de resgate de veículos leves com plataforma com capacidade de 4 t - 115 kW | J389: 183.3214 | K389: 54.8905
A390: A9326 | B390: Caminhão plataforma 4 x 2 PBT 9.600 kg e distância entre eixos 3,7 m - 115 kW - Motorista de veículo especial | C390: 381805.81 | D390: 16.3631 | E390: 6.7307 | F390: 2.7272 | G390: 24.5447 | H390: 99.5661 | I390: 24.0447 | J390: 173.9765 | K390: 49.8657
...

Sheet Sicro_Eq_On
A1: CGCIT | B1: SISTEMA DE CUSTOS REFERENCIAIS DE OBRAS - SICRO | K1: DNIT
B2: Rio Grande do Sul - Janeiro/2022
A3: Código | B3: Descrição | C3: Valor de Aquisição (R$) | D3: Depreciação (R$/h) | E3: Oportunidade de Capital (R$/h) | F3: Seguros e Impostos (R$/h) | G3: Manutenção (R$/h) | H3: Operação (R$/h) | I3: Mão de Obra de Operação (R$/h) | J3: Custo Produtivo (R$/h) | K3: Custo Improdutivo (R$/h)
A4: E9001 | B4: Conjunto vibratório para tubos de concreto com encaixe PB e 3 jogos de fôrmas - D = 0,60 m - 2,20 kW | C4: 59059.787 | D4: 7.8746 | E4: 1.822 | F4: 0 | G4: 5.906 | H4: 0 | I4: 0 | J4: 15.6026 | K4: 9.6966
A5: E9002 | B5: Conjunto vibratório para tubos de concreto com encaixe PB e 3 jogos de fôrmas - D = 0,80 m - 2,20 kW | C5: 64017.5 | D5: 8.5357 | E5: 1.9749 | F5: 0 | G5: 6.4018 | H5: 0 | I5: 0 | J5: 16.9124 | K5: 10.5106
A6: E9003 | B6: Conjunto vibratório para tubos de concreto com encaixe PB e 3 jogos de fôrmas - D = 1,00 m - 2,20 kW | C6: 70202.733 | D6: 9.3604 | E6: 2.1658 | F6: 0 | G6: 7.0203 | H6: 0 | I6: 0 | J6: 18.5465 | K6: 11.5262
A7: E9004 | B7: Conjunto vibratório para tubos de concreto com encaixe PB e 3 jogos de fôrmas - D = 1,20 m - 2,20 kW | C7: 70602.453 | D7: 9.4137 | E7: 2.1781 | F7: 0 | G7: 7.0602 | H7: 0 | I7: 0 | J7: 18.652 | K7: 11.5918
A8: E9005 | B8: Conjunto vibratório para tubos de concreto com encaixe PB e 3 jogos de fôrmas - D = 1,50 m - 2,20 kW | C8: 73271.673 | D8: 9.7696 | E8: 2.2604 | F8: 0 | G8: 7.3272 | H8: 0 | I8: 0 | J8: 19.3572 | K8: 12.03
A9: E9006 | B9: Equipamento para sondagem manual | C9: 2128.4563 | D9: 0.3618 | E9: 0.0788 | F9: 0 | G9: 0.2128 | H9: 0 | I9: 0 | J9: 0.6534 | K9: 0.4406
A10: E9007 | B10: Bomba de pistão triplex com capacidade de 7,80 m³/h (130 l/min) - 8,20 kW | C10: 67022.628 | D10: 5.3618 | E10: 1.2406 | F10: 0 | G10: 4.6916 | H10: 7.0995 | I10: 0 | J10: 18.3935 | K10: 6.6024
A11: E9008 | B11: Transportador manual de tubos de concreto com capacidade de 1 t | C11: 2133.2097 | D11: 1.9199 | E11: 0.1316 | F11: 0 | G11: 1.0666 | H11: 0 | I11: 0 | J11: 3.1181 | K11: 2.0515
A12: E9009 | B12: Embarcação rebocadora - 268 kW | C12: 626819.01 | D12: 8.1617 | E12: 3.6369 | F12: 0 | G12: 18.1371 | H12: 232.0323 | I12: 120.8903 | J12: 382.8583 | K12: 132.6889
A13: E9010 | B13: Balança plataforma digital com mesa de 75 x 75 cm com capacidade de 500 kg | C13: 6062.5592 | D13: 0.9094 | E13: 0.1247 | F13: 0 | G13: 0.5052 | H13: 0 | I13: 0 | J13: 1.5393 | K13: 1.0341
A14: E9011 | B14: Carro manual modelo plataforma de 200 x 80 cm com capacidade de 800 kg | C14: 1795.991 | D14: 0.3233 | E14: 0.0665 | F14: 0 | G14: 0.1796 | H14: 0 | I14: 0 | J14: 0.5694 | K14: 0.3898
A15: E9014 | B15: Deflectômetro de impacto (FWD) instalado em picape com reboque e faixa de carga de 7 a 120 kN - 147 kW | C15: 2103765.6 | D15: 168.3012 | E15: 38.9407 | F15: 0 | G15: 105.1883 | H15: 0 | I15: 27.0599 | J15: 339.4901 | K15: 234.3018
... A366: E9798 | B366: Perfuratriz hidráulica rotopercussiva - 123 kW | C366: 1745573.3 | D366: 116.3716 | E366: 31.413 | F366: 0 | G366: 116.3716 | H366: 84.073 | I366: 26.4046 | J366: 374.6338 | K366: 174.1892
A367: E9013 | B367: Caminhão tanque de asfalto com capacidade de 31.000 l - 265 kW | J367: 379.4992 | K367: 89.4022
A368: A9335 | B368: Cavalo mecânico estradeiro 6 x 2, PBT 23.000 kg - 265 kW - condição de trabalho severa - Motorista de caminhão | C368: 785747.6 | D368: 33.6749 | E368: 13.8516 | F368: 5.6125 | G368: 50.5123 | H368: 229.4349 | I368: 22.5908 | J368: 355.677 | K368: 75.7298
A369: A9364 | B369: Tanque isotérmico de asfalto com capacidade de 31.000 l | C369: 253743.95 | D369: 10.1498 | E369: 3.5226 | F369: 0 | G369: 10.1498 | H369: 0 | I369: 0 | J369: 23.8222 | K369: 13.6724
A370: E9018 | B370: Cavalo mecânico com dolly intermediário e semirreboque de 4 eixos com capacidade de 53 t - 323 kW | J370: 453.9474 | K370: 146.194
A371: A9324 | B371: Cavalo mecânico estradeiro 6 x 4, PBT 23.000 kg - 323 kW - Motorista de veículo especial | C371: 912826.18 | D371: 39.1211 | E371: 16.0918 | F371: 6.5202 | G371: 58.6817 | H371: 206.0585 | I371: 27.0599 | J371: 353.5332 | K371: 88.793
A372: A9355 | B372: Semirreboque com 4 eixos | C372: 476098.8 | D372: 31.7399 | E372: 15.9116 | F372: 0 | G372: 35.7074 | H372: 0 | I372: 0 | J372: 83.3589 | K372: 47.6515
A373: A9382 | B373: Dolly intermediário com 2 eixos para semirreboque | C373: 97410.417 | D373: 6.494 | E373: 3.2555 | F373: 0 | G373: 7.3058 | H373: 0 | I373: 0 | J373: 17.0553 | K373: 9.7495
A374: E9027 | B374: Caminhão distribuidor de cimento e cal com capacidade de 17 m³ - 210 kW | J374: 364.9247 | K374: 105.8143
A375: A9333 | B375: Caminhão plataforma 8 x 2, PBTC 36.000 kg e distância entre eixos 4,8 m - 210 kW - Motorista de caminhão | C375: 640003.36 | D375: 27.4287 | E375: 11.2823 | F375: 4.5715 | G375: 41.1431 | H375: 181.8163 | I375: 22.5908 | J375: 288.8327 | K375: 65.8733
A376: A9365 | B376: Distribuidor de cimento montado sobre chassi com capacidade de 17 m³ | C376: 425778.07 | D376: 32.1342 | E376: 7.8068 | F376: 0 | G376: 36.151 | H376: 0 | I376: 0 | J376: 76.092 | K376: 39.941
A377: E9037 | B377: Plataforma de inspeção sob pontes montada em caminhão com capacidade de 500 kg e alcance de 15 m - 188 kW | J377: 618.3282 | K377: 264.6601
A378: A9334 | B378: Caminhão plataforma 8 x 2, PBT 29.000 kg e distância entre eixos 4,8 m - 188 kW - condição de trabalho severa - Motorista de veículo especial | C378: 613515.83 | D378: 26.2935 | E378: 10.8154 | F378: 4.3823 | G378: 39.4403 | H378: 162.7689 | I378: 27.0599 | J378: 270.7603 | K378: 68.5511
A379: A9378 | B379: Plataforma telescópica para inspeção de pontes montada sobre chassi com capacidade de 500 kg | C379: 2356027.7 | D379: 134.6302 | E379: 41.5334 | F379: 0 | G379: 151.4589 | H379: 0 | I379: 19.9454 | J379: 347.5679 | K379: 196.109
A380: E9041 | B380: Caminhão carroceria com guindauto com capacidade de 45 t.m - 188 kW | J380: 349.4442 | K380: 121.0805
A381: A9313 | B381: Caminhão plataforma 6 x 2, PBT 23.000 kg e distância entre eixos 5,4 m - 188 kW - Motorista de veículo especial | C381: 645252.64 | D381: 27.6537 | E381: 11.3749 | F381: 4.6089 | G381: 41.4805 | H381: 162.7689 | I381: 27.0599 | J381: 274.9468 | K381: 70.6974
A382: A9351 | B382: Carroceria de madeira com capacidade de 11 t | C382: 35215.586 | D382: 2.4287 | E382: 0.6369 | F382: 0 | G382: 2.4287 | H382: 0 | I382: 0 | J382: 5.4943 | K382: 3.0656
A383: A9373 | B383: Guindaste articulado montado sobre chassi com capacidade de 45 t.m | C383: 314440.5 | D383: 21.6856 | E383: 5.6865 | F383: 0 | G383: 21.6856 | H383: 0 | I383: 19.9454 | J383: 69.0031 | K383: 47.3175
A384: E9082 | B384: Bate-estaca hidráulico para defensas montado em caminhão guindauto com capacidade de 20 t.m e carroceria de 4 t - 136 kW | J384: 303.5493 | K384: 129.4224
A385: A9323 | B385: Caminhão plataforma 4 x 2, PBT 14.300 kg e distância entre eixos 4,8 m - 136 kW - condição de trabalho severa - Motorista de caminhão | C385: 494579.28 | D385: 21.1963 | E385: 8.7187 | F385: 3.5327 | G385: 31.7944 | H385: 117.7477 | I385: 22.5908 | J385: 205.5806 | K385: 56.0385
A386: A9347 | B386: Carroceria de madeira com capacidade de 4 t | C386: 17692.92 | D386: 1.2202 | E386: 0.32 | F386: 0 | G386: 1.2202 | H386: 0 | I386: 0 | J386: 2.7604 | K386: 1.5402
A387: A9372 | B387: Guindaste articulado montado sobre chassi com capacidade de 20 t.m | C387: 179777.8 | D387: 12.3985 | E387: 3.2512 | F387: 0 | G387: 12.3985 | H387: 0 | I387: 19.9454 | J387: 47.9936 | K387: 35.5951
A388: A9379 | B388: Bate-estaca hidráulico para defensas metálicas montada sobre chassi | C388: 205615 | D388: 11.6515 | E388: 4.6517 | F388: 0 | G388: 10.9661 | H388: 0 | I388: 19.9454 | J388: 47.2147 | K388: 36.2486
A389: E9097 | B389: Caminhão de resgate de veículos leves com plataforma com capacidade de 4 t - 115 kW | J389: 186.3366 | K389: 57.9057
A390: A9326 | B390: Caminhão plataforma 4 x 2 PBT 9.600 kg e distância entre eixos 3,7 m - 115 kW - Motorista de veículo especial | C390: 381805.81 | D390: 16.3631 | E390: 6.7307 | F390: 2.7272 | G390: 24.5447 | H390: 99.5661 | I390: 27.0599 | J390: 176.9917 | K390: 52.8809
...

Sheet Sicro_MO_Des
A1: CGCIT | B1: SISTEMA DE CUSTOS REFERENCIAIS DE OBRAS - SICRO | G1: DNIT
A3: Rio Grande do Sul - Janeiro/2022
A4: Com desoneração
A5: Código | B5: Descrição | C5: Unidade | D5: Salário (R$) | E5: Encargos Totais | F5: Custo (R$) | G5: Periculosidade/ Insalubridade
A6: P9801 | B6: Ajudante | C6: h | D6: 6.877 | E6: 1.603744 | F6: 17.9059 | G6: 0
A7: P9802 | B7: Ajudante especializado | C7: h | D7: 8.2525 | E7: 1.574614 | F7: 21.247 | G7: 0
A8: P9803 | B8: Almoxarife | C8: mês | D8: 1884.6059 | E8: 1.040798 | F8: 3846.0999 | G8: 0
A9: P9804 | B9: Apontador | C9: mês | D9: 1771.6868 | E9: 1.085636 | F9: 3695.0937 | G9: 0
A10: P9805 | B10: Armador | C10: h | D10: 10.22 | E10: 1.359671 | F10: 24.1158 | G10: 0
A11: P9806 | B11: Auxiliar administrativo | C11: mês | D11: 1643.6991 | E11: 1.110512 | F11: 3469.0466 | G11: 0
A12: P9807 | B12: Bombeiro hidráulico | C12: h | D12: 11.4344 | E12: 1.37627 | F12: 27.1712 | G12: 0
A13: P9808 | B13: Carpinteiro | C13: h | D13: 8.31 | E13: 1.475844 | F13: 20.5742 | G13: 0
A14: P9809 | B14: Encarregado administrativo | C14: mês | D14: 3996.4564 | E14: 0.740951 | F14: 6957.6347 | G14: 0
A15: P9810 | B15: Eletricista | C15: h | D15: 8.8425 | E15: 1.495401 | F15: 22.0655 | G15: 0
A16: P9811 | B16: Encarregado especializado | C16: mês | D16: 3668.6381 | E16: 0.781306 | F16: 6534.967 | G16: 0
A17: P9812 | B17: Engenheiro | C17: mês | D17: 13314.862 | E17: 0.593843 | F17: 21221.8 | G17: 0
... A115: P9972 | B115: Técnico de batimetria | C115: mês | D115: 1989.9668 | E115: 1.001005 | F115: 3981.9335 | G115: 0

Sheet Sicro_MO_On
A1: CGCIT | B1: SISTEMA DE CUSTOS REFERENCIAIS DE OBRAS - SICRO | G1: DNIT
A3: Rio Grande do Sul - Janeiro/2022
A4: Sem desoneração
A5: Código | B5: Descrição | C5: Unidade | D5: Salário (R$) | E5: Encargos Totais | F5: Custo (R$) | G5: Periculosidade/ Insalubridade
A6: P9801 | B6: Ajudante | C6: h | D6: 6.877 | E6: 1.886408 | F6: 19.8498 | G6: 0
A7: P9802 | B7: Ajudante especializado | C7: h | D7: 8.2525 | E7: 1.857018 | F7: 23.5775 | G7: 0
A8: P9803 | B8: Almoxarife | C8: mês | D8: 1884.6059 | E8: 1.27834 | F8: 4293.773 | G8: 0
A9: P9804 | B9: Apontador | C9: mês | D9: 1771.6868 | E9: 1.321545 | F9: 4113.0506 | G9: 0
A10: P9805 | B10: Armador | C10: h | D10: 10.22 | E10: 1.642224 | F10: 27.0035 | G10: 0
A11: P9806 | B11: Auxiliar administrativo | C11: mês | D11: 1643.6991 | E11: 1.347006 | F11: 3857.7716 | G11: 0
A12: P9807 | B12: Bombeiro hidráulico | C12: h | D12: 11.4344 | E12: 1.659511 | F12: 30.4099 | G12: 0
A13: P9808 | B13: Carpinteiro | C13: h | D13: 8.31 | E13: 1.759738 | F13: 22.9334 | G13: 0
A14: P9809 | B14: Encarregado administrativo | C14: mês | D14: 3996.4564 | E14: 0.981843 | F14: 7920.3491 | G14: 0
A15: P9810 | B15: Eletricista | C15: h | D15: 8.8425 | E15: 1.780717 | F15: 24.5884 | G15: 0
A16: P9811 | B16: Encarregado especializado | C16: mês | D16: 3668.6381 | E16: 1.020642 | F16: 7413.0042 | G16: 0
A17: P9812 | B17: Engenheiro | C17: mês | D17: 13314.862 | E17: 0.83389 | F17: 24417.993 | G17: 0
... A115: P9972 | B115: Técnico de batimetria | C115: mês | D115: 1989.9668 | E115: 1.237905 | F115: 4453.3566 | G115: 0

Sheet Ins_Desonerado
A1: PRECOS DE INSUMOS - BANCO NACIONAL
A3: MES DE COLETA: 06/2024
A4: LOCALIDADE: 3920 - PORTO ALEGRE
A5: ENCARGOS SOCIAIS DESONERADOS (%) HORISTA 83,25 MENSALISTA 46,08
A7: CODIGO | B7: DESCRICAO DO INSUMO | C7: UNIDADE DE MEDIDA | D7: ORIGEM DO PRECO | E7: PRECO MEDIANO R$
A8: 38605 | B8: ABERTURA PARA ENCAIXE DE CUBA OU LAVATORIO EM BANCADA DE MARMORE/ GRANITO OU OUTRO TIPO DE PEDRA NATURAL | C8: UN | D8: CR | E8: 150,51
A9: 11270 | B9: ABRACADEIRA DE LATAO PARA FIXACAO DE CABO PARA-RAIO, DIMENSOES 32 X 24 X 24 MM | C9: UN | D9: AS | E9: 2,73
A10: 412 | B10: ABRACADEIRA DE NYLON PARA AMARRACAO DE CABOS, COMPRIMENTO DE *230* X *7,6* MM | C10: UN | D10: CR | E10: 1,08
A11: 414 | B11: ABRACADEIRA DE NYLON PARA AMARRACAO DE CABOS, COMPRIMENTO DE 100 X 2,5 MM | C11: UN | D11: CR | E11: 0,06
A12: 410 | B12: ABRACADEIRA DE NYLON PARA AMARRACAO DE CABOS, COMPRIMENTO DE 150 X *3,6* MM | C12: UN | D12: CR | E12: 0,16
A13: 411 | B13: ABRACADEIRA DE NYLON PARA AMARRACAO DE CABOS, COMPRIMENTO DE 200 X *4,6* MM | C13: UN | D13: C | E13: 0,21
A14: 408 | B14: ABRACADEIRA DE NYLON PARA AMARRACAO DE CABOS, COMPRIMENTO DE 390 X *4,6* MM | C14: UN | D14: CR | E14: 1,04
A15: 39131 | B15: ABRACADEIRA EM ACO PARA AMARRACAO DE ELETRODUTOS, TIPO D, COM 1 1/2" E CUNHA DE FIXACAO | C15: UN | D15: CR | E15: 5,10
A16: 394 | B16: ABRACADEIRA EM ACO PARA AMARRACAO DE ELETRODUTOS, TIPO D, COM 1 1/2" E PARAFUSO DE FIXACAO | C16: UN | D16: CR | E16: 5,17
A17: 39130 | B17: ABRACADEIRA EM ACO PARA AMARRACAO DE ELETRODUTOS, TIPO D, COM 1 1/4" E CUNHA DE FIXACAO | C17: UN | D17: CR | E17: 4,65
A18: 395 | B18: ABRACADEIRA EM ACO PARA AMARRACAO DE ELETRODUTOS, TIPO D, COM 1 1/4" E PARAFUSO DE FIXACAO | C18: UN | D18: CR | E18: 4,97
A19: 39127 | B19: ABRACADEIRA EM ACO PARA AMARRACAO DE ELETRODUTOS, TIPO D, COM 1/2" E CUNHA DE FIXACAO | C19: UN | D19: CR | E19: 2,45
... A4834: 41096 | B4834: VIGIA DIURNO (MENSALISTA) | C4834: MES | D4834: CR | E4834: 2.751,92
A4836: TOTAL DE INSUMOS : 4827

Sheet Comp_Desonerado
A1: PCI.817.01 - CUSTO DE COMPOSIÇÕES - SINTÉTICO DATA DE EMISSÃO: 13/07/2024 00:17:33 DATA DE RT: 12/07/2024
A2: ENCARGOS SOCIAIS DESONERADOS: 83,25%(HORA) 46,08%(MÊS)
A3: ABRANGÊNCIA : NACIONAL LOCALIDADE : PORTO ALEGRE DATA DE PREÇO : 06/2024 REFERÊNCIA COLETA : MEDIANO
A5: DESCRICAO DA CLASSE | B5: SIGLA DA CLASSE | C5: DESCRICAO DO TIPO 1 | D5: SIGLA DO TIPO 1 | E5: CODIGO DO AGRUPADOR | F5: DESCRICAO DO AGRUPADOR | G5: CODIGO DA COMPOSICAO | H5: DESCRICAO DA COMPOSICAO | I5: UNIDADE | J5: ORIGEM DE PREÇO | K5: CUSTO TOTAL | L5: VINCULO
A7: ASSENTAMENTO DE TUBOS E PECAS | B7: ASTU | C7: FORNEC E/OU ASSENT DE TUBO DE FERRO FUNDIDO JUNTA ELASTICA | D7: 0045 | G7: 97141 | H7: ASSENTAMENTO DE TUBO DE FERRO FUNDIDO PARA REDE DE ÁGUA, DN 80 MM, JUNTA ELÁSTICA, INSTALADO EM LOCAL COM NÍVEL ALTO DE INTERFERÊNCIAS (NÃO INCLUI FORNECIMENTO). AF_05/2024 | I7: M | J7: COEFICIENTE DE REPRESENTATIVIDADE | K7: 4,58 | L7: CAIXA REFERENCIAL
A8: ASSENTAMENTO DE TUBOS E PECAS | B8: ASTU | C8: FORNEC E/OU ASSENT DE TUBO DE FERRO FUNDIDO JUNTA ELASTICA | D8: 0045 | G8: 97142 | H8: ASSENTAMENTO DE TUBO DE FERRO FUNDIDO PARA REDE DE ÁGUA, DN 100 MM, JUNTA ELÁSTICA, INSTALADO EM LOCAL COM NÍVEL ALTO DE INTERFERÊNCIAS (NÃO INCLUI FORNECIMENTO). AF_05/2024 | I8: M | J8: COEFICIENTE DE REPRESENTATIVIDADE | K8: 5,27 | L8: CAIXA REFERENCIAL
A9: ASSENTAMENTO DE TUBOS E PECAS | B9: ASTU | C9: FORNEC E/OU ASSENT DE TUBO DE FERRO FUNDIDO JUNTA ELASTICA | D9: 0045 | G9: 97143 | H9: ASSENTAMENTO DE TUBO DE FERRO FUNDIDO PARA REDE DE ÁGUA, DN 150 MM, JUNTA ELÁSTICA, INSTALADO EM LOCAL COM NÍVEL ALTO DE INTERFERÊNCIAS (NÃO INCLUI FORNECIMENTO). AF_05/2024 | I9: M | J9: COEFICIENTE DE REPRESENTATIVIDADE | K9: 6,92 | L9: CAIXA REFERENCIAL
A10: ASSENTAMENTO DE TUBOS E PECAS | B10: ASTU | C10: FORNEC E/OU ASSENT DE TUBO DE FERRO FUNDIDO JUNTA ELASTICA | D10: 0045 | G10: 97144 | H10: ASSENTAMENTO DE TUBO DE FERRO FUNDIDO PARA REDE DE ÁGUA, DN 200 MM, JUNTA ELÁSTICA, INSTALADO EM LOCAL COM NÍVEL ALTO DE INTERFERÊNCIAS (NÃO INCLUI FORNECIMENTO). AF_05/2024 | I10: M | J10: COEFICIENTE DE REPRESENTATIVIDADE | K10: 8,59 | L10: CAIXA REFERENCIAL
A11: ASSENTAMENTO DE TUBOS E PECAS | B11: ASTU | C11: FORNEC E/OU ASSENT DE TUBO DE FERRO FUNDIDO JUNTA ELASTICA | D11: 0045 | G11: 97145 | H11: ASSENTAMENTO DE TUBO DE FERRO FUNDIDO PARA REDE DE ÁGUA, DN 250 MM, JUNTA ELÁSTICA, INSTALADO EM LOCAL COM NÍVEL ALTO DE INTERFERÊNCIAS (NÃO INCLUI FORNECIMENTO). AF_05/2024 | I11: M | J11: COEFICIENTE DE REPRESENTATIVIDADE | K11: 10,28 | L11: CAIXA REFERENCIAL
A12: ASSENTAMENTO DE TUBOS E PECAS | B12: ASTU | C12: FORNEC E/OU ASSENT DE TUBO DE FERRO FUNDIDO JUNTA ELASTICA | D12: 0045 | G12: 97146 | H12: ASSENTAMENTO DE TUBO DE FERRO FUNDIDO PARA REDE DE ÁGUA, DN 300 MM, JUNTA ELÁSTICA, INSTALADO EM LOCAL COM NÍVEL ALTO DE INTERFERÊNCIAS (NÃO INCLUI FORNECIMENTO). AF_05/2024 | I12: M | J12: COEFICIENTE DE REPRESENTATIVIDADE | K12: 11,96 | L12: CAIXA REFERENCIAL
A13: ASSENTAMENTO DE TUBOS E PECAS | B13: ASTU | C13: FORNEC E/OU ASSENT DE TUBO DE FERRO FUNDIDO JUNTA ELASTICA | D13: 0045 | G13: 97147 | H13: ASSENTAMENTO DE TUBO DE FERRO FUNDIDO PARA REDE DE ÁGUA, DN 350 MM, JUNTA ELÁSTICA, INSTALADO EM LOCAL COM NÍVEL ALTO DE INTERFERÊNCIAS (NÃO INCLUI FORNECIMENTO). AF_05/2024 | I13: M | J13: COEFICIENTE DE REPRESENTATIVIDADE | K13: 13,65 | L13: CAIXA REFERENCIAL
A14: ASSENTAMENTO DE TUBOS E PECAS | B14: ASTU | C14: FORNEC E/OU ASSENT DE TUBO DE FERRO FUNDIDO JUNTA ELASTICA | D14: 0045 | G14: 97148 | H14: ASSENTAMENTO DE TUBO DE FERRO FUNDIDO PARA REDE DE ÁGUA, DN 400 MM, JUNTA ELÁSTICA, INSTALADO EM LOCAL COM NÍVEL ALTO DE INTERFERÊNCIAS (NÃO INCLUI FORNECIMENTO). AF_05/2024 | I14: M | J14: COEFICIENTE DE REPRESENTATIVIDADE | K14: 15,33 | L14: CAIXA REFERENCIAL
A15: ASSENTAMENTO DE TUBOS E PECAS | B15: ASTU | C15: FORNEC E/OU ASSENT DE TUBO DE FERRO FUNDIDO JUNTA ELASTICA | D15: 0045 | G15: 97149 | H15: ASSENTAMENTO DE TUBO DE FERRO FUNDIDO PARA REDE DE ÁGUA, DN 450 MM, JUNTA ELÁSTICA, INSTALADO EM LOCAL COM NÍVEL ALTO DE INTERFERÊNCIAS (NÃO INCLUI FORNECIMENTO). AF_05/2024 | I15: M | J15: COEFICIENTE DE REPRESENTATIVIDADE | K15: 17,04 | L15: CAIXA REFERENCIAL
A16: ASSENTAMENTO DE TUBOS E PECAS | B16: ASTU | C16: FORNEC E/OU ASSENT DE TUBO DE FERRO FUNDIDO JUNTA ELASTICA | D16: 0045 | G16: 97150 | H16: ASSENTAMENTO DE TUBO DE FERRO FUNDIDO PARA REDE DE ÁGUA, DN 500 MM, JUNTA ELÁSTICA, INSTALADO EM LOCAL COM NÍVEL ALTO DE INTERFERÊNCIAS (NÃO INCLUI FORNECIMENTO). AF_05/2024 | I16: M | J16: COEFICIENTE DE REPRESENTATIVIDADE | K16: 22,74 | L16: CAIXA REFERENCIAL
A17: ASSENTAMENTO DE TUBOS E PECAS | B17: ASTU | C17: FORNEC E/OU ASSENT DE TUBO DE FERRO FUNDIDO JUNTA ELASTICA | D17: 0045 | G17: 97151 | H17: ASSENTAMENTO DE TUBO DE FERRO FUNDIDO PARA REDE DE ÁGUA, DN 600 MM, JUNTA ELÁSTICA, INSTALADO EM LOCAL COM NÍVEL ALTO DE INTERFERÊNCIAS (NÃO INCLUI FORNECIMENTO). AF_05/2024 | I17: M | J17: COEFICIENTE DE REPRESENTATIVIDADE | K17: 26,76 | L17: CAIXA REFERENCIAL
A18: ASSENTAMENTO DE TUBOS E PECAS | B18: ASTU | C18: FORNEC E/OU ASSENT DE TUBO DE FERRO FUNDIDO JUNTA ELASTICA | D18: 0045 | G18: 97152 | H18: ASSENTAMENTO DE TUBO DE FERRO FUNDIDO PARA REDE DE ÁGUA, DN 700 MM, JUNTA ELÁSTICA, INSTALADO EM LOCAL COM NÍVEL ALTO DE INTERFERÊNCIAS (NÃO INCLUI FORNECIMENTO). AF_05/2024 | I18: M | J18: COEFICIENTE DE REPRESENTATIVIDADE | K18: 30,50 | L18: CAIXA REFERENCIAL
... A7679: SERVICOS DIVERSOS | B7679: SEDI | C7679: OUTROS | D7679: 0318 | G7679: 101460 | H7679: VIGIA DIURNO COM ENCARGOS COMPLEMENTARES | I7679: MES | J7679: COEFICIENTE DE REPRESENTATIVIDADE | K7679: 3.842,68 | L7679: ENCARGOS COMPLEMENTARES REFERENCIAL

Sheet Ins_Onerado
A1: PRECOS DE INSUMOS - BANCO NACIONAL
A3: MES DE COLETA: 01/2024
A4: LOCALIDADE: 3920 - PORTO ALEGRE
A5: ENCARGOS SOCIAIS (%) HORISTA 112,88 MENSALISTA 69,79
A7: CODIGO | B7: DESCRICAO DO INSUMO | C7: UNIDADE DE MEDIDA | D7: ORIGEM DO PRECO | E7: PRECO MEDIANO R$
A8: 38605 | B8: ABERTURA PARA ENCAIXE DE CUBA OU LAVATORIO EM BANCADA DE MARMORE/ GRANITO OU OUTRO TIPO DE PEDRA NATURAL | C8: UN | D8: CR | E8: 150,51
A9: 11270 | B9: ABRACADEIRA DE LATAO PARA FIXACAO DE CABO PARA-RAIO, DIMENSOES 32 X 24 X 24 MM | C9: UN | D9: AS | E9: 2,58
A10: 412 | B10: ABRACADEIRA DE NYLON PARA AMARRACAO DE CABOS, COMPRIMENTO DE *230* X *7,6* MM | C10: UN | D10: CR | E10: 1,08
A11: 414 | B11: ABRACADEIRA DE NYLON PARA AMARRACAO DE CABOS, COMPRIMENTO DE 100 X 2,5 MM | C11: UN | D11: CR | E11: 0,06
A12: 410 | B12: ABRACADEIRA DE NYLON PARA AMARRACAO DE CABOS, COMPRIMENTO DE 150 X *3,6* MM | C12: UN | D12: CR | E12: 0,16
A13: 411 | B13: ABRACADEIRA DE NYLON PARA AMARRACAO DE CABOS, COMPRIMENTO DE 200 X *4,6* MM | C13: UN | D13: C | E13: 0,21
A14: 408 | B14: ABRACADEIRA DE NYLON PARA AMARRACAO DE CABOS, COMPRIMENTO DE 390 X *4,6* MM | C14: UN | D14: CR | E14: 1,04
A15: 39131 | B15: ABRACADEIRA EM ACO PARA AMARRACAO DE ELETRODUTOS, TIPO D, COM 1 1/2" E CUNHA DE FIXACAO | C15: UN | D15: CR | E15: 4,93
A16: 394 | B16: ABRACADEIRA EM ACO PARA AMARRACAO DE ELETRODUTOS, TIPO D, COM 1 1/2" E PARAFUSO DE FIXACAO | C16: UN | D16: CR | E16: 4,99
A17: 39130 | B17: ABRACADEIRA EM ACO PARA AMARRACAO DE ELETRODUTOS, TIPO D, COM 1 1/4" E CUNHA DE FIXACAO | C17: UN | D17: CR | E17: 4,50
A18: 395 | B18: ABRACADEIRA EM ACO PARA AMARRACAO DE ELETRODUTOS, TIPO D, COM 1 1/4" E PARAFUSO DE FIXACAO | C18: UN | D18: CR | E18: 4,81
A19: 39127 | B19: ABRACADEIRA EM ACO PARA AMARRACAO DE ELETRODUTOS, TIPO D, COM 1/2" E CUNHA DE FIXACAO | C19: UN | D19: CR | E19: 2,37
... A4917: 41096 | B4917: VIGIA DIURNO (MENSALISTA) | C4917: MES | D4917: CR | E4917: 3.198,58
A4919: TOTAL DE INSUMOS : 4910

Sheet Comp_Onerado
A1: PCI.817.01 - CUSTO DE COMPOSIÇÕES - SINTÉTICO DATA DE EMISSÃO: 12/03/2024 00:16:50 DATA DE RT: 11/03/2024
A2: ENCARGOS SOCIAIS SOBRE PREÇOS DA MÃO-DE-OBRA: 112,88%(HORA) 69,79%(MÊS)
A3: ABRANGÊNCIA : NACIONAL LOCALIDADE : PORTO ALEGRE DATA DE PREÇO : 01/2024 REFERÊNCIA COLETA : MEDIANO
A5: DESCRICAO DA CLASSE | B5: SIGLA DA CLASSE | C5: DESCRICAO DO TIPO 1 | D5: SIGLA DO TIPO 1 | E5: CODIGO DO AGRUPADOR | F5: DESCRICAO DO AGRUPADOR | G5: CODIGO DA COMPOSICAO | H5: DESCRICAO DA COMPOSICAO | I5: UNIDADE | J5: ORIGEM DE PREÇO | K5: CUSTO TOTAL | L5: VINCULO
A7: ASSENTAMENTO DE TUBOS E PECAS | B7: ASTU | C7: FORNEC E/OU ASSENT DE TUBO DE FERRO FUNDIDO JUNTA ELASTICA | D7: 0045 | G7: 97141 | H7: ASSENTAMENTO DE TUBO DE FERRO FUNDIDO PARA REDE DE ÁGUA, DN 80 MM, JUNTA ELÁSTICA, INSTALADO EM LOCAL COM NÍVEL ALTO DE INTERFERÊNCIAS (NÃO INCLUI FORNECIMENTO). AF_11/2017 | I7: M | J7: COEFICIENTE DE REPRESENTATIVIDADE | K7: 8,79 | L7: CAIXA REFERENCIAL
A8: ASSENTAMENTO DE TUBOS E PECAS | B8: ASTU | C8: FORNEC E/OU ASSENT DE TUBO DE FERRO FUNDIDO JUNTA ELASTICA | D8: 0045 | G8: 97142 | H8: ASSENTAMENTO DE TUBO DE FERRO FUNDIDO PARA REDE DE ÁGUA, DN 100 MM, JUNTA ELÁSTICA, INSTALADO EM LOCAL COM NÍVEL ALTO DE INTERFERÊNCIAS (NÃO INCLUI FORNECIMENTO). AF_11/2017 | I8: M | J8: COEFICIENTE DE REPRESENTATIVIDADE | K8: 9,77 | L8: CAIXA REFERENCIAL
A9: ASSENTAMENTO DE TUBOS E PECAS | B9: ASTU | C9: FORNEC E/OU ASSENT DE TUBO DE FERRO FUNDIDO JUNTA ELASTICA | D9: 0045 | G9: 97143 | H9: ASSENTAMENTO DE TUBO DE FERRO FUNDIDO PARA REDE DE ÁGUA, DN 150 MM, JUNTA ELÁSTICA, INSTALADO EM LOCAL COM NÍVEL ALTO DE INTERFERÊNCIAS (NÃO INCLUI FORNECIMENTO). AF_11/2017 | I9: M | J9: COEFICIENTE DE REPRESENTATIVIDADE | K9: 12,17 | L9: CAIXA REFERENCIAL
A10: ASSENTAMENTO DE TUBOS E PECAS | B10: ASTU | C10: FORNEC E/OU ASSENT DE TUBO DE FERRO FUNDIDO JUNTA ELASTICA | D10: 0045 | G10: 97144 | H10: ASSENTAMENTO DE TUBO DE FERRO FUNDIDO PARA REDE DE ÁGUA, DN 200 MM, JUNTA ELÁSTICA, INSTALADO EM LOCAL COM NÍVEL ALTO DE INTERFERÊNCIAS (NÃO INCLUI FORNECIMENTO). AF_11/2017 | I10: M | J10: COEFICIENTE DE REPRESENTATIVIDADE | K10: 14,57 | L10: CAIXA REFERENCIAL
A11: ASSENTAMENTO DE TUBOS E PECAS | B11: ASTU | C11: FORNEC E/OU ASSENT DE TUBO DE FERRO FUNDIDO JUNTA ELASTICA | D11: 0045 | G11: 97145 | H11: ASSENTAMENTO DE TUBO DE FERRO FUNDIDO PARA REDE DE ÁGUA, DN 250 MM, JUNTA ELÁSTICA, INSTALADO EM LOCAL COM NÍVEL ALTO DE INTERFERÊNCIAS (NÃO INCLUI FORNECIMENTO). AF_11/2017 | I11: M | J11: COEFICIENTE DE REPRESENTATIVIDADE | K11: 16,99 | L11: CAIXA REFERENCIAL
A12: ASSENTAMENTO DE TUBOS E PECAS | B12: ASTU | C12: FORNEC E/OU ASSENT DE TUBO DE FERRO FUNDIDO JUNTA ELASTICA | D12: 0045 | G12: 97146 | H12: ASSENTAMENTO DE TUBO DE FERRO FUNDIDO PARA REDE DE ÁGUA, DN 300 MM, JUNTA ELÁSTICA, INSTALADO EM LOCAL COM NÍVEL ALTO DE INTERFERÊNCIAS (NÃO INCLUI FORNECIMENTO). AF_11/2017 | I12: M | J12: COEFICIENTE DE REPRESENTATIVIDADE | K12: 19,42 | L12: CAIXA REFERENCIAL
A13: ASSENTAMENTO DE TUBOS E PECAS | B13: ASTU | C13: FORNEC E/OU ASSENT DE TUBO DE FERRO FUNDIDO JUNTA ELASTICA | D13: 0045 | G13: 97147 | H13: ASSENTAMENTO DE TUBO DE FERRO FUNDIDO PARA REDE DE ÁGUA, DN 350 MM, JUNTA ELÁSTICA, INSTALADO EM LOCAL COM NÍVEL ALTO DE INTERFERÊNCIAS (NÃO INCLUI FORNECIMENTO). AF_11/2017 | I13: M | J13: COEFICIENTE DE REPRESENTATIVIDADE | K13: 21,85 | L13: CAIXA REFERENCIAL
A14: ASSENTAMENTO DE TUBOS E PECAS | B14: ASTU | C14: FORNEC E/OU ASSENT DE TUBO DE FERRO FUNDIDO JUNTA ELASTICA | D14: 0045 | G14: 97148 | H14: ASSENTAMENTO DE TUBO DE FERRO FUNDIDO PARA REDE DE ÁGUA, DN 400 MM, JUNTA ELÁSTICA, INSTALADO EM LOCAL COM NÍVEL ALTO DE INTERFERÊNCIAS (NÃO INCLUI FORNECIMENTO). AF_11/2017 | I14: M | J14: COEFICIENTE DE REPRESENTATIVIDADE | K14: 24,28 | L14: CAIXA REFERENCIAL
A15: ASSENTAMENTO DE TUBOS E PECAS | B15: ASTU | C15: FORNEC E/OU ASSENT DE TUBO DE FERRO FUNDIDO JUNTA ELASTICA | D15: 0045 | G15: 97149 | H15: ASSENTAMENTO DE TUBO DE FERRO FUNDIDO PARA REDE DE ÁGUA, DN 450 MM, JUNTA ELÁSTICA, INSTALADO EM LOCAL COM NÍVEL ALTO DE INTERFERÊNCIAS (NÃO INCLUI FORNECIMENTO). AF_11/2017 | I15: M | J15: COEFICIENTE DE REPRESENTATIVIDADE | K15: 26,74 | L15: CAIXA REFERENCIAL
A16: ASSENTAMENTO DE TUBOS E PECAS | B16: ASTU | C16: FORNEC E/OU ASSENT DE TUBO DE FERRO FUNDIDO JUNTA ELASTICA | D16: 0045 | G16: 97150 | H16: ASSENTAMENTO DE TUBO DE FERRO FUNDIDO PARA REDE DE ÁGUA, DN 500 MM, JUNTA ELÁSTICA, INSTALADO EM LOCAL COM NÍVEL ALTO DE INTERFERÊNCIAS (NÃO INCLUI FORNECIMENTO). AF_11/2017 | I16: M | J16: COEFICIENTE DE REPRESENTATIVIDADE | K16: 34,86 | L16: CAIXA REFERENCIAL
A17: ASSENTAMENTO DE TUBOS E PECAS | B17: ASTU | C17: FORNEC E/OU ASSENT DE TUBO DE FERRO FUNDIDO JUNTA ELASTICA | D17: 0045 | G17: 97151 | H17: ASSENTAMENTO DE TUBO DE FERRO FUNDIDO PARA REDE DE ÁGUA, DN 600 MM, JUNTA ELÁSTICA, INSTALADO EM LOCAL COM NÍVEL ALTO DE INTERFERÊNCIAS (NÃO INCLUI FORNECIMENTO). AF_11/2017 | I17: M | J17: COEFICIENTE DE REPRESENTATIVIDADE | K17: 40,57 | L17: CAIXA REFERENCIAL
A18: ASSENTAMENTO DE TUBOS E PECAS | B18: ASTU | C18: FORNEC E/OU ASSENT DE TUBO DE FERRO FUNDIDO JUNTA ELASTICA | D18: 0045 | G18: 97152 | H18: ASSENTAMENTO DE TUBO DE FERRO FUNDIDO PARA REDE DE ÁGUA, DN 700 MM, JUNTA ELÁSTICA, INSTALADO EM LOCAL COM NÍVEL ALTO DE INTERFERÊNCIAS (NÃO INCLUI FORNECIMENTO). AF_11/2017 | I18: M | J18: COEFICIENTE DE REPRESENTATIVIDADE | K18: 46,02 | L18: CAIXA REFERENCIAL
... A7569: SERVICOS DIVERSOS | B7569: SEDI | C7569: OUTROS | D7569: 0318 | G7569: 101460 | H7569: VIGIA DIURNO COM ENCARGOS COMPLEMENTARES | I7569: MES | J7569: COEFICIENTE DE REPRESENTATIVIDADE | K7569: 4.291,29 | L7569: ENCARGOS COMPLEMENTARES REFERENCIAL
