Workbook

Sheet Planilha de custos
A1: LOTE ÚNICO – Serviços veterinários e de atendimento de animais
A2: 1.1 Fornecimento de Mão-de-Obra:
A3: Item: | B3: Descrição: | C3: Un. de medida: | D3: Quant. mensal: | E3: Valor unitário: | F3: Valor total mensal: | G3: Valor total para contratação pelo período de 12 (doze) meses:
A4: a | B4: b | C4: c | D4: d | E4: e | F4: f = d x e | G4: g = f x 12
A5: 1.1.1 | B5: ADESTRADOR DE ANIMAIS (CBO: 6230-05), SEM DEDICAÇÃO EXCLUSIVA Incluso fornecimento de uniforme, crachá e EPIs para execução das atividades. CATSER: 25143 | C5: Hora | D5: 100 | F5: =ROUND(D5*E5,2) -> 0 | G5: =ROUND(F5*12,2) -> 0
A6: 1.1.2 | B6: MÉDICO-VETERINÁRIO (CBO: 2233-05), TIPO I, SEM DEDICAÇÃO EXCLUSIVA Incluso fornecimento de uniforme, crachá e EPIs para execução das atividades. CATSER: 14001 | C6: Hora | D6: 2250 | F6: =ROUND(D6*E6,2) -> 0 | G6: =ROUND(F6*12,2) -> 0
A7: 1.1.3 | B7: MÉDICO-VETERINÁRIO (CBO: 2233-05), TIPO II, COM RESPONSABILIDADE TÉCNICA - RT, COM DEDICAÇÃO EXCLUSIVA 40h semanais, 200h mensais, incluindo fornecimento de uniforme, crachá e EPIs para execução das atividades, e encargos trabalhistas e sociais referentes à função. CATSER: 14001 | C7: Posto de trabalho | D7: 2 | F7: =ROUND(D7*E7,2) -> 0 | G7: =ROUND(F7*12,2) -> 0
A8: 1.1.4 | B8: ENCARREGADO OPERACIONAL (CBO 1412-05), COM DEDICAÇÃO EXCLUSIVA 44h semanais, 220h mensais, incluindo fornecimento de uniforme, crachá e EPIs para execução das atividades, e encargos trabalhistas e sociais referentes à função. CATSER: 25623 | C8: Posto de trabalho | D8: 2 | F8: =ROUND(D8*E8,2) -> 0 | G8: =ROUND(F8*12,2) -> 0
A9: 1.1.5 | B9: AUXILIAR DE VETERINÁRIA (CBO: 5193-05), COM DEDICAÇÃO EXCLUSIVA 44h semanais, 220h mensais, incluindo fornecimento de uniforme, crachá e EPIs para execução das atividades, e encargos trabalhistas e sociais referentes à função. | C9: Posto de trabalho | D9: 8 | F9: =ROUND(D9*E9,2) -> 0 | G9: =ROUND(F9*12,2) -> 0
A10: 1.1.6 | B10: AUXILIAR DE FARMÁCIA (CBO 5211-30), COM DEDICAÇÃO EXCLUSIVA 44h semanais, 220h mensais, incluindo fornecimento de uniforme, crachá e EPIs para execução das atividades, e encargos trabalhistas e sociais referentes à função. | C10: Posto de trabalho | D10: 1 | F10: =ROUND(D10*E10,2) -> 0 | G10: =ROUND(F10*12,2) -> 0
A11: 1.1.7 | B11: TRATADOR DE ANIMAIS (CBO: 6230-20), COM DEDICAÇÃO EXCLUSIVA 44h semanais, 220h mensais, incluindo fornecimento de uniforme, crachá e EPIs para execução das atividades, e encargos trabalhistas e sociais referentes à função. CATSER: 25143 | C11: Posto de trabalho | D11: 20 | F11: =ROUND(D11*E11,2) -> 0 | G11: =ROUND(F11*12,2) -> 0
A12: 1.1.8 | B12: RECEPCIONISTA (CBO: 4221-05), COM DEDICAÇÃO EXCLUSIVA 44h semanais, 220h mensais, incluindo fornecimento de uniforme, crachá e EPIs para execução das atividades, e encargos trabalhistas e sociais referentes à função. CATSER: 8729 | C12: Posto de trabalho | D12: 2 | F12: =ROUND(D12*E12,2) -> 0 | G12: =ROUND(F12*12,2) -> 0
A13: 1.1.9 | B13: ASSISTENTE ADMINISTRATIVO (CBO: 4110-10), COM DEDICAÇÃO EXCLUSIVA 44h semanais, 220h mensais, incluindo fornecimento de uniforme, crachá e EPIs para execução das atividades, e encargos trabalhistas e sociais referentes à função. CATSER: 5380 | C13: Posto de trabalho | D13: 1 | F13: =ROUND(D13*E13,2) -> 0 | G13: =ROUND(F13*12,2) -> 0
A14: 1.1.10 | B14: AUXILIAR DE LIMPEZA (CBO: 5143-20), COM DEDICAÇÃO EXCLUSIVA 44h semanais, 220h mensais, incluindo fornecimento de uniforme, crachá e EPIs para execução das atividades, e encargos trabalhistas e sociais referentes à função. CATSER: 25194 | C14: Posto de trabalho | D14: 4 | F14: =ROUND(D14*E14,2) -> 0 | G14: =ROUND(F14*12,2) -> 0
A15: 1.1.11 | B15: AUXILIAR DE MANUTENÇÃO (CBO: 5143-10), COM DEDICAÇÃO EXCLUSIVA 44 horas semanais, 220h mensais, incluindo fornecimento de uniforme, crachá e EPIs para execução das atividades, e encargos trabalhistas e sociais referentes à função. | C15: Posto de trabalho | D15: 1 | F15: =ROUND(D15*E15,2) -> 0 | G15: =ROUND(F15*12,2) -> 0
A16: SUB-TOTAL 1.1: | F16: =ROUND(SUM(F5:F15),2) -> 0 | G16: =SUM(G5:G15) -> 0
A18: 1.2 Fornecimento de Medicamentos, Insumos e Materiais Ambulatoriais:
A19: Item: | B19: Descrição: | C19: Un. de medida: | D19: Quant. mensal: | E19: Valor unitário: | F19: Valor total mensal: | G19: Valor total para contratação pelo período de 12 (doze) meses:
A20: a | B20: b | C20: c | D20: d | E20: e | F20: f = d x e | G20: g = f x 12
A21: 1.2.1 | B21: ACETATO DE METILPREDNISOLONA 40 MG/ML Forma Farmacêutica: Suspensão Injetável Apresentação: Frasco de 2 ml CATMAT: 299690 | C21: Frasco de 2 ml | D21: 5 | F21: =ROUND(D21*E21,2) -> 0 | G21: =ROUND(F21*12,2) -> 0
A22: 1.2.2 | B22: ACETILCISTEÍNA 100 MG/ML (10%) Forma Farmacêutica: Solução Injetável Apresentação: Ampola de 3 ml CATMAT: 335091 | C22: Ampola de 3 ml | D22: 15 | F22: =ROUND(D22*E22,2) -> 0 | G22: =ROUND(F22*12,2) -> 0
A23: 1.2.3 | B23: ACETILCISTEÍNA 20 MG/ML Uso: Oral (Xarope) Apresentação: Frasco de 120 ml CATMAT: 270558 | C23: Frasco de 120 ml | D23: 1 | F23: =ROUND(D23*E23,2) -> 0 | G23: =ROUND(F23*12,2) -> 0
A24: 1.2.4 | B24: ÁCIDO TRANEXÂMICO 250 MG Apresentação: Comprimido CATMAT: 278338 | C24: Comprimido | D24: 12 | F24: =ROUND(D24*E24,2) -> 0 | G24: =ROUND(F24*12,2) -> 0
B25: ÁCIDO TRANEXÂMICO 50 MG/ML Forma Farmacêutica: Solução Injetável Apresentação: Ampola de 5 ml CATMAT: 327566 | C25: Ampola de 5 ml | D25: 50 | F25: =ROUND(D25*E25,2) -> 0 | G25: =ROUND(F25*12,2) -> 0
A26: 1.2.6 | B26: AGLEPRISTONE Indicação: Antiprogestativo para cadelas e gatas a base de Aglepristone Forma Farmacêutica: Solução Injetável Apresentação: Frasco de 10 ml CATMAT: 415435 | C26: Frasco de 10 ml | D26: 3 | F26: =ROUND(D26*E26,2) -> 0 | G26: =ROUND(F26*12,2) -> 0
A27: 1.2.7 | B27: ÁGUA DESTILADA PARA AUTOCLAVE Aspecto Físico: Estéril e Apirogênica Indicação: Água destilada própria para esterilização em autoclave. Apresentação: Galão de 5 litros CATMAT: 276839 | C27: Galão de 5 litros | D27: 6 | F27: =ROUND(D27*E27,2) -> 0 | G27: =ROUND(F27*12,2) -> 0
A28: 1.2.8 | B28: ÁGUA OXIGENADA, 1 L SOLUÇÃO DE PERÓXIDO DE HIDROGÊNIO Concentração: 3% Tipo: 10 Volumes Indicação: Antisséptico Apresentação: Frasco de 1 litro CATMAT: 277319 | C28: Frasco de 1 litro | D28: 8 | F28: =ROUND(D28*E28,2) -> 0 | G28: =ROUND(F28*12,2) -> 0
A29: 1.2.9 | B29: AGULHA HIPODÉRMICA 18 G X 1 ½” Material: Aço Inoxidável Siliconizado Dimensão: 18 G X 1 ½", 40X1,2 MM Tipo Ponta: Bisel Curto Trifacetado Tipo Conexão: Conector Luer Lock Ou Slip Em Plástico Tipo Fixação: Protetor Plástico Tipo Uso: Estéril, Descartável, Embalagem Individual Apresentação: Caixa com 100 unidades CATMAT: 439799 | C29: Caixa com 100 unidades | D29: 6 | F29: =ROUND(D29*E29,2) -> 0 | G29: =ROUND(F29*12,2) -> 0
A30: 1.2.10 | B30: AGULHA HIPODÉRMICA 21 G X 1 ¼" Material: Aço Inoxidável Siliconizado Dimensão: 21 G X 1 ¼", 30X0,8 MM Tipo Ponta: Bisel Curto Trifacetado Tipo Conexão: Conector Luer Lock Ou Slip Em Plástico Tipo Fixação: Protetor Plástico Tipo Uso: Estéril, Descartável, Embalagem Individual Apresentação: Caixa com 100 unidades CATMAT: 439805 | C30: Caixa com 100 unidades | D30: 4 | F30: =ROUND(D30*E30,2) -> 0 | G30: =ROUND(F30*12,2) -> 0
A31: 1.2.11 | B31: AGULHA HIPODÉRMICA 22 G X 1" Material: Aço Inoxidável Siliconizado Dimensão: 22 G X 1", 25X0,7 MM Tipo Ponta: Bisel Curto Trifacetado Tipo Conexão: Conector Luer Lock Ou Slip Em Plástico Tipo Fixação: Protetor Plástico Tipo Uso: Estéril, Descartável, Embalagem Individual Apresentação: Caixa com 100 unidades CATMAT: 439807 | C31: Caixa com 100 unidades | D31: 8 | F31: =ROUND(D31*E31,2) -> 0 | G31: =ROUND(F31*12,2) -> 0
A32: 1.2.12 | B32: AGULHA HIPODÉRMICA 26 G X ½" Material: Aço Inoxidável Siliconizado Dimensão: 26 G X ½", 13X0,45 MM Tipo Ponta: Bisel Curto Trifacetado Tipo Conexão: Conector Luer Lock Ou Slip Em Plástico Tipo Fixação: Protetor Plástico Tipo Uso: Estéril, Descartável, Embalagem Individual Apresentação: Caixa com 100 unidades CATMAT: 439812 | C32: Caixa com 100 unidades | D32: 1 | F32: =ROUND(D32*E32,2) -> 0 | G32: =ROUND(F32*12,2) -> 0
A33: 1.2.13 | B33: AGULHA PERIDURAL 18 G Ponta: Tuohy Diâmetro Agulha: 18 G Comprimento Agulha: Cerca De 2" - 50 Mm Característica Agulha: Graduada Material Agulha: Aço Inoxidável Tipo Conector: Luer Transparente Componente: C/ Mandril Esterilidade: Estéril, Uso Único Apresentação: Unidade CATMAT: 626638 | C33: Unidade | D33: 1 | F33: =ROUND(D33*E33,2) -> 0 | G33: =ROUND(F33*12,2) -> 0
A34: 1.2.14 | B34: AGULHA PERIDURAL 20 G Ponta: Tuohy Diâmetro Agulha: 20 G Comprimento Agulha: Cerca De 2" - 50 Mm Característica Agulha: Graduada Material Agulha: Aço Inoxidável Tipo Conector: Luer Transparente Componente: C/ Mandril Esterilidade: Estéril, Uso Único Apresentação: Unidade CATMAT: 626647 | C34: Unidade | D34: 1 | F34: =ROUND(D34*E34,2) -> 0 | G34: =ROUND(F34*12,2) -> 0
A35: 1.2.15 | B35: AGULHA PERIDURAL 22 G Ponta: Tuohy Diâmetro Agulha: 22 G Comprimento Agulha: Cerca De 2" - 50 Mm Característica Agulha: Graduada Material Agulha: Aço Inoxidável Tipo Conector: Luer Transparente Componente: C/ Mandril Esterilidade: Estéril, Uso Único Apresentação: Unidade CATMAT: 626649 | C35: Unidade | D35: 1 | F35: =ROUND(D35*E35,2) -> 0 | G35: =ROUND(F35*12,2) -> 0
A36: 1.2.16 | B36: ÁLCOOL ETÍLICO 70% Tipo: Hidratado Teor Alcoólico: 70% Apresentação: Frasco de 1 litro CATMAT: 269941 | C36: Frasco de 1 litro | D36: 30 | F36: =ROUND(D36*E36,2) -> 0 | G36: =ROUND(F36*12,2) -> 0
A37: 1.2.17 | B37: ÁLCOOL IODADO 0,1% Concentração: 0,1 % Forma Farmacêutica: Iodo em solução de Álcool Etílico a 50% V/V Apresentação: Frasco de 1 litro CATMAT: 440573 | C37: Frasco de 1 litro | D37: 2 | F37: =ROUND(D37*E37,2) -> 0 | G37: =ROUND(F37*12,2) -> 0
... A328: 1.2.308 | B328: SORO CONTRA CINOMOSE, HEPATITE INFECCIOSA CANINA E LEPTOSPIROSE Caracteristica: Soro rico em imunoglobulinas purificadas e concentradas, específicas contra Cinomose, Hepatite Infecciosa canina e Leptospirose. Além disto, possui anticorpos auxiliares contra os agentes secundários Bordetella bronchiseptica, Streptococcus sp (pyogenes) e Salmonella thyphimurium. Apresentação: Frasco de 10 ml CATMAT: 486295 | C328: Frasco de 10 ml | D328: 10 | F328: =ROUND(D328*E328,2) -> 0 | G328: =ROUND(F328*12,2) -> 0
A329: SUB-TOTAL 1.2: | B329: =SUM(B21:B328) -> 0 | C329: =SUM(C21:C328) -> 0 | D329: =SUM(D21:D328) -> 28497 | E329: =SUM(E21:E328) -> 0 | F329: =ROUND(SUM(F21:F328),2) -> 0 | G329: =ROUND(SUM(G21:G328),2) -> 0
A331: 1.3 Fornecimento de Exames Veterinários de Laboratório, com laudo, incluso no fornecimento o material para coleta e despesas de transporte:
A332: Item: | B332: Descrição: | C332: Un. de medida: | D332: Quant. mensal: | E332: Valor unitário: | F332: Valor total mensal: | G332: Valor total para contratação pelo período de 12 (doze) meses:
...

Sheet SERVENTE
A1: RECEPCIONISTAS E TELEFONISTAS - Regime de Tributação: Lucro Real
A2: ANEXO III do Pregão TCERS nº xx/2019 PLANILHA DE CUSTOS E FORMAÇÃO DE PREÇOS
A3: Nº do processo: | F3: XXXXXX-0200/19-X
A4: Licitação nº: | F4: Pregão Eletrônico nº XX/2019
A5: Dia: XX/XX/2019 - Hora: XXhXXmin
A6: Discriminação dos Serviços (dados referentes à contratação)
A7: A | B7: Data de apresentação da proposta (dia/mês/ano) | H7: XX/XX/2019
A8: B | B8: Município/UF | H8: PORTO ALEGRE/RS
A9: C | B9: Ano do Acordo, Convenção Coletiva ou Sentença Normativa em Dissídio Coletivo | H9: 01/01 a 31/12/19 SEEAC/RS
A10: D | B10: Número de meses de execução contratual | H10: 12
A12: ANEXO III - A MÃO DE OBRA Mão de obra vinculada à execução contratual
A13: Dados complementares para composição dos custos referente à mão de obra
A14: 1 | B14: Tipo de serviço | H14: Recepcionista
A15: 2 | B15: Salário normativo da categoria profissional - para a jornada de 44 h/sem | H15: 1225.49
A16: 3 | B16: Categoria profissional CBO:
A17: 4 | B17: Data base da categoria (dia/mês/ano) | H17: 43466
A18: Nota 1: Deverá ser elaborado um quadro para cada tipo de serviço
A19: Nota 2: A planilha será calculada considerando o valor mensal do empregado
A20: MÓDULO 1: COMPOSIÇÃO DA REMUNERAÇÃO
A21: 1 | B21: Composição da Remuneração | E21: Nº de dias úteis | F21: Nº Serventes | G21: Nº Horas/Mês | H21: % | I21: Valor (R$)
A22: A | B22: Salário-base (para a jornada de 44 horas semanais) | E22: 21 | F22: 1 | G22: 220 | I22: =H15 -> 1225.49
A23: B | B23: Insalubridade | H23: 0.2 | I23: =ROUND(H23*I22,2) -> 245.1
A24: C | B24: Outros
A25: Total da Remuneração | I25: =SUM(I22:I24) -> 1470.59
A26: Nota 1: O Módulo 1 refere-se ao valor devido ao empregado pela prestação do serviço no período de 12 meses
A27: Nota 2: Para o empregado que labora a jornada 12x36, em caso da não concessão ou concessão parcial do intervalo intrajornada (§4º do art. 71 da CLT), o valor a ser pago será inserido na remuneração utilizando a alínea C
A28: MÓDULO 2 : ENCARGOS E BENEFÍCIOS ANUAIS, MENSAIS E DIÁRIOS
A29: Submódulo 2.1 - 13º Salário e Adicional de Férias
A30: 2.1 | B30: 13º Salário, Férias e Adicional de Férias | H30: Percentual (%) | I30: Valor (R$)
A31: A | B31: 13º Salário | H31: 0.083333 | I31: =ROUND($I$25*H31,2) -> 122.55
A32: B | B32: Férias e Adicional de Férias | H32: 0.111111 | I32: =ROUND($I$25*H32,2) -> 163.4
A33: TOTAL | H33: =SUM(H31:H32) -> 0.194444 | I33: =SUM(I31:I32) -> 285.95
A34: Nota 1: Como a planilha de custos e formação de preços é calculada mensalmente, provisiona-se proporcionalmente 1/12 (um doze avos) dos valores referentes á gratificação natalina e ao adicional de férias
A35: Nota 2: O adicional de férias contido no submódulo 2.1 corresponde a 1/3 (um terço) da remuneração, que, por sua vez, é dividido por 12, conforme Nota 1
A36: Submódulo 2.2 - Encargos Previdenciários, FGTS e outras contribuições:
A37: 2.2 | B37: Encargos Previdenciários e FGTS | H37: Percentual (%) | I37: Valor (R$)
A38: A | B38: INSS | H38: 0.2 | I38: =ROUND(($I$25+$I$33)*H38,2) -> 351.31
A39: B | B39: SESI ou SESC | H39: 0.015 | I39: =ROUND(($I$25+$I$33)*H39,2) -> 26.35
A40: C | B40: SENAI ou SENAC | H40: 0.01 | I40: =ROUND(($I$25+$I$33)*H40,2) -> 17.57
A41: D | B41: INCRA | H41: 0.002 | I41: =ROUND(($I$25+$I$33)*H41,2) -> 3.51
...

Sheet mem calculo
A2: ANEXO IV
A3: MEMÓRIA DE CÁLCULO
A5: PREGÃO ELETRÔNICO Nº xx/2021
A7: MÓDULO 1 – COMPOSIÇÃO DA REMUNERAÇÃO
A9: ITEM | B9: % | C9: Memória de Cálculo | D9: Fundamento
A10: Salário Base Mensal (220hs) | C10: SB220/220 x 220 | D10: CCT empresa ou categoria vigente
A12: MÓDULO 2 - ENCARGOS E BENEFÍCIOS ANUAIS, MENSAIS E DIÁRIOS.
A14: 13º SALÁRIO
A15: ITEM | B15: % | C15: Memória de Cálculo | D15: Fundamento
A16: 13º salário | B16: 8.333 | C16: [(1/12) x 100] = 8,333% | D16: CF, Art. 7º, VIII
A18: ENCARGOS PREVIDENCIÁRIOS, FGTS e outras contribuições
A19: ITEM | B19: % | C19: Memória de Cálculo | D19: Fundamento
A20: INSS | B20: 20 | C20: Rem x 20% | D20: Lei 8212/91, art. 22, I
A21: SESI/SESC | B21: 1.5 | C21: Rem x 1,5% | D21: IN RFB nº 971/2009 - Anexos I e II
A22: SENAI/SENAC | B22: 1 | C22: Rem x 1% | D22: IN RFB nº 971/2009 - Anexos I e II
A23: INCRA | B23: 0.2 | C23: Rem x 0,20% | D23: IN RFB nº 971/2009 - Anexos I e II
A24: Salário Educação | B24: 2.5 | C24: Rem x 2,5% | D24: IN RFB nº 971/2009 - Anexos I e II
A25: FGTS | B25: 8 | C25: Rem x 8% | D25: Lei 8036/90, art. 15
A26: SAT (RAT + FAP) | B26: 3 | C26: (3% x 1% = 3%) - Rem x 3% | D26: IN RFB nº 971/2009 - Anexos I e II e Decreto 3048/99 Anexo V
D27: Lei 8212/91, art. 22, II – Decreto 3048/99
D28: IN RFB nº 971/2009 - Anexos I e II
A29: SEBRAE | B29: 0.6 | C29: Rem x 0,60% | D29: IN RFB nº 971/2009 - Anexos I e II
A30: VALE TRANSPORTE
A31: ITEM | B31: % | C31: Memória de Cálculo | D31: Fundamento
A32: Valor Tarifa Transporte urbano de Porto Alegre | C32: 4.8 | D32: DECRETO MUNICIPAL Nº 252/2021
A33: Passagens/mês (2 passagens/dia) | C33: 2 x 21 (dias úteis)
A34: % do empregado (% SB) | B34: 6 | C34: SB220 x % | D34: CCT empresa ou categoria vigente
A36: VALE ALIMENTAÇÃO
A37: ITEM | B37: % | C37: Memória de Cálculo | D37: Fundamento
A38: Valor do Auxílio Alimentação (R$) | C38: 0 | D38: CCT empresa ou categoria vigente
A39: Dias úteis | C39: 21 dias úteis
A40: % do empregado (% Aux. Alim) | B40: 20 | C40: VA x 21 x % | D40: CCT empresa ou categoria vigente
A42: OUTROS BENEFÍCIOS
A43: ITEM | B43: % | C43: Memória de Cálculo | D43: Fundamento
A44: Plano de Benefício Familiar | D44: CCT empresa ou categoria vigente
A45: Assistência Médica e Familiar | D45: CCT empresa ou categoria vigente
A46: Auxílio Creche | D46: CCT empresa ou categoria vigente
A48: MÓDULO 3 - PROVISÃO PARA RESCISÃO
A49: ITEM | B49: % | C49: Memória de Cálculo | D49: Fundamento
A50: Aviso Prévio Indenizado 1 | B50: 0.458 | C50: [(1/12) x (33/30) x 0,05] | D50: CF, Art. 7º, XXI e CLT art. 487 e 491. Lei 12506/2011
...

Sheet Anexo - M5. Materiais
A1: [LOGOTIPO] ------------------- [DADOS DA EMPRESA:RAZÃO SOCIAL/CNPJ/ENDEREÇO/CONTATOS(TELEFONE/EMAIL)]
A2: Anexo auxiliar do módulo 5 da planilha de formação de preços de mão de obra
A3: PLANILHA DE QUANTIDADES E ORÇAMENTO DE MATERIAIS
A5: Instruções para preenchimento:
A6: As quantidades eventualmente preenchidas nesta planilha são apenas as estimadas e podem ser alteradas a critério da Licitante. Os custos unitários eventualmente preenchidos nesta planilha possuem referência rastreável em Compras Públicas pesquisadas no Compras.gov.br (2948152) e homologadas no período entre 01/07/2025 e 28/02/2026, todavia os preços apresentados também podem ser alteradas a critério da Licitante.
A7: As quantidades referem-se ao necessário para os 12(doze) meses de contrato.
A8: Deve-se descrever todos os uniformes/materiais/equipamentos necessários à consecução do serviço.
A10: MÓDULO 5 – INSUMOS DIVERSOS: MATERIAIS
A12: PARA TODOS PROFISSIONAIS:
A13: Qtde | B13: Descrição | C13: Custo unitário | D13: Tempo de consumo (meses) | E13: Custo anual (R$) | F13: Custo mensal (R$)
A14: 6 | B14: PAPEL HIGIÊNICO CATMAT: 238338 Material: Celulose Virgem Características Adicionais: Picotado e Dupla Comprimento: 30 M Largura: 10 CM Cor: Branca Apresentação: Pacote 4 unidade | D14: 12 | E14: =C14*A14 -> 0 | F14: =E14/D14 -> 0
A15: 6 | B15: PAPEL TOALHA CATMAT: 436328 Material: 100% Celulose Virgem Comprimento: 20 CM Largura: 21 CM Características Adicionais: Interfolhada Tipo Folha: 2 Dobras Cor: Branca Apresentação: Pacote 1000 folhas | D15: 12 | E15: =C15*A15 -> 0 | F15: =E15/D15 -> 0
A16: 24 | B16: SABONETE CATMAT: 228271 Aspecto Físico: Sólido Peso: 90 G Tipo: Com Perfume Formato: Retangular Aplicação: Pele Normal Características Adicionais: Glicerinado Apresentação: Unidade | D16: 12 | E16: =C16*A16 -> 0 | F16: =E16/D16 -> 0
A17: 12 | B17: COPO DESCARTÁVEL CATMAT: 332641 Capacidade: 200 ML Material: Plástico Características Adicionais: Atóxico, De Acordo C/ Norma Abnt, Nbr 14865 Cor: Branco Apresentação: Pacote 100 unidades | D17: 12 | E17: =C17*A17 -> 0 | F17: =E17/D17 -> 0
A18: 30 | B18: ÁGUA MINERAL NATURAL CATMAT: 445485 Tipo: Sem Gás Material Embalagem: Plástico Tipo Embalagem: Retornável Apresentação: Garrafão de 20 Litros | D18: 12 | E18: =C18*A18 -> 0 | F18: =E18/D18 -> 0
A19: 1 | B19: Confecção de Crachá CATSER: 10111 | D19: 12 | E19: =C19*A19 -> 0 | F19: =E19/D19 -> 0
A22: Custo Total Mensal | F22: =SUM(F14:F21) -> 0
A25: PONTO ELETRÔNICO:
A26: Qtde | B26: Descrição | C26: Custo unitário mensal | D26: Tempo de uso (meses) | E26: Custo anual (R$) | F26: Custo mensal (R$) | G26: Postos de trabalho | H26: Custo mensal por posto de trabalho
A27: 1 | B27: RELÓGIO PONTO CATMAT: 612320 Mostrador: Digital Tipo: Biométrico Características Adicionais: Teclas Em Padrão Telefônico Alimentação: 110/200 V Apresentação: Unidade | D27: 12 | E27: =A27*C27 -> 0 | F27: =E27/D27 -> 0 | G27: 45 | H27: =F27/G27 -> 0
A28: Custo Total Mensal | L28: =H27 -> 0
A30: CUSTO UNITÁRIO MENSAL | L30: =F22+L28 -> 0

Sheet Anexo - M5. Equipamentos
A1: [LOGOTIPO] ------------------- [DADOS DA EMPRESA:RAZÃO SOCIAL/CNPJ/ENDEREÇO/CONTATOS(TELEFONE/EMAIL)]
A2: Anexo auxiliar do módulo 5 da planilha de formação de preços de mão de obra
A3: PLANILHA DE QUANTIDADES E ORÇAMENTO DE EQUIPAMENTOS
A5: Instruções para preenchimento:
A6: As quantidades eventualmente preenchidas nesta planilha são apenas as estimadas e podem ser alteradas a critério da Licitante. Os custos unitários eventualmente preenchidos nesta planilha possuem referência rastreável em Compras Públicas pesquisadas no Compras.gov.br (2948152) e homologadas no período entre 01/07/2025 e 28/02/2026, todavia os preços apresentados também podem ser alteradas a critério da Licitante.
A7: As quantidades referem-se ao necessário para os 12(doze) meses de contrato.
A8: Avental cirúrgico, Luva Cirúrgica, Touca Hospitalar, Sapatilha Hospitalar e Máscara Cirúrgica: Esses EPIs não devem ser contabilizados na formação de preços de mão de obra, pois serão precificados e adquiridos, conforme demanda, no escopo da contratação, na rubrica para medicamentos, insumos e materiais ambulatoriais.
A9: Deve-se descrever todos os uniformes/materiais/equipamentos necessários à consecução do serviço.
A11: MÓDULO 5 – INSUMOS DIVERSOS: EQUIPAMENTOS
A13: MÉDICO-VETERINÁRIO, TIPO II, RT:
A14: Qtde | B14: Descrição | C14: Custo unitário | D14: Vida útil (meses) | E14: Custo anual (R$) | F14: Custo mensal (R$)
A15: 1 | B15: BOTA IMPERMEÁVEL CATMAT: 620540 Material: PVC Solado: Borracha antiderrapante Cano: Longo Cor: Preta ou Azul com solado amarelo Tamanho: Sob medida Apresentação: Par | D15: 12 | E15: =C15*A15 -> 0 | F15: =E15/D15 -> 0
A16: =2*1 -> 2 | B16: SAPATO DE SEGURANÇA CATMAT: 606877 Tipo: Cano curto com cadarço Material: Microfibra de alta Solado: Poliuretano PU bidensidade Característica: Com Forro, Solado Antiderrapante e Palmilha resistente à perfuração. Tamanho: Sob medida Apresentação: Par | D16: 12 | E16: =C16*A16 -> 0 | F16: =E16/D16 -> 0
A17: 3 | B17: CAPA DE CHUVA IMPERMEÁVEL CATMAT: 450863 Material: PVC Cor: Amarela Característica: Com Forro e Capuz Manga: Longa Tamanho: Sob medida Apresentação: Unidade | D17: 12 | E17: =C17*A17 -> 0 | F17: =E17/D17 -> 0
A18: 0 | B18: MACACÃO IMPERMEÁVEL TIPO JARDINEIRA CATMAT: 445985 Material: PVC Característica: Com botas acopladas Tamanho: Sob medida Apresentação: Unidade | D18: 12 | E18: =C18*A18 -> 0 | F18: =E18/D18 -> 0
A19: 0 | B19: PERNEIRA E MANGA DE ADESTRAMENTO CATMAT: 483720 Material: Confeccionada em tecido de bite suit, recheada com camada de EVA e Feltro. Fechamento: Com velcro Apresentação: Unidade | D19: 12 | F19: =E19/D19 -> 0
A20: 1 | B20: LUVA DE PROTEÇÃO CATMAT: 440936 Material: Raspa Punho: Longo – 20 cm Característica: Reforço interno na palma, e reforço externo entre o polegar e o indicador. Tamanho: Único Apresentação: Par | D20: 12 | E20: =C20*A20 -> 0 | F20: =E20/D20 -> 0
A21: 12 | B21: LUVA NITRÍLICA COM RESISTÊNCIA QUÍMICA CATMAT: 633924 Material: 100% em látex nitrílico Forro interno: Não Cor: Verde Característica: Acabamento clorinado, palma antiderrapante, punho reto, reutilizável. Tamanho: Sob medida Apresentação: Par | D21: 12 | E21: =C21*A21 -> 0 | F21: =E21/D21 -> 0
A22: 1 | B22: LUVA DE LÁTEX PARA USO GERAL CATMAT: 397421 Material: Látex natural com pó bioabsorvível Característica: Não estéril, descartável, ambidestra Tamanho: Sob medida Apresentação: Caixa com 100 unidades | D22: 12 | E22: =C22*A22 -> 0 | F22: =E22/D22 -> 0
A23: 4 | B23: ÓCULOS DE PROTEÇÃO CATMAT: 363744 Material Armação: Policarbonato Tipo Proteção: Lateral/Frontal Tipo Lente: Policarbonato Com Tratamento Anti-Rísco e Anti-Embaçamento Cor Lente: Incolor Características Adicionais: Contra Luminosidade Intensa, raios UVA 60% e UVB 95%. Apresentação: Unidade | D23: 12 | E23: =C23*A23 -> 0 | F23: =E23/D23 -> 0
A24: 12 | B24: PROTETOR SOLAR FPS 60 CATMAT: 405890 Forma: Loção cremosa Característica: Proteção contra a radiação UVB e UVA, rapidamente absorvível pela pele e resistente à água. Apresentação: Frasco de 200 ml | D24: 12 | E24: =C24*A24 -> 0 | F24: =E24/D24 -> 0
A25: 12 | B25: REPELENTE DE INSETOS CATMAT: 432403 Princípio Ativo: À base de Deet Concentração: Até 10% Forma Farmacêutica: Spray Característica Adicional: Isento de óleo Apresentação: Frasco de 200 ml | D25: 12 | E25: =C25*A25 -> 0 | F25: =E25/D25 -> 0
A26: 0 | B26: PROTETOR AUDITIVO CATMAT: 399937 Material: Silicone Característica: Plug auditivo de inserção com nível de atenuação de ruídos de até 14 dB. Tamanho: Único Apresentação: Par | D26: 12 | E26: =C26*A26 -> 0 | F26: =E26/D26 -> 0
A27: 60 | B27: MÁSCARA RESPIRATÓRIA PFF2 CATMAT: 485530 Modelo: Respirador Dobrável, Tipo Bico De Pato Material: Camadas Fibras Sintéticas Filtro: Eficiência Filtração Mín. 94% S Classe: Pff2, N95 Ou Equivalente Componente: Clipe Nasal Tipo Fixação: Tiras Vedação Anatômica Adicional 2: S/ Válvula Cor: C/ Cor Tamanho: Adulto Esterilidade: Descartável Apresentação: Unidade | D27: 12 | E27: =C27*A27 -> 0 | F27: =E27/D27 -> 0
A28: 6 | B28: AVENTAL DE PROTEÇÃO CATMAT: 238638 Material: PVC - Cloreto De Polivinila Tipo: Impermeável Comprimento: 100 CM Largura: 60 CM Características Adicionais: Com Alça E Tiras De Ajuste Apresentação: Unidade | D28: 12 | E28: =C28*A28 -> 0 | F28: =E28/D28 -> 0
A31: Custo Total Mensal | F31: =SUM(F15:F28) -> 0
A32: CUSTO UNITÁRIO MENSAL – MÉDICO-VETERINÁRIO, TIPO II, RT | F32: =ROUND(F31/1,2) -> 0
A35: ENCARREGADO OPERACIONAL:
A36: Qtde | B36: Descrição | C36: Custo unitário | D36: Vida útil (meses) | E36: Custo anual (R$) | F36: Custo mensal (R$)
A37: 1 | B37: BOTA IMPERMEÁVEL CATMAT: 620540 Material: PVC Solado: Borracha antiderrapante Cano: Longo Cor: Preta ou Azul com solado amarelo Tamanho: Sob medida Apresentação: Par | D37: 12 | E37: =C37*A37 -> 0 | F37: =E37/D37 -> 0
A38: 3 | B38: SAPATO DE SEGURANÇA CATMAT: 606877 Tipo: Cano curto com cadarço Material: Microfibra de alta Solado: Poliuretano PU bidensidade Característica: Com Forro, Solado Antiderrapante e Palmilha resistente à perfuração. Tamanho: Sob medida Apresentação: Par | D38: 12 | E38: =C38*A38 -> 0 | F38: =E38/D38 -> 0
A39: 3 | B39: CAPA DE CHUVA IMPERMEÁVEL CATMAT: 450863 Material: PVC Cor: Amarela Característica: Com Forro e Capuz Manga: Longa Tamanho: Sob medida Apresentação: Unidade | D39: 12 | E39: =C39*A39 -> 0 | F39: =E39/D39 -> 0
A40: 0 | B40: MACACÃO IMPERMEÁVEL TIPO JARDINEIRA CATMAT: 445985 Material: PVC Característica: Com botas acopladas Tamanho: Sob medida Apresentação: Unidade | D40: 12 | E40: =C40*A40 -> 0 | F40: =E40/D40 -> 0
A41: 0 | B41: PERNEIRA E MANGA DE ADESTRAMENTO CATMAT: 483720 Material: Confeccionada em tecido de bite suit, recheada com camada de EVA e Feltro. Fechamento: Com velcro Apresentação: Unidade | D41: 12 | F41: =E41/D41 -> 0
A42: 0 | B42: LUVA DE PROTEÇÃO CATMAT: 440936 Material: Raspa Punho: Longo – 20 cm Característica: Reforço interno na palma, e reforço externo entre o polegar e o indicador. Tamanho: Único Apresentação: Par | D42: 12 | E42: =C42*A42 -> 0 | F42: =E42/D42 -> 0
A43: 0 | B43: LUVA NITRÍLICA COM RESISTÊNCIA QUÍMICA CATMAT: 633924 Material: 100% em látex nitrílico Forro interno: Não Cor: Verde Característica: Acabamento clorinado, palma antiderrapante, punho reto, reutilizável. Tamanho: Sob medida Apresentação: Par | D43: 12 | E43: =C43*A43 -> 0 | F43: =E43/D43 -> 0
A44: 12 | B44: LUVA DE LÁTEX PARA USO GERAL CATMAT: 397421 Material: Látex natural com pó bioabsorvível Característica: Não estéril, descartável, ambidestra Tamanho: Sob medida Apresentação: Caixa com 100 unidades | D44: 12 | E44: =C44*A44 -> 0 | F44: =E44/D44 -> 0
A45: 2 | B45: ÓCULOS DE PROTEÇÃO CATMAT: 363744 Material Armação: Policarbonato Tipo Proteção: Lateral/Frontal Tipo Lente: Policarbonato Com Tratamento Anti-Rísco e Anti-Embaçamento Cor Lente: Incolor Características Adicionais: Contra Luminosidade Intensa, raios UVA 60% e UVB 95%. Apresentação: Unidade | D45: 12 | E45: =C45*A45 -> 0 | F45: =E45/D45 -> 0
A46: 12 | B46: PROTETOR SOLAR FPS 60 CATMAT: 405890 Forma: Loção cremosa Característica: Proteção contra a radiação UVB e UVA, rapidamente absorvível pela pele e resistente à água. Apresentação: Frasco de 200 ml | D46: 12 | E46: =C46*A46 -> 0 | F46: =E46/D46 -> 0
A47: 12 | B47: REPELENTE DE INSETOS CATMAT: 432403 Princípio Ativo: À base de Deet Concentração: Até 10% Forma Farmacêutica: Spray Característica Adicional: Isento de óleo Apresentação: Frasco de 200 ml | D47: 12 | E47: =C47*A47 -> 0 | F47: =E47/D47 -> 0
...

Sheet Anexo - M5. Uniformes
A1: [LOGOTIPO] -------- [DADOS DA EMPRESA:RAZÃO SOCIAL/CNPJ/ENDEREÇO/CONTATOS(TELEFONE/EMAIL)]
A2: Anexo auxiliar do módulo 5 da planilha de formação de preços de mão de obra
A3: PLANILHA DE QUANTIDADES E ORÇAMENTO DE UNIFORMES
A5: Instruções para preenchimento:
A6: As quantidades eventualmente preenchidas nesta planilha são apenas as estimadas e podem ser alteradas a critério da Licitante. Os custos unitários eventualmente preenchidos nesta planilha possuem referência rastreável em Compras Públicas pesquisadas no Compras.gov.br (2948152) e homologadas no período entre 01/07/2025 e 28/02/2026, todavia os preços apresentados também podem ser alteradas a critério da Licitante.
A7: As quantidades referem-se ao necessário para os 12(doze) meses de contrato.
A8: Deve-se descrever todos os uniformes/materiais/equipamentos necessários à consecução do serviço.
A10: MÓDULO 5 – INSUMOS DIVERSOS: UNIFORMES
A12: MÉDICO-VETERINÁRIO, TIPO II, RT
A13: Qtde | B13: Descrição | C13: Custo unitário | D13: Vida útil (meses) | E13: Custo anual (R$) | F13: Custo mensal (R$)
A14: 6 | B14: Conjunto Calça e Jaleco (scrubs), unissex, manga curta, sem botões, com gola V, em tecido Oxford. CATMAT: 463863 Tamanho: Sob medida Apresentação: Unidade | D14: 12 | E14: =C14*A14 -> 0 | F14: =E14/D14 -> 0
A15: 6 | B15: Calça, unissex, com elástico, em brim profissional leve. CATMAT: 230492 Tamanho: Sob medida Apresentação: Unidade | D15: 12 | E15: =C15*A15 -> 0 | F15: =E15/D15 -> 0
A16: 4 | B16: Bata, unissex, mangas compridas, fecho de botão em losango e gola de lapela, em tecido Oxford. CATMAT: 634409 Tamanho: Sob medida Apresentação: Unidade | D16: 12 | E16: =C16*A16 -> 0 | F16: =E16/D16 -> 0
A17: 6 | B17: Camiseta, unissex, mangas curtas, tecido de algodão. CATMAT: 430181 Tamanho: Sob medida Apresentação: Unidade | D17: 12 | E17: =C17*A17 -> 0 | F17: =E17/D17 -> 0
A18: 6 | B18: Camisa, unissex, mangas compridas, tecido de algodão. CATMAT: 460249 Tamanho: Sob medida Apresentação: Unidade | D18: 12 | E18: =C18*A18 -> 0 | F18: =E18/D18 -> 0
A19: 3 | B19: Colete, unissex, sem mangas, em brim profissional leve. CATMAT: 614911 Tamanho: Sob medida Apresentação: Unidade | D19: 12 | E19: =C19*A19 -> 0 | F19: =E19/D19 -> 0
A22: CUSTO TOTAL MENSAL | F22: =SUM(F14:F21) -> 0
A23: CUSTO UNITÁRIO MENSAL - MÉDICO-VETERINÁRIO, TIPO II, RT | F23: =ROUND(F22/1,2) -> 0
A26: ENCARREGADO OPERACIONAL
A27: Qtde | B27: Descrição | C27: Custo unitário | D27: Vida útil (meses) | E27: Custo anual (R$) | F27: Custo mensal (R$)
A28: 0 | B28: Conjunto Calça e Jaleco (scrubs), unissex, manga curta, sem botões, com gola V, em tecido Oxford. CATMAT: 463863 Tamanho: Sob medida Apresentação: Unidade | D28: 12 | E28: =C28*A28 -> 0 | F28: =E28/D28 -> 0
A29: 6 | B29: Calça, unissex, com elástico, em brim profissional leve. CATMAT: 230492 Tamanho: Sob medida Apresentação: Unidade | D29: 12 | E29: =C29*A29 -> 0 | F29: =E29/D29 -> 0
A30: 0 | B30: Bata, unissex, mangas compridas, fecho de botão em losango e gola de lapela, em tecido Oxford. CATMAT: 634409 Tamanho: Sob medida Apresentação: Unidade | D30: 12 | E30: =C30*A30 -> 0 | F30: =E30/D30 -> 0
A31: 12 | B31: Camiseta, unissex, mangas curtas, tecido de algodão. CATMAT: 430181 Tamanho: Sob medida Apresentação: Unidade | D31: 12 | E31: =C31*A31 -> 0 | F31: =E31/D31 -> 0
A32: 6 | B32: Camisa, unissex, mangas compridas, tecido de algodão. CATMAT: 460249 Tamanho: Sob medida Apresentação: Unidade | D32: 12 | E32: =C32*A32 -> 0 | F32: =E32/D32 -> 0
A33: 3 | B33: Colete, unissex, sem mangas, em brim profissional leve. CATMAT: 614911 Tamanho: Sob medida Apresentação: Unidade | D33: 12 | E33: =C33*A33 -> 0 | F33: =E33/D33 -> 0
A36: CUSTO TOTAL MENSAL | F36: =SUM(F28:F35) -> 0
A37: CUSTO UNITÁRIO MENSAL - ENCARREGADO OPERACIONAL | F37: =ROUND(F36/1,2) -> 0
A40: AUXILIAR DE VETERINÁRIA
A41: Qtde | B41: Descrição | C41: Custo unitário | D41: Vida útil (meses) | E41: Custo anual (R$) | F41: Custo mensal (R$)
A42: 6 | B42: Conjunto Calça e Jaleco (scrubs), unissex, manga curta, sem botões, com gola V, em tecido Oxford. CATMAT: 463863 Tamanho: Sob medida Apresentação: Unidade | D42: 12 | E42: =C42*A42 -> 0 | F42: =E42/D42 -> 0
A43: 6 | B43: Calça, unissex, com elástico, em brim profissional leve. CATMAT: 230492 Tamanho: Sob medida Apresentação: Unidade | D43: 12 | E43: =C43*A43 -> 0 | F43: =E43/D43 -> 0
A44: 0 | B44: Bata, unissex, mangas compridas, fecho de botão em losango e gola de lapela, em tecido Oxford. CATMAT: 634409 Tamanho: Sob medida Apresentação: Unidade | D44: 12 | E44: =C44*A44 -> 0 | F44: =E44/D44 -> 0
A45: 12 | B45: Camiseta, unissex, mangas curtas, tecido de algodão. CATMAT: 430181 Tamanho: Sob medida Apresentação: Unidade | D45: 12 | E45: =C45*A45 -> 0 | F45: =E45/D45 -> 0
A46: 6 | B46: Camisa, unissex, mangas compridas, tecido de algodão. CATMAT: 460249 Tamanho: Sob medida Apresentação: Unidade | D46: 12 | E46: =C46*A46 -> 0 | F46: =E46/D46 -> 0
A47: 3 | B47: Colete, unissex, sem mangas, em brim profissional leve. CATMAT: 614911 Tamanho: Sob medida Apresentação: Unidade | D47: 12 | E47: =C47*A47 -> 0 | F47: =E47/D47 -> 0
A50: CUSTO TOTAL MENSAL | F50: =SUM(F42:F49) -> 0
A51: CUSTO UNITÁRIO MENSAL - AUXILIAR DE VETERINÁRIA | F51: =ROUND(F50/1,2) -> 0
A54: AUXILIAR DE FARMÁCIA
A55: Qtde | B55: Descrição | C55: Custo unitário | D55: Vida útil (meses) | E55: Custo anual (R$) | F55: Custo mensal (R$)
...

Sheet Anexo_sub-item 1.1.3
A1: [LOGOTIPO] ------------------- [DADOS DA EMPRESA:RAZÃO SOCIAL/CNPJ/ENDEREÇO/CONTATOS(TELEFONE/EMAIL)]
A2: Regime de Tributação:
A3: PLANILHA DE CUSTOS E FORMAÇÃO DE PREÇOS Nota 1: Apresentar uma planilha para cada tipo de profissional em regime de dedicação exclusiva (itens 1.1.3 à 1.1.11) Nota 2: A planilha será calculada considerando o valor mensal do serviço Nota 3: Preencher ou editar apenas os campos em amarelo Nota 4: Proibido modificar a estrutura da planilha, acrescentar ou suprimir linhas e/ou colunas
A4: Discriminação dos Serviços (dados referentes à contratação)
A5: A | B5: Data de apresentação da proposta (dia/mês/ano) | H5: ___/____/2026
A6: B | B6: Município de prestação dos serviços | H6: CANOAS/RS
A7: C | B7: Processo de contratação | H7: 26.0.000015198-9
A8: D | B8: Número de meses de execução contratual | H8: 12
A10: Dados complementares para composição dos custos referente à mão de obra
A11: 1. | B11: Tipo de serviço: | H11: Item 03 - Médico-Veterinário, Tipo II, RT
A12: 2. | B12: Classificação Brasileira de Ocupações (CBO): | H12: 2233-05
A13: 3. | B13: Salário Base para Jornada de 40 horas/semanais:
A14: 4. | B14: Informar Sindicato da Categoria Profissional (vinculada à execução contratual) – se houver:
A15: 5. | B15: Possui Acordo, Convenção Coletiva ou Sentença Normativa em Dissídio Coletivo?
A16: 6. | B16: Indicar eventuais instrumentos de referência considerados para elaboração da proposta:
A17: 7. | B17: Indicar data base da categoria (dia/mês/ano):
A18: 8. | B18: Unidade de Medida | H18: Posto de trabalho
A19: 9. | B19: Quantidade Total a Contratar (em função da unidade de medida) | H19: 2
A21: MÓDULO 1: COMPOSIÇÃO DA REMUNERAÇÃO MENSAL
A22: 1 | B22: Composição da Remuneração | E22: Nº de dias úteis | G22: Nº Horas/Mês | H22: % | I22: Valor (R$)
A23: A | B23: Salário-base | E23: 21 | G23: 200 | I23: =ROUND(H13/G23*G23,2) -> 0
A24: B | B24: Adicional de Insalubridade | I24: =IF(H15="Sim",(I23*H24),(I32*H24)) -> 0
A25: C | B25: Adicional de Periculosidade | I25: =I23*H25 -> 0
A26: D | B26: Adicional Noturno | I26: =I23*H26 -> 0
A27: E | B27: Gratificação de Função | I27: =I23*H27 -> 0
A28: F | B28: Outros – especificar: | I28: =I23*H28 -> 0
A29: Total da Remuneração | I29: =SUM(I23:I28) -> 0
A30: Nota 1: O Módulo 1 refere-se ao valor devido ao empregado pela prestação do serviço.
A31: Nota 2: Para o empregado que labora a jornada 12x36, em caso da não concessão ou concessão parcial do intervalo intrajornada (§4º do art. 71 da CLT), o valor a ser pago será inserido na remuneração utilizando a alínea C
A32: Nota 3: O adicional de insalubridade deve observar, se houver, norma coletiva, instrumento de pactuação ou política interna da empresa que fixe base distinta. Na ausência dessas, aplicar-se o cálculo de insalubridade sobre o valor do Salário Mínimo Nacional vigente. | F32: Ano: | G32: 2026 | H32: Salário Mínimo Nacional: | I32: 1621
A33: MÓDULO 2 : ENCARGOS E BENEFÍCIOS ANUAIS, MENSAIS E DIÁRIOS
A34: Submódulo 2.1 - 13º Salário e Adicional de Férias
A35: 2.1 | B35: 13º Salário, Férias e Adicional de Férias | H35: Percentual (%) | I35: Valor (R$)
A36: A | B36: 13º Salário | H36: 0.083333 | I36: =ROUND($I$29*H36,2) -> 0
A37: B | B37: Férias e Adicional de Férias | H37: 0.111111 | I37: =ROUND($I$29*H37,2) -> 0
A38: TOTAL | H38: =SUM(H36:H37) -> 0.194444 | I38: =SUM(I36:I37) -> 0
A39: Nota 1: Como a planilha de custos e formação de preços é calculada mensalmente, provisiona-se proporcionalmente 1/12 (um doze avos) dos valores referentes á gratificação natalina e ao adicional de férias
A40: Nota 2: O adicional de férias contido no submódulo 2.1 corresponde a 1/3 (um terço) da remuneração, que, por sua vez, é dividido por 12, conforme Nota 1
A41: Submódulo 2.2 - Encargos Previdenciários, FGTS e outras contribuições:
A42: 2.2 | B42: Encargos Previdenciários e FGTS | H42: Percentual (%) | I42: Valor (R$)
...

Sheet Anexo_sub-item 1.1.4
A1: [LOGOTIPO] ------------------- [DADOS DA EMPRESA:RAZÃO SOCIAL/CNPJ/ENDEREÇO/CONTATOS(TELEFONE/EMAIL)]
A2: Regime de Tributação:
A3: PLANILHA DE CUSTOS E FORMAÇÃO DE PREÇOS Nota 1: Apresentar uma planilha para cada tipo de profissional em regime de dedicação exclusiva (itens 1.1.3 à 1.1.11) Nota 2: A planilha será calculada considerando o valor mensal do serviço Nota 3: Preencher ou editar apenas os campos em amarelo Nota 4: Proibido modificar a estrutura da planilha, acrescentar ou suprimir linhas e/ou colunas
A4: Discriminação dos Serviços (dados referentes à contratação)
A5: A | B5: Data de apresentação da proposta (dia/mês/ano) | H5: ___/____/2026
A6: B | B6: Município de prestação dos serviços | H6: CANOAS/RS
A7: C | B7: Processo de contratação | H7: 26.0.000015198-9
A8: D | B8: Número de meses de execução contratual | H8: 12
A10: Dados complementares para composição dos custos referente à mão de obra
A11: 1. | B11: Tipo de serviço: | H11: Item 04 - Encarregado Operacional
A12: 2. | B12: Classificação Brasileira de Ocupações (CBO): | H12: 1412-05
A13: 3. | B13: Salário Base para Jornada de 44 horas/semanais:
A14: 4. | B14: Informar Sindicato da Categoria Profissional (vinculada à execução contratual) – se houver:
A15: 5. | B15: Possui Acordo, Convenção Coletiva ou Sentença Normativa em Dissídio Coletivo?
A16: 6. | B16: Indicar eventuais instrumentos de referência considerados para elaboração da proposta:
A17: 7. | B17: Data base da categoria (dia/mês/ano):
A18: 8. | B18: Unidade de Medida | H18: Posto de trabalho
A19: 9. | B19: Quantidade Total a Contratar (em função da unidade de medida) | H19: 2
A21: MÓDULO 1: COMPOSIÇÃO DA REMUNERAÇÃO MENSAL
A22: 1 | B22: Composição da Remuneração | E22: Nº de dias úteis | G22: Nº Horas/Mês | H22: % | I22: Valor (R$)
A23: A | B23: Salário-base | E23: 21 | G23: 220 | I23: =ROUND(H13/G23*G23,2) -> 0
A24: B | B24: Adicional de Insalubridade | I24: =IF(H15="Sim",(I23*H24),(I32*H24)) -> 0
A25: C | B25: Adicional de Periculosidade | I25: =I23*H25 -> 0
A26: D | B26: Adicional Noturno | I26: =I23*H26 -> 0
A27: E | B27: Gratificação de Função | I27: =I23*H27 -> 0
A28: F | B28: Outros – especificar: | I28: =I23*H28 -> 0
A29: Total da Remuneração | I29: =SUM(I23:I28) -> 0
A30: Nota 1: O Módulo 1 refere-se ao valor devido ao empregado pela prestação do serviço.
A31: Nota 2: Para o empregado que labora a jornada 12x36, em caso da não concessão ou concessão parcial do intervalo intrajornada (§4º do art. 71 da CLT), o valor a ser pago será inserido na remuneração utilizando a alínea C
A32: Nota 3: O adicional de insalubridade deve observar, se houver, norma coletiva, instrumento de pactuação ou política interna da empresa que fixe base distinta. Na ausência dessas, aplicar-se o cálculo de insalubridade sobre o valor do Salário Mínimo Nacional vigente. | F32: Ano: | G32: 2026 | H32: Salário Mínimo Nacional: | I32: 1621
A33: MÓDULO 2 : ENCARGOS E BENEFÍCIOS ANUAIS, MENSAIS E DIÁRIOS
A34: Submódulo 2.1 - 13º Salário e Adicional de Férias
A35: 2.1 | B35: 13º Salário, Férias e Adicional de Férias | H35: Percentual (%) | I35: Valor (R$)
A36: A | B36: 13º Salário | H36: 0.083333 | I36: =ROUND($I$29*H36,2) -> 0
A37: B | B37: Férias e Adicional de Férias | H37: 0.111111 | I37: =ROUND($I$29*H37,2) -> 0
A38: TOTAL | H38: =SUM(H36:H37) -> 0.194444 | I38: =SUM(I36:I37) -> 0
A39: Nota 1: Como a planilha de custos e formação de preços é calculada mensalmente, provisiona-se proporcionalmente 1/12 (um doze avos) dos valores referentes á gratificação natalina e ao adicional de férias
A40: Nota 2: O adicional de férias contido no submódulo 2.1 corresponde a 1/3 (um terço) da remuneração, que, por sua vez, é dividido por 12, conforme Nota 1
A41: Submódulo 2.2 - Encargos Previdenciários, FGTS e outras contribuições:
A42: 2.2 | B42: Encargos Previdenciários e FGTS | H42: Percentual (%) | I42: Valor (R$)
...

Sheet Anexo_sub-item 1.1.5
A1: [LOGOTIPO] ------------------- [DADOS DA EMPRESA:RAZÃO SOCIAL/CNPJ/ENDEREÇO/CONTATOS(TELEFONE/EMAIL)]
A2: Regime de Tributação:
A3: PLANILHA DE CUSTOS E FORMAÇÃO DE PREÇOS Nota 1: Apresentar uma planilha para cada tipo de profissional em regime de dedicação exclusiva (itens 1.1.3 à 1.1.11) Nota 2: A planilha será calculada considerando o valor mensal do serviço Nota 3: Preencher ou editar apenas os campos em amarelo Nota 4: Proibido modificar a estrutura da planilha, acrescentar ou suprimir linhas e/ou colunas
A4: Discriminação dos Serviços (dados referentes à contratação)
A5: A | B5: Data de apresentação da proposta (dia/mês/ano) | H5: ___/____/2026
A6: B | B6: Município de prestação dos serviços | H6: CANOAS/RS
A7: C | B7: Processo de contratação | H7: 26.0.000015198-9
A8: D | B8: Número de meses de execução contratual | H8: 12
A10: Dados complementares para composição dos custos referente à mão de obra
A11: 1. | B11: Tipo de serviço: | H11: Item 05 - Auxiliar de Veterinária
A12: 2. | B12: Classificação Brasileira de Ocupações (CBO): | H12: 5193-05
A13: 3. | B13: Salário Base para Jornada de 44 horas/semanais:
A14: 4. | B14: Informar Sindicato da Categoria Profissional (vinculada à execução contratual) – se houver:
A15: 5. | B15: Possui Acordo, Convenção Coletiva ou Sentença Normativa em Dissídio Coletivo?
A16: 6. | B16: Indicar eventuais instrumentos de referência considerados para elaboração da proposta:
A17: 7. | B17: Data base da categoria (dia/mês/ano):
A18: 8. | B18: Unidade de Medida | H18: Posto de trabalho
A19: 9. | B19: Quantidade Total a Contratar (em função da unidade de medida) | H19: 8
A21: MÓDULO 1: COMPOSIÇÃO DA REMUNERAÇÃO MENSAL
A22: 1 | B22: Composição da Remuneração | E22: Nº de dias úteis | G22: Nº Horas/Mês | H22: % | I22: Valor (R$)
A23: A | B23: Salário-base | E23: 21 | G23: 220 | I23: =ROUND(H13/G23*G23,2) -> 0
A24: B | B24: Adicional de Insalubridade | I24: =IF(H15="Sim",(I23*H24),(I32*H24)) -> 0
A25: C | B25: Adicional de Periculosidade | I25: =I23*H25 -> 0
A26: D | B26: Adicional Noturno | I26: =I23*H26 -> 0
A27: E | B27: Gratificação de Função | I27: =I23*H27 -> 0
A28: F | B28: Outros – especificar: | I28: =I23*H28 -> 0
A29: Total da Remuneração | I29: =SUM(I23:I28) -> 0
A30: Nota 1: O Módulo 1 refere-se ao valor devido ao empregado pela prestação do serviço.
A31: Nota 2: Para o empregado que labora a jornada 12x36, em caso da não concessão ou concessão parcial do intervalo intrajornada (§4º do art. 71 da CLT), o valor a ser pago será inserido na remuneração utilizando a alínea C
A32: Nota 3: O adicional de insalubridade deve observar, se houver, norma coletiva, instrumento de pactuação ou política interna da empresa que fixe base distinta. Na ausência dessas, aplicar-se o cálculo de insalubridade sobre o valor do Salário Mínimo Nacional vigente. | F32: Ano: | G32: 2026 | H32: Salário Mínimo Nacional: | I32: 1621
A33: MÓDULO 2 : ENCARGOS E BENEFÍCIOS ANUAIS, MENSAIS E DIÁRIOS
A34: Submódulo 2.1 - 13º Salário e Adicional de Férias
A35: 2.1 | B35: 13º Salário, Férias e Adicional de Férias | H35: Percentual (%) | I35: Valor (R$)
A36: A | B36: 13º Salário | H36: 0.083333 | I36: =ROUND($I$29*H36,2) -> 0
A37: B | B37: Férias e Adicional de Férias | H37: 0.111111 | I37: =ROUND($I$29*H37,2) -> 0
A38: TOTAL | H38: =SUM(H36:H37) -> 0.194444 | I38: =SUM(I36:I37) -> 0
A39: Nota 1: Como a planilha de custos e formação de preços é calculada mensalmente, provisiona-se proporcionalmente 1/12 (um doze avos) dos valores referentes á gratificação natalina e ao adicional de férias
A40: Nota 2: O adicional de férias contido no submódulo 2.1 corresponde a 1/3 (um terço) da remuneração, que, por sua vez, é dividido por 12, conforme Nota 1
A41: Submódulo 2.2 - Encargos Previdenciários, FGTS e outras contribuições:
A42: 2.2 | B42: Encargos Previdenciários e FGTS | H42: Percentual (%) | I42: Valor (R$)
...

Sheet Anexo_sub-item 1.1.6
A1: [LOGOTIPO] ------------------- [DADOS DA EMPRESA:RAZÃO SOCIAL/CNPJ/ENDEREÇO/CONTATOS(TELEFONE/EMAIL)]
A2: Regime de Tributação:
A3: PLANILHA DE CUSTOS E FORMAÇÃO DE PREÇOS Nota 1: Apresentar uma planilha para cada tipo de profissional em regime de dedicação exclusiva (itens 1.1.3 à 1.1.11) Nota 2: A planilha será calculada considerando o valor mensal do serviço Nota 3: Preencher ou editar apenas os campos em amarelo Nota 4: Proibido modificar a estrutura da planilha, acrescentar ou suprimir linhas e/ou colunas
A4: Discriminação dos Serviços (dados referentes à contratação)
A5: A | B5: Data de apresentação da proposta (dia/mês/ano) | H5: ___/____/2026
A6: B | B6: Município de prestação dos serviços | H6: CANOAS/RS
A7: C | B7: Processo de contratação | H7: 26.0.000015198-9
A8: D | B8: Número de meses de execução contratual | H8: 12
A10: Dados complementares para composição dos custos referente à mão de obra
A11: 1. | B11: Tipo de serviço: | H11: Item 06 - Auxiliar de Farmácia
A12: 2. | B12: Classificação Brasileira de Ocupações (CBO): | H12: 5211-30
A13: 3. | B13: Salário Base para Jornada de 44 horas/semanais:
A14: 4. | B14: Informar Sindicato da Categoria Profissional (vinculada à execução contratual) – se houver:
A15: 5. | B15: Possui Acordo, Convenção Coletiva ou Sentença Normativa em Dissídio Coletivo?
A16: 6. | B16: Indicar eventuais instrumentos de referência considerados para elaboração da proposta:
A17: 7. | B17: Data base da categoria (dia/mês/ano):
A18: 8. | B18: Unidade de Medida | H18: Posto de trabalho
A19: 9. | B19: Quantidade Total a Contratar (em função da unidade de medida) | H19: 1
A21: MÓDULO 1: COMPOSIÇÃO DA REMUNERAÇÃO MENSAL
A22: 1 | B22: Composição da Remuneração | E22: Nº de dias úteis | G22: Nº Horas/Mês | H22: % | I22: Valor (R$)
A23: A | B23: Salário-base | E23: 21 | G23: 220 | I23: =ROUND(H13/G23*G23,2) -> 0
A24: B | B24: Adicional de Insalubridade | I24: =IF(H15="Sim",(I23*H24),(I32*H24)) -> 0
A25: C | B25: Adicional de Periculosidade | I25: =I23*H25 -> 0
A26: D | B26: Adicional Noturno | I26: =I23*H26 -> 0
A27: E | B27: Gratificação de Função | I27: =I23*H27 -> 0
A28: F | B28: Outros – especificar: | I28: =I23*H28 -> 0
A29: Total da Remuneração | I29: =SUM(I23:I28) -> 0
A30: Nota 1: O Módulo 1 refere-se ao valor devido ao empregado pela prestação do serviço.
A31: Nota 2: Para o empregado que labora a jornada 12x36, em caso da não concessão ou concessão parcial do intervalo intrajornada (§4º do art. 71 da CLT), o valor a ser pago será inserido na remuneração utilizando a alínea C
A32: Nota 3: O adicional de insalubridade deve observar, se houver, norma coletiva, instrumento de pactuação ou política interna da empresa que fixe base distinta. Na ausência dessas, aplicar-se o cálculo de insalubridade sobre o valor do Salário Mínimo Nacional vigente. | F32: Ano: | G32: 2026 | H32: Salário Mínimo Nacional: | I32: 1621
A33: MÓDULO 2 : ENCARGOS E BENEFÍCIOS ANUAIS, MENSAIS E DIÁRIOS
A34: Submódulo 2.1 - 13º Salário e Adicional de Férias
A35: 2.1 | B35: 13º Salário, Férias e Adicional de Férias | H35: Percentual (%) | I35: Valor (R$)
A36: A | B36: 13º Salário | H36: 0.083333 | I36: =ROUND($I$29*H36,2) -> 0
A37: B | B37: Férias e Adicional de Férias | H37: 0.111111 | I37: =ROUND($I$29*H37,2) -> 0
A38: TOTAL | H38: =SUM(H36:H37) -> 0.194444 | I38: =SUM(I36:I37) -> 0
A39: Nota 1: Como a planilha de custos e formação de preços é calculada mensalmente, provisiona-se proporcionalmente 1/12 (um doze avos) dos valores referentes á gratificação natalina e ao adicional de férias
A40: Nota 2: O adicional de férias contido no submódulo 2.1 corresponde a 1/3 (um terço) da remuneração, que, por sua vez, é dividido por 12, conforme Nota 1
A41: Submódulo 2.2 - Encargos Previdenciários, FGTS e outras contribuições:
A42: 2.2 | B42: Encargos Previdenciários e FGTS | H42: Percentual (%) | I42: Valor (R$)
...

Sheet Anexo_sub-item 1.1.7
A1: [LOGOTIPO] ------------------- [DADOS DA EMPRESA:RAZÃO SOCIAL/CNPJ/ENDEREÇO/CONTATOS(TELEFONE/EMAIL)]
A2: Regime de Tributação:
A3: PLANILHA DE CUSTOS E FORMAÇÃO DE PREÇOS Nota 1: Apresentar uma planilha para cada tipo de profissional em regime de dedicação exclusiva (itens 1.1.3 à 1.1.11) Nota 2: A planilha será calculada considerando o valor mensal do serviço Nota 3: Preencher ou editar apenas os campos em amarelo Nota 4: Proibido modificar a estrutura da planilha, acrescentar ou suprimir linhas e/ou colunas
A4: Discriminação dos Serviços (dados referentes à contratação)
A5: A | B5: Data de apresentação da proposta (dia/mês/ano) | H5: ___/____/2026
A6: B | B6: Município de prestação dos serviços | H6: CANOAS/RS
A7: C | B7: Processo de contratação | H7: 26.0.000015198-9
A8: D | B8: Número de meses de execução contratual | H8: 12
A10: Dados complementares para composição dos custos referente à mão de obra
A11: 1. | B11: Tipo de serviço: | H11: Item 07 - Tratador de Animais
A12: 2. | B12: Classificação Brasileira de Ocupações (CBO): | H12: 6230-20
A13: 3. | B13: Salário Base para Jornada de 44 horas/semanais:
A14: 4. | B14: Informar Sindicato da Categoria Profissional (vinculada à execução contratual) – se houver:
A15: 5. | B15: Possui Acordo, Convenção Coletiva ou Sentença Normativa em Dissídio Coletivo?
A16: 6. | B16: Indicar eventuais instrumentos de referência considerados para elaboração da proposta:
A17: 7. | B17: Data base da categoria (dia/mês/ano):
A18: 8. | B18: Unidade de Medida | H18: Posto de trabalho
A19: 9. | B19: Quantidade Total a Contratar (em função da unidade de medida) | H19: 20
A21: MÓDULO 1: COMPOSIÇÃO DA REMUNERAÇÃO MENSAL
A22: 1 | B22: Composição da Remuneração | E22: Nº de dias úteis | G22: Nº Horas/Mês | H22: % | I22: Valor (R$)
A23: A | B23: Salário-base | E23: 21 | G23: 220 | I23: =ROUND(H13/G23*G23,2) -> 0
A24: B | B24: Adicional de Insalubridade | I24: =IF(H15="Sim",(I23*H24),(I32*H24)) -> 0
A25: C | B25: Adicional de Periculosidade | I25: =I23*H25 -> 0
A26: D | B26: Adicional Noturno | I26: =I23*H26 -> 0
A27: E | B27: Gratificação de Função | I27: =I23*H27 -> 0
A28: F | B28: Outros – especificar: | I28: =I23*H28 -> 0
A29: Total da Remuneração | I29: =SUM(I23:I28) -> 0
A30: Nota 1: O Módulo 1 refere-se ao valor devido ao empregado pela prestação do serviço.
A31: Nota 2: Para o empregado que labora a jornada 12x36, em caso da não concessão ou concessão parcial do intervalo intrajornada (§4º do art. 71 da CLT), o valor a ser pago será inserido na remuneração utilizando a alínea C
A32: Nota 3: O adicional de insalubridade deve observar, se houver, norma coletiva, instrumento de pactuação ou política interna da empresa que fixe base distinta. Na ausência dessas, aplicar-se o cálculo de insalubridade sobre o valor do Salário Mínimo Nacional vigente. | F32: Ano: | G32: 2026 | H32: Salário Mínimo Nacional: | I32: 1621
A33: MÓDULO 2 : ENCARGOS E BENEFÍCIOS ANUAIS, MENSAIS E DIÁRIOS
A34: Submódulo 2.1 - 13º Salário e Adicional de Férias
A35: 2.1 | B35: 13º Salário, Férias e Adicional de Férias | H35: Percentual (%) | I35: Valor (R$)
A36: A | B36: 13º Salário | H36: 0.083333 | I36: =ROUND($I$29*H36,2) -> 0
A37: B | B37: Férias e Adicional de Férias | H37: 0.111111 | I37: =ROUND($I$29*H37,2) -> 0
A38: TOTAL | H38: =SUM(H36:H37) -> 0.194444 | I38: =SUM(I36:I37) -> 0
A39: Nota 1: Como a planilha de custos e formação de preços é calculada mensalmente, provisiona-se proporcionalmente 1/12 (um doze avos) dos valores referentes á gratificação natalina e ao adicional de férias
A40: Nota 2: O adicional de férias contido no submódulo 2.1 corresponde a 1/3 (um terço) da remuneração, que, por sua vez, é dividido por 12, conforme Nota 1
A41: Submódulo 2.2 - Encargos Previdenciários, FGTS e outras contribuições:
A42: 2.2 | B42: Encargos Previdenciários e FGTS | H42: Percentual (%) | I42: Valor (R$)
...

Sheet Anexo_sub-item 1.1.8
A1: [LOGOTIPO] ------------------- [DADOS DA EMPRESA:RAZÃO SOCIAL/CNPJ/ENDEREÇO/CONTATOS(TELEFONE/EMAIL)]
A2: Regime de Tributação:
A3: PLANILHA DE CUSTOS E FORMAÇÃO DE PREÇOS Nota 1: Apresentar uma planilha para cada tipo de profissional em regime de dedicação exclusiva (itens 1.1.3 à 1.1.11) Nota 2: A planilha será calculada considerando o valor mensal do serviço Nota 3: Preencher ou editar apenas os campos em amarelo Nota 4: Proibido modificar a estrutura da planilha, acrescentar ou suprimir linhas e/ou colunas
A4: Discriminação dos Serviços (dados referentes à contratação)
A5: A | B5: Data de apresentação da proposta (dia/mês/ano) | H5: ___/____/2026
A6: B | B6: Município de prestação dos serviços | H6: CANOAS/RS
A7: C | B7: Processo de contratação | H7: 26.0.000015198-9
A8: D | B8: Número de meses de execução contratual | H8: 12
A10: Dados complementares para composição dos custos referente à mão de obra
A11: 1. | B11: Tipo de serviço: | H11: Item 08 - Recepcionista
A12: 2. | B12: Classificação Brasileira de Ocupações (CBO): | H12: 4221-05
A13: 3. | B13: Salário Base para Jornada de 44 horas/semanais:
A14: 4. | B14: Informar Sindicato da Categoria Profissional (vinculada à execução contratual) – se houver:
A15: 5. | B15: Possui Acordo, Convenção Coletiva ou Sentença Normativa em Dissídio Coletivo?
A16: 6. | B16: Indicar eventuais instrumentos de referência considerados para elaboração da proposta:
A17: 7. | B17: Data base da categoria (dia/mês/ano):
A18: 8. | B18: Unidade de Medida | H18: Posto de trabalho
A19: 9. | B19: Quantidade Total a Contratar (em função da unidade de medida) | H19: 2
A21: MÓDULO 1: COMPOSIÇÃO DA REMUNERAÇÃO MENSAL
A22: 1 | B22: Composição da Remuneração | E22: Nº de dias úteis | G22: Nº Horas/Mês | H22: % | I22: Valor (R$)
A23: A | B23: Salário-base | E23: 21 | G23: 220 | I23: =ROUND(H13/G23*G23,2) -> 0
A24: B | B24: Adicional de Insalubridade | I24: =IF(H15="Sim",(I23*H24),(I32*H24)) -> 0
A25: C | B25: Adicional de Periculosidade | I25: =I23*H25 -> 0
A26: D | B26: Adicional Noturno | I26: =I23*H26 -> 0
A27: E | B27: Gratificação de Função | I27: =I23*H27 -> 0
A28: F | B28: Outros – especificar: | I28: =I23*H28 -> 0
A29: Total da Remuneração | I29: =SUM(I23:I28) -> 0
A30: Nota 1: O Módulo 1 refere-se ao valor devido ao empregado pela prestação do serviço.
A31: Nota 2: Para o empregado que labora a jornada 12x36, em caso da não concessão ou concessão parcial do intervalo intrajornada (§4º do art. 71 da CLT), o valor a ser pago será inserido na remuneração utilizando a alínea C
A32: Nota 3: O adicional de insalubridade deve observar, se houver, norma coletiva, instrumento de pactuação ou política interna da empresa que fixe base distinta. Na ausência dessas, aplicar-se o cálculo de insalubridade sobre o valor do Salário Mínimo Nacional vigente. | F32: Ano: | G32: 2026 | H32: Salário Mínimo Nacional: | I32: 1621
A33: MÓDULO 2 : ENCARGOS E BENEFÍCIOS ANUAIS, MENSAIS E DIÁRIOS
A34: Submódulo 2.1 - 13º Salário e Adicional de Férias
A35: 2.1 | B35: 13º Salário, Férias e Adicional de Férias | H35: Percentual (%) | I35: Valor (R$)
A36: A | B36: 13º Salário | H36: 0.083333 | I36: =ROUND($I$29*H36,2) -> 0
A37: B | B37: Férias e Adicional de Férias | H37: 0.111111 | I37: =ROUND($I$29*H37,2) -> 0
A38: TOTAL | H38: =SUM(H36:H37) -> 0.194444 | I38: =SUM(I36:I37) -> 0
A39: Nota 1: Como a planilha de custos e formação de preços é calculada mensalmente, provisiona-se proporcionalmente 1/12 (um doze avos) dos valores referentes á gratificação natalina e ao adicional de férias
A40: Nota 2: O adicional de férias contido no submódulo 2.1 corresponde a 1/3 (um terço) da remuneração, que, por sua vez, é dividido por 12, conforme Nota 1
A41: Submódulo 2.2 - Encargos Previdenciários, FGTS e outras contribuições:
A42: 2.2 | B42: Encargos Previdenciários e FGTS | H42: Percentual (%) | I42: Valor (R$)
...

Sheet Anexo_sub-item 1.1.9
A1: [LOGOTIPO] ------------------- [DADOS DA EMPRESA:RAZÃO SOCIAL/CNPJ/ENDEREÇO/CONTATOS(TELEFONE/EMAIL)]
A2: Regime de Tributação:
A3: PLANILHA DE CUSTOS E FORMAÇÃO DE PREÇOS Nota 1: Apresentar uma planilha para cada tipo de profissional em regime de dedicação exclusiva (itens 1.1.3 à 1.1.11) Nota 2: A planilha será calculada considerando o valor mensal do serviço Nota 3: Preencher ou editar apenas os campos em amarelo Nota 4: Proibido modificar a estrutura da planilha, acrescentar ou suprimir linhas e/ou colunas
A4: Discriminação dos Serviços (dados referentes à contratação)
A5: A | B5: Data de apresentação da proposta (dia/mês/ano) | H5: ___/____/2026
A6: B | B6: Município de prestação dos serviços | H6: CANOAS/RS
A7: C | B7: Processo de contratação | H7: 26.0.000015198-9
A8: D | B8: Número de meses de execução contratual | H8: 12
A10: Dados complementares para composição dos custos referente à mão de obra
A11: 1. | B11: Tipo de serviço: | H11: Item 09 - Assistente Administrativo
A12: 2. | B12: Classificação Brasileira de Ocupações (CBO): | H12: 4110-10
A13: 3. | B13: Salário Base para Jornada de 44 horas/semanais:
A14: 4. | B14: Informar Sindicato da Categoria Profissional (vinculada à execução contratual) – se houver:
A15: 5. | B15: Possui Acordo, Convenção Coletiva ou Sentença Normativa em Dissídio Coletivo?
A16: 6. | B16: Indicar eventuais instrumentos de referência considerados para elaboração da proposta:
A17: 7. | B17: Data base da categoria (dia/mês/ano):
A18: 8. | B18: Unidade de Medida | H18: Posto de trabalho
A19: 9. | B19: Quantidade Total a Contratar (em função da unidade de medida) | H19: 1
A21: MÓDULO 1: COMPOSIÇÃO DA REMUNERAÇÃO MENSAL
A22: 1 | B22: Composição da Remuneração | E22: Nº de dias úteis | G22: Nº Horas/Mês | H22: % | I22: Valor (R$)
A23: A | B23: Salário-base | E23: 21 | G23: 220 | I23: =ROUND(H13/G23*G23,2) -> 0
A24: B | B24: Adicional de Insalubridade | I24: =IF(H15="Sim",(I23*H24),(I32*H24)) -> 0
A25: C | B25: Adicional de Periculosidade | I25: =I23*H25 -> 0
A26: D | B26: Adicional Noturno | I26: =I23*H26 -> 0
A27: E | B27: Gratificação de Função | I27: =I23*H27 -> 0
A28: F | B28: Outros – especificar: | I28: =I23*H28 -> 0
A29: Total da Remuneração | I29: =SUM(I23:I28) -> 0
A30: Nota 1: O Módulo 1 refere-se ao valor devido ao empregado pela prestação do serviço.
A31: Nota 2: Para o empregado que labora a jornada 12x36, em caso da não concessão ou concessão parcial do intervalo intrajornada (§4º do art. 71 da CLT), o valor a ser pago será inserido na remuneração utilizando a alínea C
