Workbook
Name AbaDeprec: '7. Depreciação'!$A$1
Name AbaRemun: '8. Remuneração de capital'!$A$1
Name Google_Sheet_Link_1042153561_717510486: print_titles_0_0_0_0_0
Name Google_Sheet_Link_1050453953_486749058: print_titles_0_0_0_0_0
Name Google_Sheet_Link_105190640: AbaDeprec
Name Google_Sheet_Link_1087969283: AbaDeprec
Name Google_Sheet_Link_1135249405_2071846243: print_titles_0_0
Name Google_Sheet_Link_1163500045_277266387: print_titles_0_0_0_0
Name Google_Sheet_Link_1220612232_277266387: print_titles_0_0_0_0_0_0
Name Google_Sheet_Link_1245280742_2071846243: print_titles_0_0_0_0_0_0
Name Google_Sheet_Link_1307130700_717510486: print_titles_0_0_0_0
Name Google_Sheet_Link_1316656248_277266387: print_titles_0_0
Name Google_Sheet_Link_1320815511_486749058: print_titles_0_0_0_0_0_0
Name Google_Sheet_Link_1385402849: AbaRemun
Name Google_Sheet_Link_138612331_486749058: print_titles_0_0_0
Name Google_Sheet_Link_1395446409: AbaDeprec
Name Google_Sheet_Link_1418664634: AbaRemun
Name Google_Sheet_Link_1422765692_717510486: print_titles_0_0_0
Name Google_Sheet_Link_1426506448: AbaRemun
Name Google_Sheet_Link_1431348254: AbaDeprec
Name Google_Sheet_Link_1438385033_486749058: print_titles_0
Name Google_Sheet_Link_1604018570: AbaRemun
Name Google_Sheet_Link_1616338293: AbaDeprec
Name Google_Sheet_Link_1662217783_486749058: print_titles_0_0_0_0
Name Google_Sheet_Link_1701136735: AbaDeprec
Name Google_Sheet_Link_1809128286: AbaRemun
Name Google_Sheet_Link_1900009241: AbaDeprec
Name Google_Sheet_Link_1900302552_717510486: print_titles_0_0_0_0_0_0
Name Google_Sheet_Link_2015704365: AbaDeprec
Name Google_Sheet_Link_2095691374_486749058: print_titles_0_0
Name Google_Sheet_Link_232194057: AbaRemun
Name Google_Sheet_Link_242342722: AbaDeprec
Name Google_Sheet_Link_381194700_277266387: print_titles_0_0_0
Name Google_Sheet_Link_449320437_717510486: print_titles_0
Name Google_Sheet_Link_462677635: AbaRemun
Name Google_Sheet_Link_508534547: AbaRemun
Name Google_Sheet_Link_605010821_717510486: print_titles_0_0
Name Google_Sheet_Link_610769732_277266387: print_titles_0_0_0_0_0
Name Google_Sheet_Link_639513693: AbaRemun
Name Google_Sheet_Link_730534228: AbaDeprec
Name Google_Sheet_Link_741497956: AbaRemun
Name Google_Sheet_Link_747925257_2071846243: print_titles_0_0_0_0
Name Google_Sheet_Link_880592875_2071846243: print_titles_0_0_0
Name Google_Sheet_Link_900373810_2071846243: print_titles_0
Name Google_Sheet_Link_901519124_277266387: print_titles_0
Name Google_Sheet_Link_946363014_2071846243: print_titles_0_0_0_0_0
Name Print_Titles_0: '0. Qtdades e Custos'!$1:$20
Name Print_Titles_0: '1. Capina e Roçada'!$1:$8
Name Print_Titles_0: '2. Varrição Manual'!$1:$8
Name Print_Titles_0: '3. Equipe Técnica'!$1:$8
Name Print_Titles_0_0: '0. Qtdades e Custos'!$1:$20
Name Print_Titles_0_0: '1. Capina e Roçada'!$1:$8
Name Print_Titles_0_0: '2. Varrição Manual'!$1:$8
Name Print_Titles_0_0: '3. Equipe Técnica'!$1:$8
Name Print_Titles_0_0_0: '0. Qtdades e Custos'!$1:$20
Name Print_Titles_0_0_0: '1. Capina e Roçada'!$1:$8
Name Print_Titles_0_0_0: '2. Varrição Manual'!$1:$8
Name Print_Titles_0_0_0: '3. Equipe Técnica'!$1:$8
Name Print_Titles_0_0_0_0: '0. Qtdades e Custos'!$1:$20
Name Print_Titles_0_0_0_0: '1. Capina e Roçada'!$1:$8

Sheet 0. Qtdades e Custos
A2: SERVIÇOS TERMO DE REFERÊNCIA
A4: Item | B4: Descrição /Especificação do Objeto | C4: Unidade de Medida | D4: Quantidade mensal estimada
A5: 1 | B5: Roçagem e capina manual e mecanizada de meios-fios, vias e logradouros públicos | C5: Km | D5: 900
A6: 2 | B6: Varrição Manual de vias e logradouros públicos | C6: Km | D6: 5100
B10: Referente aos dias trabalhados, está sendo considerado 52 semanas no ano (52 domingos e sábados por ano) e 10 feriados distribuídos ao longo dos 12 meses.
B11: Nos serviços que serão executados em sábados alternados, serão considerados 26 sábados por ano
B12: Tal recomendação do cálculo de dias segue as orientações do Manual para Análise de Serviços de Limpeza Urbana e Manejo de Resíduos Sólidos do TCE/GO
B14: EQUIPES
B16: Cargo/Função | C16: Roçada/Capina | D16: Varrição Manual | E16: Total
B17: Agente de Limpeza/Varredor | C17: 80 | D17: 60 | E17: =SUM(B17:D17) -> 140
B18: Encarregado de Equipe | C18: 4 | D18: 1 | E18: =SUM(B18:D18) -> 5
B19: Motorista Caminhão (Coletor) | C19: 4 | D19: 2 | E19: =SUM(B19:D19) -> 6
B20: Motorista de Ônibus Urbano | C20: 4 | D20: - | E20: =SUM(B20:D20) -> 4
B21: Motorista Caminhão (Coletor) - Encarregado | C21: - | D21: - | E21: =SUM(B21:D21) -> 0
B22: Motorista de Coleta e Entrega, Operador de Empilhadeira, Guincho e “Operador de máquina Rodoviária” - Minicarregadeira e Capinadeira | C22: 7 | D22: - | E22: =SUM(B22:D22) -> 7
B23: Encarregado Geral | C23: 1 | E23: =SUM(B23:D23) -> 1
B24: Gerente Geral | C24: 1 | E24: =SUM(B24:D24) -> 1
B25: Téc.Seg.do Trabalho | C25: 1 | E25: =SUM(B25:D25) -> 1
B26: Responsável Técnico | C26: 1 | E26: =SUM(B26:D26) -> 1
B28: * 01(um) Agente de Limpeza será ajudante do motorista do caminhão carroceria responsável pela coleta dos resíduos da varrição.
B32: VEÍCULOS E EQUIPAMENTOS
B34: 1) Cálculo do Custo com Combustível e Lubrificantes
B35: Conforme metodologia utilizada pelo DNIT através do CADERNO TÉCNICO PARÂMETROS DE EQUIPAMENTOSDO SICRO, é realizado o cálculo do Custo Horário (Cc) de combustíveis, lubrificantes, filtros e graxas de veículos e equipamentos, a partir da fórmula abaixo:
B36: Cc = P*Fc*Vc, sendo:
B37: Cc = representa o custo horário de combustíveis, lubrificantes, filtros e graxas (R$/h) – será calculado nas planilhas de orçamento de cada serviço, em virtude da variação do tipo de combustível
B38: P representa a potência do motor em kW
B39: Fc representa o coeficiente de consumo (l/kWh ou kWh/kWh)
B40: Vc representa o valor do combustível(R$) - será inserido na planilha do orçamento de cada serviço, em virtude da variação do tipo de combustível
B41: Combustível dia 23/05
B42: Como o cálculo do custo na planilha de orçamento é R$/mês com os combustíveis, lubrificantes, filtros e graxas, nesta aba será calculado um fator de consumo no mês destes insumos, e nas abas de orçamento dos serviços, este fator de consumo mensal será multiplicado pelo preço do combustível, redundando no Custo Mensal
B45: 2) Cálculo do Custo com Manutenção
... B52: O CM será inserido nas abas de orçamento dos serviços através da fórmula acima, e pegando os dados VN, VU e K da tabela abaixo
B54: Equipe | C54: Veículo descrição Termo Referência | I54: Descrição Veículo e Equipamentos Consulta de Preço | M54: Fonte | N54: Valor | P54: Quantidade | Q54: Vida útil | R54: Valor Residual (%) | S54: Coeficiente Manutenção | T54: Fc - Coeficiente de Consumo (l/Kwh) | U54: P - Potência (Kwh) | V54: Horas de uso estimada (h/dia) | W54: Nº Dias Trabalhados/Mês | X54: Consumo Mês (Litros/Mês) | Y54: Consumo Mês (Litros/Mês) p/ Frota
B55: Capina e Roçada | C55: 3.1 Caminhão Basculante com capacidade de 6m³ – Pot. Min. 136 Kw (185CV) | I55: Caminhão Basculante com capacidade de 6m³ – Min. 136 Kw (185CV) | M55: SMLC (DFPO) | N55: 595732.14 | P55: 4 | Q55: 7 | R55: 40 | S55: 0.9 | T55: 0.1 | U55: =185*0.7355 -> 136.0675 | V55: 5 | W55: ='1. Capina e Roçada'!C163 -> 25.25 | X55: =U55*T55*V55*W55 -> 1717.8522 | Y55: =X55*P55 -> 6871.4087
C56: 3.2 Retroescavadeira sobre rodas com carregadeira, tração 4x4, potência líq. 88 HP | I56: Retroescavadeira sobre rodas com carregadeira, tração 4x4, potência líq. 88 HP | M56: SMSZU | N56: 405666.67 | P56: 4 | Q56: 5 | R56: 30 | S56: 0.7 | T56: 0.13 | U56: =58*0.7457 -> 43.2506 | V56: 5 | W56: ='1. Capina e Roçada'!C163 -> 25.25 | X56: =U56*T56*V56*W56 -> 709.85047 | Y56: =X56*P56 -> 2839.4019
C57: 3.5 Veículo para transporte de pessoal (ônibus) – Mín. 20 lugares | I57: VOLARE ATT. 8 LONGO EXECUTIVO (die) (E6) | M57: tabela Fipe - código: 508092-4 | N57: 504367 | P57: 4 | Q57: 7 | R57: 40 | S57: 0.9 | T57: 0.19 | U57: 81 | V57: 2 | W57: ='1. Capina e Roçada'!C163 -> 25.25 | X57: =U57*T57*V57*W57 -> 777.195 | Y57: =X57*P57 -> 3108.78
C58: 3.6 Roçadeira Costal/Lateral, Pot. Min 4 HP, a Gasolina | I58: Roçadeira Costal/Lateral, Pot. Min 4 HP, a Gasolina | M58: SMLC (DFPO) | N58: 949.98 | P58: 32 | Q58: 3 | R58: 10 | S58: 0.7 | T58: 1.1 | U58: =4*0.7457 -> 2.9828 | V58: 6 | W58: ='1. Capina e Roçada'!C163 -> 25.25 | X58: =U58*T58*V58*W58 -> 497.08362 | Y58: =X58*P58 -> 15906.676
C59: 3.7 Soprador Costal, Pot. Min 3,48 HP | I59: Soprador Costal, Pot. Min 3,48 HP | M59: SMLC (DFPO) | N59: 2050.99 | P59: 4 | Q59: 5 | R59: 20 | S59: 0.7 | T59: 0.35 | U59: =3.48*0.7457 -> 2.595036 | V59: 6 | W59: ='1. Capina e Roçada'!C163 -> 25.25 | X59: =U59*T59*V59*W59 -> 137.60178 | Y59: =X59*P59 -> 550.40714
C60: 3.3 Trator Capinadeira Pot. Min 85 CV equipado com 01 capinadeira/Vassoura Mecânica | I60: Trator de Pneus com potência Min. de 85 CV | M60: SMLC (DFPO) | N60: 228930 | P60: 2 | Q60: 6 | R60: 20 | S60: 0.7 | T60: 0.18 | U60: =85*0.7355 -> 62.5175 | V60: 5 | W60: ='1. Capina e Roçada'!C163 -> 25.25 | X60: =U60*T60*V60*W60 -> 1420.7102 | Y60: =X60*P60 -> 2841.4204
I61: Vassoura Mecânica Rebocável com Escova Cilíndrica Largura Útil de Varrimentop b = 2,44m | M61: SINAPI - Insumo 00013726 | N61: 96215.41 | P61: =P60 -> 2 | Q61: =Q60 -> 6 | R61: =R60 -> 20 | S61: =S60 -> 0.7
...

Sheet 1. Capina e Roçada
A1: Orientações para preenchimento:
A2: 1. Esta planilha é somente um modelo-base, devendo ser adaptada para cada caso concreto.
A3: Qualquer custo previsto no edital e não contemplado nesta planilha deverá ser devidamente incluído.
A4: 2. Antes de preenchê-la, leia a Orientação Técnica - Serviço de coleta de resíduos sólidos domiciliares
A5: 3. Preencher somente células em amarelo
A6: 4. As células azuis deverão ter seus valores preenchidos em outra planilha do arquivo.
A8: O TCE/RS não se responsabiliza pelo uso incorreto desta planilha.
A9: O orçamento deve ser realizado por responsável técnico habilitado e é de responsabilidade do seu autor.
A11: 1. Capina e Roçada Mecanizada
A12: Planilha de Composição de Custos
A14: Orçamento Sintético
A15: Descrição do Item | E15: Custo (R$/mês) | F15: %
A16: =A101 -> 1. Mão-de-obra | E16: =+F198 -> 508570.09 | F16: =IFERROR(E16/$E$77,0) -> 0.43331872
A17: =A103 -> 1.1. Operários/Agentes de Limpeza | E17: =F111 -> 345129.22 | F17: =IFERROR(E17/$E$77,0) -> 0.29406163
A18: =A113 -> 1.2. Encarregado de Equipe | E18: =F121 -> 21996.311 | F18: =IFERROR(E18/$E$77,0) -> 0.018741592
A19: =A123 -> 1.3. Motorista Caminhão | E19: =F133 -> 16955.433 | F19: =IFERROR(E19/$E$77,0) -> 0.014446596
A20: =A135 -> 1.4. Motorista Micro Ônibus Urbano | E20: =F145 -> 22085.622 | F20: =IFERROR(E20/$E$77,0) -> 0.018817689
A21: =A147 -> 1.5. Operador de Máquina Rodoviária (Minicarregadeira e Trator Capinadeira) | E21: =F157 -> 26197.688 | F21: =IFERROR(E21/$E$77,0) -> 0.022321306
A22: =A160 -> 1.6. Vale Transporte | E22: =F169 -> 16353.174 | F22: =IFERROR(E22/$E$77,0) -> 0.013933451
A23: =A171 -> 1.7. Vale-refeição (diário) | E23: =F178 -> 55453.04 | F23: =IFERROR(E23/$E$77,0) -> 0.047247844
A24: =A180 -> 1.8. Auxílio Alimentação (mensal) | E24: =F187 -> 2358 | F24: =IFERROR(E24/$E$77,0) -> 0.0020090948
A25: =A200 -> 2. Uniformes e Equipamentos de Proteção Individual | E25: =+F276 -> 14394.423 | F25: =IFERROR(E25/$E$77,0) -> 0.012264529
A26: =A278 -> 3. Veículos e Equipamentos | E26: =+F724 -> 371249.5 | F26: =IFERROR(E26/$E$77,0) -> 0.31631699
A27: =A280 -> 3.1 Caminhão Basculante com capacidade de 6m³ – Pot. Min. 136 Kw (185CV) | E27: =SUM(E28:E33) -> 90688.922 | F27: =IFERROR(E27/$E$77,0) -> 0.077269994
A28: 3.1.1. Depreciação | E28: =F291 -> 17103.186 | F28: =IFERROR(E28/$E$77,0) -> 0.014572486
A29: 3.1.2. Remuneração do Capital | E29: =F302 -> 21722.004 | F29: =IFERROR(E29/$E$77,0) -> 0.018507873
A30: =A304 -> 3.1.3. Impostos e Seguros - Caminhão | E30: =F310 -> 2376.8438 | F30: =IFERROR(E30/$E$77,0) -> 0.0020251504
A31: =A312 -> 3.1.4. Consumos | E31: =F320 -> 42946.305 | F31: =IFERROR(E31/$E$77,0) -> 0.036591687
A32: =A322 -> 3.1.5. Manutenção | E32: =F325 -> 6382.8444 | F32: =IFERROR(E32/$E$77,0) -> 0.0054383968
A33: =A327 -> 3.1.6. Pneus | E33: =F334 -> 157.73976 | F33: =IFERROR(E33/$E$77,0) -> 0.00013439955
A34: =A338 -> 3.1.7. Monitoramento da Frota | E34: =F346 -> 240.46 | F34: =IFERROR(E34/$E$77,0) -> 0.00020487996
A35: =A350 -> 3.2. Retroescavadeira sobre rodas com carregadeira, tração 4x4, potência líq. 88 HP | E35: =SUM(E36:E41) -> 63484.353 | F35: =IFERROR(E35/$E$77,0) -> 0.054090791
A36: 3.2.1. Depreciação | E36: =F361 -> 15058.347 | F36: =IFERROR(E36/$E$77,0) -> 0.012830215
A37: 3.2.2. Remuneração do Capital | E37: =F372 -> 15503.066 | F37: =IFERROR(E37/$E$77,0) -> 0.01320913
A38: =A374 -> 3.2.3. Impostos e Seguros | E38: =F380 -> 3694.6738 | F38: =IFERROR(E38/$E$77,0) -> 0.0031479856
A39: =A382 -> 3.2.4. Consumos | E39: =F390 -> 17746.262 | F39: =IFERROR(E39/$E$77,0) -> 0.015120408
A40: =A392 -> 3.2.5. Manutenção | E40: =F395 -> 4732.7778 | F40: =IFERROR(E40/$E$77,0) -> 0.0040324849
A41: =A397 -> 3.2.6. Pneus | E41: =F409 -> 6749.2267 | F41: =IFERROR(E41/$E$77,0) -> 0.0057505667
A42: =A410 -> 3.2.7. Monitoramento da Frota | E42: =F418 -> 240.46 | F42: =IFERROR(E42/$E$77,0) -> 0.00020487996
A43: 3.3. Trator Capinadeira 85 CV equipado com 01 capinadeira/Vassoura Mecânica. | E43: =SUM(E44:E49) -> 32638.499 | F43: =IFERROR(E43/$E$77,0) -> 0.027809093
...

Sheet 2. Varrição Manual
A1: Orientações para preenchimento:
A2: 1. Esta planilha é somente um modelo-base, devendo ser adaptada para cada caso concreto.
A3: Qualquer custo previsto no edital e não contemplado nesta planilha deverá ser devidamente incluído.
A4: 2. Antes de preenchê-la, leia a Orientação Técnica - Serviço de coleta de resíduos sólidos domiciliares
A5: 3. Preencher somente células em amarelo
A6: 4. As células azuis deverão ter seus valores preenchidos em outra planilha do arquivo.
A8: O TCE/RS não se responsabiliza pelo uso incorreto desta planilha.
A9: O orçamento deve ser realizado por responsável técnico habilitado e é de responsabilidade do seu autor.
A11: 2. Varrição de Vias e Logradouros Públicos
A12: Planilha de Composição de Custos
A14: Orçamento Sintético
A15: Descrição do Item | E15: Custo (R$/mês) | F15: %
A16: =A51 -> 1. Mão-de-obra | E16: =+F122 -> 338563.36 | F16: =IFERROR(E16/$E$35,0) -> 0.66969597
A17: =A53 -> 1.1. Operários/Agentes de Limpeza | E17: =F63 -> 276227.18 | F17: =IFERROR(E17/$E$35,0) -> 0.54639175
A18: =A65 -> 1.2. Encarregado de Equipe | E18: =F75 -> 5868.3132 | F18: =IFERROR(E18/$E$35,0) -> 0.011607829
A19: =A77 -> 1.3. Motorista Caminhão | E19: =F89 -> 9046.9523 | F19: =IFERROR(E19/$E$35,0) -> 0.017895343
A20: =A91 -> 1.4. Vale Transporte | E20: =F98 -> 10784.12 | F20: =IFERROR(E20/$E$35,0) -> 0.02133155
A21: =A100 -> 1.5. Vale-refeição (diário) | E21: =F105 -> 34829.597 | F21: =IFERROR(E21/$E$35,0) -> 0.068894759
A22: =A107 -> 1.6. Auxílio Alimentação (mensal) | E22: =F112 -> 276 | F22: =IFERROR(E22/$E$35,0) -> 0.00054594238
A23: =A124 -> 2. Uniformes e Equipamentos de Proteção Individual | E23: =+F172 -> 9566.0342 | F23: =IFERROR(E23/$E$35,0) -> 0.018922114
A24: =A174 -> 3. Veículos e Equipamentos | E24: =+F254 -> 49405.618 | F24: =IFERROR(E24/$E$35,0) -> 0.097726887
A25: =A46 -> 3.1. Caminhão toco, carga útil 9480 kg, potência mínima 185 CV, com carroceria fixa, aberta, de madeira, para transporte geral de carga seca, com dimensões aproximadas de 2,50 x 6,50 x 0,50 m. | E25: =SUM(E26:E31) -> 49152.658 | F25: =IFERROR(E25/$E$35,0) -> 0.097226519
A26: 3.1.1. Depreciação | E26: =F192 -> 8571.4712 | F26: =IFERROR(E26/$E$35,0) -> 0.016954817
A27: 3.1.2. Remuneração do Capital | E27: =F208 -> 10886.248 | F27: =IFERROR(E27/$E$35,0) -> 0.021533566
A28: =A210 -> 3.1.3. Impostos e Seguros - Caminhão | E28: =F216 -> 1092.8556 | F28: =IFERROR(E28/$E$35,0) -> 0.0021617253
A29: =A218 -> 3.1.4. Consumos | E29: =F226 -> 21473.152 | F29: =IFERROR(E29/$E$35,0) -> 0.042475014
A30: =A228 -> 3.1.5. Manutenção | E30: =F231 -> 6011.6074 | F30: =IFERROR(E30/$E$35,0) -> 0.011891273
A31: =A233 -> 3.1.6. Pneus | E31: =F240 -> 1117.3233 | F31: =IFERROR(E31/$E$35,0) -> 0.0022101237
A32: =A243 -> 3.1.7. Monitoramento da Frota | E32: =F251 -> 126.48 | F32: =IFERROR(E32/$E$35,0) -> 0.00025018403
A33: =A256 -> 4. Ferramentas, Materiais de Consumo e EPC | E33: =+F265 -> 3089.3267 | F33: =IFERROR(E33/$E$35,0) -> 0.0061108491
A34: =A269 -> 5. Benefícios e Despesas Indiretas - BDI | E34: =+F275 -> 104923.51 | F34: =IFERROR(E34/$E$35,0) -> 0.20754418
A35: PREÇO TOTAL MENSAL COM A COLETA | E35: =E16+E23+E24+E33+E34 -> 505547.86 | F35: =F16+F23+F24+F33+F34 -> 1
A38: Quantitativos
A39: Mão-de-obra | E39: Quantidade
A40: =+A53 -> 1.1. Operários/Agentes de Limpeza | E40: =C62 -> 60
A41: =A65 -> 1.2. Encarregado de Equipe | E41: =C74 -> 1
A42: =A77 -> 1.3. Motorista Caminhão | E42: =C88 -> 2
A43: Total de mão-de-obra (postos de trabalho) | E43: =SUM(E40:E42) -> 63
A45: Veículos e Equipamentos | E45: Quantidade
A46: =A176 -> 3.1. Caminhão toco, carga útil 9480 kg, potência mínima 185 CV, com carroceria fixa, aberta, de madeira, para transporte geral de carga seca, com dimensões aproximadas de 2,50 x 6,50 x 0,50 m. | E46: =C191 -> 2
...

Sheet 3. Equipe Técnica
A1: Orientações para preenchimento:
A2: 1. Esta planilha é somente um modelo-base, devendo ser adaptada para cada caso concreto.
A3: Qualquer custo previsto no edital e não contemplado nesta planilha deverá ser devidamente incluído.
A4: 2. Antes de preenchê-la, leia a Orientação Técnica - Serviço de coleta de resíduos sólidos domiciliares
A5: 3. Preencher somente células em amarelo
A6: 4. As células azuis deverão ter seus valores preenchidos em outra planilha do arquivo.
A8: O TCE/RS não se responsabiliza pelo uso incorreto desta planilha.
A9: O orçamento deve ser realizado por responsável técnico habilitado e é de responsabilidade do seu autor.
A11: 3. Equipe Técnica
A12: Planilha de Composição de Custos
A14: Orçamento Sintético
A15: Descrição do Item | E15: Custo (R$/mês) | F15: %
A16: =A61 -> 1. Mão-de-obra | E16: =+F137 -> 34104.45 | F16: =IFERROR(E16/$E$41,0) -> 0.60712788
A17: =A63 -> 1.1. Encarregado Geral | E17: =F71 -> 9567.1557 | F17: =IFERROR(E17/$E$41,0) -> 0.17031463
A18: =A73 -> 1.2. Gerente Geral | E18: =F81 -> 10789.329 | F18: =IFERROR(E18/$E$41,0) -> 0.19207178
A19: =A83 -> 1.3. Técnico de Segurança do Trabalho | E19: =F91 -> 6577.1135 | F19: =IFERROR(E19/$E$41,0) -> 0.11708586
A20: =A93 -> 1.4. Responsável Técnico (Engenheiro/ 20 horas semanais) | E20: =F101 -> 4296.997 | F20: =IFERROR(E20/$E$41,0) -> 0.076495198
A21: =A103 -> 1.5. Vale Transporte Gerente Geral, Técnico de Segurança do Trabalho e Engenheiro | E21: =F110 -> 322.3423 | F21: =IFERROR(E21/$E$41,0) -> 0.0057383419
A22: =A119 -> 1.7. Vale-refeição (diário) | E22: =F123 -> 1253.244 | F22: =IFERROR(E22/$E$41,0) -> 0.022310266
A23: =A130 -> 1.9. Plano de Benefício Familiar (mensal) | E23: =F135 -> 0 | F23: =IFERROR(E23/$E$41,0) -> 0
A24: =A139 -> 2. Uniformes e Equipamentos de Proteção Individual | E24: =+F197 -> 133.0003 | F24: =IFERROR(E24/$E$41,0) -> 0.0023676732
A25: =A199 -> 3. Veículos e Equipamentos | E25: =+F314 -> 10277.504 | F25: =IFERROR(E25/$E$41,0) -> 0.18296027
A26: =A201 -> 3.1. Veículo Tipo Passeio 1.0, a Gasolina – 5 passageiros | E26: =SUM(E27:E32) -> 4510.1435 | F26: =IFERROR(E26/$E$41,0) -> 0.080289634
A27: 3.1.1. Depreciação | E27: =F212 -> 609.6032 | F27: =IFERROR(E27/$E$41,0) -> 0.010852164
A28: 3.1.2. Remuneração do Capital | E28: =F223 -> 606.33184 | F28: =IFERROR(E28/$E$41,0) -> 0.010793927
A29: =A225 -> 3.1.3. Impostos e Seguros - Caminhão | E29: =F231 -> 106.29 | F29: =IFERROR(E29/$E$41,0) -> 0.001892176
A30: =A233 -> 3.1.4. Consumos | E30: =F241 -> 2505.8424 | F30: =IFERROR(E30/$E$41,0) -> 0.04460904
A31: =A243 -> 3.1.5. Manutenção | E31: =F246 -> 656.9 | F31: =IFERROR(E31/$E$41,0) -> 0.011694143
A32: =A248 -> 3.1.6. Pneus | E32: =F255 -> 25.176 | F32: =IFERROR(E32/$E$41,0) -> 0.00044818349
A33: =A257 -> 3.2 Picape Utilitária, cabine Simples 1.6 | E33: =SUM(E34:E39) -> 5767.361 | F33: =IFERROR(E33/$E$41,0) -> 0.10267064
A34: 3.2.1. Depreciação | E34: =F268 -> 835.73824 | F34: =IFERROR(E34/$E$41,0) -> 0.014877823
A35: 3.2.2. Remuneração do Capital | E35: =F279 -> 831.25335 | F35: =IFERROR(E35/$E$41,0) -> 0.014797983
A36: =A281 -> 3.2.3. Impostos e Seguros | E36: =F287 -> 124.91 | F36: =IFERROR(E36/$E$41,0) -> 0.0022236495
A37: =A289 -> 3.2.4. Consumos | E37: =F297 -> 3051.2769 | F37: =IFERROR(E37/$E$41,0) -> 0.054318872
A38: =A299 -> 3.2.5. Manutenção | E38: =F302 -> 900.58 | F38: =IFERROR(E38/$E$41,0) -> 0.016032137
A39: =A304 -> 3.2.6. Pneus | E39: =F311 -> 23.6025 | F39: =IFERROR(E39/$E$41,0) -> 0.00042017202
A40: =A319 -> 4. Benefícios e Despesas Indiretas - BDI | E40: =+F325 -> 11658.467 | F40: =IFERROR(E40/$E$41,0) -> 0.20754418
A41: PREÇO TOTAL MENSAL COM A COLETA | E41: =E16+E24+E25+E40 -> 56173.422 | F41: =F16+F24+F25+F40 -> 1
A44: Quantitativos
A45: Mão-de-obra | E45: Quantidade
...

Sheet 4.Encargos Sociais
A1: Orientações para preenchimento:
A2: 1. Preencha previamente os dados de entrada na planilha 3.CAGED
A4: O TCE/RS não se responsabiliza pelo uso incorreto desta planilha.
A5: O orçamento deve ser realizado por responsável técnico habilitado e é de responsabilidade do seu autor.
A7: 2. Composição dos Encargos Sociais
A8: Código | B8: Descrição | C8: Valor
A9: A1 | B9: INSS | C9: 0.2
A10: A2 | B10: SESI | C10: 0.015
A11: A3 | B11: SENAI | C11: 0.01
A12: A4 | B12: INCRA | C12: 0.002
A13: A5 | B13: SEBRAE | C13: 0.006
A14: A6 | B14: Salário educação | C14: 0.025
A15: A7 | B15: Seguro contra acidentes de trabalho | C15: 0.03
A16: A8 | B16: FGTS | C16: 0.08
A17: A | B17: SOMA GRUPO A | C17: =SUM(C9:C16) -> 0.368
A19: B1 | B19: Férias gozadas | C19: =ROUND(IF('5. CAGED'!C28>24,(1-12/'5. CAGED'!C28)*0.1111,0.1111-C28),4) -> 0.0502
A20: B2 | B20: 13º salário | C20: =ROUND('5. CAGED'!C32/'5. CAGED'!C29,4) -> 0.0833
A21: B3 | B21: Licença Paternidade | C21: 0.0006
A22: B4 | B22: Faltas justificadas | C22: 0.0082
A23: B5 | B23: Auxilio acidente de trabalho | C23: 0.0031
A24: B6 | B24: Auxilio doença | C24: 0.0166
A25: B | B25: SOMA GRUPO B | C25: =SUM(C19:C24) -> 0.162
A27: C1 | B27: Aviso prévio indenizado | C27: =ROUND(('5. CAGED'!C33) *'5. CAGED'!C26/'5. CAGED'!C29,4) -> 0.0321
A28: C2 | B28: Férias indenizadas | C28: =ROUND(IF('5. CAGED'!C28>12,12/'5. CAGED'!C28*0.1111,0.1111),4) -> 0.0609
A29: C3 | B29: Férias indenizadas s/ aviso previo inden. | C29: =C27*C28 -> 0.00195489
A30: C4 | B30: Depósito rescisão sem justa causa | C30: =ROUND(('5. CAGED'!C29+'5. CAGED'!C30+'5. CAGED'!C32)/'5. CAGED'!C27*'5. CAGED'!C34*'5. CAGED'!C35*'5. CAGED'!C26/'5. CAGED'!C29,4) -> 0.0227
A31: C5 | B31: Indenização adicional | C31: =ROUND(('5. CAGED'!C31/'5. CAGED'!C29)*'5. CAGED'!C26/12,4) -> 0.0024
A32: C | B32: SOMA GRUPO C | C32: =SUM(C27:C31) -> 0.12005489
A34: D1 | B34: Reincidência de Grupo A sobre Grupo B | C34: =ROUND(C17*C25,4) -> 0.0596
A35: D2 | B35: Reincidência de FGTS sobre aviso prévio indenizado | C35: =ROUND((C27*C16),4) -> 0.0026
A36: D | B36: SOMA GRUPO D | C36: =SUM(C34:C35) -> 0.0622
B37: SOMA (A+B+C+D) | C37: =C36+C32+C25+C17 -> 0.71225489

Sheet 5. CAGED
A1: CÁLCULO DAS VERBAS INDENIZATÓRIAS DOS EMPREGADOS NO SETOR DE COLETA DE RSU
A3: Tendo em vista que o CAGED foi descontinuado em janeiro de 2020, esta planilha foi atualizada até 31/12/2019.
A5: Preencha as células em amarelo
B7: 3. CAGED
B8: Rio Grande do Sul - Coleta de Resíduos Não-Perigosos - CNAE 38114
B9: Admissões | C9: 2638
B10: Desligamentos | C10: 2224
B11: Dispensados com justa causa | C11: 35
B12: Dispensados sem justa causa | C12: 1552
B13: Espontâneos | C13: 350
B14: Fim de contrato por prazo determinado | C14: 12
B15: Término de contrato | C15: 345
B16: Aposentados | C16: 0
B17: Mortos | C17: 21
B18: Transferência de saída | C18: 0
B19: Acordo | C19: 1
B20: Indicadores
B21: Estoque recuperado início do Período 01-04-2024 | C21: 4208
B22: Estoque recuperado final do Período 31-03-2025 | C22: 4655
B23: Variação Emprego Absoluta de 01-04-2024 a 31-03-2025 | C23: =C9-C10 -> 414
B25: Estoque Médio | C25: =MEDIAN(C21,C22) -> 4431.5
B26: % Demitidos s/ Justa Causa em relação ao Estoque Médio | C26: =C12/C25 -> 0.35022002
B27: Taxa de Rotatividade | C27: =MEDIAN(C9,C10)/C25 -> 0.54857272
B28: Rotatividade temporal (meses) | C28: =12/C27 -> 21.874949
B29: Dias ano | C29: 360
B30: 1/3 de férias (dias) | C30: 10
B31: Férias (dias) | C31: 30
B32: 13º Salário (dias) | C32: 30
B33: Dias de Aviso prévio | C33: =30+(3*TRUNC(1/C27)) -> 33
B34: FGTS | C34: 0.08
B35: Multa FGTS | C35: 0.4 | D35: Ajustado, de acordo com a nova Lei Federal nº 13.932/2019

Sheet 6. BDI
A1: Orientações para preenchimento:
A2: 1. Esta planilha é somente um modelo-base e deve ser ajustada conforme cada caso concreto.
A3: 2. Preencher somente células em amarelo
A5: O TCE/RS não se responsabiliza pelo uso incorreto desta planilha.
A6: O orçamento deve ser realizado por responsável técnico habilitado e é de responsabilidade do seu autor.
A8: 4. Composição do BDI - Benefícios e Despesas Indiretas
D10: Referência estudo TCE
D11: 1° Quartil | E11: Médio | F11: 3° Quartil
A12: Administração Central | B12: AC | C12: 0.0297 | D12: 0.0297 | E12: 0.0508 | F12: 0.0627
A13: Seguros/Riscos/Garantias | B13: SRG | C13: 0.0133 | D13: =0.3%+0.56% -> 0.0086 | E13: =0.48%+0.85% -> 0.0133 | F13: =0.82%+0.89% -> 0.0171
A14: Lucro | B14: L | C14: 0.1085 | D14: 0.0778 | E14: 0.1085 | F14: 0.1355
A15: Despesas Financeiras | B15: DF | C15: =(1+E15)^(E16/252)-1 -> 0.0079612164 | D15: i | E15: 0.1425
A16: Tributos - ISS | B16: T | C16: 0.04 | D16: DU | E16: 15
A17: Tributos - PIS/COFINS | C17: 0.0365
A18: Fórmula para o cálculo do BDI:
A19: {[(1+AC+SRG) x (1+L) x (1+DF)] / (1-T)} -1
A20: Resultado do cálculo do BDI: | C20: =ROUND((((1+C12+C13)*(1+C14)*(1+C15))/(1-(C16+C17))-1),4) -> 0.2619 | D20: 0.2143 | E20: 0.2717 | F20: 0.3362

Sheet 7. Depreciação
A1: 5. Depreciação Referencial TCE/RS (%)
A2: Idade do veículo (ano) | B2: Depreciação Média
A3: 1 | B3: 33.63
A4: 2 | B4: 43.13
A5: 3 | B5: 48.68
A6: 4 | B6: 52.62
A7: 5 | B7: 55.68
A8: 6 | B8: 58.18
A9: 7 | B9: 60.29
A10: 8 | B10: 62.12
A11: 9 | B11: 63.73
A12: 10 | B12: 65.18
A13: 11 | B13: 66.48
A14: 12 | B14: 67.67
... A17: 15 | B17: 70.73

Sheet 8. Remuneração de capital
A1: 6. Remuneração de Capital
A3: Fórmula de cálculo da remuneração de capital:
A12: Jm = remuneração de capital mensal
A13: i = taxa de juros do mercado (sugere-se adotar a taxa SELIC)
A14: Im = investimento médio
A15: V0 = valor inicial do bem
A16: Vr = valor residual do bem
A17: n = vida útil do bem em anos
