Workbook

Sheet Planilha2
G2: PO - PLANILHA ORÇAMENTÁRIA | M2: Grau de Sigilo
G3: {=IF(TIPOORCAMENTO="licitado","Orçamento Licitado","Orçamento Base para Licitação")&" - "&import.recurso} -> Orçamento Base para Licitação - OGU | M3: #PUBLICO
D5: Nº OPERAÇÃO | F5: Nº TransfereGOV | G5: PROPONENTE / TOMADOR | H5: APELIDO DO EMPREENDIMENTO
D6: =Import.CR -> - | F6: {=Import.TransfereGOV} -> - | G6: =Import.Proponente -> Prefeitura Municipal de Canoas | H6: =Import.Apelido -> CJ. HAB. ACADEPOL
D8: LOCALIDADE SINAPI | F8: DATA BASE | G8: {=IF(TIPOORCAMENTO="Licitado","NOME DA EMPRESA","DESCRIÇÃO DO LOTE")} -> DESCRIÇÃO DO LOTE | H8: {=IF(TIPOORCAMENTO="Licitado","REGIME DE EXECUÇÃO","MUNICÍPIO / UF")} -> MUNICÍPIO / UF | K8: {=IF(TIPOORCAMENTO="Licitado","","BDI 1")} -> BDI 1 | L8: {=IF(TIPOORCAMENTO="Licitado","","BDI 2")} -> BDI 2 | M8: {=IF(TIPOORCAMENTO="Licitado","Nº CTEF","BDI 3")} -> BDI 3
D9: Porto Alegre | F9: {=TEXT(Import.DataBase,"mm-aa")&IF(DESONERACAO="Sim"," (DES.)"," (N DES.)")} -> #VALUE! | G9: {=IF(TIPOORCAMENTO="Licitado",Import.empresa,Import.DescLote)} -> Infraestrutura para moradias de Interesse Social | H9: {=IF(TIPOORCAMENTO="Licitado",Import.RegimeExecução,Import.Município)} -> Canoas/RS | K9: {=IF(TIPOORCAMENTO="Licitado","",TEXT(#REF!,"0,00%"))} -> #REF! | L9: {=IF(TIPOORCAMENTO="Licitado","",TEXT(#REF!,"0,00%"))} -> #REF! | M9: {=IF(TIPOORCAMENTO="Licitado",Import.CTEF,TEXT(#REF!,"0,00%"))} -> #REF!
I10: =IF(AND(Import.TipoArredondamento="TransfereGOV",$AF$7=FALSE),"▼","") | J10: =IF(AND(Import.TipoArredondamento="TransfereGOV",$AF$8=FALSE),"▼","") | K10: =IF(AND(Import.TipoArredondamento="TransfereGOV",$AF$9=FALSE),"▼","") | L10: =IF(AND(Import.TipoArredondamento="TransfereGOV",$AF$10=FALSE),"▼","") | M10: =IF(AND(Import.TipoArredondamento="TransfereGOV",$AF$11=FALSE),"▼","")
D13: {=IF(AND(Import.TipoArredondamento="TransfereGOV",COUNTIF($AF$7:$AF$11,TRUE)<>5),"Para contratos que tramitam no Transferegov todos os valores devem ser arredondados para duas casas decimais", IF(AND($F$11<>"",$G$11<>"",$F$11<>$G$11),"O arquivo "&MID($F$10,2,SEARCH("]",$F$10)-1)&" está com a data base errada ("&#REF!&"). Corrija a data base antes de continuar.", IF(COUNTIF($AC$15:$AC$51,"FONTE")>0,"Falta preencher a Fonte (coluna P) na Linha "&(14+MATCH("FONTE",$AC$15:$AC$51,0)), IF(COUNTIF($AC$15:$AC$51,"CÓDIGO")>0,"Falta preencher o Código (coluna Q) na Linha "&(14+MATCH("CÓDIGO",$AC$15:$AC$51,0)), IF(COUNTIF($AC$15:$AC$51,"CÓDIGO N/ID")>0,"Código (coluna Q) não identificado na Linha "&(14+MATCH("CÓDIGO N/ID",$AC$15:$AC$51,0))&". Verifique se o código está correto ou busque outro código", IF(COUNTIF($AC$15:$AC$51,"DESCRIÇÃO")>0,"Falta preencher a Descrição (coluna R) na Linha "&(14+MATCH("DESCRIÇÃO",$AC$15:$AC$51,0)), IF(COUNTIF($AC$15:$AC$51,"UNIDADE")>0,"Falta preencher a Unidade (coluna S) na Linha "&(14+MATCH("UNIDADE",$AC$15:$AC$51,0)), IF(COUNTIF($AC$15:$AC$51,"SEM CUSTO")>0,"Falta preencher o Custo Unitário (coluna U) na Linha "&(14+MATCH("SEM CUSTO",$AC$15:$AC$51,0)), IF(COUNTIF($AC$15:$AC$51,"SEM PREÇO")>0,"Falta preencher o Preço Unitário licitado (coluna AL) na Linha "&(14+MATCH("SEM CUSTO",$AC$15:$AC$51,0)), IF(COUNTIF($AC$15:$AC$51,"BDI")>0,"Falta definir o BDI (coluna V) na Linha "&(14+MATCH("BDI",$AC$15:$AC$51,0)), IF(COUNTIF($AC$15:$AC$51,"ACIMA REF.")>0, IF(TIPOORCAMENTO="Proposto","O custo unitário (coluna U) na Linha "&(14+MATCH("ACIMA REF.",$AC$15:$AC$51,0))&" está acima do custo referencial (coluna AG)", "O preço unitário licitado (coluna AL) na Linha "&(14+MATCH("ACIMA REF.",$AC$15:$AC$51,0))&" está acima do preço referencial do edital (coluna AN)"), IF(COUNTIF($AC$15:$AC$51,"QUANT.")>0,"Falta a Quantidade do serviço na Linha "&(14+MATCH("QUANT.",$AC$15:$AC$51,0))&IF(ACOMPANHAMENTO="PLE",". Preencher na aba CÁLCULO",". Preencher na coluna AJ"), IF(COUNTIF($AC$15:$AC$51,"Código >13")>0,"O tamanho do código do serviço no TransfereGOV é limitado a 13 caracteres. Resuma o código (coluna Q) na Linha "&(14+MATCH("Código >13",$AC$15:$AC$51,0)), IF(COUNTIF($AC$15:$AC$51,"Descrição >100")>0,"O tamanho da descrição de macrosserviço no TransfereGOV é limitado a 100 caracteres. Resuma a descrição (coluna R) na Linha "&(14+MATCH("Descrição >100",$AC$15:$AC$51,0)), IF(COUNTIF($AC$15:$AC$51,"Descrição >500")>0,"O tamanho da descrição de serviço no TransfereGOV é limitado a 500 caracteres. Resuma a descrição (coluna R) na Linha "&(14+MATCH("Descrição >500",$AC$15:$AC$51,0)), IF(COUNTIF($AC$15:$AC$51,"Unid. Não Disp")>0,"Unidade não disponível na lista do TransfereGOV. Reveja a unidade (coluna S) na Linha "&(14+MATCH("Unid. Não Disp",$AC$15:$AC$51,0)), IF(AND(TIPOORCAMENTO="Proposto",LEFT($O$8,5)="(N/D:"),"Abra o arquivo Referência "&_xlfn.SINGLE(Excel_BuiltIn_Database)&".xlsm","")))))))))))))))))}
B14: Nível | C14: Nível Corrigido | D14: Item | E14: Fonte | F14: Código | G14: Descrição | H14: Unidade | I14: Quantidade | J14: {=IF(TIPOORCAMENTO="Licitado","","Custo Unitário (sem BDI) (R$)")} -> Custo Unitário (sem BDI) (R$) | K14: {=IF(TIPOORCAMENTO="Licitado","","BDI (%)")} -> BDI (%) | L14: Preço Unitário (com BDI) (R$) | M14: Preço Total (R$)
B15: Serviço | C15: =CHOOSE(1+LOG(1+2*(#REF!=1)+4*(#REF!=2)+8*(#REF!=3)+16*(#REF!=4)+32*(#REF!="S"),2),"","Meta","Nível 2","Nível 3","Nível 4","Serviço") -> #REF! | D15: =IF(OR($C15=0,$L15=""),"-",CONCATENATE(#REF!&".",IF(AND($A$5>=2,$C15>=2),#REF!&".",""),IF(AND($A$5>=3,$C15>=3),#REF!&".",""),IF(AND($A$5>=4,$C15>=4),#REF!&".",""),IF($C15="S",#REF!&".",""))) -> #REF! | E15: SINAPI | G15: =IF($C15="S",REFERENCIA.Descricao,"(digite a descrição aqui)") -> #REF! | H15: =REFERENCIA.Unidade -> - | I15: =OFFSET([1]CÁLCULO!#REF!,ROW($T15)-ROW(I$15),0) -> #REF! | K15: BDI 1 | L15: =IF($C15="S",ROUND(IF(TIPOORCAMENTO="Proposto",ORÇAMENTO.CustoUnitario*(1+$AH15),ORÇAMENTO.PrecoUnitarioLicitado),15-13*$AF$10),0) -> #REF! | M15: {=IF($C15="S",IF(OR(Import.TipoArredondamento<>"TransfereGOV",ACOMPANHAMENTO="BM"),VTOTAL1,SUM(OFFSET([1]CÁLCULO!$AA$15,ROW($X15)-ROW($X$15),1):OFFSET([1]CÁLCULO!$AL$15,ROW($X15)-ROW($X$15),-1))),IF($C15=0,0,ROUND(SomaAgrup,15-13*$AF$11)))} -> #REF!
B16: =IF(TIPOORCAMENTO="LICITADO","CTEF","LOTE") -> LOTE | C16: =IF(TIPOORCAMENTO="LICITADO","CTEF","LOTE") -> LOTE | D16: =Import.DescLote -> Infraestrutura para moradias de Interesse Social | M16: =SUMIF(OFFSET($C16,1,0,ROW(M52)-ROW(M16)-1),"S",OFFSET(M16,1,0,ROW(M52)-ROW(M16)-1)) -> 0
B17: Meta | C17: =CHOOSE(1+LOG(1+2*(#REF!=1)+4*(#REF!=2)+8*(#REF!=3)+16*(#REF!=4)+32*(#REF!="S"),2),"","Meta","Nível 2","Nível 3","Nível 4","Serviço") -> #REF! | D17: =IF(OR($C17=0,$L17=""),"-",CONCATENATE(#REF!&".",IF(AND($A$5>=2,$C17>=2),#REF!&".",""),IF(AND($A$5>=3,$C17>=3),#REF!&".",""),IF(AND($A$5>=4,$C17>=4),#REF!&".",""),IF($C17="S",#REF!&".",""))) -> #REF! | E17: SINAPI | G17: LOTE 02 - INFRAESTRUTURA COMPLEMENTAR | H17: - | I17: =OFFSET([1]CÁLCULO!#REF!,ROW($T17)-ROW(I$15),0) -> #REF! | K17: BDI 1 | L17: =IF($C17="S",ROUND(IF(TIPOORCAMENTO="Proposto",ORÇAMENTO.CustoUnitario*(1+$AH17),ORÇAMENTO.PrecoUnitarioLicitado),15-13*$AF$10),0) -> #REF! | M17: {=IF($C17="S",IF(OR(Import.TipoArredondamento<>"TransfereGOV",ACOMPANHAMENTO="BM"),VTOTAL1,SUM(OFFSET([1]CÁLCULO!$AA$15,ROW($X17)-ROW($X$15),1):OFFSET([1]CÁLCULO!$AL$15,ROW($X17)-ROW($X$15),-1))),IF($C17=0,0,ROUND(SomaAgrup,15-13*$AF$11)))} -> #REF!
B18: Nível 2 | C18: =CHOOSE(1+LOG(1+2*(#REF!=1)+4*(#REF!=2)+8*(#REF!=3)+16*(#REF!=4)+32*(#REF!="S"),2),"","Meta","Nível 2","Nível 3","Nível 4","Serviço") -> #REF! | D18: =IF(OR($C18=0,$L18=""),"-",CONCATENATE(#REF!&".",IF(AND($A$5>=2,$C18>=2),#REF!&".",""),IF(AND($A$5>=3,$C18>=3),#REF!&".",""),IF(AND($A$5>=4,$C18>=4),#REF!&".",""),IF($C18="S",#REF!&".",""))) -> #REF! | E18: SINAPI | G18: Administração Local e serviços iniciais | H18: - | I18: =OFFSET([1]CÁLCULO!#REF!,ROW($T18)-ROW(I$15),0) -> #REF! | K18: BDI 1 | L18: =IF($C18="S",ROUND(IF(TIPOORCAMENTO="Proposto",ORÇAMENTO.CustoUnitario*(1+$AH18),ORÇAMENTO.PrecoUnitarioLicitado),15-13*$AF$10),0) -> #REF! | M18: {=IF($C18="S",IF(OR(Import.TipoArredondamento<>"TransfereGOV",ACOMPANHAMENTO="BM"),VTOTAL1,SUM(OFFSET([1]CÁLCULO!$AA$15,ROW($X18)-ROW($X$15),1):OFFSET([1]CÁLCULO!$AL$15,ROW($X18)-ROW($X$15),-1))),IF($C18=0,0,ROUND(SomaAgrup,15-13*$AF$11)))} -> #REF!
B19: Serviço | C19: =CHOOSE(1+LOG(1+2*(#REF!=1)+4*(#REF!=2)+8*(#REF!=3)+16*(#REF!=4)+32*(#REF!="S"),2),"","Meta","Nível 2","Nível 3","Nível 4","Serviço") -> #REF! | D19: =IF(OR($C19=0,$L19=""),"-",CONCATENATE(#REF!&".",IF(AND($A$5>=2,$C19>=2),#REF!&".",""),IF(AND($A$5>=3,$C19>=3),#REF!&".",""),IF(AND($A$5>=4,$C19>=4),#REF!&".",""),IF($C19="S",#REF!&".",""))) -> #REF! | E19: SINAPI | F19: 90779 | G19: ENGENHEIRO CIVIL DE OBRA SENIOR COM ENCARGOS COMPLEMENTARES | H19: H | I19: =OFFSET([1]CÁLCULO!#REF!,ROW($T19)-ROW(I$15),0) -> #REF! | J19: =V19 -> 0 | K19: BDI 1 | L19: =IF($C19="S",ROUND(IF(TIPOORCAMENTO="Proposto",ORÇAMENTO.CustoUnitario*(1+$AH19),ORÇAMENTO.PrecoUnitarioLicitado),15-13*$AF$10),0) -> #REF! | M19: {=IF($C19="S",IF(OR(Import.TipoArredondamento<>"TransfereGOV",ACOMPANHAMENTO="BM"),VTOTAL1,SUM(OFFSET([1]CÁLCULO!$AA$15,ROW($X19)-ROW($X$15),1):OFFSET([1]CÁLCULO!$AL$15,ROW($X19)-ROW($X$15),-1))),IF($C19=0,0,ROUND(SomaAgrup,15-13*$AF$11)))} -> #REF!
B20: Serviço | C20: =CHOOSE(1+LOG(1+2*(#REF!=1)+4*(#REF!=2)+8*(#REF!=3)+16*(#REF!=4)+32*(#REF!="S"),2),"","Meta","Nível 2","Nível 3","Nível 4","Serviço") -> #REF! | D20: =IF(OR($C20=0,$L20=""),"-",CONCATENATE(#REF!&".",IF(AND($A$5>=2,$C20>=2),#REF!&".",""),IF(AND($A$5>=3,$C20>=3),#REF!&".",""),IF(AND($A$5>=4,$C20>=4),#REF!&".",""),IF($C20="S",#REF!&".",""))) -> #REF! | E20: Composição | F20: 01 | G20: VIGIA NOTURNO COM ENCARGOS COMPLEMENTARES | H20: MES | I20: =OFFSET([1]CÁLCULO!#REF!,ROW($T20)-ROW(I$15),0) -> #REF! | J20: =V20 -> 0 | K20: BDI 1 | L20: =IF($C20="S",ROUND(IF(TIPOORCAMENTO="Proposto",ORÇAMENTO.CustoUnitario*(1+$AH20),ORÇAMENTO.PrecoUnitarioLicitado),15-13*$AF$10),0) -> #REF! | M20: {=IF($C20="S",IF(OR(Import.TipoArredondamento<>"TransfereGOV",ACOMPANHAMENTO="BM"),VTOTAL1,SUM(OFFSET([1]CÁLCULO!$AA$15,ROW($X20)-ROW($X$15),1):OFFSET([1]CÁLCULO!$AL$15,ROW($X20)-ROW($X$15),-1))),IF($C20=0,0,ROUND(SomaAgrup,15-13*$AF$11)))} -> #REF!
B21: Serviço | C21: =CHOOSE(1+LOG(1+2*(#REF!=1)+4*(#REF!=2)+8*(#REF!=3)+16*(#REF!=4)+32*(#REF!="S"),2),"","Meta","Nível 2","Nível 3","Nível 4","Serviço") -> #REF! | D21: =IF(OR($C21=0,$L21=""),"-",CONCATENATE(#REF!&".",IF(AND($A$5>=2,$C21>=2),#REF!&".",""),IF(AND($A$5>=3,$C21>=3),#REF!&".",""),IF(AND($A$5>=4,$C21>=4),#REF!&".",""),IF($C21="S",#REF!&".",""))) -> #REF! | E21: SINAPI | F21: 93572 | G21: ENCARREGADO GERAL DE OBRAS COM ENCARGOS COMPLEMENTARES | H21: MES | I21: =OFFSET([1]CÁLCULO!#REF!,ROW($T21)-ROW(I$15),0) -> #REF! | J21: =V21 -> 0 | K21: BDI 1 | L21: =IF($C21="S",ROUND(IF(TIPOORCAMENTO="Proposto",ORÇAMENTO.CustoUnitario*(1+$AH21),ORÇAMENTO.PrecoUnitarioLicitado),15-13*$AF$10),0) -> #REF! | M21: {=IF($C21="S",IF(OR(Import.TipoArredondamento<>"TransfereGOV",ACOMPANHAMENTO="BM"),VTOTAL1,SUM(OFFSET([1]CÁLCULO!$AA$15,ROW($X21)-ROW($X$15),1):OFFSET([1]CÁLCULO!$AL$15,ROW($X21)-ROW($X$15),-1))),IF($C21=0,0,ROUND(SomaAgrup,15-13*$AF$11)))} -> #REF!
B22: Nível 2 | C22: =CHOOSE(1+LOG(1+2*(#REF!=1)+4*(#REF!=2)+8*(#REF!=3)+16*(#REF!=4)+32*(#REF!="S"),2),"","Meta","Nível 2","Nível 3","Nível 4","Serviço") -> #REF! | D22: =IF(OR($C22=0,$L22=""),"-",CONCATENATE(#REF!&".",IF(AND($A$5>=2,$C22>=2),#REF!&".",""),IF(AND($A$5>=3,$C22>=3),#REF!&".",""),IF(AND($A$5>=4,$C22>=4),#REF!&".",""),IF($C22="S",#REF!&".",""))) -> #REF! | E22: SINAPI | G22: Instalações provisórias, montagem do canteiro de obras e serviços iniciais | H22: - | I22: =OFFSET([1]CÁLCULO!#REF!,ROW($T22)-ROW(I$15),0) -> #REF! | K22: BDI 1 | L22: =IF($C22="S",ROUND(IF(TIPOORCAMENTO="Proposto",ORÇAMENTO.CustoUnitario*(1+$AH22),ORÇAMENTO.PrecoUnitarioLicitado),15-13*$AF$10),0) -> #REF! | M22: {=IF($C22="S",IF(OR(Import.TipoArredondamento<>"TransfereGOV",ACOMPANHAMENTO="BM"),VTOTAL1,SUM(OFFSET([1]CÁLCULO!$AA$15,ROW($X22)-ROW($X$15),1):OFFSET([1]CÁLCULO!$AL$15,ROW($X22)-ROW($X$15),-1))),IF($C22=0,0,ROUND(SomaAgrup,15-13*$AF$11)))} -> #REF!
B23: Serviço | C23: =CHOOSE(1+LOG(1+2*(#REF!=1)+4*(#REF!=2)+8*(#REF!=3)+16*(#REF!=4)+32*(#REF!="S"),2),"","Meta","Nível 2","Nível 3","Nível 4","Serviço") -> #REF! | D23: =IF(OR($C23=0,$L23=""),"-",CONCATENATE(#REF!&".",IF(AND($A$5>=2,$C23>=2),#REF!&".",""),IF(AND($A$5>=3,$C23>=3),#REF!&".",""),IF(AND($A$5>=4,$C23>=4),#REF!&".",""),IF($C23="S",#REF!&".",""))) -> #REF! | E23: SINAPI | F23: 100952 | G23: TRANSPORTE COM CAMINHÃO CARROCERIA COM GUINDAUTO (MUNCK), MOMENTO MÁXIMO DE CARGA 11,7 TM, EM VIA URBANA PAVIMENTADA, DMT ATÉ 30KM (UNIDADE: TXKM). AF_02/2026 | H23: TXKM | I23: =OFFSET([1]CÁLCULO!#REF!,ROW($T23)-ROW(I$15),0) -> #REF! | J23: =V23 -> 0 | K23: BDI 1 | L23: =IF($C23="S",ROUND(IF(TIPOORCAMENTO="Proposto",ORÇAMENTO.CustoUnitario*(1+$AH23),ORÇAMENTO.PrecoUnitarioLicitado),15-13*$AF$10),0) -> #REF! | M23: {=IF($C23="S",IF(OR(Import.TipoArredondamento<>"TransfereGOV",ACOMPANHAMENTO="BM"),VTOTAL1,SUM(OFFSET([1]CÁLCULO!$AA$15,ROW($X23)-ROW($X$15),1):OFFSET([1]CÁLCULO!$AL$15,ROW($X23)-ROW($X$15),-1))),IF($C23=0,0,ROUND(SomaAgrup,15-13*$AF$11)))} -> #REF!
B24: Serviço | C24: =CHOOSE(1+LOG(1+2*(#REF!=1)+4*(#REF!=2)+8*(#REF!=3)+16*(#REF!=4)+32*(#REF!="S"),2),"","Meta","Nível 2","Nível 3","Nível 4","Serviço") -> #REF! | D24: =IF(OR($C24=0,$L24=""),"-",CONCATENATE(#REF!&".",IF(AND($A$5>=2,$C24>=2),#REF!&".",""),IF(AND($A$5>=3,$C24>=3),#REF!&".",""),IF(AND($A$5>=4,$C24>=4),#REF!&".",""),IF($C24="S",#REF!&".",""))) -> #REF! | E24: SINAPI | F24: 100953 | G24: TRANSPORTE COM CAMINHÃO CARROCERIA COM GUINDAUTO (MUNCK), MOMENTO MÁXIMO DE CARGA 11,7 TM, EM VIA URBANA PAVIMENTADA, ADICIONAL PARA DMT EXCEDENTE A 30 KM (UNIDADE: TXKM). AF_02/2026 | H24: TXKM | I24: =OFFSET([1]CÁLCULO!#REF!,ROW($T24)-ROW(I$15),0) -> #REF! | J24: =V24 -> 0 | K24: BDI 1 | L24: =IF($C24="S",ROUND(IF(TIPOORCAMENTO="Proposto",ORÇAMENTO.CustoUnitario*(1+$AH24),ORÇAMENTO.PrecoUnitarioLicitado),15-13*$AF$10),0) -> #REF! | M24: {=IF($C24="S",IF(OR(Import.TipoArredondamento<>"TransfereGOV",ACOMPANHAMENTO="BM"),VTOTAL1,SUM(OFFSET([1]CÁLCULO!$AA$15,ROW($X24)-ROW($X$15),1):OFFSET([1]CÁLCULO!$AL$15,ROW($X24)-ROW($X$15),-1))),IF($C24=0,0,ROUND(SomaAgrup,15-13*$AF$11)))} -> #REF!
B25: Serviço | C25: =CHOOSE(1+LOG(1+2*(#REF!=1)+4*(#REF!=2)+8*(#REF!=3)+16*(#REF!=4)+32*(#REF!="S"),2),"","Meta","Nível 2","Nível 3","Nível 4","Serviço") -> #REF! | D25: =IF(OR($C25=0,$L25=""),"-",CONCATENATE(#REF!&".",IF(AND($A$5>=2,$C25>=2),#REF!&".",""),IF(AND($A$5>=3,$C25>=3),#REF!&".",""),IF(AND($A$5>=4,$C25>=4),#REF!&".",""),IF($C25="S",#REF!&".",""))) -> #REF! | E25: SINAPI | F25: 105114 | G25: EXECUÇÃO DOS APOIOS PARA CONTÊINER OU MÓDULO HABITÁVEL. AF_03/2024 | H25: M3 | I25: =OFFSET([1]CÁLCULO!#REF!,ROW($T25)-ROW(I$15),0) -> #REF! | J25: =V25 -> 0 | K25: BDI 1 | L25: =IF($C25="S",ROUND(IF(TIPOORCAMENTO="Proposto",ORÇAMENTO.CustoUnitario*(1+$AH25),ORÇAMENTO.PrecoUnitarioLicitado),15-13*$AF$10),0) -> #REF! | M25: {=IF($C25="S",IF(OR(Import.TipoArredondamento<>"TransfereGOV",ACOMPANHAMENTO="BM"),VTOTAL1,SUM(OFFSET([1]CÁLCULO!$AA$15,ROW($X25)-ROW($X$15),1):OFFSET([1]CÁLCULO!$AL$15,ROW($X25)-ROW($X$15),-1))),IF($C25=0,0,ROUND(SomaAgrup,15-13*$AF$11)))} -> #REF!
B26: Serviço | C26: =CHOOSE(1+LOG(1+2*(#REF!=1)+4*(#REF!=2)+8*(#REF!=3)+16*(#REF!=4)+32*(#REF!="S"),2),"","Meta","Nível 2","Nível 3","Nível 4","Serviço") -> #REF! | D26: =IF(OR($C26=0,$L26=""),"-",CONCATENATE(#REF!&".",IF(AND($A$5>=2,$C26>=2),#REF!&".",""),IF(AND($A$5>=3,$C26>=3),#REF!&".",""),IF(AND($A$5>=4,$C26>=4),#REF!&".",""),IF($C26="S",#REF!&".",""))) -> #REF! | E26: SINAPI | F26: 105115 | G26: INSTALAÇÃO E DESINSTALAÇÃO MECANIZADA DE CONTÊINER OU MÓDULO HABITÁVEL DE USOS DIVERSOS. AF_03/2024 | H26: UN | I26: =OFFSET([1]CÁLCULO!#REF!,ROW($T26)-ROW(I$15),0) -> #REF! | J26: =V26 -> 0 | K26: BDI 1 | L26: =IF($C26="S",ROUND(IF(TIPOORCAMENTO="Proposto",ORÇAMENTO.CustoUnitario*(1+$AH26),ORÇAMENTO.PrecoUnitarioLicitado),15-13*$AF$10),0) -> #REF! | M26: {=IF($C26="S",IF(OR(Import.TipoArredondamento<>"TransfereGOV",ACOMPANHAMENTO="BM"),VTOTAL1,SUM(OFFSET([1]CÁLCULO!$AA$15,ROW($X26)-ROW($X$15),1):OFFSET([1]CÁLCULO!$AL$15,ROW($X26)-ROW($X$15),-1))),IF($C26=0,0,ROUND(SomaAgrup,15-13*$AF$11)))} -> #REF!
B27: Serviço | C27: =CHOOSE(1+LOG(1+2*(#REF!=1)+4*(#REF!=2)+8*(#REF!=3)+16*(#REF!=4)+32*(#REF!="S"),2),"","Meta","Nível 2","Nível 3","Nível 4","Serviço") -> #REF! | D27: =IF(OR($C27=0,$L27=""),"-",CONCATENATE(#REF!&".",IF(AND($A$5>=2,$C27>=2),#REF!&".",""),IF(AND($A$5>=3,$C27>=3),#REF!&".",""),IF(AND($A$5>=4,$C27>=4),#REF!&".",""),IF($C27="S",#REF!&".",""))) -> #REF! | E27: Cotação | F27: 4175 ORSE | G27: Locação de loteamento com piquetes de madeira | H27: m2 | I27: =OFFSET([1]CÁLCULO!#REF!,ROW($T27)-ROW(I$15),0) -> #REF! | J27: =V27 -> 0 | K27: BDI 1 | L27: =IF($C27="S",ROUND(IF(TIPOORCAMENTO="Proposto",ORÇAMENTO.CustoUnitario*(1+$AH27),ORÇAMENTO.PrecoUnitarioLicitado),15-13*$AF$10),0) -> #REF! | M27: {=IF($C27="S",IF(OR(Import.TipoArredondamento<>"TransfereGOV",ACOMPANHAMENTO="BM"),VTOTAL1,SUM(OFFSET([1]CÁLCULO!$AA$15,ROW($X27)-ROW($X$15),1):OFFSET([1]CÁLCULO!$AL$15,ROW($X27)-ROW($X$15),-1))),IF($C27=0,0,ROUND(SomaAgrup,15-13*$AF$11)))} -> #REF!
B28: Nível 2 | C28: =CHOOSE(1+LOG(1+2*(#REF!=1)+4*(#REF!=2)+8*(#REF!=3)+16*(#REF!=4)+32*(#REF!="S"),2),"","Meta","Nível 2","Nível 3","Nível 4","Serviço") -> #REF! | D28: =IF(OR($C28=0,$L28=""),"-",CONCATENATE(#REF!&".",IF(AND($A$5>=2,$C28>=2),#REF!&".",""),IF(AND($A$5>=3,$C28>=3),#REF!&".",""),IF(AND($A$5>=4,$C28>=4),#REF!&".",""),IF($C28="S",#REF!&".",""))) -> #REF! | E28: SINAPI | G28: Cercamento | H28: - | I28: =OFFSET([1]CÁLCULO!#REF!,ROW($T28)-ROW(I$15),0) -> #REF! | K28: BDI 1 | L28: =IF($C28="S",ROUND(IF(TIPOORCAMENTO="Proposto",ORÇAMENTO.CustoUnitario*(1+$AH28),ORÇAMENTO.PrecoUnitarioLicitado),15-13*$AF$10),0) -> #REF! | M28: {=IF($C28="S",IF(OR(Import.TipoArredondamento<>"TransfereGOV",ACOMPANHAMENTO="BM"),VTOTAL1,SUM(OFFSET([1]CÁLCULO!$AA$15,ROW($X28)-ROW($X$15),1):OFFSET([1]CÁLCULO!$AL$15,ROW($X28)-ROW($X$15),-1))),IF($C28=0,0,ROUND(SomaAgrup,15-13*$AF$11)))} -> #REF!
B29: Serviço | C29: =CHOOSE(1+LOG(1+2*(#REF!=1)+4*(#REF!=2)+8*(#REF!=3)+16*(#REF!=4)+32*(#REF!="S"),2),"","Meta","Nível 2","Nível 3","Nível 4","Serviço") -> #REF! | D29: =IF(OR($C29=0,$L29=""),"-",CONCATENATE(#REF!&".",IF(AND($A$5>=2,$C29>=2),#REF!&".",""),IF(AND($A$5>=3,$C29>=3),#REF!&".",""),IF(AND($A$5>=4,$C29>=4),#REF!&".",""),IF($C29="S",#REF!&".",""))) -> #REF! | E29: SINAPI | F29: 102363 | G29: ALAMBRADO PARA QUADRA POLIESPORTIVA, ESTRUTURADO POR TUBOS DE AÇO GALVANIZADO, (MONTANTES COM DIÂMETRO 2", TRAVESSAS E ESCORAS COM DIÂMETRO 1 ¼"), COM TELA DE ARAME GALVANIZADO, FIO 12 BWG E MALHA QUADRADA 5X5CM (EXCETO MURETA). AF_12/2025 | H29: M2 | I29: =OFFSET([1]CÁLCULO!#REF!,ROW($T29)-ROW(I$15),0) -> #REF! | J29: =V29 -> 0 | K29: BDI 1 | L29: =IF($C29="S",ROUND(IF(TIPOORCAMENTO="Proposto",ORÇAMENTO.CustoUnitario*(1+$AH29),ORÇAMENTO.PrecoUnitarioLicitado),15-13*$AF$10),0) -> #REF! | M29: {=IF($C29="S",IF(OR(Import.TipoArredondamento<>"TransfereGOV",ACOMPANHAMENTO="BM"),VTOTAL1,SUM(OFFSET([1]CÁLCULO!$AA$15,ROW($X29)-ROW($X$15),1):OFFSET([1]CÁLCULO!$AL$15,ROW($X29)-ROW($X$15),-1))),IF($C29=0,0,ROUND(SomaAgrup,15-13*$AF$11)))} -> #REF!
B30: Nível 2 | C30: =CHOOSE(1+LOG(1+2*(#REF!=1)+4*(#REF!=2)+8*(#REF!=3)+16*(#REF!=4)+32*(#REF!="S"),2),"","Meta","Nível 2","Nível 3","Nível 4","Serviço") -> #REF! | D30: =IF(OR($C30=0,$L30=""),"-",CONCATENATE(#REF!&".",IF(AND($A$5>=2,$C30>=2),#REF!&".",""),IF(AND($A$5>=3,$C30>=3),#REF!&".",""),IF(AND($A$5>=4,$C30>=4),#REF!&".",""),IF($C30="S",#REF!&".",""))) -> #REF! | E30: SINAPI | G30: Esgoto cloacal e pluvial | H30: - | I30: =OFFSET([1]CÁLCULO!#REF!,ROW($T30)-ROW(I$15),0) -> #REF! | K30: BDI 1 | L30: =IF($C30="S",ROUND(IF(TIPOORCAMENTO="Proposto",ORÇAMENTO.CustoUnitario*(1+$AH30),ORÇAMENTO.PrecoUnitarioLicitado),15-13*$AF$10),0) -> #REF! | M30: {=IF($C30="S",IF(OR(Import.TipoArredondamento<>"TransfereGOV",ACOMPANHAMENTO="BM"),VTOTAL1,SUM(OFFSET([1]CÁLCULO!$AA$15,ROW($X30)-ROW($X$15),1):OFFSET([1]CÁLCULO!$AL$15,ROW($X30)-ROW($X$15),-1))),IF($C30=0,0,ROUND(SomaAgrup,15-13*$AF$11)))} -> #REF!
B31: Serviço | C31: =CHOOSE(1+LOG(1+2*(#REF!=1)+4*(#REF!=2)+8*(#REF!=3)+16*(#REF!=4)+32*(#REF!="S"),2),"","Meta","Nível 2","Nível 3","Nível 4","Serviço") -> #REF! | D31: =IF(OR($C31=0,$L31=""),"-",CONCATENATE(#REF!&".",IF(AND($A$5>=2,$C31>=2),#REF!&".",""),IF(AND($A$5>=3,$C31>=3),#REF!&".",""),IF(AND($A$5>=4,$C31>=4),#REF!&".",""),IF($C31="S",#REF!&".",""))) -> #REF! | E31: SINAPI | F31: 89714 | G31: TUBO PVC, SERIE NORMAL, ESGOTO PREDIAL, DN 100 MM, FORNECIDO E INSTALADO EM RAMAL DE DESCARGA OU RAMAL DE ESGOTO SANITÁRIO. AF_08/2022 | H31: M | I31: =OFFSET([1]CÁLCULO!#REF!,ROW($T31)-ROW(I$15),0) -> #REF! | J31: =V31 -> 0 | K31: BDI 1 | L31: =IF($C31="S",ROUND(IF(TIPOORCAMENTO="Proposto",ORÇAMENTO.CustoUnitario*(1+$AH31),ORÇAMENTO.PrecoUnitarioLicitado),15-13*$AF$10),0) -> #REF! | M31: {=IF($C31="S",IF(OR(Import.TipoArredondamento<>"TransfereGOV",ACOMPANHAMENTO="BM"),VTOTAL1,SUM(OFFSET([1]CÁLCULO!$AA$15,ROW($X31)-ROW($X$15),1):OFFSET([1]CÁLCULO!$AL$15,ROW($X31)-ROW($X$15),-1))),IF($C31=0,0,ROUND(SomaAgrup,15-13*$AF$11)))} -> #REF!
B32: Serviço | C32: =CHOOSE(1+LOG(1+2*(#REF!=1)+4*(#REF!=2)+8*(#REF!=3)+16*(#REF!=4)+32*(#REF!="S"),2),"","Meta","Nível 2","Nível 3","Nível 4","Serviço") -> #REF! | D32: =IF(OR($C32=0,$L32=""),"-",CONCATENATE(#REF!&".",IF(AND($A$5>=2,$C32>=2),#REF!&".",""),IF(AND($A$5>=3,$C32>=3),#REF!&".",""),IF(AND($A$5>=4,$C32>=4),#REF!&".",""),IF($C32="S",#REF!&".",""))) -> #REF! | E32: SINAPI | F32: 97897 | G32: CAIXA ENTERRADA HIDRÁULICA RETANGULAR, EM CONCRETO PRÉ-MOLDADO, DIMENSÕES INTERNAS: 0,6X0,6X0,5 M. AF_12/2020 | H32: UN | I32: =OFFSET([1]CÁLCULO!#REF!,ROW($T32)-ROW(I$15),0) -> #REF! | J32: =V32 -> 0 | K32: BDI 1 | L32: =IF($C32="S",ROUND(IF(TIPOORCAMENTO="Proposto",ORÇAMENTO.CustoUnitario*(1+$AH32),ORÇAMENTO.PrecoUnitarioLicitado),15-13*$AF$10),0) -> #REF! | M32: {=IF($C32="S",IF(OR(Import.TipoArredondamento<>"TransfereGOV",ACOMPANHAMENTO="BM"),VTOTAL1,SUM(OFFSET([1]CÁLCULO!$AA$15,ROW($X32)-ROW($X$15),1):OFFSET([1]CÁLCULO!$AL$15,ROW($X32)-ROW($X$15),-1))),IF($C32=0,0,ROUND(SomaAgrup,15-13*$AF$11)))} -> #REF!
B33: Serviço | C33: =CHOOSE(1+LOG(1+2*(#REF!=1)+4*(#REF!=2)+8*(#REF!=3)+16*(#REF!=4)+32*(#REF!="S"),2),"","Meta","Nível 2","Nível 3","Nível 4","Serviço") -> #REF! | D33: =IF(OR($C33=0,$L33=""),"-",CONCATENATE(#REF!&".",IF(AND($A$5>=2,$C33>=2),#REF!&".",""),IF(AND($A$5>=3,$C33>=3),#REF!&".",""),IF(AND($A$5>=4,$C33>=4),#REF!&".",""),IF($C33="S",#REF!&".",""))) -> #REF! | E33: SINAPI | F33: 102279 | G33: ESCAVAÇÃO MECANIZADA DE VALA COM PROF. ATÉ 1,5 M (MÉDIA MONTANTE E JUSANTE/UMA COMPOSIÇÃO POR TRECHO), ESCAVADEIRA (0,8 M3),LARG. MENOR QUE 1,5 M, EM SOLO DE 1A CATEGORIA, LOCAIS COM BAIXO NÍVEL DE INTERFERÊNCIA. AF_09/2024 | H33: M3 | I33: =OFFSET([1]CÁLCULO!#REF!,ROW($T33)-ROW(I$15),0) -> #REF! | J33: =V33 -> 0 | K33: BDI 1 | L33: =IF($C33="S",ROUND(IF(TIPOORCAMENTO="Proposto",ORÇAMENTO.CustoUnitario*(1+$AH33),ORÇAMENTO.PrecoUnitarioLicitado),15-13*$AF$10),0) -> #REF! | M33: {=IF($C33="S",IF(OR(Import.TipoArredondamento<>"TransfereGOV",ACOMPANHAMENTO="BM"),VTOTAL1,SUM(OFFSET([1]CÁLCULO!$AA$15,ROW($X33)-ROW($X$15),1):OFFSET([1]CÁLCULO!$AL$15,ROW($X33)-ROW($X$15),-1))),IF($C33=0,0,ROUND(SomaAgrup,15-13*$AF$11)))} -> #REF!
B34: Serviço | C34: =CHOOSE(1+LOG(1+2*(#REF!=1)+4*(#REF!=2)+8*(#REF!=3)+16*(#REF!=4)+32*(#REF!="S"),2),"","Meta","Nível 2","Nível 3","Nível 4","Serviço") -> #REF! | D34: =IF(OR($C34=0,$L34=""),"-",CONCATENATE(#REF!&".",IF(AND($A$5>=2,$C34>=2),#REF!&".",""),IF(AND($A$5>=3,$C34>=3),#REF!&".",""),IF(AND($A$5>=4,$C34>=4),#REF!&".",""),IF($C34="S",#REF!&".",""))) -> #REF! | E34: SINAPI | F34: 101618 | G34: PREPARO DE FUNDO DE VALA COM LARGURA MENOR QUE 1,5 M, COM CAMADA DE AREIA, LANÇAMENTO MANUAL. AF_01/2026 | H34: M3 | I34: =OFFSET([1]CÁLCULO!#REF!,ROW($T34)-ROW(I$15),0) -> #REF! | J34: =V34 -> 0 | K34: BDI 1 | L34: =IF($C34="S",ROUND(IF(TIPOORCAMENTO="Proposto",ORÇAMENTO.CustoUnitario*(1+$AH34),ORÇAMENTO.PrecoUnitarioLicitado),15-13*$AF$10),0) -> #REF! | M34: {=IF($C34="S",IF(OR(Import.TipoArredondamento<>"TransfereGOV",ACOMPANHAMENTO="BM"),VTOTAL1,SUM(OFFSET([1]CÁLCULO!$AA$15,ROW($X34)-ROW($X$15),1):OFFSET([1]CÁLCULO!$AL$15,ROW($X34)-ROW($X$15),-1))),IF($C34=0,0,ROUND(SomaAgrup,15-13*$AF$11)))} -> #REF!
B35: Serviço | C35: =CHOOSE(1+LOG(1+2*(#REF!=1)+4*(#REF!=2)+8*(#REF!=3)+16*(#REF!=4)+32*(#REF!="S"),2),"","Meta","Nível 2","Nível 3","Nível 4","Serviço") -> #REF! | D35: =IF(OR($C35=0,$L35=""),"-",CONCATENATE(#REF!&".",IF(AND($A$5>=2,$C35>=2),#REF!&".",""),IF(AND($A$5>=3,$C35>=3),#REF!&".",""),IF(AND($A$5>=4,$C35>=4),#REF!&".",""),IF($C35="S",#REF!&".",""))) -> #REF! | E35: SINAPI | F35: 104737 | G35: REATERRO MANUAL DE VALAS, COM PLACA VIBRATÓRIA. AF_08/2023 | H35: M3 | I35: =OFFSET([1]CÁLCULO!#REF!,ROW($T35)-ROW(I$15),0) -> #REF! | J35: =V35 -> 0 | K35: BDI 1 | L35: =IF($C35="S",ROUND(IF(TIPOORCAMENTO="Proposto",ORÇAMENTO.CustoUnitario*(1+$AH35),ORÇAMENTO.PrecoUnitarioLicitado),15-13*$AF$10),0) -> #REF! | M35: {=IF($C35="S",IF(OR(Import.TipoArredondamento<>"TransfereGOV",ACOMPANHAMENTO="BM"),VTOTAL1,SUM(OFFSET([1]CÁLCULO!$AA$15,ROW($X35)-ROW($X$15),1):OFFSET([1]CÁLCULO!$AL$15,ROW($X35)-ROW($X$15),-1))),IF($C35=0,0,ROUND(SomaAgrup,15-13*$AF$11)))} -> #REF!
B36: Nível 2 | C36: =CHOOSE(1+LOG(1+2*(#REF!=1)+4*(#REF!=2)+8*(#REF!=3)+16*(#REF!=4)+32*(#REF!="S"),2),"","Meta","Nível 2","Nível 3","Nível 4","Serviço") -> #REF! | D36: =IF(OR($C36=0,$L36=""),"-",CONCATENATE(#REF!&".",IF(AND($A$5>=2,$C36>=2),#REF!&".",""),IF(AND($A$5>=3,$C36>=3),#REF!&".",""),IF(AND($A$5>=4,$C36>=4),#REF!&".",""),IF($C36="S",#REF!&".",""))) -> #REF! | E36: SINAPI | G36: Pavimentação externa (passeio público) | H36: - | I36: =OFFSET([1]CÁLCULO!#REF!,ROW($T36)-ROW(I$15),0) -> #REF! | K36: BDI 1 | L36: =IF($C36="S",ROUND(IF(TIPOORCAMENTO="Proposto",ORÇAMENTO.CustoUnitario*(1+$AH36),ORÇAMENTO.PrecoUnitarioLicitado),15-13*$AF$10),0) -> #REF! | M36: {=IF($C36="S",IF(OR(Import.TipoArredondamento<>"TransfereGOV",ACOMPANHAMENTO="BM"),VTOTAL1,SUM(OFFSET([1]CÁLCULO!$AA$15,ROW($X36)-ROW($X$15),1):OFFSET([1]CÁLCULO!$AL$15,ROW($X36)-ROW($X$15),-1))),IF($C36=0,0,ROUND(SomaAgrup,15-13*$AF$11)))} -> #REF!
B37: Serviço | C37: =CHOOSE(1+LOG(1+2*(#REF!=1)+4*(#REF!=2)+8*(#REF!=3)+16*(#REF!=4)+32*(#REF!="S"),2),"","Meta","Nível 2","Nível 3","Nível 4","Serviço") -> #REF! | D37: =IF(OR($C37=0,$L37=""),"-",CONCATENATE(#REF!&".",IF(AND($A$5>=2,$C37>=2),#REF!&".",""),IF(AND($A$5>=3,$C37>=3),#REF!&".",""),IF(AND($A$5>=4,$C37>=4),#REF!&".",""),IF($C37="S",#REF!&".",""))) -> #REF! | E37: SINAPI | F37: 96622 | G37: LASTRO COM MATERIAL GRANULAR, APLICADO EM PISOS OU LAJES SOBRE SOLO, ESPESSURA DE *5 CM*. AF_01/2024 | H37: M3 | I37: =OFFSET([1]CÁLCULO!#REF!,ROW($T37)-ROW(I$15),0) -> #REF! | J37: =V37 -> 0 | K37: BDI 1 | L37: =IF($C37="S",ROUND(IF(TIPOORCAMENTO="Proposto",ORÇAMENTO.CustoUnitario*(1+$AH37),ORÇAMENTO.PrecoUnitarioLicitado),15-13*$AF$10),0) -> #REF! | M37: {=IF($C37="S",IF(OR(Import.TipoArredondamento<>"TransfereGOV",ACOMPANHAMENTO="BM"),VTOTAL1,SUM(OFFSET([1]CÁLCULO!$AA$15,ROW($X37)-ROW($X$15),1):OFFSET([1]CÁLCULO!$AL$15,ROW($X37)-ROW($X$15),-1))),IF($C37=0,0,ROUND(SomaAgrup,15-13*$AF$11)))} -> #REF!
B38: Serviço | C38: =CHOOSE(1+LOG(1+2*(#REF!=1)+4*(#REF!=2)+8*(#REF!=3)+16*(#REF!=4)+32*(#REF!="S"),2),"","Meta","Nível 2","Nível 3","Nível 4","Serviço") -> #REF! | D38: =IF(OR($C38=0,$L38=""),"-",CONCATENATE(#REF!&".",IF(AND($A$5>=2,$C38>=2),#REF!&".",""),IF(AND($A$5>=3,$C38>=3),#REF!&".",""),IF(AND($A$5>=4,$C38>=4),#REF!&".",""),IF($C38="S",#REF!&".",""))) -> #REF! | E38: SINAPI | F38: 97113 | G38: APLICAÇÃO DE LONA PLÁSTICA PARA EXECUÇÃO DE PAVIMENTOS DE CONCRETO. AF_04/2022 | H38: M2 | I38: =OFFSET([1]CÁLCULO!#REF!,ROW($T38)-ROW(I$15),0) -> #REF! | J38: =V38 -> 0 | K38: BDI 1 | L38: =IF($C38="S",ROUND(IF(TIPOORCAMENTO="Proposto",ORÇAMENTO.CustoUnitario*(1+$AH38),ORÇAMENTO.PrecoUnitarioLicitado),15-13*$AF$10),0) -> #REF! | M38: {=IF($C38="S",IF(OR(Import.TipoArredondamento<>"TransfereGOV",ACOMPANHAMENTO="BM"),VTOTAL1,SUM(OFFSET([1]CÁLCULO!$AA$15,ROW($X38)-ROW($X$15),1):OFFSET([1]CÁLCULO!$AL$15,ROW($X38)-ROW($X$15),-1))),IF($C38=0,0,ROUND(SomaAgrup,15-13*$AF$11)))} -> #REF!
B39: Serviço | C39: =CHOOSE(1+LOG(1+2*(#REF!=1)+4*(#REF!=2)+8*(#REF!=3)+16*(#REF!=4)+32*(#REF!="S"),2),"","Meta","Nível 2","Nível 3","Nível 4","Serviço") -> #REF! | D39: =IF(OR($C39=0,$L39=""),"-",CONCATENATE(#REF!&".",IF(AND($A$5>=2,$C39>=2),#REF!&".",""),IF(AND($A$5>=3,$C39>=3),#REF!&".",""),IF(AND($A$5>=4,$C39>=4),#REF!&".",""),IF($C39="S",#REF!&".",""))) -> #REF! | E39: SINAPI | F39: 94991 | G39: EXECUÇÃO DE PASSEIO (CALÇADA) OU PISO DE CONCRETO COM CONCRETO MOLDADO IN LOCO, USINADO C20, ACABAMENTO CONVENCIONAL, NÃO ARMADO. AF_08/2022 | H39: M3 | I39: =OFFSET([1]CÁLCULO!#REF!,ROW($T39)-ROW(I$15),0) -> #REF! | J39: =V39 -> 0 | K39: BDI 1 | L39: =IF($C39="S",ROUND(IF(TIPOORCAMENTO="Proposto",ORÇAMENTO.CustoUnitario*(1+$AH39),ORÇAMENTO.PrecoUnitarioLicitado),15-13*$AF$10),0) -> #REF! | M39: {=IF($C39="S",IF(OR(Import.TipoArredondamento<>"TransfereGOV",ACOMPANHAMENTO="BM"),VTOTAL1,SUM(OFFSET([1]CÁLCULO!$AA$15,ROW($X39)-ROW($X$15),1):OFFSET([1]CÁLCULO!$AL$15,ROW($X39)-ROW($X$15),-1))),IF($C39=0,0,ROUND(SomaAgrup,15-13*$AF$11)))} -> #REF!
B40: Serviço | C40: =CHOOSE(1+LOG(1+2*(#REF!=1)+4*(#REF!=2)+8*(#REF!=3)+16*(#REF!=4)+32*(#REF!="S"),2),"","Meta","Nível 2","Nível 3","Nível 4","Serviço") -> #REF! | D40: =IF(OR($C40=0,$L40=""),"-",CONCATENATE(#REF!&".",IF(AND($A$5>=2,$C40>=2),#REF!&".",""),IF(AND($A$5>=3,$C40>=3),#REF!&".",""),IF(AND($A$5>=4,$C40>=4),#REF!&".",""),IF($C40="S",#REF!&".",""))) -> #REF! | E40: SINAPI | F40: 94994 | G40: EXECUÇÃO DE PASSEIO (CALÇADA) OU PISO DE CONCRETO COM CONCRETO MOLDADO IN LOCO, FEITO EM OBRA, ACABAMENTO CONVENCIONAL, ESPESSURA 8 CM, ARMADO. AF_08/2022 | H40: M2 | I40: =OFFSET([1]CÁLCULO!#REF!,ROW($T40)-ROW(I$15),0) -> #REF! | J40: =V40 -> 0 | K40: BDI 1 | L40: =IF($C40="S",ROUND(IF(TIPOORCAMENTO="Proposto",ORÇAMENTO.CustoUnitario*(1+$AH40),ORÇAMENTO.PrecoUnitarioLicitado),15-13*$AF$10),0) -> #REF! | M40: {=IF($C40="S",IF(OR(Import.TipoArredondamento<>"TransfereGOV",ACOMPANHAMENTO="BM"),VTOTAL1,SUM(OFFSET([1]CÁLCULO!$AA$15,ROW($X40)-ROW($X$15),1):OFFSET([1]CÁLCULO!$AL$15,ROW($X40)-ROW($X$15),-1))),IF($C40=0,0,ROUND(SomaAgrup,15-13*$AF$11)))} -> #REF!
B41: Serviço | C41: =CHOOSE(1+LOG(1+2*(#REF!=1)+4*(#REF!=2)+8*(#REF!=3)+16*(#REF!=4)+32*(#REF!="S"),2),"","Meta","Nível 2","Nível 3","Nível 4","Serviço") -> #REF! | D41: =IF(OR($C41=0,$L41=""),"-",CONCATENATE(#REF!&".",IF(AND($A$5>=2,$C41>=2),#REF!&".",""),IF(AND($A$5>=3,$C41>=3),#REF!&".",""),IF(AND($A$5>=4,$C41>=4),#REF!&".",""),IF($C41="S",#REF!&".",""))) -> #REF! | E41: SINAPI | F41: 104658 | G41: PISO PODOTÁTIL DE ALERTA OU DIRECIONAL, DE CONCRETO, ASSENTADO SOBRE ARGAMASSA. AF_03/2024 | H41: M2 | I41: =OFFSET([1]CÁLCULO!#REF!,ROW($T41)-ROW(I$15),0) -> #REF! | J41: =V41 -> 0 | K41: BDI 1 | L41: =IF($C41="S",ROUND(IF(TIPOORCAMENTO="Proposto",ORÇAMENTO.CustoUnitario*(1+$AH41),ORÇAMENTO.PrecoUnitarioLicitado),15-13*$AF$10),0) -> #REF! | M41: {=IF($C41="S",IF(OR(Import.TipoArredondamento<>"TransfereGOV",ACOMPANHAMENTO="BM"),VTOTAL1,SUM(OFFSET([1]CÁLCULO!$AA$15,ROW($X41)-ROW($X$15),1):OFFSET([1]CÁLCULO!$AL$15,ROW($X41)-ROW($X$15),-1))),IF($C41=0,0,ROUND(SomaAgrup,15-13*$AF$11)))} -> #REF!
B42: Serviço | C42: =CHOOSE(1+LOG(1+2*(#REF!=1)+4*(#REF!=2)+8*(#REF!=3)+16*(#REF!=4)+32*(#REF!="S"),2),"","Meta","Nível 2","Nível 3","Nível 4","Serviço") -> #REF! | D42: =IF(OR($C42=0,$L42=""),"-",CONCATENATE(#REF!&".",IF(AND($A$5>=2,$C42>=2),#REF!&".",""),IF(AND($A$5>=3,$C42>=3),#REF!&".",""),IF(AND($A$5>=4,$C42>=4),#REF!&".",""),IF($C42="S",#REF!&".",""))) -> #REF! | E42: SINAPI | F42: 105002 | G42: RAMPA DE ACESSIBILIDADE EM CONCRETO MOLDADO IN LOCO, EM CALÇADA NOVA COM LARGURA MAIOR OU IGUAL À 3,00 M, FCK 25MPA, COM PISO PODOTÁTIL. AF_03/2024 | H42: UN | I42: =OFFSET([1]CÁLCULO!#REF!,ROW($T42)-ROW(I$15),0) -> #REF! | J42: =V42 -> 0 | K42: BDI 1 | L42: =IF($C42="S",ROUND(IF(TIPOORCAMENTO="Proposto",ORÇAMENTO.CustoUnitario*(1+$AH42),ORÇAMENTO.PrecoUnitarioLicitado),15-13*$AF$10),0) -> #REF! | M42: {=IF($C42="S",IF(OR(Import.TipoArredondamento<>"TransfereGOV",ACOMPANHAMENTO="BM"),VTOTAL1,SUM(OFFSET([1]CÁLCULO!$AA$15,ROW($X42)-ROW($X$15),1):OFFSET([1]CÁLCULO!$AL$15,ROW($X42)-ROW($X$15),-1))),IF($C42=0,0,ROUND(SomaAgrup,15-13*$AF$11)))} -> #REF!
B43: Serviço | C43: =CHOOSE(1+LOG(1+2*(#REF!=1)+4*(#REF!=2)+8*(#REF!=3)+16*(#REF!=4)+32*(#REF!="S"),2),"","Meta","Nível 2","Nível 3","Nível 4","Serviço") -> #REF! | D43: =IF(OR($C43=0,$L43=""),"-",CONCATENATE(#REF!&".",IF(AND($A$5>=2,$C43>=2),#REF!&".",""),IF(AND($A$5>=3,$C43>=3),#REF!&".",""),IF(AND($A$5>=4,$C43>=4),#REF!&".",""),IF($C43="S",#REF!&".",""))) -> #REF! | E43: SINAPI | F43: 97935 | G43: CAIXA PARA BOCA DE LOBO SIMPLES RETANGULAR, EM CONCRETO PRÉ-MOLDADO, DIMENSÕES INTERNAS: 0,6X1,0X1,2 M. AF_12/2020 | H43: UN | I43: =OFFSET([1]CÁLCULO!#REF!,ROW($T43)-ROW(I$15),0) -> #REF! | J43: =V43 -> 0 | K43: BDI 1 | L43: =IF($C43="S",ROUND(IF(TIPOORCAMENTO="Proposto",ORÇAMENTO.CustoUnitario*(1+$AH43),ORÇAMENTO.PrecoUnitarioLicitado),15-13*$AF$10),0) -> #REF! | M43: {=IF($C43="S",IF(OR(Import.TipoArredondamento<>"TransfereGOV",ACOMPANHAMENTO="BM"),VTOTAL1,SUM(OFFSET([1]CÁLCULO!$AA$15,ROW($X43)-ROW($X$15),1):OFFSET([1]CÁLCULO!$AL$15,ROW($X43)-ROW($X$15),-1))),IF($C43=0,0,ROUND(SomaAgrup,15-13*$AF$11)))} -> #REF!
B44: Serviço | C44: =CHOOSE(1+LOG(1+2*(#REF!=1)+4*(#REF!=2)+8*(#REF!=3)+16*(#REF!=4)+32*(#REF!="S"),2),"","Meta","Nível 2","Nível 3","Nível 4","Serviço") -> #REF! | D44: =IF(OR($C44=0,$L44=""),"-",CONCATENATE(#REF!&".",IF(AND($A$5>=2,$C44>=2),#REF!&".",""),IF(AND($A$5>=3,$C44>=3),#REF!&".",""),IF(AND($A$5>=4,$C44>=4),#REF!&".",""),IF($C44="S",#REF!&".",""))) -> #REF! | E44: SINAPI | F44: 97735 | G44: PEÇA RETANGULAR PRÉ-MOLDADA, VOLUME DE CONCRETO DE 30 A 100 LITROS, TAXA DE AÇO APROXIMADA DE 30KG/M³. AF_03/2024 | H44: M3 | I44: =OFFSET([1]CÁLCULO!#REF!,ROW($T44)-ROW(I$15),0) -> #REF! | J44: =V44 -> 0 | K44: BDI 1 | L44: =IF($C44="S",ROUND(IF(TIPOORCAMENTO="Proposto",ORÇAMENTO.CustoUnitario*(1+$AH44),ORÇAMENTO.PrecoUnitarioLicitado),15-13*$AF$10),0) -> #REF! | M44: {=IF($C44="S",IF(OR(Import.TipoArredondamento<>"TransfereGOV",ACOMPANHAMENTO="BM"),VTOTAL1,SUM(OFFSET([1]CÁLCULO!$AA$15,ROW($X44)-ROW($X$15),1):OFFSET([1]CÁLCULO!$AL$15,ROW($X44)-ROW($X$15),-1))),IF($C44=0,0,ROUND(SomaAgrup,15-13*$AF$11)))} -> #REF!
B45: Nível 2 | C45: =CHOOSE(1+LOG(1+2*(#REF!=1)+4*(#REF!=2)+8*(#REF!=3)+16*(#REF!=4)+32*(#REF!="S"),2),"","Meta","Nível 2","Nível 3","Nível 4","Serviço") -> #REF! | D45: =IF(OR($C45=0,$L45=""),"-",CONCATENATE(#REF!&".",IF(AND($A$5>=2,$C45>=2),#REF!&".",""),IF(AND($A$5>=3,$C45>=3),#REF!&".",""),IF(AND($A$5>=4,$C45>=4),#REF!&".",""),IF($C45="S",#REF!&".",""))) -> #REF! | E45: SINAPI | G45: Limpeza e arremates finais | H45: - | I45: =OFFSET([1]CÁLCULO!#REF!,ROW($T45)-ROW(I$15),0) -> #REF! | K45: BDI 1 | L45: =IF($C45="S",ROUND(IF(TIPOORCAMENTO="Proposto",ORÇAMENTO.CustoUnitario*(1+$AH45),ORÇAMENTO.PrecoUnitarioLicitado),15-13*$AF$10),0) -> #REF! | M45: {=IF($C45="S",IF(OR(Import.TipoArredondamento<>"TransfereGOV",ACOMPANHAMENTO="BM"),VTOTAL1,SUM(OFFSET([1]CÁLCULO!$AA$15,ROW($X45)-ROW($X$15),1):OFFSET([1]CÁLCULO!$AL$15,ROW($X45)-ROW($X$15),-1))),IF($C45=0,0,ROUND(SomaAgrup,15-13*$AF$11)))} -> #REF!
...

Sheet Planilha3
E2: PO - PLANILHA ORÇAMENTÁRIA | K2: Grau de Sigilo
E3: {=IF(TIPOORCAMENTO="licitado","Orçamento Licitado","Orçamento Base para Licitação")&" - "&import.recurso} -> Orçamento Base para Licitação - OGU | K3: #PUBLICO
B5: Nº OPERAÇÃO | D5: Nº TransfereGOV | E5: PROPONENTE / TOMADOR | F5: APELIDO DO EMPREENDIMENTO
B6: =Import.CR -> - | D6: {=Import.TransfereGOV} -> - | E6: =Import.Proponente -> Prefeitura Municipal de Canoas | F6: =Import.Apelido -> CJ. HAB. ACADEPOL
B8: LOCALIDADE SINAPI | D8: DATA BASE | E8: {=IF(TIPOORCAMENTO="Licitado","NOME DA EMPRESA","DESCRIÇÃO DO LOTE")} -> DESCRIÇÃO DO LOTE | F8: {=IF(TIPOORCAMENTO="Licitado","REGIME DE EXECUÇÃO","MUNICÍPIO / UF")} -> MUNICÍPIO / UF | I8: {=IF(TIPOORCAMENTO="Licitado","","BDI 1")} -> BDI 1 | J8: {=IF(TIPOORCAMENTO="Licitado","","BDI 2")} -> BDI 2 | K8: {=IF(TIPOORCAMENTO="Licitado","Nº CTEF","BDI 3")} -> BDI 3
B9: Porto Alegre | D9: 07-26 (N. DES) | E9: {=IF(TIPOORCAMENTO="Licitado",Import.empresa,Import.DescLote)} -> Infraestrutura para moradias de Interesse Social | F9: {=IF(TIPOORCAMENTO="Licitado",Import.RegimeExecução,Import.Município)} -> Canoas/RS | I9: 0.196 | J9: 0 | K9: 0
B11: Item | C11: Fonte | D11: Código | E11: Descrição | F11: Unidade | G11: Quantidade | H11: {=IF(TIPOORCAMENTO="Licitado","","Custo Unitário (sem BDI) (R$)")} -> Custo Unitário (sem BDI) (R$) | I11: {=IF(TIPOORCAMENTO="Licitado","","BDI (%)")} -> BDI (%) | J11: Preço Unitário (com BDI) (R$) | K11: Preço Total (R$)
B12: =Import.DescLote -> Infraestrutura para moradias de Interesse Social | K12: =K13 -> 0
B13: 1. | E13: LOTE 02 - INFRAESTRUTURA COMPLEMENTAR | K13: =K14+K18+K24+K26+K32+K41 -> 0
B14: 1.1 | E14: Administração Local e serviços iniciais | K14: =SUM(K15:K17) -> 0
B15: 1.1.1 | C15: SINAPI | D15: 90779 | E15: ENGENHEIRO CIVIL DE OBRA SENIOR COM ENCARGOS COMPLEMENTARES | F15: H | G15: 120 | H15: =T15 -> 0 | I15: BDI 1 | J15: =IF($C15="S",ROUND(IF(TIPOORCAMENTO="Proposto",ORÇAMENTO.CustoUnitario*(1+$AH15),ORÇAMENTO.PrecoUnitarioLicitado),15-13*#REF!),0) -> 0
B16: 1.1.2 | C16: Composição | D16: 01 | E16: VIGIA NOTURNO COM ENCARGOS COMPLEMENTARES | F16: MES | G16: 2 | H16: =T16 -> 0 | I16: BDI 1 | J16: =IF($C16="S",ROUND(IF(TIPOORCAMENTO="Proposto",ORÇAMENTO.CustoUnitario*(1+$AH16),ORÇAMENTO.PrecoUnitarioLicitado),15-13*#REF!),0) -> 0
B17: 1.1.3 | C17: SINAPI | D17: 93572 | E17: ENCARREGADO GERAL DE OBRAS COM ENCARGOS COMPLEMENTARES | F17: MES | G17: 2 | H17: =T17 -> 0 | I17: BDI 1 | J17: =IF($C17="S",ROUND(IF(TIPOORCAMENTO="Proposto",ORÇAMENTO.CustoUnitario*(1+$AH17),ORÇAMENTO.PrecoUnitarioLicitado),15-13*#REF!),0) -> 0
B18: 1.2 | E18: Instalações provisórias, montagem do canteiro de obras e serviços iniciais | F18: - | G18: =OFFSET([1]CÁLCULO!#REF!,ROW($T18)-ROW(#REF!),0) -> #REF! | I18: BDI 1 | K18: =SUM(K19:K23) -> 0
B19: 1.2.1 | C19: SINAPI | D19: 100952 | E19: TRANSPORTE COM CAMINHÃO CARROCERIA COM GUINDAUTO (MUNCK), MOMENTO MÁXIMO DE CARGA 11,7 TM, EM VIA URBANA PAVIMENTADA, DMT ATÉ 30KM (UNIDADE: TXKM). AF_02/2026 | F19: TXKM | G19: 180 | H19: =T19 -> 0 | I19: BDI 1 | J19: =IF($C19="S",ROUND(IF(TIPOORCAMENTO="Proposto",ORÇAMENTO.CustoUnitario*(1+$AH19),ORÇAMENTO.PrecoUnitarioLicitado),15-13*#REF!),0) -> 0
B20: 1.2.2 | C20: SINAPI | D20: 100953 | E20: TRANSPORTE COM CAMINHÃO CARROCERIA COM GUINDAUTO (MUNCK), MOMENTO MÁXIMO DE CARGA 11,7 TM, EM VIA URBANA PAVIMENTADA, ADICIONAL PARA DMT EXCEDENTE A 30 KM (UNIDADE: TXKM). AF_02/2026 | F20: TXKM | G20: 1020 | H20: =T20 -> 0 | I20: BDI 1 | J20: =IF($C20="S",ROUND(IF(TIPOORCAMENTO="Proposto",ORÇAMENTO.CustoUnitario*(1+$AH20),ORÇAMENTO.PrecoUnitarioLicitado),15-13*#REF!),0) -> 0
B21: 1.2.3 | C21: SINAPI | D21: 105114 | E21: EXECUÇÃO DOS APOIOS PARA CONTÊINER OU MÓDULO HABITÁVEL. AF_03/2024 | F21: M3 | G21: 0.77 | H21: =T21 -> 0 | I21: BDI 1 | J21: =IF($C21="S",ROUND(IF(TIPOORCAMENTO="Proposto",ORÇAMENTO.CustoUnitario*(1+$AH21),ORÇAMENTO.PrecoUnitarioLicitado),15-13*#REF!),0) -> 0
B22: 1.2.4 | C22: SINAPI | D22: 105115 | E22: INSTALAÇÃO E DESINSTALAÇÃO MECANIZADA DE CONTÊINER OU MÓDULO HABITÁVEL DE USOS DIVERSOS. AF_03/2024 | F22: UN | G22: 3 | H22: =T22 -> 0 | I22: BDI 1 | J22: =IF($C22="S",ROUND(IF(TIPOORCAMENTO="Proposto",ORÇAMENTO.CustoUnitario*(1+$AH22),ORÇAMENTO.PrecoUnitarioLicitado),15-13*#REF!),0) -> 0
B23: 1.2.5 | C23: Cotação | D23: 4175 ORSE | E23: Locação de loteamento com piquetes de madeira | F23: m2 | G23: 850.82 | H23: =T23 -> 0 | I23: BDI 1 | J23: =IF($C23="S",ROUND(IF(TIPOORCAMENTO="Proposto",ORÇAMENTO.CustoUnitario*(1+$AH23),ORÇAMENTO.PrecoUnitarioLicitado),15-13*#REF!),0) -> 0
B24: 1.3 | E24: Cercamento | F24: - | G24: =OFFSET([1]CÁLCULO!#REF!,ROW($T24)-ROW(#REF!),0) -> #REF! | I24: BDI 1 | K24: =SUM(K25) -> 0
B25: 1.3.1 | C25: SINAPI | D25: 102363 | E25: ALAMBRADO PARA QUADRA POLIESPORTIVA, ESTRUTURADO POR TUBOS DE AÇO GALVANIZADO, (MONTANTES COM DIÂMETRO 2", TRAVESSAS E ESCORAS COM DIÂMETRO 1 ¼"), COM TELA DE ARAME GALVANIZADO, FIO 12 BWG E MALHA QUADRADA 5X5CM (EXCETO MURETA). AF_12/2025 | F25: M2 | G25: 269.38 | H25: =T25 -> 0 | I25: BDI 1 | J25: =IF($C25="S",ROUND(IF(TIPOORCAMENTO="Proposto",ORÇAMENTO.CustoUnitario*(1+$AH25),ORÇAMENTO.PrecoUnitarioLicitado),15-13*#REF!),0) -> 0
B26: 1.4 | E26: Esgoto cloacal e pluvial | F26: - | G26: =OFFSET([1]CÁLCULO!#REF!,ROW($T26)-ROW(#REF!),0) -> #REF! | I26: BDI 1 | K26: =SUM(K27:K31) -> 0
B27: 1.4.1 | C27: SINAPI | D27: 89714 | E27: TUBO PVC, SERIE NORMAL, ESGOTO PREDIAL, DN 100 MM, FORNECIDO E INSTALADO EM RAMAL DE DESCARGA OU RAMAL DE ESGOTO SANITÁRIO. AF_08/2022 | F27: M | G27: 713.74 | H27: =T27 -> 0 | I27: BDI 1 | J27: =IF($C27="S",ROUND(IF(TIPOORCAMENTO="Proposto",ORÇAMENTO.CustoUnitario*(1+$AH27),ORÇAMENTO.PrecoUnitarioLicitado),15-13*#REF!),0) -> 0
B28: 1.4.2 | C28: SINAPI | D28: 97897 | E28: CAIXA ENTERRADA HIDRÁULICA RETANGULAR, EM CONCRETO PRÉ-MOLDADO, DIMENSÕES INTERNAS: 0,6X0,6X0,5 M. AF_12/2020 | F28: UN | G28: 28 | H28: =T28 -> 0 | I28: BDI 1 | J28: =IF($C28="S",ROUND(IF(TIPOORCAMENTO="Proposto",ORÇAMENTO.CustoUnitario*(1+$AH28),ORÇAMENTO.PrecoUnitarioLicitado),15-13*#REF!),0) -> 0
B29: 1.4.3 | C29: SINAPI | D29: 102279 | E29: ESCAVAÇÃO MECANIZADA DE VALA COM PROF. ATÉ 1,5 M (MÉDIA MONTANTE E JUSANTE/UMA COMPOSIÇÃO POR TRECHO), ESCAVADEIRA (0,8 M3),LARG. MENOR QUE 1,5 M, EM SOLO DE 1A CATEGORIA, LOCAIS COM BAIXO NÍVEL DE INTERFERÊNCIA. AF_09/2024 | F29: M3 | G29: 219.16 | H29: =T29 -> 0 | I29: BDI 1 | J29: =IF($C29="S",ROUND(IF(TIPOORCAMENTO="Proposto",ORÇAMENTO.CustoUnitario*(1+$AH29),ORÇAMENTO.PrecoUnitarioLicitado),15-13*#REF!),0) -> 0
B30: 1.4.4 | C30: SINAPI | D30: 101618 | E30: PREPARO DE FUNDO DE VALA COM LARGURA MENOR QUE 1,5 M, COM CAMADA DE AREIA, LANÇAMENTO MANUAL. AF_01/2026 | F30: M3 | G30: 11.21 | H30: =T30 -> 0 | I30: BDI 1 | J30: =IF($C30="S",ROUND(IF(TIPOORCAMENTO="Proposto",ORÇAMENTO.CustoUnitario*(1+$AH30),ORÇAMENTO.PrecoUnitarioLicitado),15-13*#REF!),0) -> 0
B31: 1.4.5 | C31: SINAPI | D31: 104737 | E31: REATERRO MANUAL DE VALAS, COM PLACA VIBRATÓRIA. AF_08/2023 | F31: M3 | G31: 208.52 | H31: =T31 -> 0 | I31: BDI 1 | J31: =IF($C31="S",ROUND(IF(TIPOORCAMENTO="Proposto",ORÇAMENTO.CustoUnitario*(1+$AH31),ORÇAMENTO.PrecoUnitarioLicitado),15-13*#REF!),0) -> 0
B32: 1.5 | E32: Pavimentação externa (passeio público) | F32: - | G32: =OFFSET([1]CÁLCULO!#REF!,ROW($T32)-ROW(#REF!),0) -> #REF! | I32: BDI 1 | K32: =SUM(K33:K40) -> 0
B33: 1.5.1 | C33: SINAPI | D33: 96622 | E33: LASTRO COM MATERIAL GRANULAR, APLICADO EM PISOS OU LAJES SOBRE SOLO, ESPESSURA DE *5 CM*. AF_01/2024 | F33: M3 | G33: 42.54 | H33: =T33 -> 0 | I33: BDI 1 | J33: =IF($C33="S",ROUND(IF(TIPOORCAMENTO="Proposto",ORÇAMENTO.CustoUnitario*(1+$AH33),ORÇAMENTO.PrecoUnitarioLicitado),15-13*#REF!),0) -> 0
B34: 1.5.2 | C34: SINAPI | D34: 97113 | E34: APLICAÇÃO DE LONA PLÁSTICA PARA EXECUÇÃO DE PAVIMENTOS DE CONCRETO. AF_04/2022 | F34: M2 | G34: 850.82 | H34: =T34 -> 0 | I34: BDI 1 | J34: =IF($C34="S",ROUND(IF(TIPOORCAMENTO="Proposto",ORÇAMENTO.CustoUnitario*(1+$AH34),ORÇAMENTO.PrecoUnitarioLicitado),15-13*#REF!),0) -> 0
B35: 1.5.3 | C35: SINAPI | D35: 94991 | E35: EXECUÇÃO DE PASSEIO (CALÇADA) OU PISO DE CONCRETO COM CONCRETO MOLDADO IN LOCO, USINADO C20, ACABAMENTO CONVENCIONAL, NÃO ARMADO. AF_08/2022 | F35: M3 | G35: 31.22 | H35: =T35 -> 0 | I35: BDI 1 | J35: =IF($C35="S",ROUND(IF(TIPOORCAMENTO="Proposto",ORÇAMENTO.CustoUnitario*(1+$AH35),ORÇAMENTO.PrecoUnitarioLicitado),15-13*#REF!),0) -> 0
B36: 1.5.4 | C36: SINAPI | D36: 94994 | E36: EXECUÇÃO DE PASSEIO (CALÇADA) OU PISO DE CONCRETO COM CONCRETO MOLDADO IN LOCO, FEITO EM OBRA, ACABAMENTO CONVENCIONAL, ESPESSURA 8 CM, ARMADO. AF_08/2022 | F36: M2 | G36: 330.26 | H36: =T36 -> 0 | I36: BDI 1 | J36: =IF($C36="S",ROUND(IF(TIPOORCAMENTO="Proposto",ORÇAMENTO.CustoUnitario*(1+$AH36),ORÇAMENTO.PrecoUnitarioLicitado),15-13*#REF!),0) -> 0
B37: 1.5.5 | C37: SINAPI | D37: 104658 | E37: PISO PODOTÁTIL DE ALERTA OU DIRECIONAL, DE CONCRETO, ASSENTADO SOBRE ARGAMASSA. AF_03/2024 | F37: M2 | G37: 135.26 | H37: =T37 -> 0 | I37: BDI 1 | J37: =IF($C37="S",ROUND(IF(TIPOORCAMENTO="Proposto",ORÇAMENTO.CustoUnitario*(1+$AH37),ORÇAMENTO.PrecoUnitarioLicitado),15-13*#REF!),0) -> 0
B38: 1.5.6 | C38: SINAPI | D38: 105002 | E38: RAMPA DE ACESSIBILIDADE EM CONCRETO MOLDADO IN LOCO, EM CALÇADA NOVA COM LARGURA MAIOR OU IGUAL À 3,00 M, FCK 25MPA, COM PISO PODOTÁTIL. AF_03/2024 | F38: UN | G38: 9 | H38: =T38 -> 0 | I38: BDI 1 | J38: =IF($C38="S",ROUND(IF(TIPOORCAMENTO="Proposto",ORÇAMENTO.CustoUnitario*(1+$AH38),ORÇAMENTO.PrecoUnitarioLicitado),15-13*#REF!),0) -> 0
B39: 1.5.7 | C39: SINAPI | D39: 97935 | E39: CAIXA PARA BOCA DE LOBO SIMPLES RETANGULAR, EM CONCRETO PRÉ-MOLDADO, DIMENSÕES INTERNAS: 0,6X1,0X1,2 M. AF_12/2020 | F39: UN | G39: 1 | H39: =T39 -> 0 | I39: BDI 1 | J39: =IF($C39="S",ROUND(IF(TIPOORCAMENTO="Proposto",ORÇAMENTO.CustoUnitario*(1+$AH39),ORÇAMENTO.PrecoUnitarioLicitado),15-13*#REF!),0) -> 0
B40: 1.5.8 | C40: SINAPI | D40: 97735 | E40: PEÇA RETANGULAR PRÉ-MOLDADA, VOLUME DE CONCRETO DE 30 A 100 LITROS, TAXA DE AÇO APROXIMADA DE 30KG/M³. AF_03/2024 | F40: M3 | G40: 0.52 | H40: =T40 -> 0 | I40: BDI 1 | J40: =IF($C40="S",ROUND(IF(TIPOORCAMENTO="Proposto",ORÇAMENTO.CustoUnitario*(1+$AH40),ORÇAMENTO.PrecoUnitarioLicitado),15-13*#REF!),0) -> 0
B41: 1.6 | E41: Limpeza e arremates finais | F41: - | K41: =SUM(K42:K47) -> 0
B42: 1.6.1 | C42: Composição | D42: 13 | E42: Regularização e nivelamento da superfície (taludamento) do terreno para aplicação de grama e/ou lastro de brita | F42: m2 | G42: 2157.6 | H42: =T42 -> 0 | I42: BDI 1 | J42: =IF($C42="S",ROUND(IF(TIPOORCAMENTO="Proposto",ORÇAMENTO.CustoUnitario*(1+$AH42),ORÇAMENTO.PrecoUnitarioLicitado),15-13*#REF!),0) -> 0
B43: 1.6.2 | C43: SINAPI | D43: 98504 | E43: PLANTIO DE GRAMA BATATAIS EM PLACAS. AF_07/2024 | F43: M2 | G43: 1209.61 | H43: =T43 -> 0 | I43: BDI 1 | J43: =IF($C43="S",ROUND(IF(TIPOORCAMENTO="Proposto",ORÇAMENTO.CustoUnitario*(1+$AH43),ORÇAMENTO.PrecoUnitarioLicitado),15-13*#REF!),0) -> 0
B44: 1.6.3 | C44: SINAPI | D44: 100324 | E44: LASTRO COM MATERIAL GRANULAR (PEDRA BRITADA N.1 E PEDRA BRITADA N.2), APLICADO EM PISOS OU LAJES SOBRE SOLO, ESPESSURA DE *10 CM*. AF_01/2024 | F44: M3 | G44: 28.44 | H44: =T44 -> 0 | I44: BDI 1 | J44: =IF($C44="S",ROUND(IF(TIPOORCAMENTO="Proposto",ORÇAMENTO.CustoUnitario*(1+$AH44),ORÇAMENTO.PrecoUnitarioLicitado),15-13*#REF!),0) -> 0
...
