Workbook

Sheet Orçamento
A1: OBRA: | C1: PROJETO DE DECORAÇÃO URBANA PÁSCOA 2024 | G1: LOCAL: | H1: ÁREA URBANA DA CIDADE DE CANELA
A2: RESPONSÁVEL TÉCNICO: | C2: ARQ. SIMONE MÖLLERKE | H2: BDI: | I2: 0.2669
A4: N. ITEM | B4: ID | C4: ITEM | D4: DESCRIÇÃO | E4: QUANTIDADE (UN) | F4: UNIDADE | G4: VALOR UNITÁRIO | H4: VALOR TOTAL | I4: VALOR TOTAL COM BDI
A7: 1. PRAÇA DA MATRIZ
A8: 1.1 | B8: =#VALUE! -> #VALUE! | C8: Cruz Praça Matriz | D8: REFORMA/INSTALAÇÃO/MANUTENÇÃO/RETIRADA/ACONDICIONAMENTO E ARMAZENAMENTO - Conjunto de cruz de madeira sobre pedestal - PREVER REFORMA DE TODO O CONJUNTO, COM A ESTRUTURA METÁLICA, PEDESTAL E APLIQUE | E8: {=IFERROR(VLOOKUP(A8,'MEMORIAL DE CÁLCULO'!$A$1:$I$5085,6,0),”NÃO ENC.”))} -> #N/A | F8: =_xlfn.xlookup(A8,'MEMORIAL DE CÁLCULO'!$C$8:$C$5086,'MEMORIAL DE CÁLCULO'!$I$8:$I$5086) -> UN. | G8: 0 | H8: =G8*E8 -> #N/A | I8: =(H8*$I$2)+H8 -> 0
A9: 1.2 | B9: =#VALUE! -> #VALUE! | C9: Voil branco | D9: AQUISIÇÃO/INSTALAÇÃO/MANUTENÇÃO/RETIRADA/ACONDICIONAMENTO E ARMAZENAMENTO - 2000cm x 300cm de tecido voil branco | E9: {=IFERROR(VLOOKUP(A9,'MEMORIAL DE CÁLCULO'!$A$1:$I$5085,6,0),”NÃO ENC.”))} -> #N/A | F9: =_xlfn.xlookup(A9,'MEMORIAL DE CÁLCULO'!$C$8:$C$5086,'MEMORIAL DE CÁLCULO'!$I$8:$I$5086) -> M² | G9: 0 | H9: =G9*E9 -> #N/A | I9: =(H9*$I$2)+H9 -> #N/A
A10: 1.3 | B10: =#VALUE! -> #VALUE! | C10: Refletores slim 30 W 220 V | D10: LOCAÇÃO/INSTALAÇÃO/MANUTENÇÃO/RETIRADA - Refletores slim 30 W 220 V, luz 3000k branca morna, grau de proteção IP 68 | E10: {=IFERROR(VLOOKUP(A10,'MEMORIAL DE CÁLCULO'!$A$1:$I$5085,6,0),”NÃO ENC.”))} -> #N/A | F10: =_xlfn.xlookup(A10,'MEMORIAL DE CÁLCULO'!$C$8:$C$5086,'MEMORIAL DE CÁLCULO'!$I$8:$I$5086) -> UN. | G10: 0 | H10: =G10*E10 -> #N/A | I10: =(H10*$I$2)+H10 -> #N/A
A11: 1.4 | B11: =#VALUE! -> #VALUE! | C11: Fita de LED - contorno cruz | D11: AQUISIÇÃO/INSTALAÇÃO/MANUTENÇÃO/RETIRADA/ACONDICIONAMENTO E ARMAZENAMENTO - Fta LED na temperatura de cor 3000K, cor branco quente, voltagem bivolt 100/240V-1A, grau de proteção IP68 - BORDAS DA CRUZ | E11: {=IFERROR(VLOOKUP(A11,'MEMORIAL DE CÁLCULO'!$A$1:$I$5085,6,0),”NÃO ENC.”))} -> #N/A | F11: =_xlfn.xlookup(A11,'MEMORIAL DE CÁLCULO'!$C$8:$C$5086,'MEMORIAL DE CÁLCULO'!$I$8:$I$5086) -> M | G11: 0 | H11: =G11*E11 -> #N/A | I11: =(H11*$I$2)+H11 -> #N/A
A12: 1.5 | B12: =#VALUE! -> #VALUE! | C12: PLACAS ANJO | D12: REFORMA/INSTALAÇÃO/MANUTENÇÃO/RETIRADA/ACONDICIONAMENTO E ARMAZENAMENTO - Placa anjo em MDF ultra 18mm, recorte eletrônico - 180cm X 275cm - acabamento pintura esmalte sintético fosco acetinado ref.: Suvinil cor: branco neve ou similar | E12: {=IFERROR(VLOOKUP(A12,'MEMORIAL DE CÁLCULO'!$A$1:$I$5085,6,0),”NÃO ENC.”))} -> #N/A | F12: =_xlfn.xlookup(A12,'MEMORIAL DE CÁLCULO'!$C$8:$C$5086,'MEMORIAL DE CÁLCULO'!$I$8:$I$5086) -> UN. | G12: 0 | H12: =G12*E12 -> #N/A | I12: =(H12*$I$2)+H12 -> #N/A
A13: 1.6 | B13: =#VALUE! -> #VALUE! | C13: Fita de LED - contorno placa anjo | D13: AQUISIÇÃO/INSTALAÇÃO/MANUTENÇÃO/RETIRADA/ACONDICIONAMENTO E ARMAZENAMENTO - Fta LED na temperatura de cor 3000K, cor branco quente, voltagem bivolt 100/240V-1A, grau de proteção IP68 - BORDAS PLACAS ANJO | E13: {=IFERROR(VLOOKUP(A13,'MEMORIAL DE CÁLCULO'!$A$1:$I$5085,6,0),”NÃO ENC.”))} -> #N/A | F13: =_xlfn.xlookup(A13,'MEMORIAL DE CÁLCULO'!$C$8:$C$5086,'MEMORIAL DE CÁLCULO'!$I$8:$I$5086) -> M | G13: 0 | H13: =G13*E13 -> #N/A | I13: =(H13*$I$2)+H13 -> #N/A
A14: 1.7 | B14: =#VALUE! -> #VALUE! | C14: Palavras (Placas Anjo) | D14: REFORMA/INSTALAÇÃO/MANUTENÇÃO/RETIRADA/ACONDICIONAMENTO E ARMAZENAMENTO - palavras em MDF ultra 8mm, recorte eletrônico, acabamento tinta esmalte sintética alto-brilho ref.: Suvinil cor: dourado ouro do Egito metalizado ou similar, fonte Calibri em negrito maiúsculo. | E14: {=IFERROR(VLOOKUP(A14,'MEMORIAL DE CÁLCULO'!$A$1:$I$5085,6,0),”NÃO ENC.”))} -> #N/A | F14: =_xlfn.xlookup(A14,'MEMORIAL DE CÁLCULO'!$C$8:$C$5086,'MEMORIAL DE CÁLCULO'!$I$8:$I$5086) -> UN. | G14: 0 | H14: =G14*E14 -> #N/A | I14: =(H14*$I$2)+H14 -> #N/A
A15: SUBTOTAL | G15: =SUM(G8:G14) -> 0 | H15: =SUM(H8:H14) -> 0 | I15: =SUM(I8:I14) -> 0
A17: 2. RÓTULA CASA DE PEDRA
A18: 2.1 | B18: =#VALUE! -> #VALUE! | C18: Cesta de cipó | D18: REFORMA/INSTALAÇÃO/MANUTENÇÃO/RETIRADA/ACONDICIONAMENTO E ARMAZENAMENTO - Cesta de vime - reparos, recuperação de estrutura, fundo em MDF e superfícies, lixamento e pintura em Polistein cor castanheira ou similar - ACERVO CONTRATANTE | E18: {=IFERROR(VLOOKUP(A14,'MEMORIAL DE CÁLCULO'!$A$1:$I$5085,6,0),”NÃO ENC.”))} -> #N/A | F18: =_xlfn.xlookup(A18,'MEMORIAL DE CÁLCULO'!$C$8:$C$5086,'MEMORIAL DE CÁLCULO'!$I$8:$I$5086) -> UN. | G18: 0 | H18: =G18*E18 -> #N/A | I18: =(H18*$I$2)+H18 -> #N/A
A19: 2.2 | B19: =#VALUE! -> #VALUE! | C19: Fundo em MDF para cesta de cipó | D19: REFORMA/INSTALAÇÃO/MANUTENÇÃO/RETIRADA/ACONDICIONAMENTO E ARMAZENAMENTO - Cesta de vime - reparos, recuperação de estrutura, fundo em MDF e superfícies, lixamento e pintura em Polistein cor castanheira ou similar - ACERVO CONTRATANTE | E19: {=IFERROR(VLOOKUP(A19,'MEMORIAL DE CÁLCULO'!$A$1:$I$5085,6,0),”NÃO ENC.”))} -> #N/A | F19: =_xlfn.xlookup(A19,'MEMORIAL DE CÁLCULO'!$C$8:$C$5086,'MEMORIAL DE CÁLCULO'!$I$8:$I$5086) -> M² | G19: 0 | H19: =G19*E19 -> #N/A | I19: =(H19*$I$2)+H19 -> #N/A
A20: 2.3 | B20: =#VALUE! -> #VALUE! | C20: Fita de LED cesta de cipó | D20: AQUISIÇÃO/INSTALAÇÃO/MANUTENÇÃO/RETIRADA/ACONDICIONAMENTO E ARMAZENAMENTO - Fta LED na temperatura de cor 3000K, cor branco quente, voltagem bivolt 100/240V-1A, grau de proteção IP68 - CESTA DE CIPÓ | E20: {=IFERROR(VLOOKUP(A20,'MEMORIAL DE CÁLCULO'!$A$1:$I$5085,6,0),”NÃO ENC.”))} -> #N/A | F20: =_xlfn.xlookup(A20,'MEMORIAL DE CÁLCULO'!$C$8:$C$5086,'MEMORIAL DE CÁLCULO'!$I$8:$I$5086) -> M | G20: 0 | H20: =G20*E20 -> #N/A | I20: =(H20*$I$2)+H20 -> #N/A
A21: 2.4 | B21: =#VALUE! -> #VALUE! | C21: Refletores cesta de cipó | D21: LOCAÇÃO/INSTALAÇÃO/MANUTENÇÃO/RETIRADA - Refletores slim 30 W 220 V, luz 3000k branca morna, grau de proteção IP 68 | E21: {=IFERROR(VLOOKUP(A21,'MEMORIAL DE CÁLCULO'!$A$1:$I$5085,6,0),”NÃO ENC.”))} -> #N/A | F21: =_xlfn.xlookup(A21,'MEMORIAL DE CÁLCULO'!$C$8:$C$5086,'MEMORIAL DE CÁLCULO'!$I$8:$I$5086) -> UN. | G21: 0 | H21: =G21*E21 -> #N/A | I21: =(H21*$I$2)+H21 -> #N/A
A22: 2.5 | B22: =#VALUE! -> #VALUE! | C22: Coelhos de pelúcia | D22: REFORMA/INSTALAÇÃO/MANUTENÇÃO/RETIRADA/ACONDICIONAMENTO E ARMAZENAMENTO Coelhos de pelúcia, acervo da CONTRATANTE | E22: {=IFERROR(VLOOKUP(A22,'MEMORIAL DE CÁLCULO'!$A$1:$I$5085,6,0),”NÃO ENC.”))} -> #N/A | F22: =_xlfn.xlookup(A22,'MEMORIAL DE CÁLCULO'!$C$8:$C$5086,'MEMORIAL DE CÁLCULO'!$I$8:$I$5086) -> UN. | G22: 0 | H22: =G22*E22 -> #N/A | I22: =(H22*$I$2)+H22 -> #N/A
A23: 2.6 | B23: =#VALUE! -> #VALUE! | C23: PLACA COM LOGOTIPO "PÁSCOA EM CANELA" | D23: AQUISIÇÃO/INSTALAÇÃO/MANUTENÇÃO/RETIRADA/ACONDICIONAMENTO E ARMAZENAMENTO Placa retro iluminada, reforçada internamente com estrutura em metalon, revestidas em acrílico. | E23: {=IFERROR(VLOOKUP(A23,'MEMORIAL DE CÁLCULO'!$A$1:$I$5085,6,0),”NÃO ENC.”))} -> #N/A | F23: =_xlfn.xlookup(A23,'MEMORIAL DE CÁLCULO'!$C$8:$C$5086,'MEMORIAL DE CÁLCULO'!$I$8:$I$5086) -> UN. | G23: 0 | H23: =G23*E23 -> #N/A | I23: =(H23*$I$2)+H23 -> #N/A
A24: 2.7 | B24: =#VALUE! -> #VALUE! | C24: Fita de LED PLACA COM LOGOTIPO "PÁSCOA EM CANELA" | D24: AQUISIÇÃO/INSTALAÇÃO/MANUTENÇÃO/RETIRADA/ACONDICIONAMENTO E ARMAZENAMENTO Fita de LED ref.: neon branco frio 12V CC 600 SMD2835 bivolt, luz de corda à prova d'água – IP68 | E24: {=IFERROR(VLOOKUP(A24,'MEMORIAL DE CÁLCULO'!$A$1:$I$5085,6,0),”NÃO ENC.”))} -> #N/A | F24: =_xlfn.xlookup(A24,'MEMORIAL DE CÁLCULO'!$C$8:$C$5086,'MEMORIAL DE CÁLCULO'!$I$8:$I$5086) -> M | G24: 0 | H24: =G24*E24 -> #N/A | I24: =(H24*$I$2)+H24 -> #N/A
A25: 2.8 | B25: =#VALUE! -> #VALUE! | C25: ‘COELHO COM PÁ’ EM FIBRA DE VIDRO | D25: AQUISIÇÃO/INSTALAÇÃO/MANUTENÇÃO/RETIRADA/ACONDICIONAMENTO E ARMAZENAMENTO Esculturas ‘coelho com pá’, em fibra de vidro, nas dimensões 315cm de altura, 150cm de largura e 120cm de profundidade. | E25: {=IFERROR(VLOOKUP(A25,'MEMORIAL DE CÁLCULO'!$A$1:$I$5085,6,0),”NÃO ENC.”))} -> #N/A | F25: =_xlfn.xlookup(A25,'MEMORIAL DE CÁLCULO'!$C$8:$C$5086,'MEMORIAL DE CÁLCULO'!$I$8:$I$5086) -> UN. | G25: 0 | H25: =G25*E25 -> #N/A | I25: =(H25*$I$2)+H25 -> #N/A
A26: 2.9 | B26: =#VALUE! -> #VALUE! | C26: OVOS DE FIBRA | D26: AQUISIÇÃO/INSTALAÇÃO/MANUTENÇÃO/RETIRADA/ACONDICIONAMENTO E ARMAZENAMENTO Ovos de fibra nas dimensões 120cm de largura, 120cm de profundidade e 160cm de altura | E26: {=IFERROR(VLOOKUP(A26,'MEMORIAL DE CÁLCULO'!$A$1:$I$5085,6,0),”NÃO ENC.”))} -> #N/A | F26: =_xlfn.xlookup(A26,'MEMORIAL DE CÁLCULO'!$C$8:$C$5086,'MEMORIAL DE CÁLCULO'!$I$8:$I$5086) -> UN. | G26: 0 | H26: =G26*E26 -> #N/A | I26: =(H26*$I$2)+H26 -> #N/A
A27: 2.10 | B27: =#VALUE! -> #VALUE! | C27: OVOS DE FIBRA | D27: REFORMA/INSTALAÇÃO/MANUTENÇÃO/RETIRADA/ACONDICIONAMENTO E ARMAZENAMENTO Ovos de fibra nas dimensões 60cm de largura, 75cm de profundidade e 60cm de altura - ACERVO CONTRATANTE | E27: {=IFERROR(VLOOKUP(A27,'MEMORIAL DE CÁLCULO'!$A$1:$I$5085,6,0),”NÃO ENC.”))} -> #N/A | F27: =_xlfn.xlookup(A27,'MEMORIAL DE CÁLCULO'!$C$8:$C$5086,'MEMORIAL DE CÁLCULO'!$I$8:$I$5086) -> UN. | G27: 0 | H27: =G27*E27 -> #N/A | I27: =(H27*$I$2)+H27 -> #N/A
A28: 2.11 | B28: =#VALUE! -> #VALUE! | C28: OVOS DE FIBRA | D28: REFORMA/INSTALAÇÃO/MANUTENÇÃO/RETIRADA/ACONDICIONAMENTO E ARMAZENAMENTO Ovos de fibra nas dimensões 90cm de largura, 95cm de profundidade e 90cm de altura - ACERVO CONTRATANTE | E28: {=IFERROR(VLOOKUP(A28,'MEMORIAL DE CÁLCULO'!$A$1:$I$5085,6,0),”NÃO ENC.”))} -> #N/A | F28: =_xlfn.xlookup(A28,'MEMORIAL DE CÁLCULO'!$C$8:$C$5086,'MEMORIAL DE CÁLCULO'!$I$8:$I$5086) -> UN. | G28: 0 | H28: =G28*E28 -> #N/A | I28: =(H28*$I$2)+H28 -> #N/A
A29: 2.12 | B29: =#VALUE! -> #VALUE! | C29: COELHO ESCALANDO OVO | D29: AQUISIÇÃO/INSTALAÇÃO/MANUTENÇÃO/RETIRADA/ACONDICIONAMENTO E ARMAZENAMENTO Coelhos em fibra de vidro nas dimensões 60cm de largura, 105cm de comprimento e 85cm de altura | E29: {=IFERROR(VLOOKUP(A29,'MEMORIAL DE CÁLCULO'!$A$1:$I$5085,6,0),”NÃO ENC.”))} -> #N/A | F29: =_xlfn.xlookup(A29,'MEMORIAL DE CÁLCULO'!$C$8:$C$5086,'MEMORIAL DE CÁLCULO'!$I$8:$I$5086) -> UN. | G29: 0 | H29: =G29*E29 -> #N/A | I29: =(H29*$I$2)+H29 -> #N/A
A30: 2.13 | B30: =#VALUE! -> #VALUE! | C30: COELHO COM OVO | D30: AQUISIÇÃO/INSTALAÇÃO/MANUTENÇÃO/RETIRADA/ACONDICIONAMENTO E ARMAZENAMENTO Coelho segurando ovo de Páscoa, em fibra de vidro, acabamento em tinta epóxi Suvinil ou similar, dimensões 105cm de largura, 165cm de comprimento e 190cm de altura | E30: {=IFERROR(VLOOKUP(A30,'MEMORIAL DE CÁLCULO'!$A$1:$I$5085,6,0),”NÃO ENC.”))} -> #N/A | F30: =_xlfn.xlookup(A30,'MEMORIAL DE CÁLCULO'!$C$8:$C$5086,'MEMORIAL DE CÁLCULO'!$I$8:$I$5086) -> UN. | G30: 0 | H30: =G30*E30 -> #N/A | I30: =(H30*$I$2)+H30 -> #N/A
... A47: 2.29 | B47: =#VALUE! -> #VALUE! | C47: REFLETORES ILUMINAÇÃO CESTA na Rótula | D47: LOCAÇÃO/INSTALAÇÃO/MANUTENÇÃO/RETIRADA Refletores slim 30W 220V, luz 3000K, branca morna, IP 68 a ser instalado no piso, em torno da cesta na Rótula | E47: {=IFERROR(VLOOKUP(A47,'MEMORIAL DE CÁLCULO'!$A$1:$I$5085,6,0),”NÃO ENC.”))} -> #N/A | F47: =_xlfn.xlookup(A47,'MEMORIAL DE CÁLCULO'!$C$8:$C$5086,'MEMORIAL DE CÁLCULO'!$I$8:$I$5086) -> UN. | G47: 0 | H47: =G47*E47 -> #N/A | I47: =(H47*$I$2)+H47 -> #N/A
A48: SUBTOTAL | G48: =SUM(G18:G47) -> 0 | H48: =SUM(H41:H47) -> 0 | I48: =SUM(G48:H48) -> 0
A50: 3. PRAÇA JOÃO CORREA
A51: 3.1 | B51: =#VALUE! -> #VALUE! | C51: REFLETORES ILUMINAÇÃO árvores da praça | D51: LOCAÇÃO/INSTALAÇÃO/MANUTENÇÃO/RETIRADA - iluminação árvores da praça de baixo pra cima com refletores slim 30W 220V, luz 3000K, branca morno, IP 68 | E51: {=IFERROR(VLOOKUP(A51,'MEMORIAL DE CÁLCULO'!$A$1:$I$5085,6,0),”NÃO ENC.”))} -> #N/A | F51: =_xlfn.xlookup(A51,'MEMORIAL DE CÁLCULO'!$C$8:$C$5086,'MEMORIAL DE CÁLCULO'!$I$8:$I$5086) -> UN. | G51: 0 | H51: =G51*E51 -> #N/A | I51: =(H51*$I$2)+H51 -> #N/A
A52: 3.2 | B52: =#VALUE! -> #VALUE! | C52: OVOS ESTARES | D52: REFORMA/INSTALAÇÃO/MANUTENÇÃO/RETIRADA/ACONDICIONAMENTO E ARMAZENAMENTO Ovos estares, do acervo da CONTRATANTE | E52: {=IFERROR(VLOOKUP(A52,'MEMORIAL DE CÁLCULO'!$A$1:$I$5085,6,0),”NÃO ENC.”))} -> #N/A | F52: =_xlfn.xlookup(A52,'MEMORIAL DE CÁLCULO'!$C$8:$C$5086,'MEMORIAL DE CÁLCULO'!$I$8:$I$5086) -> UN. | G52: 0 | H52: =G52*E52 -> #N/A | I52: =(H52*$I$2)+H52 -> #N/A
A53: 3.3 | B53: =#VALUE! -> #VALUE! | C53: MANGUEIRAS DE LED ILUMINAÇÃO OVOS ESTARES | D53: AQUISIÇÃO/INSTALAÇÃO/MANUTENÇÃO/RETIRADA/ACONDICIONAMENTO E ARMAZENAMENTO 140m de mangueiras Neon Flex Branco Quente 3500K 220V, IP 68 | E53: {=IFERROR(VLOOKUP(A53,'MEMORIAL DE CÁLCULO'!$A$1:$I$5085,6,0),”NÃO ENC.”))} -> #N/A | F53: =_xlfn.xlookup(A53,'MEMORIAL DE CÁLCULO'!$C$8:$C$5086,'MEMORIAL DE CÁLCULO'!$I$8:$I$5086) -> M | G53: 0 | H53: =G53*E53 -> #N/A | I53: =(H53*$I$2)+H53 -> #N/A
A54: 3.4 | B54: =#VALUE! -> #VALUE! | C54: LAÇOS DOS EM FITA | D54: AQUISIÇÃO/INSTALAÇÃO/MANUTENÇÃO/RETIRADA/ACONDICIONAMENTO E ARMAZENAMENTO Laços duplos 80cm, cor ref.: Suvinil lilás ipê roxo ou similar em fita de Oxford 30 cm de largura, aramada, resistente ao sol, desbotamento e intempéries. Cada laço feito com, no mínimo, 600cm de fita | E54: {=IFERROR(VLOOKUP(A54,'MEMORIAL DE CÁLCULO'!$A$1:$I$5085,6,0),”NÃO ENC.”))} -> #N/A | F54: =_xlfn.xlookup(A54,'MEMORIAL DE CÁLCULO'!$C$8:$C$5086,'MEMORIAL DE CÁLCULO'!$I$8:$I$5086) -> UN. | G54: 0 | H54: =G54*E54 -> #N/A | I54: =(H54*$I$2)+H54 -> #N/A
A55: 3.5 | B55: =#VALUE! -> #VALUE! | C55: LAMPARINAS PEQUENAS | D55: REFORMA/INSTALAÇÃO/MANUTENÇÃO/RETIRADA/ACONDICIONAMENTO E ARMAZENAMENTO - Lamparinas MDF ultra 15mm, dimensões de base 40 x 40 cm e 80cm de altura - acervo da CONTRATANTE | E55: {=IFERROR(VLOOKUP(A55,'MEMORIAL DE CÁLCULO'!$A$1:$I$5085,6,0),”NÃO ENC.”))} -> #N/A | F55: =_xlfn.xlookup(A55,'MEMORIAL DE CÁLCULO'!$C$8:$C$5086,'MEMORIAL DE CÁLCULO'!$I$8:$I$5086) -> UN. | G55: 0 | H55: =G55*E55 -> #N/A | I55: =(H55*$I$2)+H55 -> #N/A
A56: 3.6 | B56: =#VALUE! -> #VALUE! | C56: ILUMINAÇÃO CONTORNO COELHOS LAMPARINAS | D56: AQUISIÇÃO/INSTALAÇÃO/MANUTENÇÃO/RETIRADA/ACONDICIONAMENTO E ARMAZENAMENTO Fita LED Neon Flex cor verde 220V IP 68 | E56: {=IFERROR(VLOOKUP(A56,'MEMORIAL DE CÁLCULO'!$A$1:$I$5085,6,0),”NÃO ENC.”))} -> #N/A | F56: =_xlfn.xlookup(A56,'MEMORIAL DE CÁLCULO'!$C$8:$C$5086,'MEMORIAL DE CÁLCULO'!$I$8:$I$5086) -> M | G56: 0 | H56: =G56*E56 -> #N/A | I56: =(H56*$I$2)+H56 -> #N/A
A57: 3.7 | B57: =#VALUE! -> #VALUE! | C57: ILUMINAÇÃO LAMPARINAS | D57: AQUISIÇÃO/INSTALAÇÃO/MANUTENÇÃO/RETIRADA/ACONDICIONAMENTO E ARMAZENAMENTO Lâmpadas tubulares LED T8 60cm 10W cor branco frio 6.500K IP67 | E57: {=IFERROR(VLOOKUP(A57,'MEMORIAL DE CÁLCULO'!$A$1:$I$5085,6,0),”NÃO ENC.”))} -> #N/A | F57: =_xlfn.xlookup(A57,'MEMORIAL DE CÁLCULO'!$C$8:$C$5086,'MEMORIAL DE CÁLCULO'!$I$8:$I$5086) -> UN. | G57: 0 | H57: =G57*E57 -> #N/A | I57: =(H57*$I$2)+H57 -> #N/A
A58: 3.8 | B58: =#VALUE! -> #VALUE! | C58: BASE DE FERRO PARA FIXAÇÃO DE LAMPARINAS | D58: REFORMA/INSTALAÇÃO/MANUTENÇÃO/RETIRADA/ACONDICIONAMENTO E ARMAZENAMENTO BASE DE FERRO PARA LAMPARINAS | E58: {=IFERROR(VLOOKUP(A58,'MEMORIAL DE CÁLCULO'!$A$1:$I$5085,6,0),”NÃO ENC.”))} -> #N/A | F58: =_xlfn.xlookup(A58,'MEMORIAL DE CÁLCULO'!$C$8:$C$5086,'MEMORIAL DE CÁLCULO'!$I$8:$I$5086) -> UN. | G58: 0 | H58: =G58*E58 -> #N/A | I58: =(H58*$I$2)+H58 -> #N/A
A59: 3.9 | B59: =#VALUE! -> #VALUE! | C59: PORTAIS DECORADOS | D59: REFORMA/INSTALAÇÃO/MANUTENÇÃO/RETIRADA/ACONDICIONAMENTO E ARMAZENAMENTO Portais confeccionados em estrutura metálica e festão - acervo da CONTRATANTE | E59: {=IFERROR(VLOOKUP(A59,'MEMORIAL DE CÁLCULO'!$A$1:$I$5085,6,0),”NÃO ENC.”))} -> #N/A | F59: =_xlfn.xlookup(A59,'MEMORIAL DE CÁLCULO'!$C$8:$C$5086,'MEMORIAL DE CÁLCULO'!$I$8:$I$5086) -> UN. | G59: 0 | H59: =G59*E59 -> #N/A | I59: =(H59*$I$2)+H59 -> #N/A
A60: 3.10 | B60: =#VALUE! -> #VALUE! | C60: Ovos de Páscoa em fibra h=40cm | D60: REFORMA/INSTALAÇÃO/MANUTENÇÃO/RETIRADA/ACONDICIONAMENTO E ARMAZENAMENTO Ovos de Páscoa (01 em cada portal), tamanho 90cm - COR JUJUBA ROSA | E60: {=IFERROR(VLOOKUP(A60,'MEMORIAL DE CÁLCULO'!$A$1:$I$5085,6,0),”NÃO ENC.”))} -> #N/A | F60: =_xlfn.xlookup(A60,'MEMORIAL DE CÁLCULO'!$C$8:$C$5086,'MEMORIAL DE CÁLCULO'!$I$8:$I$5086) -> UN. | G60: 0 | H60: =G60*E60 -> #N/A | I60: =(H60*$I$2)+H60 -> #N/A
A61: 3.11 | B61: =#VALUE! -> #VALUE! | C61: Ovos de Páscoa em fibra h=40cm | D61: AQUISIÇÃO/INSTALAÇÃO/MANUTENÇÃO/RETIRADA/ACONDICIONAMENTO E ARMAZENAMENTO Ovos de Páscoa (01 em cada portal), tamanho 40cm - COR JUJUBA ROSA | E61: {=IFERROR(VLOOKUP(A61,'MEMORIAL DE CÁLCULO'!$A$1:$I$5085,6,0),”NÃO ENC.”))} -> #N/A | F61: =_xlfn.xlookup(A61,'MEMORIAL DE CÁLCULO'!$C$8:$C$5086,'MEMORIAL DE CÁLCULO'!$I$8:$I$5086) -> UN. | G61: 0 | H61: =G61*E61 -> #N/A | I61: =(H61*$I$2)+H61 -> #N/A
...

Sheet MEMORIAL DE CÁLCULO
B1: MEMÓRIA DE CÁLCULO
B3: OBRA: | C3: =Orçamento!C1 -> PROJETO DE DECORAÇÃO URBANA PÁSCOA 2024
B4: LOCALIZAÇÃO: | C4: =Orçamento!H1 -> ÁREA URBANA DA CIDADE DE CANELA
A7: 1. | B7: PRAÇA DA MATRIZ
B8: ITEM: | C8: =Orçamento!A8 -> 1.1 | H8: UNIDADE: | I8: UN.
B9: {=IFERROR(VLOOKUP(C8,Orçamento!$A$1:$I$327,4,0),”NÃO ENC.”))} -> #N/A
B11: Local | D11: Quantidade por peça (un.) | E11: Quantidade | F11: Total | G11: Observações
F12: (Un.)
B13: Praça da Matriz | D13: 1 | E13: 1 | F13: =E13*D13 -> 1 | G13: Ver detalhes memoral descritivo
A14: =C8 -> 1.1 | B14: TOTAL | F14: =SUM(F13:F13) -> 1 | J14: =SUM(C14:I14) -> 1
B16: ITEM: | C16: =Orçamento!A9 -> 1.2 | H16: UNIDADE: | I16: M²
B17: {=IFERROR(VLOOKUP(C16,Orçamento!$A$1:$I$327,4,0),”NÃO ENC.”))} -> #N/A
B19: Local | C19: Comprimento | D19: Largura | E19: Quantidade | F19: Área | G19: Observações
C20: (m) | D20: (m) | F20: (m²)
B21: Praça da Matriz | C21: 3 | D21: 1 | E21: 1 | F21: =C21*D21*E21 -> 3 | G21: Ver detalhes memoral descritivo
A22: =C16 -> 1.2 | B22: TOTAL | F22: =SUM(F21:F21) -> 3 | J22: =SUM(C22:I22) -> 3
B24: ITEM: | C24: =Orçamento!A10 -> 1.3 | H24: UNIDADE: | I24: UN.
B25: {=IFERROR(VLOOKUP(C24,Orçamento!$A$1:$I$327,4,0),”NÃO ENC.”))} -> #N/A
B27: Local | D27: Quantidade por peça (un.) | E27: Quantidade | F27: Total | G27: Observações
F28: (Un.)
B29: Praça da Matriz | D29: 1 | E29: 6 | F29: =E29*D29 -> 6 | G29: Ver detalhes memoral descritivo
A30: =C24 -> 1.3 | B30: TOTAL | F30: =SUM(F29:F29) -> 6 | J30: =SUM(C30:I30) -> 6
B32: ITEM: | C32: =Orçamento!A11 -> 1.4 | H32: UNIDADE: | I32: M
B33: {=IFERROR(VLOOKUP(C32,Orçamento!$A$1:$I$327,4,0),”NÃO ENC.”))} -> #N/A
B35: Local | D35: Quantidade por peça (m) | E35: Número de peças | F35: Total (m) | G35: Observações
B37: Bordas cruz | D37: 25 | E37: 1 | F37: =E37*D37 -> 25 | G37: Ver detalhes memoral descritivo
A38: =C32 -> 1.4 | B38: TOTAL | F38: =SUM(F37:F37) -> 25 | J38: =SUM(C38:I38) -> 25
B40: ITEM: | C40: =Orçamento!A12 -> 1.5 | H40: UNIDADE: | I40: UN.
B41: {=IFERROR(VLOOKUP(C40,Orçamento!$A$1:$I$327,4,0),”NÃO ENC.”))} -> #N/A
B43: Local | D43: Quantidade por peça (un.) | E43: Quantidade | F43: Total | G43: Observações
F44: (Un.)
B45: Praça da Matriz | D45: 1 | E45: 6 | F45: =E45*D45 -> 6 | G45: Ver detalhes memoral descritivo
A46: =C40 -> 1.5 | B46: TOTAL | F46: =SUM(F45:F45) -> 6 | J46: =SUM(C46:I46) -> 6
B48: ITEM: | C48: =Orçamento!A13 -> 1.6 | H48: UNIDADE: | I48: M
B49: {=IFERROR(VLOOKUP(C48,Orçamento!$A$1:$I$327,4,0),”NÃO ENC.”))} -> #N/A
B51: Local | D51: Quantidade por peça (m) | E51: Número de peças | F51: Total (m) | G51: Observações
B53: Bordas placas anjo | D53: 19 | E53: 6 | F53: =E53*D53 -> 114 | G53: Ver detalhes memoral descritivo
A54: =C48 -> 1.6 | B54: TOTAL | F54: =SUM(F53:F53) -> 114 | J54: =SUM(C54:I54) -> 114
B56: ITEM: | C56: =Orçamento!A14 -> 1.7 | H56: UNIDADE: | I56: UN.
B57: {=IFERROR(VLOOKUP(C56,Orçamento!$A$1:$I$327,4,0),”NÃO ENC.”))} -> #N/A
...

Sheet CRONOGRAMA
A1: =#VALUE! -> #VALUE! | J1: PREFEITURA MUNICIPAL DE CANELA
J2: SECRETARIA DE TURISMO E CULTURA
J3: SETOR DE PLANEJAMENTO E ARQUITETURA
A7: ATIVIDADES A SEREM EXECUTADAS | B7: MARÇO | M7: ABRIL
B8: SEG | C8: TER | D8: QUA | E8: QUI | F8: SEX | G8: SAB | H8: DOM | I8: SEG | J8: TER | K8: QUA | L8: QUI | M8: SEG | N8: TER | O8: QUA | P8: QUI
B9: 4 | C9: 5 | D9: 6 | E9: 7 | F9: 8 | G9: 9 | H9: 10 | I9: 11 | J9: 12 | K9: 13 | L9: 14 | M9: 8 | N9: 18 | O9: 19 | P9: 20
A10: PRAÇA JOÃO CORREA COMPLETA
A11: PREFEITURA
A12: AV. JULIO DE CASTILHOS
A13: RÓTULA AV. JÚLIO DE CASTILHOS X FELISBERTO SOARES
A14: ILUMINAÇÃO E INSTALAÇÕES ELÉTRICA AV. JÚLIO DE CASTILHOS E SUAS RÓTULAS
A15: PRAÇA DA MATRIZ COM ILUMINAÇÃO COMPLETA
A16: RÓTULA POSTO AV. OSWALDO ARANHA COM ILUMINAÇÃO E INSTALAÇÕES ELÉTRICAS COMPLETAS
A17: RÓTULA CARACOL COM ILUMINAÇÃO E INSTALAÇÕES ELÉTRICAS COMPLETAS
A18: RÓTULA PAUL HARRIS X AV. OSWALDO ARANHA
A19: RÓTULA AV. JÚLIO DE CASTILHOS E RUA AUGUSTO PESTANA
A20: RÓTULA AV. JÚLIO DE CASTILHOS E AV. JOÃO PESSOA
A21: PÓRTICO DA ENTRADA DA CIDADE
... A29: ORGANIZAÇÃO E ARMAZENAMENTO DO MATERIAL DO ACERVO
C31: COM TODAS AS INSTALAÇÕES ELÉTRICAS E ILUMINAÇÃO
C32: COM DECORAÇÃO
C33: INÍCIO DO EVENTO
C34: DESMONTAGEM
