Workbook

Sheet Orçamento
A1: OBRA: | C1: PROJETO DE DECORAÇÃO URBANA PÁSCOA 2024 | G1: LOCAL: | H1: ÁREA URBANA DA CIDADE DE CANELA
A2: RESPONSÁVEL TÉCNICO: | C2: ARQ. SIMONE MÖLLERKE | H2: BDI: | I2: 0.2669
A4: N. ITEM | B4: ID | C4: ITEM | D4: DESCRIÇÃO | E4: QUANTIDADE (UN) | F4: UNIDADE | G4: VALOR UNITÁRIO | H4: VALOR TOTAL | I4: VALOR TOTAL COM BDI
A7: 1. PRAÇA DA MATRIZ
A8: 1.1 | B8: =#VALUE! -> #VALUE! | C8: Cruz Praça Matriz | D8: REFORMA/INSTALAÇÃO/MANUTENÇÃO/RETIRADA/ACONDICIONAMENTO E ARMAZENAMENTO - Conjunto de cruz de madeira sobre pedestal - PREVER REFORMA DE TODO O CONJUNTO, COM A ESTRUTURA METÁLICA, PEDESTAL E APLIQUE | E8: {=IFERROR(VLOOKUP(A8,'MEMORIAL DE CÁLCULO'!$A$1:$I$5085,6,0),”NÃO ENC.”))} -> #N/A | F8: =_xlfn.xlookup(A8,'MEMORIAL DE CÁLCULO'!$C$8:$C$5086,'MEMORIAL DE CÁLCULO'!$I$8:$I$5086) -> UN. | G8: 0 | H8: =G8*E8 -> #N/A | I8: =(H8*$I$2)+H8 -> 0
A9: 1.2 | B9: =#VALUE! -> #VALUE! | C9: Voil branco | D9: AQUISIÇÃO/INSTALAÇÃO/MANUTENÇÃO/RETIRADA/ACONDICIONAMENTO E ARMAZENAMENTO - 2000cm x 300cm de tecido voil branco | E9: {=IFERROR(VLOOKUP(A9,'MEMORIAL DE CÁLCULO'!$A$1:$I$5085,6,0),”NÃO ENC.”))} -> #N/A | F9: =_xlfn.xlookup(A9,'MEMORIAL DE CÁLCULO'!$C$8:$C$5086,'MEMORIAL DE CÁLCULO'!$I$8:$I$5086) -> M² | G9: 0 | H9: =G9*E9 -> #N/A | I9: =(H9*$I$2)+H9 -> #N/A
A10: 1.3 | B10: =#VALUE! -> #VALUE! | C10: Refletores slim 30 W 220 V | D10: LOCAÇÃO/INSTALAÇÃO/MANUTENÇÃO/RETIRADA - Refletores slim 30 W 220 V, luz 3000k branca morna, grau de proteção IP 68 | E10: {=IFERROR(VLOOKUP(A10,'MEMORIAL DE CÁLCULO'!$A$1:$I$5085,6,0),”NÃO ENC.”))} -> #N/A | F10: =_xlfn.xlookup(A10,'MEMORIAL DE CÁLCULO'!$C$8:$C$5086,'MEMORIAL DE CÁLCULO'!$I$8:$I$5086) -> UN. | G10: 0 | H10: =G10*E10 -> #N/A | I10: =(H10*$I$2)+H10 -> #N/A
A11: 1.4 | B11: =#VALUE! -> #VALUE! | C11: Fita de LED - contorno cruz | D11: AQUISIÇÃO/INSTALAÇÃO/MANUTENÇÃO/RETIRADA/ACONDICIONAMENTO E ARMAZENAMENTO - Fta LED na temperatura de cor 3000K, cor branco quente, voltagem bivolt 100/240V-1A, grau de proteção IP68 - BORDAS DA CRUZ | E11: {=IFERROR(VLOOKUP(A11,'MEMORIAL DE CÁLCULO'!$A$1:$I$5085,6,0),”NÃO ENC.”))} -> #N/A | F11: =_xlfn.xlookup(A11,'MEMORIAL DE CÁLCULO'!$C$8:$C$5086,'MEMORIAL DE CÁLCULO'!$I$8:$I$5086) -> M | G11: 0 | H11: =G11*E11 -> #N/A | I11: =(H11*$I$2)+H11 -> #N/A
A12: 1.5 | B12: =#VALUE! -> #VALUE! | C12: PLACAS ANJO | D12: REFORMA/INSTALAÇÃO/MANUTENÇÃO/RETIRADA/ACONDICIONAMENTO E ARMAZENAMENTO - Placa anjo em MDF ultra 18mm, recorte eletrônico - 180cm X 275cm - acabamento pintura esmalte sintético fosco acetinado ref.: Suvinil cor: branco neve ou similar | E12: {=IFERROR(VLOOKUP(A12,'MEMORIAL DE CÁLCULO'!$A$1:$I$5085,6,0),”NÃO ENC.”))} -> #N/A | F12: =_xlfn.xlookup(A12,'MEMORIAL DE CÁLCULO'!$C$8:$C$5086,'MEMORIAL DE CÁLCULO'!$I$8:$I$5086) -> UN. | G12: 0 | H12: =G12*E12 -> #N/A | I12: =(H12*$I$2)+H12 -> #N/A
A13: 1.6 | B13: =#VALUE! -> #VALUE! | C13: Fita de LED - contorno placa anjo | D13: AQUISIÇÃO/INSTALAÇÃO/MANUTENÇÃO/RETIRADA/ACONDICIONAMENTO E ARMAZENAMENTO - Fta LED na temperatura de cor 3000K, cor branco quente, voltagem bivolt 100/240V-1A, grau de proteção IP68 - BORDAS PLACAS ANJO | E13: {=IFERROR(VLOOKUP(A13,'MEMORIAL DE CÁLCULO'!$A$1:$I$5085,6,0),”NÃO ENC.”))} -> #N/A | F13: =_xlfn.xlookup(A13,'MEMORIAL DE CÁLCULO'!$C$8:$C$5086,'MEMORIAL DE CÁLCULO'!$I$8:$I$5086) -> M | G13: 0 | H13: =G13*E13 -> #N/A | I13: =(H13*$I$2)+H13 -> #N/A
A14: 1.7 | B14: =#VALUE! -> #VALUE! | C14: Palavras (Placas Anjo) | D14: REFORMA/INSTALAÇÃO/MANUTENÇÃO/RETIRADA/ACONDICIONAMENTO E ARMAZENAMENTO - palavras em MDF ultra 8mm, recorte eletrônico, acabamento tinta esmalte sintética alto-brilho ref.: Suvinil cor: dourado ouro do Egito metalizado ou similar, fonte Calibri em negrito maiúsculo. | E14: {=IFERROR(VLOOKUP(A14,'MEMORIAL DE CÁLCULO'!$A$1:$I$5085,6,0),”NÃO ENC.”))} -> #N/A | F14: =_xlfn.xlookup(A14,'MEMORIAL DE CÁLCULO'!$C$8:$C$5086,'MEMORIAL DE CÁLCULO'!$I$8:$I$5086) -> UN. | G14: 0 | H14: =G14*E14 -> #N/A | I14: =(H14*$I$2)+H14 -> #N/A
A15: SUBTOTAL | G15: =SUM(G8:G14) -> 0 | H15: =SUM(H8:H14) -> 0 | I15: =SUM(I8:I14) -> 0
A17: 2. RÓTULA CASA DE PEDRA
A18: 2.1 | B18: =#VALUE! -> #VALUE! | C18: Cesta de cipó | D18: REFORMA/INSTALAÇÃO/MANUTENÇÃO/RETIRADA/ACONDICIONAMENTO E ARMAZENAMENTO - Cesta de vime - reparos, recuperação de estrutura, fundo em MDF e superfícies, lixamento e pintura em Polistein cor castanheira ou similar - ACERVO CONTRATANTE | E18: {=IFERROR(VLOOKUP(A14,'MEMORIAL DE CÁLCULO'!$A$1:$I$5085,6,0),”NÃO ENC.”))} -> #N/A | F18: =_xlfn.xlookup(A18,'MEMORIAL DE CÁLCULO'!$C$8:$C$5086,'MEMORIAL DE CÁLCULO'!$I$8:$I$5086) -> UN. | G18: 0 | H18: =G18*E18 -> #N/A | I18: =(H18*$I$2)+H18 -> #N/A
A19: 2.2 | B19: =#VALUE! -> #VALUE! | C19: Fundo em MDF para cesta de cipó | D19: REFORMA/INSTALAÇÃO/MANUTENÇÃO/RETIRADA/ACONDICIONAMENTO E ARMAZENAMENTO - Cesta de vime - reparos, recuperação de estrutura, fundo em MDF e superfícies, lixamento e pintura em Polistein cor castanheira ou similar - ACERVO CONTRATANTE | E19: {=IFERROR(VLOOKUP(A19,'MEMORIAL DE CÁLCULO'!$A$1:$I$5085,6,0),”NÃO ENC.”))} -> #N/A | F19: =_xlfn.xlookup(A19,'MEMORIAL DE CÁLCULO'!$C$8:$C$5086,'MEMORIAL DE CÁLCULO'!$I$8:$I$5086) -> M² | G19: 0 | H19: =G19*E19 -> #N/A | I19: =(H19*$I$2)+H19 -> #N/A
A20: 2.3 | B20: =#VALUE! -> #VALUE! | C20: Fita de LED cesta de cipó | D20: AQUISIÇÃO/INSTALAÇÃO/MANUTENÇÃO/RETIRADA/ACONDICIONAMENTO E ARMAZENAMENTO - Fta LED na temperatura de cor 3000K, cor branco quente, voltagem bivolt 100/240V-1A, grau de proteção IP68 - CESTA DE CIPÓ | E20: {=IFERROR(VLOOKUP(A20,'MEMORIAL DE CÁLCULO'!$A$1:$I$5085,6,0),”NÃO ENC.”))} -> #N/A | F20: =_xlfn.xlookup(A20,'MEMORIAL DE CÁLCULO'!$C$8:$C$5086,'MEMORIAL DE CÁLCULO'!$I$8:$I$5086) -> M | G20: 0 | H20: =G20*E20 -> #N/A | I20: =(H20*$I$2)+H20 -> #N/A
A21: 2.4 | B21: =#VALUE! -> #VALUE! | C21: Refletores cesta de cipó | D21: LOCAÇÃO/INSTALAÇÃO/MANUTENÇÃO/RETIRADA - Refletores slim 30 W 220 V, luz 3000k branca morna, grau de proteção IP 68 | E21: {=IFERROR(VLOOKUP(A21,'MEMORIAL DE CÁLCULO'!$A$1:$I$5085,6,0),”NÃO ENC.”))} -> #N/A | F21: =_xlfn.xlookup(A21,'MEMORIAL DE CÁLCULO'!$C$8:$C$5086,'MEMORIAL DE CÁLCULO'!$I$8:$I$5086) -> UN. | G21: 0 | H21: =G21*E21 -> #N/A | I21: =(H21*$I$2)+H21 -> #N/A
A22: 2.5 | B22: =#VALUE! -> #VALUE! | C22: Coelhos de pelúcia | D22: REFORMA/INSTALAÇÃO/MANUTENÇÃO/RETIRADA/ACONDICIONAMENTO E ARMAZENAMENTO Coelhos de pelúcia, acervo da CONTRATANTE | E22: {=IFERROR(VLOOKUP(A22,'MEMORIAL DE CÁLCULO'!$A$1:$I$5085,6,0),”NÃO ENC.”))} -> #N/A | F22: =_xlfn.xlookup(A22,'MEMORIAL DE CÁLCULO'!$C$8:$C$5086,'MEMORIAL DE CÁLCULO'!$I$8:$I$5086) -> UN. | G22: 0 | H22: =G22*E22 -> #N/A | I22: =(H22*$I$2)+H22 -> #N/A
A23: 2.6 | B23: =#VALUE! -> #VALUE! | C23: PLACA COM LOGOTIPO "PÁSCOA EM CANELA" | D23: AQUISIÇÃO/INSTALAÇÃO/MANUTENÇÃO/RETIRADA/ACONDICIONAMENTO E ARMAZENAMENTO Placa retro iluminada, reforçada internamente com estrutura em metalon, revestidas em acrílico. | E23: {=IFERROR(VLOOKUP(A23,'MEMORIAL DE CÁLCULO'!$A$1:$I$5085,6,0),”NÃO ENC.”))} -> #N/A | F23: =_xlfn.xlookup(A23,'MEMORIAL DE CÁLCULO'!$C$8:$C$5086,'MEMORIAL DE CÁLCULO'!$I$8:$I$5086) -> UN. | G23: 0 | H23: =G23*E23 -> #N/A | I23: =(H23*$I$2)+H23 -> #N/A
A24: 2.7 | B24: =#VALUE! -> #VALUE! | C24: Fita de LED PLACA COM LOGOTIPO "PÁSCOA EM CANELA" | D24: AQUISIÇÃO/INSTALAÇÃO/MANUTENÇÃO/RETIRADA/ACONDICIONAMENTO E ARMAZENAMENTO Fita de LED ref.: neon branco frio 12V CC 600 SMD2835 bivolt, luz de corda à prova d'água – IP68 | E24: {=IFERROR(VLOOKUP(A24,'MEMORIAL DE CÁLCULO'!$A$1:$I$5085,6,0),”NÃO ENC.”))} -> #N/A | F24: =_xlfn.xlookup(A24,'MEMORIAL DE CÁLCULO'!$C$8:$C$5086,'MEMORIAL DE CÁLCULO'!$I$8:$I$5086) -> M | G24: 0 | H24: =G24*E24 -> #N/A | I24: =(H24*$I$2)+H24 -> #N/A
A25: 2.8 | B25: =#VALUE! -> #VALUE! | C25: ‘COELHO COM PÁ’ EM FIBRA DE VIDRO | D25: AQUISIÇÃO/INSTALAÇÃO/MANUTENÇÃO/RETIRADA/ACONDICIONAMENTO E ARMAZENAMENTO Esculturas ‘coelho com pá’, em fibra de vidro, nas dimensões 315cm de altura, 150cm de largura e 120cm de profundidade. | E25: {=IFERROR(VLOOKUP(A25,'MEMORIAL DE CÁLCULO'!$A$1:$I$5085,6,0),”NÃO ENC.”))} -> #N/A | F25: =_xlfn.xlookup(A25,'MEMORIAL DE CÁLCULO'!$C$8:$C$5086,'MEMORIAL DE CÁLCULO'!$I$8:$I$5086) -> UN. | G25: 0 | H25: =G25*E25 -> #N/A | I25: =(H25*$I$2)+H25 -> #N/A
A26: 2.9 | B26: =#VALUE! -> #VALUE! | C26: OVOS DE FIBRA | D26: AQUISIÇÃO/INSTALAÇÃO/MANUTENÇÃO/RETIRADA/ACONDICIONAMENTO E ARMAZENAMENTO Ovos de fibra nas dimensões 120cm de largura, 120cm de profundidade e 160cm de altura | E26: {=IFERROR(VLOOKUP(A26,'MEMORIAL DE CÁLCULO'!$A$1:$I$5085,6,0),”NÃO ENC.”))} -> #N/A | F26: =_xlfn.xlookup(A26,'MEMORIAL DE CÁLCULO'!$C$8:$C$5086,'MEMORIAL DE CÁLCULO'!$I$8:$I$5086) -> UN. | G26: 0 | H26: =G26*E26 -> #N/A | I26: =(H26*$I$2)+H26 -> #N/A
A27: 2.10 | B27: =#VALUE! -> #VALUE! | C27: OVOS DE FIBRA | D27: REFORMA/INSTALAÇÃO/MANUTENÇÃO/RETIRADA/ACONDICIONAMENTO E ARMAZENAMENTO Ovos de fibra nas dimensões 60cm de largura, 75cm de profundidade e 60cm de altura - ACERVO CONTRATANTE | E27: {=IFERROR(VLOOKUP(A27,'MEMORIAL DE CÁLCULO'!$A$1:$I$5085,6,0),”NÃO ENC.”))} -> #N/A | F27: =_xlfn.xlookup(A27,'MEMORIAL DE CÁLCULO'!$C$8:$C$5086,'MEMORIAL DE CÁLCULO'!$I$8:$I$5086) -> UN. | G27: 0 | H27: =G27*E27 -> #N/A | I27: =(H27*$I$2)+H27 -> #N/A
A28: 2.11 | B28: =#VALUE! -> #VALUE! | C28: OVOS DE FIBRA | D28: REFORMA/INSTALAÇÃO/MANUTENÇÃO/RETIRADA/ACONDICIONAMENTO E ARMAZENAMENTO Ovos de fibra nas dimensões 90cm de largura, 95cm de profundidade e 90cm de altura - ACERVO CONTRATANTE | E28: {=IFERROR(VLOOKUP(A28,'MEMORIAL DE CÁLCULO'!$A$1:$I$5085,6,0),”NÃO ENC.”))} -> #N/A | F28: =_xlfn.xlookup(A28,'MEMORIAL DE CÁLCULO'!$C$8:$C$5086,'MEMORIAL DE CÁLCULO'!$I$8:$I$5086) -> UN. | G28: 0 | H28: =G28*E28 -> #N/A | I28: =(H28*$I$2)+H28 -> #N/A
A29: 2.12 | B29: =#VALUE! -> #VALUE! | C29: COELHO ESCALANDO OVO | D29: AQUISIÇÃO/INSTALAÇÃO/MANUTENÇÃO/RETIRADA/ACONDICIONAMENTO E ARMAZENAMENTO Coelhos em fibra de vidro nas dimensões 60cm de largura, 105cm de comprimento e 85cm de altura | E29: {=IFERROR(VLOOKUP(A29,'MEMORIAL DE CÁLCULO'!$A$1:$I$5085,6,0),”NÃO ENC.”))} -> #N/A | F29: =_xlfn.xlookup(A29,'MEMORIAL DE CÁLCULO'!$C$8:$C$5086,'MEMORIAL DE CÁLCULO'!$I$8:$I$5086) -> UN. | G29: 0 | H29: =G29*E29 -> #N/A | I29: =(H29*$I$2)+H29 -> #N/A
A30: 2.13 | B30: =#VALUE! -> #VALUE! | C30: COELHO COM OVO | D30: AQUISIÇÃO/INSTALAÇÃO/MANUTENÇÃO/RETIRADA/ACONDICIONAMENTO E ARMAZENAMENTO Coelho segurando ovo de Páscoa, em fibra de vidro, acabamento em tinta epóxi Suvinil ou similar, dimensões 105cm de largura, 165cm de comprimento e 190cm de altura | E30: {=IFERROR(VLOOKUP(A30,'MEMORIAL DE CÁLCULO'!$A$1:$I$5085,6,0),”NÃO ENC.”))} -> #N/A | F30: =_xlfn.xlookup(A30,'MEMORIAL DE CÁLCULO'!$C$8:$C$5086,'MEMORIAL DE CÁLCULO'!$I$8:$I$5086) -> UN. | G30: 0 | H30: =G30*E30 -> #N/A | I30: =(H30*$I$2)+H30 -> #N/A
... A47: 2.29 | B47: =#VALUE! -> #VALUE! | C47: REFLETORES ILUMINAÇÃO CESTA na Rótula | D47: LOCAÇÃO/INSTALAÇÃO/MANUTENÇÃO/RETIRADA Refletores slim 30W 220V, luz 3000K, branca morna, IP 68 a ser instalado no piso, em torno da cesta na Rótula | E47: {=IFERROR(VLOOKUP(A47,'MEMORIAL DE CÁLCULO'!$A$1:$I$5085,6,0),”NÃO ENC.”))} -> #N/A | F47: =_xlfn.xlookup(A47,'MEMORIAL DE CÁLCULO'!$C$8:$C$5086,'MEMORIAL DE CÁLCULO'!$I$8:$I$5086) -> UN. | G47: 0 | H47: =G47*E47 -> #N/A | I47: =(H47*$I$2)+H47 -> #N/A
A48: SUBTOTAL | G48: =SUM(G18:G47) -> 0 | H48: =SUM(H41:H47) -> 0 | I48: =SUM(G48:H48) -> 0
A50: 3. PRAÇA JOÃO CORREA
A51: 3.1 | B51: =#VALUE! -> #VALUE! | C51: REFLETORES ILUMINAÇÃO árvores da praça | D51: LOCAÇÃO/INSTALAÇÃO/MANUTENÇÃO/RETIRADA - iluminação árvores da praça de baixo pra cima com refletores slim 30W 220V, luz 3000K, branca morno, IP 68 | E51: {=IFERROR(VLOOKUP(A51,'MEMORIAL DE CÁLCULO'!$A$1:$I$5085,6,0),”NÃO ENC.”))} -> #N/A | F51: =_xlfn.xlookup(A51,'MEMORIAL DE CÁLCULO'!$C$8:$C$5086,'MEMORIAL DE CÁLCULO'!$I$8:$I$5086) -> UN. | G51: 0 | H51: =G51*E51 -> #N/A | I51: =(H51*$I$2)+H51 -> #N/A
A52: 3.2 | B52: =#VALUE! -> #VALUE! | C52: OVOS ESTARES | D52: REFORMA/INSTALAÇÃO/MANUTENÇÃO/RETIRADA/ACONDICIONAMENTO E ARMAZENAMENTO Ovos estares, do acervo da CONTRATANTE | E52: {=IFERROR(VLOOKUP(A52,'MEMORIAL DE CÁLCULO'!$A$1:$I$5085,6,0),”NÃO ENC.”))} -> #N/A | F52: =_xlfn.xlookup(A52,'MEMORIAL DE CÁLCULO'!$C$8:$C$5086,'MEMORIAL DE CÁLCULO'!$I$8:$I$5086) -> UN. | G52: 0 | H52: =G52*E52 -> #N/A | I52: =(H52*$I$2)+H52 -> #N/A
A53: 3.3 | B53: =#VALUE! -> #VALUE! | C53: MANGUEIRAS DE LED ILUMINAÇÃO OVOS ESTARES | D53: AQUISIÇÃO/INSTALAÇÃO/MANUTENÇÃO/RETIRADA/ACONDICIONAMENTO E ARMAZENAMENTO 140m de mangueiras Neon Flex Branco Quente 3500K 220V, IP 68 | E53: {=IFERROR(VLOOKUP(A53,'MEMORIAL DE CÁLCULO'!$A$1:$I$5085,6,0),”NÃO ENC.”))} -> #N/A | F53: =_xlfn.xlookup(A53,'MEMORIAL DE CÁLCULO'!$C$8:$C$5086,'MEMORIAL DE CÁLCULO'!$I$8:$I$5086) -> M | G53: 0 | H53: =G53*E53 -> #N/A | I53: =(H53*$I$2)+H53 -> #N/A
A54: 3.4 | B54: =#VALUE! -> #VALUE! | C54: LAÇOS DOS EM FITA | D54: AQUISIÇÃO/INSTALAÇÃO/MANUTENÇÃO/RETIRADA/ACONDICIONAMENTO E ARMAZENAMENTO Laços duplos 80cm, cor ref.: Suvinil lilás ipê roxo ou similar em fita de Oxford 30 cm de largura, aramada, resistente ao sol, desbotamento e intempéries. Cada laço feito com, no mínimo, 600cm de fita | E54: {=IFERROR(VLOOKUP(A54,'MEMORIAL DE CÁLCULO'!$A$1:$I$5085,6,0),”NÃO ENC.”))} -> #N/A | F54: =_xlfn.xlookup(A54,'MEMORIAL DE CÁLCULO'!$C$8:$C$5086,'MEMORIAL DE CÁLCULO'!$I$8:$I$5086) -> UN. | G54: 0 | H54: =G54*E54 -> #N/A | I54: =(H54*$I$2)+H54 -> #N/A
A55: 3.5 | B55: =#VALUE! -> #VALUE! | C55: LAMPARINAS PEQUENAS | D55: REFORMA/INSTALAÇÃO/MANUTENÇÃO/RETIRADA/ACONDICIONAMENTO E ARMAZENAMENTO - Lamparinas MDF ultra 15mm, dimensões de base 40 x 40 cm e 80cm de altura - acervo da CONTRATANTE | E55: {=IFERROR(VLOOKUP(A55,'MEMORIAL DE CÁLCULO'!$A$1:$I$5085,6,0),”NÃO ENC.”))} -> #N/A | F55: =_xlfn.xlookup(A55,'MEMORIAL DE CÁLCULO'!$C$8:$C$5086,'MEMORIAL DE CÁLCULO'!$I$8:$I$5086) -> UN. | G55: 0 | H55: =G55*E55 -> #N/A | I55: =(H55*$I$2)+H55 -> #N/A
A56: 3.6 | B56: =#VALUE! -> #VALUE! | C56: ILUMINAÇÃO CONTORNO COELHOS LAMPARINAS | D56: AQUISIÇÃO/INSTALAÇÃO/MANUTENÇÃO/RETIRADA/ACONDICIONAMENTO E ARMAZENAMENTO Fita LED Neon Flex cor verde 220V IP 68 | E56: {=IFERROR(VLOOKUP(A56,'MEMORIAL DE CÁLCULO'!$A$1:$I$5085,6,0),”NÃO ENC.”))} -> #N/A | F56: =_xlfn.xlookup(A56,'MEMORIAL DE CÁLCULO'!$C$8:$C$5086,'MEMORIAL DE CÁLCULO'!$I$8:$I$5086) -> M | G56: 0 | H56: =G56*E56 -> #N/A | I56: =(H56*$I$2)+H56 -> #N/A
A57: 3.7 | B57: =#VALUE! -> #VALUE! | C57: ILUMINAÇÃO LAMPARINAS | D57: AQUISIÇÃO/INSTALAÇÃO/MANUTENÇÃO/RETIRADA/ACONDICIONAMENTO E ARMAZENAMENTO Lâmpadas tubulares LED T8 60cm 10W cor branco frio 6.500K IP67 | E57: {=IFERROR(VLOOKUP(A57,'MEMORIAL DE CÁLCULO'!$A$1:$I$5085,6,0),”NÃO ENC.”))} -> #N/A | F57: =_xlfn.xlookup(A57,'MEMORIAL DE CÁLCULO'!$C$8:$C$5086,'MEMORIAL DE CÁLCULO'!$I$8:$I$5086) -> UN. | G57: 0 | H57: =G57*E57 -> #N/A | I57: =(H57*$I$2)+H57 -> #N/A
A58: 3.8 | B58: =#VALUE! -> #VALUE! | C58: BASE DE FERRO PARA FIXAÇÃO DE LAMPARINAS | D58: REFORMA/INSTALAÇÃO/MANUTENÇÃO/RETIRADA/ACONDICIONAMENTO E ARMAZENAMENTO BASE DE FERRO PARA LAMPARINAS | E58: {=IFERROR(VLOOKUP(A58,'MEMORIAL DE CÁLCULO'!$A$1:$I$5085,6,0),”NÃO ENC.”))} -> #N/A | F58: =_xlfn.xlookup(A58,'MEMORIAL DE CÁLCULO'!$C$8:$C$5086,'MEMORIAL DE CÁLCULO'!$I$8:$I$5086) -> UN. | G58: 0 | H58: =G58*E58 -> #N/A | I58: =(H58*$I$2)+H58 -> #N/A
A59: 3.9 | B59: =#VALUE! -> #VALUE! | C59: PORTAIS DECORADOS | D59: REFORMA/INSTALAÇÃO/MANUTENÇÃO/RETIRADA/ACONDICIONAMENTO E ARMAZENAMENTO Portais confeccionados em estrutura metálica e festão - acervo da CONTRATANTE | E59: {=IFERROR(VLOOKUP(A59,'MEMORIAL DE CÁLCULO'!$A$1:$I$5085,6,0),”NÃO ENC.”))} -> #N/A | F59: =_xlfn.xlookup(A59,'MEMORIAL DE CÁLCULO'!$C$8:$C$5086,'MEMORIAL DE CÁLCULO'!$I$8:$I$5086) -> UN. | G59: 0 | H59: =G59*E59 -> #N/A | I59: =(H59*$I$2)+H59 -> #N/A
A60: 3.10 | B60: =#VALUE! -> #VALUE! | C60: Ovos de Páscoa em fibra h=40cm | D60: REFORMA/INSTALAÇÃO/MANUTENÇÃO/RETIRADA/ACONDICIONAMENTO E ARMAZENAMENTO Ovos de Páscoa (01 em cada portal), tamanho 90cm - COR JUJUBA ROSA | E60: {=IFERROR(VLOOKUP(A60,'MEMORIAL DE CÁLCULO'!$A$1:$I$5085,6,0),”NÃO ENC.”))} -> #N/A | F60: =_xlfn.xlookup(A60,'MEMORIAL DE CÁLCULO'!$C$8:$C$5086,'MEMORIAL DE CÁLCULO'!$I$8:$I$5086) -> UN. | G60: 0 | H60: =G60*E60 -> #N/A | I60: =(H60*$I$2)+H60 -> #N/A
A61: 3.11 | B61: =#VALUE! -> #VALUE! | C61: Ovos de Páscoa em fibra h=40cm | D61: AQUISIÇÃO/INSTALAÇÃO/MANUTENÇÃO/RETIRADA/ACONDICIONAMENTO E ARMAZENAMENTO Ovos de Páscoa (01 em cada portal), tamanho 40cm - COR JUJUBA ROSA | E61: {=IFERROR(VLOOKUP(A61,'MEMORIAL DE CÁLCULO'!$A$1:$I$5085,6,0),”NÃO ENC.”))} -> #N/A | F61: =_xlfn.xlookup(A61,'MEMORIAL DE CÁLCULO'!$C$8:$C$5086,'MEMORIAL DE CÁLCULO'!$I$8:$I$5086) -> UN. | G61: 0 | H61: =G61*E61 -> #N/A | I61: =(H61*$I$2)+H61 -> #N/A
A62: 3.12 | B62: =#VALUE! -> #VALUE! | C62: Ovos de Páscoa em fibra h=30cm | D62: AQUISIÇÃO/INSTALAÇÃO/MANUTENÇÃO/RETIRADA/ACONDICIONAMENTO E ARMAZENAMENTO - Ovos de Páscoa (dois em cada portal), tamanho 30cm - COR VERDE ALTO DA COLINA | E62: {=IFERROR(VLOOKUP(A62,'MEMORIAL DE CÁLCULO'!$A$1:$I$5085,6,0),”NÃO ENC.”))} -> #N/A | F62: =_xlfn.xlookup(A62,'MEMORIAL DE CÁLCULO'!$C$8:$C$5086,'MEMORIAL DE CÁLCULO'!$I$8:$I$5086) -> UN. | G62: 0 | H62: =G62*E62 -> #N/A | I62: =(H62*$I$2)+H62 -> #N/A
... A85: 3.35 | B85: =#VALUE! -> #VALUE! | C85: REFLETORES ILUMINAÇÃO GERAL DA PRAÇA JOÃO CORREA | D85: LOCAÇÃO/INSTALAÇÃO/MANUTENÇÃO/RETIRADA - Refletores vapor de sódio, potência 400W, reator embutido e lâmpada incluídos | E85: {=IFERROR(VLOOKUP(A85,'MEMORIAL DE CÁLCULO'!$A$1:$I$5085,6,0),”NÃO ENC.”))} -> #N/A | F85: =_xlfn.xlookup(A85,'MEMORIAL DE CÁLCULO'!$C$8:$C$5086,'MEMORIAL DE CÁLCULO'!$I$8:$I$5086) -> UN. | G85: 0 | H85: =G85*E85 -> #N/A | I85: =(H85*$I$2)+H85 -> #N/A
A86: SUBTOTAL | G86: =SUM(G79:G85) -> 0 | H86: =SUM(H79:H85) -> 0 | I86: =SUM(G86:H86) -> 0
A88: 4. AV. FELISBERTO SOARES
A89: 4.1 | B89: =#VALUE! -> #VALUE! | C89: ARCOS AV. FELISBERTO SOARES – QUADRA PRAÇA MATRIZ | D89: REFORMA/INSTALAÇÃO/MANUTENÇÃO/RETIRADA/ACONDICIONAMENTO E ARMAZENAMENTO - Arcos luminosos, do acervo da CONTRATANTE, confeccionados em forma de arco-íris com leve curvatura | E89: {=IFERROR(VLOOKUP(A89,'MEMORIAL DE CÁLCULO'!$A$1:$I$5085,6,0),”NÃO ENC.”))} -> #N/A | F89: =_xlfn.xlookup(A89,'MEMORIAL DE CÁLCULO'!$C$8:$C$5086,'MEMORIAL DE CÁLCULO'!$I$8:$I$5086) -> UN. | G89: 0 | H89: =G89*E89 -> #N/A | I89: =(H89*$I$2)+H89 -> #N/A
A90: 4.2 | B90: =#VALUE! -> #VALUE! | C90: BASE METÁLICA ARCOS AV. FELISBERTO SOARES – QUADRA PRAÇA MATRIZ | D90: AQUISIÇÃO/INSTALAÇÃO/MANUTENÇÃO/RETIRADA/ACONDICIONAMENTO E ARMAZENAMENTO - Base metálica produzida em chapa quadrada 0,5mm para fixação das peças junto ao piso | E90: {=IFERROR(VLOOKUP(A90,'MEMORIAL DE CÁLCULO'!$A$1:$I$5085,6,0),”NÃO ENC.”))} -> #N/A | F90: =_xlfn.xlookup(A90,'MEMORIAL DE CÁLCULO'!$C$8:$C$5086,'MEMORIAL DE CÁLCULO'!$I$8:$I$5086) -> M² | G90: 0 | H90: =G90*E90 -> #N/A | I90: =(H90*$I$2)+H90 -> #N/A
A91: 4.3 | B91: =#VALUE! -> #VALUE! | C91: PARABOLT DE FIXAÇÃO DA BASE METÁLICA DOS ARCOS | D91: AQUISIÇÃO/INSTALAÇÃO/MANUTENÇÃO/RETIRADA/ACONDICIONAMENTO E ARMAZENAMENTO -Parabolt de fixação | E91: {=IFERROR(VLOOKUP(A91,'MEMORIAL DE CÁLCULO'!$A$1:$I$5085,6,0),”NÃO ENC.”))} -> #N/A | F91: =_xlfn.xlookup(A91,'MEMORIAL DE CÁLCULO'!$C$8:$C$5086,'MEMORIAL DE CÁLCULO'!$I$8:$I$5086) -> UN. | G91: 0 | H91: =G91*E91 -> #N/A | I91: =(H91*$I$2)+H91 -> #N/A
A92: 4.4 | B92: =#VALUE! -> #VALUE! | C92: OVOS DE PÁSCOA ARCOS AV. FELISBERTO SOARES – QUADRA PRAÇA MATRIZ | D92: AQUISIÇÃO/INSTALAÇÃO/MANUTENÇÃO/RETIRADA/ACONDICIONAMENTO E ARMAZENAMENTO - Ovo de Páscoa em fibra de vidro, h= 180cm - COR: LARANJA DAMASCO | E92: {=IFERROR(VLOOKUP(A92,'MEMORIAL DE CÁLCULO'!$A$1:$I$5085,6,0),”NÃO ENC.”))} -> #N/A | F92: =_xlfn.xlookup(A92,'MEMORIAL DE CÁLCULO'!$C$8:$C$5086,'MEMORIAL DE CÁLCULO'!$I$8:$I$5086) -> UN. | G92: 0 | H92: =G92*E92 -> #N/A | I92: =(H92*$I$2)+H92 -> #N/A
A93: 4.5 | B93: =#VALUE! -> #VALUE! | C93: OVOS DE PÁSCOA ARCOS AV. FELISBERTO SOARES – QUADRA PRAÇA MATRIZ | D93: REFORMA/INSTALAÇÃO/MANUTENÇÃO/RETIRADA/ACONDICIONAMENTO E ARMAZENAMENTO - Ovo de Páscoa em fibra de vidro h=90cm COR: AZUL OCEANO ATRLÂNTICO - ACERVO DA CONTRATANTE | E93: {=IFERROR(VLOOKUP(A93,'MEMORIAL DE CÁLCULO'!$A$1:$I$5085,6,0),”NÃO ENC.”))} -> #N/A | F93: =_xlfn.xlookup(A93,'MEMORIAL DE CÁLCULO'!$C$8:$C$5086,'MEMORIAL DE CÁLCULO'!$I$8:$I$5086) -> UN. | G93: 0 | H93: =G93*E93 -> #N/A | I93: =(H93*$I$2)+H93 -> #N/A
A94: 4.6 | B94: =#VALUE! -> #VALUE! | C94: OVOS DE PÁSCOA ARCOS AV. FELISBERTO SOARES – QUADRA PRAÇA MATRIZ | D94: AQUISIÇÃO/INSTALAÇÃO/MANUTENÇÃO/RETIRADA/ACONDICIONAMENTO E ARMAZENAMENTO - Ovo de Páscoa em fibra de vidro, h= 140cm - COR: ROSA CHOQUE | E94: {=IFERROR(VLOOKUP(A94,'MEMORIAL DE CÁLCULO'!$A$1:$I$5085,6,0),”NÃO ENC.”))} -> #N/A | F94: =_xlfn.xlookup(A94,'MEMORIAL DE CÁLCULO'!$C$8:$C$5086,'MEMORIAL DE CÁLCULO'!$I$8:$I$5086) -> UN. | G94: 0 | H94: =G94*E94 -> #N/A | I94: =(H94*$I$2)+H94 -> #N/A
A95: 4.7 | B95: =#VALUE! -> #VALUE! | C95: ADESIVOS OVOS DE PÁSCOA ARCOS AV. FELISBERTO SOARES – QUADRA PRAÇA MATRIZ | D95: AQUISIÇÃO/INSTALAÇÃO/MANUTENÇÃO/RETIRADA/ACONDICIONAMENTO E ARMAZENAMENTO - ADESIVOS logotipo ‘Páscoa em Canela’ - arte será fornecida pela CONTRATANTE | E95: {=IFERROR(VLOOKUP(A95,'MEMORIAL DE CÁLCULO'!$A$1:$I$5085,6,0),”NÃO ENC.”))} -> #N/A | F95: =_xlfn.xlookup(A95,'MEMORIAL DE CÁLCULO'!$C$8:$C$5086,'MEMORIAL DE CÁLCULO'!$I$8:$I$5086) -> UN. | G95: 0 | H95: =G95*E95 -> #N/A | I95: =(H95*$I$2)+H95 -> #N/A
A96: 4.8 | B96: =#VALUE! -> #VALUE! | C96: OVOS DE PÁSCOA COM ORELHAS ARCOS AV. FELISBERTO SOARES – QUADRA PRAÇA MATRIZ | D96: REFORMA/INSTALAÇÃO/MANUTENÇÃO/RETIRADA/ACONDICIONAMENTO E ARMAZENAMENTO - Ovos de Páscoa em fibra de vidro, 90cm de altura - COR ROSA CHOQUE - ACERVO CONTRATANTE | E96: {=IFERROR(VLOOKUP(A96,'MEMORIAL DE CÁLCULO'!$A$1:$I$5085,6,0),”NÃO ENC.”))} -> #N/A | F96: =_xlfn.xlookup(A96,'MEMORIAL DE CÁLCULO'!$C$8:$C$5086,'MEMORIAL DE CÁLCULO'!$I$8:$I$5086) -> UN. | G96: 0 | H96: =G96*E96 -> #N/A | I96: =(H96*$I$2)+H96 -> #N/A
A97: 4.9 | B97: =#VALUE! -> #VALUE! | C97: ADESIVOS OVOS DE COM ORELHAS ARCOS AV. FELISBERTO SOARES – QUADRA PRAÇA MATRIZ | D97: AQUISIÇÃO/INSTALAÇÃO/MANUTENÇÃO/RETIRADA/ACONDICIONAMENTO E ARMAZENAMENTO - ADESIVOS logotipo ‘Páscoa em Canela’ - arte será fornecida pela CONTRATANTE | E97: {=IFERROR(VLOOKUP(A97,'MEMORIAL DE CÁLCULO'!$A$1:$I$5085,6,0),”NÃO ENC.”))} -> #N/A | F97: =_xlfn.xlookup(A97,'MEMORIAL DE CÁLCULO'!$C$8:$C$5086,'MEMORIAL DE CÁLCULO'!$I$8:$I$5086) -> UN. | G97: 0 | H97: =G97*E97 -> #N/A | I97: =(H97*$I$2)+H97 -> #N/A
A98: 4.10 | B98: =#VALUE! -> #VALUE! | C98: ORELHAS EM PELE DE CORDERITO - OVOS E ARCOS | D98: AQUISIÇÃO/INSTALAÇÃO/MANUTENÇÃO/RETIRADA/ACONDICIONAMENTO E ARMAZENAMENTO - Par de orelha em pele de corderito clara e miolos rosados, altura aproximada de 60cm, confeccionadas em estrutura aramada articulável e forro em fibra 3cm | E98: {=IFERROR(VLOOKUP(A98,'MEMORIAL DE CÁLCULO'!$A$1:$I$5085,6,0),”NÃO ENC.”))} -> #N/A | F98: =_xlfn.xlookup(A98,'MEMORIAL DE CÁLCULO'!$C$8:$C$5086,'MEMORIAL DE CÁLCULO'!$I$8:$I$5086) -> UN. | G98: 0 | H98: =G98*E98 -> #N/A | I98: =(H98*$I$2)+H98 -> #N/A
A99: 4.11 | B99: =#VALUE! -> #VALUE! | C99: ARRANJOS DE FLORES SECAS TAMANHO MÍNIMO: 25 X 60cm. | D99: AQUISIÇÃO/INSTALAÇÃO/MANUTENÇÃO/RETIRADA/ACONDICIONAMENTO E ARMAZENAMENTO - Flores secas para a decoração dos arcos, tais como gérberas, girassóis, astromélias, mosquitinhos e galhos secos. Elas devem ser aplicadas na parte superior dos arcos | E99: {=IFERROR(VLOOKUP(A99,'MEMORIAL DE CÁLCULO'!$A$1:$I$5085,6,0),”NÃO ENC.”))} -> #N/A | F99: =_xlfn.xlookup(A99,'MEMORIAL DE CÁLCULO'!$C$8:$C$5086,'MEMORIAL DE CÁLCULO'!$I$8:$I$5086) -> UN. | G99: 0 | H99: =G99*E99 -> #N/A | I99: =(H99*$I$2)+H99 -> #N/A
A100: 4.12 | B100: =#VALUE! -> #VALUE! | C100: CESTAS DE PÁSCOA ARCOS AV. FELISBERTO SOARES – QUADRA PRAÇA MATRIZ - JUNTO AOS ARCOS | D100: AQUISIÇÃO/INSTALAÇÃO/MANUTENÇÃO/RETIRADA/ACONDICIONAMENTO E ARMAZENAMENTO - Cestas de/ou imitando vime, com flores secas em seu interior, que deverão ser colocadas junto aos coelhos e conjuntos de pirulitos . As cestas devem ser ovais, com dimensões aproximadas de bojo 60 x 50cm | E100: {=IFERROR(VLOOKUP(A100,'MEMORIAL DE CÁLCULO'!$A$1:$I$5085,6,0),”NÃO ENC.”))} -> #N/A | F100: =_xlfn.xlookup(A100,'MEMORIAL DE CÁLCULO'!$C$8:$C$5086,'MEMORIAL DE CÁLCULO'!$I$8:$I$5086) -> UN. | G100: 0 | H100: =G100*E100 -> #N/A | I100: =(H100*$I$2)+H100 -> #N/A
... A106: 4.18 | B106: =#VALUE! -> #VALUE! | C106: OVINHOS DE PÁSCOS h=10cm - JUNTO AO OVO COM ORELHAS | D106: AQUISIÇÃO/INSTALAÇÃO/MANUTENÇÃO/RETIRADA/ACONDICIONAMENTO E ARMAZENAMENTO - Ovinhos de Páscoa em fibra de vidro, h= 10cm, junto aos ovos de Páscoa com orelhas e vegetação de flores secas no piso | E106: {=IFERROR(VLOOKUP(A106,'MEMORIAL DE CÁLCULO'!$A$1:$I$5085,6,0),”NÃO ENC.”))} -> #N/A | F106: =_xlfn.xlookup(A106,'MEMORIAL DE CÁLCULO'!$C$8:$C$5086,'MEMORIAL DE CÁLCULO'!$I$8:$I$5086) -> UN. | G106: 0 | H106: =G106*E106 -> #N/A | I106: =(H106*$I$2)+H106 -> #N/A
A107: SUBTOTAL | G107: =SUM(G100:G106) -> 0 | H107: =SUM(H100:H106) -> 0 | I107: =SUM(G107:H107) -> 0
A109: 5. RÓTULAS AV. FELISBERTO SOARES X JÚLIO DE CASTILHOS, JÚLIO DE CASTILHOS COM JOÃO PESSOA e JÚLIO DE CASTILHOS X AUGUSTO PESTANA
A110: 5.1 | B110: =#VALUE! -> #VALUE! | C110: OVOS ESTAR RÓTULAS AV. FELISBERTO SOARES X JÚLIO DE CASTILHOS/JÚLIO DE CASTILHOS X JOÃO PESSOA/ JÚLIO DE CASTILHOS X AUGUSTO PESTANA | D110: REFORMA/INSTALAÇÃO/MANUTENÇÃO/RETIRADA/ACONDICIONAMENTO E ARMAZENAMENTO - Ovos estares em recorte eletrônico de MDF ultra 25mm, diâmetro externo 240cm e 300cm de altura - ACERVO DA CONTRATANTE | E110: {=IFERROR(VLOOKUP(A110,'MEMORIAL DE CÁLCULO'!$A$1:$I$5085,6,0),”NÃO ENC.”))} -> #N/A | F110: =_xlfn.xlookup(A110,'MEMORIAL DE CÁLCULO'!$C$8:$C$5086,'MEMORIAL DE CÁLCULO'!$I$8:$I$5086) -> UN. | G110: 0 | H110: =G110*E110 -> #N/A | I110: =(H110*$I$2)+H110 -> #N/A
A111: 5.2 | B111: =#VALUE! -> #VALUE! | C111: ILUMINAÇÃO OVOS ESTAR RÓTULAS | D111: AQUISIÇÃO/INSTALAÇÃO/MANUTENÇÃO/RETIRADA/ACONDICIONAMENTO E ARMAZENAMENTO - mangueiras Neon LED Flex Branco Quente 3500K 220V, IP 68 | E111: {=IFERROR(VLOOKUP(A111,'MEMORIAL DE CÁLCULO'!$A$1:$I$5085,6,0),”NÃO ENC.”))} -> #N/A | F111: =_xlfn.xlookup(A111,'MEMORIAL DE CÁLCULO'!$C$8:$C$5086,'MEMORIAL DE CÁLCULO'!$I$8:$I$5086) -> M | G111: 0 | H111: =G111*E111 -> #N/A | I111: =(H111*$I$2)+H111 -> 0
A112: 5.3 | B112: =#VALUE! -> #VALUE! | C112: LAÇOS OVOS ESTAR RÓTULAS | D112: AQUISIÇÃO/INSTALAÇÃO/MANUTENÇÃO/RETIRADA/ACONDICIONAMENTO E ARMAZENAMENTO - Laços de 70cm | E112: {=IFERROR(VLOOKUP(A112,'MEMORIAL DE CÁLCULO'!$A$1:$I$5085,6,0),”NÃO ENC.”))} -> #N/A | F112: =_xlfn.xlookup(A112,'MEMORIAL DE CÁLCULO'!$C$8:$C$5086,'MEMORIAL DE CÁLCULO'!$I$8:$I$5086) -> UN. | G112: 0 | H112: =G112*E112 -> #N/A | I112: =(H112*$I$2)+H112 -> #N/A
A113: 5.4 | B113: =#VALUE! -> #VALUE! | C113: COELHOS DE PÁSCOA ESCALANDO OVOS ESTAR RÓTULAS - MODELO 01 | D113: AQUISIÇÃO/INSTALAÇÃO/MANUTENÇÃO/RETIRADA/ACONDICIONAMENTO E ARMAZENAMENTO - Coelhos de pele na cor corderito clara, com estrutura aramada articulável, forro em fibra e altura aproximada de 70cm - MODELO 01 | E113: {=IFERROR(VLOOKUP(A113,'MEMORIAL DE CÁLCULO'!$A$1:$I$5085,6,0),”NÃO ENC.”))} -> #N/A | F113: =_xlfn.xlookup(A113,'MEMORIAL DE CÁLCULO'!$C$8:$C$5086,'MEMORIAL DE CÁLCULO'!$I$8:$I$5086) -> UN. | G113: 0 | H113: =G113*E113 -> #N/A | I113: =(H113*$I$2)+H113 -> #N/A
A114: 5.5 | B114: =#VALUE! -> #VALUE! | C114: COELHOS DE PÁSCOA ESCALANDO OVOS ESTAR RÓTULAS - MODELO 02 | D114: AQUISIÇÃO/INSTALAÇÃO/MANUTENÇÃO/RETIRADA/ACONDICIONAMENTO E ARMAZENAMENTO - Coelhos de pele na cor corderito clara, com estrutura aramada articulável, forro em fibra e altura aproximada de 70cm - MODELO 02 | E114: {=IFERROR(VLOOKUP(A114,'MEMORIAL DE CÁLCULO'!$A$1:$I$5085,6,0),”NÃO ENC.”))} -> #N/A | F114: =_xlfn.xlookup(A114,'MEMORIAL DE CÁLCULO'!$C$8:$C$5086,'MEMORIAL DE CÁLCULO'!$I$8:$I$5086) -> UN. | G114: 0 | H114: =G114*E114 -> #N/A | I114: =(H114*$I$2)+H114 -> 0
A115: SUBTOTAL | G115: =SUM(G108:G114) -> 0 | H115: =SUM(H108:H114) -> 0 | I115: =SUM(G115:H115) -> 0
A117: 6. AV. JÚLIO DE CASTILHOS
A118: 6.1 | B118: =#VALUE! -> #VALUE! | C118: COELHOS BANCO ESTAR AV. JÚLIO DE CASTILHOS | D118: REFORMA/INSTALAÇÃO/MANUTENÇÃO/RETIRADA/ACONDICIONAMENTO E ARMAZENAMENTO - Coelhos banco estar produzidos em MDF ultra 25mm em recorte eletrônico com faces adesivadas - ACERVO DA CONTRATANTE | E118: {=IFERROR(VLOOKUP(A118,'MEMORIAL DE CÁLCULO'!$A$1:$I$5085,6,0),”NÃO ENC.”))} -> #N/A | F118: =_xlfn.xlookup(A118,'MEMORIAL DE CÁLCULO'!$C$8:$C$5086,'MEMORIAL DE CÁLCULO'!$I$8:$I$5086) -> UN. | G118: 0 | H118: =G118*E118 -> #N/A | I118: =(H118*$I$2)+H118 -> 0
A119: 6.2 | B119: =#VALUE! -> #VALUE! | C119: COELHOS BANCO ESTAR AV. JÚLIO DE CASTILHOS | D119: AQUISIÇÃO/INSTALAÇÃO/MANUTENÇÃO/RETIRADA/ACONDICIONAMENTO E ARMAZENAMENTO - Coelhos banco estar produzidos em MDF ultra 25mm em recorte eletrônico com faces adesivadas | E119: 7 | F119: =_xlfn.xlookup(A119,'MEMORIAL DE CÁLCULO'!$C$8:$C$5086,'MEMORIAL DE CÁLCULO'!$I$8:$I$5086) -> UN. | G119: 0 | H119: =G119*E119 -> 0 | I119: =(H119*$I$2)+H119 -> 0
A120: 6.3 | B120: =#VALUE! -> #VALUE! | C120: ADESIVO COELHOS BANCO ESTAR AV. OSVALDO ARANHA | D120: AQUISIÇÃO/INSTALAÇÃO/MANUTENÇÃO/RETIRADA/ACONDICIONAMENTO E ARMAZENAMENTO - As faces dos coelhos devem ser adesivadas em padrão xadrez, com fundo branco e rosa e branco e laranja, conforme referência figura 88 | E120: 7 | F120: =_xlfn.xlookup(A120,'MEMORIAL DE CÁLCULO'!$C$8:$C$5086,'MEMORIAL DE CÁLCULO'!$I$8:$I$5086) -> UN. | G120: 0 | H120: =G120*E120 -> 0 | I120: =(H120*$I$2)+H120 -> 0
A121: 6.4 | B121: =#VALUE! -> #VALUE! | C121: FITA LED COELHOS BANCO ESTAR AV. JÚLIO DE CASTILHOS | D121: AQUISIÇÃO/INSTALAÇÃO/MANUTENÇÃO/RETIRADA/ACONDICIONAMENTO E ARMAZENAMENTO - Iluminação em fita LED temperatura de cor 3000K branco quente, bivolt 100/240V-1A, grau de proteção IP68 | E121: {=IFERROR(VLOOKUP(A121,'MEMORIAL DE CÁLCULO'!$A$1:$I$5085,6,0),”NÃO ENC.”))} -> #N/A | F121: =_xlfn.xlookup(A121,'MEMORIAL DE CÁLCULO'!$C$8:$C$5086,'MEMORIAL DE CÁLCULO'!$I$8:$I$5086) -> M | G121: 0 | H121: =G121*E121 -> #N/A | I121: =(H121*$I$2)+H121 -> #N/A
A122: 6.5 | B122: =#VALUE! -> #VALUE! | C122: LAÇOS COELHOS BANCO ESTAR AV. JÚLIO DE CASTILHOS | D122: AQUISIÇÃO/INSTALAÇÃO/MANUTENÇÃO/RETIRADA/ACONDICIONAMENTO E ARMAZENAMENTO - Laços confeccionados com 600cm de fita Oxford, 80cm de largura, cor ref.: Suvinil lilás ipê roxo, duplos, laço L=40cm e estrutura aramada | E122: {=IFERROR(VLOOKUP(A122,'MEMORIAL DE CÁLCULO'!$A$1:$I$5085,6,0),”NÃO ENC.”))} -> #N/A | F122: =_xlfn.xlookup(A122,'MEMORIAL DE CÁLCULO'!$C$8:$C$5086,'MEMORIAL DE CÁLCULO'!$I$8:$I$5086) -> UN. | G122: 0 | H122: =G122*E122 -> #N/A | I122: =(H122*$I$2)+H122 -> #N/A
A123: 6.6 | B123: =#VALUE! -> #VALUE! | C123: GUIRLANDAS AV. JÚLIO DE CASTILHOS | D123: REFORMA/INSTALAÇÃO/MANUTENÇÃO/RETIRADA/ACONDICIONAMENTO E ARMAZENAMENTO - Guirlandas, ø100cm, em festão fougeron 40cm de largura, cheia e farta, com no mínimo 500 pontas - acervo da CONTRATANTE | E123: 36 | F123: =_xlfn.xlookup(A123,'MEMORIAL DE CÁLCULO'!$C$8:$C$5086,'MEMORIAL DE CÁLCULO'!$I$8:$I$5086) -> UN. | G123: 0 | H123: =G123*E123 -> 0 | I123: =(H123*$I$2)+H123 -> 0
A124: 6.7 | B124: =#VALUE! -> #VALUE! | C124: OVINHOS DE PASCOA GUIRLANDAS AV. JÚLIO DE CASTILHOS | D124: AQUISIÇÃO/INSTALAÇÃO/MANUTENÇÃO/RETIRADA/ACONDICIONAMENTO E ARMAZENAMENTO - Ovinhos de Páscoa em fibra de vidro, h=15cm, em cores conforme referência | E124: {=IFERROR(VLOOKUP(A124,'MEMORIAL DE CÁLCULO'!$A$1:$I$5085,6,0),”NÃO ENC.”))} -> #N/A | F124: =_xlfn.xlookup(A124,'MEMORIAL DE CÁLCULO'!$C$8:$C$5086,'MEMORIAL DE CÁLCULO'!$I$8:$I$5086) -> UN. | G124: 0 | H124: =G124*E124 -> #N/A | I124: =(H124*$I$2)+H124 -> #N/A
A125: 6.8 | B125: =#VALUE! -> #VALUE! | C125: COELHOS AV. JÚLIO DE CASTILHOS | D125: AQUISIÇÃO/INSTALAÇÃO/MANUTENÇÃO/RETIRADA/ACONDICIONAMENTO E ARMAZENAMENTO - Coelhos em pele de corderito claro, h=30cm, vestidos com jardineiras jeans e camisas xadrez, posicionados cada qual em poses diferentes nas guirlandas | E125: {=IFERROR(VLOOKUP(A125,'MEMORIAL DE CÁLCULO'!$A$1:$I$5085,6,0),”NÃO ENC.”))} -> #N/A | F125: =_xlfn.xlookup(A125,'MEMORIAL DE CÁLCULO'!$C$8:$C$5086,'MEMORIAL DE CÁLCULO'!$I$8:$I$5086) -> UN. | G125: 0 | H125: =G125*E125 -> #N/A | I125: =(H125*$I$2)+H125 -> #N/A
A126: 6.9 | B126: =#VALUE! -> #VALUE! | C126: FLORES SECAS GUIRLANDAS AV. JÚLIO DE CASTILHOS | D126: AQUISIÇÃO/INSTALAÇÃO/MANUTENÇÃO/RETIRADA/ACONDICIONAMENTO E ARMAZENAMENTO - Arranjos com flores secas, tais como gérberas, astromélias, girassóis, mosquitinhos e galhos de cipó - espalhar flores pelo corpo das guirlandas | E126: {=IFERROR(VLOOKUP(A126,'MEMORIAL DE CÁLCULO'!$A$1:$I$5085,6,0),”NÃO ENC.”))} -> #N/A | F126: =_xlfn.xlookup(A126,'MEMORIAL DE CÁLCULO'!$C$8:$C$5086,'MEMORIAL DE CÁLCULO'!$I$8:$I$5086) -> UN. | G126: 0 | H126: =G126*E126 -> #N/A | I126: =(H126*$I$2)+H126 -> #N/A
A127: 6.10 | B127: =#VALUE! -> #VALUE! | C127: LAÇOS GUIRLANDAS AV. JÚLIO DE CASTILHOS | D127: AQUISIÇÃO/INSTALAÇÃO/MANUTENÇÃO/RETIRADA/ACONDICIONAMENTO E ARMAZENAMENTO - Laços de fita em tecido Oxford espessura 5cm, largura máxima de 15cm, nas mesmas cores dos ovinhos de Páscoa, estruturados com forro de espuma 1cm e arame | E127: {=IFERROR(VLOOKUP(A127,'MEMORIAL DE CÁLCULO'!$A$1:$I$5085,6,0),”NÃO ENC.”))} -> #N/A | F127: =_xlfn.xlookup(A127,'MEMORIAL DE CÁLCULO'!$C$8:$C$5086,'MEMORIAL DE CÁLCULO'!$I$8:$I$5086) -> UN. | G127: 0 | H127: =G127*E127 -> #N/A | I127: =(H127*$I$2)+H127 -> #N/A
A128: 6.11 | B128: =#VALUE! -> #VALUE! | C128: ILUMINAÇÃO LED GUIRLANDAS AV. JÚLIO DE CASTILHOS | D128: AQUISIÇÃO/INSTALAÇÃO/MANUTENÇÃO/RETIRADA/ACONDICIONAMENTO E ARMAZENAMENTO - Cordões de microlâmpadas LED com fio verde, tem. cor 3000K branco quente, voltagem bivolt 100/240V-1A, grau de proteção IP68 - Comprimento 4m | E128: {=IFERROR(VLOOKUP(A128,'MEMORIAL DE CÁLCULO'!$A$1:$I$5085,6,0),”NÃO ENC.”))} -> #N/A | F128: =_xlfn.xlookup(A128,'MEMORIAL DE CÁLCULO'!$C$8:$C$5086,'MEMORIAL DE CÁLCULO'!$I$8:$I$5086) -> UN. | G128: 0 | H128: =G128*E128 -> #N/A | I128: =(H128*$I$2)+H128 -> #N/A
A129: 6.12 | B129: =#VALUE! -> #VALUE! | C129: ILUMINAÇÃO ESTROBO GUIRLANDAS AV. JÚLIO DE CASTILHOS | D129: REFORMA/INSTALAÇÃO/MANUTENÇÃO/RETIRADA/ACONDICIONAMENTO E ARMAZENAMENTO - Três lâmpadas estrobo cada GUIRLANDA - acervo da CONTRATANTE. | E129: {=IFERROR(VLOOKUP(A129,'MEMORIAL DE CÁLCULO'!$A$1:$I$5085,6,0),”NÃO ENC.”))} -> #N/A | F129: =_xlfn.xlookup(A129,'MEMORIAL DE CÁLCULO'!$C$8:$C$5086,'MEMORIAL DE CÁLCULO'!$I$8:$I$5086) -> UN. | G129: 0 | H129: =G129*E129 -> #N/A | I129: =(H129*$I$2)+H129 -> #N/A
A130: 6.13 | B130: =#VALUE! -> #VALUE! | C130: OVOS CACHEPÔ AV. JÚLIO DE CASTILHOS | D130: AQUISIÇÃO/INSTALAÇÃO/MANUTENÇÃO/RETIRADA/ACONDICIONAMENTO E ARMAZENAMENTO - Ovos de fibra de vidro com cachepô em madeira - h=100cm - acervo da CONTRATANTE | E130: {=IFERROR(VLOOKUP(A130,'MEMORIAL DE CÁLCULO'!$A$1:$I$5085,6,0),”NÃO ENC.”))} -> #N/A | F130: =_xlfn.xlookup(A130,'MEMORIAL DE CÁLCULO'!$C$8:$C$5086,'MEMORIAL DE CÁLCULO'!$I$8:$I$5086) -> UN. | G130: 0 | H130: =G130*E130 -> #N/A | I130: =(H130*$I$2)+H130 -> #N/A
A131: 6.14 | B131: =#VALUE! -> #VALUE! | C131: ADESIVOS LOGO OVOS CACHEPÔ AV. JÚLIO DE CASTILHOS | D131: AQUISIÇÃO/INSTALAÇÃO/MANUTENÇÃO/RETIRADA/ACONDICIONAMENTO E ARMAZENAMENTO - Em todos os ovos deverá ser aplicado o logo ‘Páscoa em Canela’, cuja arte será fornecida pela CONTRATANTE | E131: {=IFERROR(VLOOKUP(A131,'MEMORIAL DE CÁLCULO'!$A$1:$I$5085,6,0),”NÃO ENC.”))} -> #N/A | F131: =_xlfn.xlookup(A131,'MEMORIAL DE CÁLCULO'!$C$8:$C$5086,'MEMORIAL DE CÁLCULO'!$I$8:$I$5086) -> UN. | G131: 0 | H131: =G131*E131 -> #N/A | I131: =(H131*$I$2)+H131 -> #N/A
A132: 6.15 | B132: =#VALUE! -> #VALUE! | C132: CACHEPÔ DE MADEIRA OVOS CACHEPÔ AV. JÚLIO DE CASTILHOS | D132: REFORMA/INSTALAÇÃO/MANUTENÇÃO/RETIRADA/ACONDICIONAMENTO E ARMAZENAMENTO - Cachepôs em madeira, acervo da CONTRATANTE | E132: {=IFERROR(VLOOKUP(A132,'MEMORIAL DE CÁLCULO'!$A$1:$I$5085,6,0),”NÃO ENC.”))} -> #N/A | F132: =_xlfn.xlookup(A132,'MEMORIAL DE CÁLCULO'!$C$8:$C$5086,'MEMORIAL DE CÁLCULO'!$I$8:$I$5086) -> UN. | G132: 0 | H132: =G132*E132 -> #N/A | I132: =(H132*$I$2)+H132 -> #N/A
A133: 6.16 | B133: =#VALUE! -> #VALUE! | C133: CACHEPÔ DE MADEIRA OVOS CACHEPÔ AV. JÚLIO DE CASTILHOS | D133: AQUISIÇÃO/INSTALAÇÃO/MANUTENÇÃO/RETIRADA/ACONDICIONAMENTO E ARMAZENAMENTO - Cachepôs em madeira | E133: {=IFERROR(VLOOKUP(A133,'MEMORIAL DE CÁLCULO'!$A$1:$I$5085,6,0),”NÃO ENC.”))} -> #N/A | F133: =_xlfn.xlookup(A133,'MEMORIAL DE CÁLCULO'!$C$8:$C$5086,'MEMORIAL DE CÁLCULO'!$I$8:$I$5086) -> UN. | G133: 0 | H133: =G133*E133 -> #N/A | I133: =(H133*$I$2)+H133 -> #N/A
A134: 6.17 | B134: =#VALUE! -> #VALUE! | C134: LAÇOS CACHEPÔ DE MADEIRA OVOS CACHEPÔ AV. JÚLIO DE CASTILHOS | D134: AQUISIÇÃO/INSTALAÇÃO/MANUTENÇÃO/RETIRADA/ACONDICIONAMENTO E ARMAZENAMENTO - Laços em tecido Oxford, resistente às intempéries, desbotamento e raios UV - estruturado com forro de espuma 2cm, arame com pontas duplas - dimensões 40cm x 40cm | E134: {=IFERROR(VLOOKUP(A134,'MEMORIAL DE CÁLCULO'!$A$1:$I$5085,6,0),”NÃO ENC.”))} -> #N/A | F134: =_xlfn.xlookup(A134,'MEMORIAL DE CÁLCULO'!$C$8:$C$5086,'MEMORIAL DE CÁLCULO'!$I$8:$I$5086) -> UN. | G134: 0 | H134: =G134*E134 -> #N/A | I134: =(H134*$I$2)+H134 -> #N/A
A135: SUBTOTAL | G135: =SUM(G128:G134) -> 0 | H135: =SUM(H128:H134) -> 0 | I135: =SUM(G135:H135) -> 0
A137: 7. AV. OSWALDO ARANHA
A138: 7.1 | B138: =#VALUE! -> #VALUE! | C138: COELHOS BANCO ESTAR AV. OSWALDO ARANHA | D138: AQUISIÇÃO/INSTALAÇÃO/MANUTENÇÃO/RETIRADA/ACONDICIONAMENTO E ARMAZENAMENTO - Coelhos banco estar produzidos em MDF ultra 25mm em recorte eletrônico | E138: {=IFERROR(VLOOKUP(A138,'MEMORIAL DE CÁLCULO'!$A$1:$I$5085,6,0),”NÃO ENC.”))} -> #N/A | F138: =_xlfn.xlookup(A138,'MEMORIAL DE CÁLCULO'!$C$8:$C$5086,'MEMORIAL DE CÁLCULO'!$I$8:$I$5086) -> UN. | G138: 0 | H138: =G138*E138 -> #N/A | I138: =(H138*$I$2)+H138 -> #N/A
A139: 7.2 | B139: =#VALUE! -> #VALUE! | C139: ADESIVO COELHOS BANCO ESTAR AV. OSVALDO ARANHA | D139: AQUISIÇÃO/INSTALAÇÃO/MANUTENÇÃO/RETIRADA/ACONDICIONAMENTO E ARMAZENAMENTO - As faces dos coelhos devem ser adesivadas em padrão xadrez, com fundo branco e rosa e branco e laranja, conforme referência figura 88 | E139: {=IFERROR(VLOOKUP(A139,'MEMORIAL DE CÁLCULO'!$A$1:$I$5085,6,0),”NÃO ENC.”))} -> #N/A | F139: =_xlfn.xlookup(A139,'MEMORIAL DE CÁLCULO'!$C$8:$C$5086,'MEMORIAL DE CÁLCULO'!$I$8:$I$5086) -> UN. | G139: 0 | H139: =G139*E139 -> #N/A | I139: =(H139*$I$2)+H139 -> #N/A
A140: 7.3 | B140: =#VALUE! -> #VALUE! | C140: FITA LED COELHOS BANCO ESTAR AV. OSVALDO ARANHA | D140: AQUISIÇÃO/INSTALAÇÃO/MANUTENÇÃO/RETIRADA/ACONDICIONAMENTO E ARMAZENAMENTO - Fita LED temperatura de cor 3000K branco quente, bivolt 100/240V-1A, grau de proteção IP68 | E140: {=IFERROR(VLOOKUP(A140,'MEMORIAL DE CÁLCULO'!$A$1:$I$5085,6,0),”NÃO ENC.”))} -> #N/A | F140: =_xlfn.xlookup(A140,'MEMORIAL DE CÁLCULO'!$C$8:$C$5086,'MEMORIAL DE CÁLCULO'!$I$8:$I$5086) -> M | G140: 0 | H140: =G140*E140 -> #N/A | I140: =(H140*$I$2)+H140 -> #N/A
A141: 7.4 | B141: =#VALUE! -> #VALUE! | C141: LAÇOS COELHOS BANCO ESTAR AV. OSVALDO ARANHA | D141: AQUISIÇÃO/INSTALAÇÃO/MANUTENÇÃO/RETIRADA/ACONDICIONAMENTO E ARMAZENAMENTO - Laços confeccionados com 600cm de fita Oxford, 80cm de largura, cor ref.: Suvinil lilás ipê roxo, duplos, resistentes ao sol, raios UV, desbotamento e intempérie, 40 cm largura e estrutura aramada | E141: {=IFERROR(VLOOKUP(A141,'MEMORIAL DE CÁLCULO'!$A$1:$I$5085,6,0),”NÃO ENC.”))} -> #N/A | F141: =_xlfn.xlookup(A141,'MEMORIAL DE CÁLCULO'!$C$8:$C$5086,'MEMORIAL DE CÁLCULO'!$I$8:$I$5086) -> UN. | G141: 0 | H141: =G141*E141 -> #N/A | I141: =(H141*$I$2)+H141 -> #N/A
A142: 7.5 | B142: =#VALUE! -> #VALUE! | C142: OVOS CACHEPÔ AV. OSVALDO ARANHA | D142: AQUISIÇÃO/INSTALAÇÃO/MANUTENÇÃO/RETIRADA/ACONDICIONAMENTO E ARMAZENAMENTO - Ovos de fibra de vidro com cachepô em madeira, 100cm de altura, acervo da CONTRATANTE (figura 89). | E142: {=IFERROR(VLOOKUP(A142,'MEMORIAL DE CÁLCULO'!$A$1:$I$5085,6,0),”NÃO ENC.”))} -> #N/A | F142: =_xlfn.xlookup(A142,'MEMORIAL DE CÁLCULO'!$C$8:$C$5086,'MEMORIAL DE CÁLCULO'!$I$8:$I$5086) -> UN. | G142: 0 | H142: =G142*E142 -> #N/A | I142: =(H142*$I$2)+H142 -> #N/A
A143: 7.6 | B143: =#VALUE! -> #VALUE! | C143: ADESIVOS LOGO OVOS CACHEPÔ AV. OSVALDO ARANHA | D143: AQUISIÇÃO/INSTALAÇÃO/MANUTENÇÃO/RETIRADA/ACONDICIONAMENTO E ARMAZENAMENTO - Aplicados nos ovos cachepô adesivos ‘Páscoa em Canela’ - arte será fornecida pela CONTRATANTE | E143: {=IFERROR(VLOOKUP(A143,'MEMORIAL DE CÁLCULO'!$A$1:$I$5085,6,0),”NÃO ENC.”))} -> #N/A | F143: =_xlfn.xlookup(A143,'MEMORIAL DE CÁLCULO'!$C$8:$C$5086,'MEMORIAL DE CÁLCULO'!$I$8:$I$5086) -> UN. | G143: 0 | H143: =G143*E143 -> #N/A | I143: =(H143*$I$2)+H143 -> #N/A
A144: 7.7 | B144: =#VALUE! -> #VALUE! | C144: CACHEPÔ DE MADEIRA CACHEPÔ AV. OSVALDO ARANHA | D144: AQUISIÇÃO/INSTALAÇÃO/MANUTENÇÃO/RETIRADA/ACONDICIONAMENTO E ARMAZENAMENTO - Cachepôs em madeira | E144: {=IFERROR(VLOOKUP(A144,'MEMORIAL DE CÁLCULO'!$A$1:$I$5085,6,0),”NÃO ENC.”))} -> #N/A | F144: =_xlfn.xlookup(A144,'MEMORIAL DE CÁLCULO'!$C$8:$C$5086,'MEMORIAL DE CÁLCULO'!$I$8:$I$5086) -> UN. | G144: 0 | H144: =G144*E144 -> #N/A | I144: =(H144*$I$2)+H144 -> #N/A
A145: 7.8 | B145: =#VALUE! -> #VALUE! | C145: LAÇOS CACHEPÔ DE MADEIRA CACHEPÔ AV. OSVALDO ARANHA | D145: AQUISIÇÃO/INSTALAÇÃO/MANUTENÇÃO/RETIRADA/ACONDICIONAMENTO E ARMAZENAMENTO - Laços em tecido Oxford, resistente às intempéries, desbotamento e raios UV, estruturados com forro de espuma 2cm, arame com pontas duplas, L=40cm | E145: {=IFERROR(VLOOKUP(A145,'MEMORIAL DE CÁLCULO'!$A$1:$I$5085,6,0),”NÃO ENC.”))} -> #N/A | F145: =_xlfn.xlookup(A145,'MEMORIAL DE CÁLCULO'!$C$8:$C$5086,'MEMORIAL DE CÁLCULO'!$I$8:$I$5086) -> UN. | G145: 0 | H145: =G145*E145 -> #N/A | I145: =(H145*$I$2)+H145 -> #N/A
A146: 7.9 | B146: =#VALUE! -> #VALUE! | C146: COELHO PLACA AV. OSVALDO ARANHA | D146: REFORMA/INSTALAÇÃO/MANUTENÇÃO/RETIRADA/ACONDICIONAMENTO E ARMAZENAMENTO - Coelhos de MDF ultra 25mm, acervo da CONTRATANTE | E146: {=IFERROR(VLOOKUP(A146,'MEMORIAL DE CÁLCULO'!$A$1:$I$5085,6,0),”NÃO ENC.”))} -> #N/A | F146: =_xlfn.xlookup(A146,'MEMORIAL DE CÁLCULO'!$C$8:$C$5086,'MEMORIAL DE CÁLCULO'!$I$8:$I$5086) -> UN. | G146: 0 | H146: =G146*E146 -> #N/A | I146: =(H146*$I$2)+H146 -> #N/A
A147: 7.10 | B147: =#VALUE! -> #VALUE! | C147: ADESIVO COELHO PLACA AV. OSVALDO ARANHA | D147: AQUISIÇÃO/INSTALAÇÃO/MANUTENÇÃO/RETIRADA/ACONDICIONAMENTO E ARMAZENAMENTO - As faces dos coelhos devem ser adesivadas em padrão xadrez, com fundo branco e a outra cor conforme memorial descritivo | E147: {=IFERROR(VLOOKUP(A147,'MEMORIAL DE CÁLCULO'!$A$1:$I$5085,6,0),”NÃO ENC.”))} -> #N/A | F147: =_xlfn.xlookup(A147,'MEMORIAL DE CÁLCULO'!$C$8:$C$5086,'MEMORIAL DE CÁLCULO'!$I$8:$I$5086) -> UN. | G147: 0 | H147: =G147*E147 -> #N/A | I147: =(H147*$I$2)+H147 -> #N/A
A148: 7.11 | B148: =#VALUE! -> #VALUE! | C148: LAÇOS COELHO PLACA AV. OSVALDO ARANHA | D148: AQUISIÇÃO/INSTALAÇÃO/MANUTENÇÃO/RETIRADA/ACONDICIONAMENTO E ARMAZENAMENTO - Laços confeccionados em fita de tecido Oxford, estruturados com espuma de 2cm e arame | E148: {=IFERROR(VLOOKUP(A148,'MEMORIAL DE CÁLCULO'!$A$1:$I$5085,6,0),”NÃO ENC.”))} -> #N/A | F148: =_xlfn.xlookup(A148,'MEMORIAL DE CÁLCULO'!$C$8:$C$5086,'MEMORIAL DE CÁLCULO'!$I$8:$I$5086) -> UN. | G148: 0 | H148: =G148*E148 -> #N/A | I148: =(H148*$I$2)+H148 -> #N/A
A149: 7.12 | B149: =#VALUE! -> #VALUE! | C149: ILUMINAÇÃO LED COELHO PLACA AV. OSVALDO ARANHA | D149: AQUISIÇÃO/INSTALAÇÃO/MANUTENÇÃO/RETIRADA/ACONDICIONAMENTO E ARMAZENAMENTO - mangueira de LED, temperatura de cor 3000K branco quente, bivolt 100/240V-1A, grau de proteção IP68 - aplicado nas bordas dos coelhos | E149: {=IFERROR(VLOOKUP(A149,'MEMORIAL DE CÁLCULO'!$A$1:$I$5085,6,0),”NÃO ENC.”))} -> #N/A | F149: =_xlfn.xlookup(A149,'MEMORIAL DE CÁLCULO'!$C$8:$C$5086,'MEMORIAL DE CÁLCULO'!$I$8:$I$5086) -> UN. | G149: 0 | H149: =G149*E149 -> #N/A | I149: =(H149*$I$2)+H149 -> #N/A
... A177: 7.40 | B177: =#VALUE! -> #VALUE! | C177: ADESIVOS OVOS DE PÁSCOA PÓRTICO AV. OSWALDO ARANHA | D177: AQUISIÇÃO/INSTALAÇÃO/MANUTENÇÃO/RETIRADA/ACONDICIONAMENTO E ARMAZENAMENTO - Adesivo logotipo ‘Páscoa em Canela’ - arte será fornecida pela CONTRATANTE | E177: {=IFERROR(VLOOKUP(A177,'MEMORIAL DE CÁLCULO'!$A$1:$I$5085,6,0),”NÃO ENC.”))} -> #N/A | F177: =_xlfn.xlookup(A177,'MEMORIAL DE CÁLCULO'!$C$8:$C$5086,'MEMORIAL DE CÁLCULO'!$I$8:$I$5086) -> UN. | G177: 0 | H177: =G177*E177 -> #N/A | I177: =(H177*$I$2)+H177 -> #N/A
A178: SUBTOTAL | G178: =SUM(G172:G177) -> 0 | H178: =SUM(H172:H177) -> 0 | I178: =SUM(G178:H178) -> 0
A180: 8. CASA DE PEDRA:
...

Sheet MEMORIAL DE CÁLCULO
B1: MEMÓRIA DE CÁLCULO
B3: OBRA: | C3: =Orçamento!C1 -> PROJETO DE DECORAÇÃO URBANA PÁSCOA 2024
B4: LOCALIZAÇÃO: | C4: =Orçamento!H1 -> ÁREA URBANA DA CIDADE DE CANELA
A7: 1. | B7: PRAÇA DA MATRIZ
B8: ITEM: | C8: =Orçamento!A8 -> 1.1 | H8: UNIDADE: | I8: UN.
B9: {=IFERROR(VLOOKUP(C8,Orçamento!$A$1:$I$327,4,0),”NÃO ENC.”))} -> #N/A
B11: Local | D11: Quantidade por peça (un.) | E11: Quantidade | F11: Total | G11: Observações
F12: (Un.)
B13: Praça da Matriz | D13: 1 | E13: 1 | F13: =E13*D13 -> 1 | G13: Ver detalhes memoral descritivo
A14: =C8 -> 1.1 | B14: TOTAL | F14: =SUM(F13:F13) -> 1 | J14: =SUM(C14:I14) -> 1
B16: ITEM: | C16: =Orçamento!A9 -> 1.2 | H16: UNIDADE: | I16: M²
B17: {=IFERROR(VLOOKUP(C16,Orçamento!$A$1:$I$327,4,0),”NÃO ENC.”))} -> #N/A
B19: Local | C19: Comprimento | D19: Largura | E19: Quantidade | F19: Área | G19: Observações
C20: (m) | D20: (m) | F20: (m²)
B21: Praça da Matriz | C21: 3 | D21: 1 | E21: 1 | F21: =C21*D21*E21 -> 3 | G21: Ver detalhes memoral descritivo
A22: =C16 -> 1.2 | B22: TOTAL | F22: =SUM(F21:F21) -> 3 | J22: =SUM(C22:I22) -> 3
B24: ITEM: | C24: =Orçamento!A10 -> 1.3 | H24: UNIDADE: | I24: UN.
B25: {=IFERROR(VLOOKUP(C24,Orçamento!$A$1:$I$327,4,0),”NÃO ENC.”))} -> #N/A
B27: Local | D27: Quantidade por peça (un.) | E27: Quantidade | F27: Total | G27: Observações
F28: (Un.)
B29: Praça da Matriz | D29: 1 | E29: 6 | F29: =E29*D29 -> 6 | G29: Ver detalhes memoral descritivo
A30: =C24 -> 1.3 | B30: TOTAL | F30: =SUM(F29:F29) -> 6 | J30: =SUM(C30:I30) -> 6
B32: ITEM: | C32: =Orçamento!A11 -> 1.4 | H32: UNIDADE: | I32: M
B33: {=IFERROR(VLOOKUP(C32,Orçamento!$A$1:$I$327,4,0),”NÃO ENC.”))} -> #N/A
B35: Local | D35: Quantidade por peça (m) | E35: Número de peças | F35: Total (m) | G35: Observações
B37: Bordas cruz | D37: 25 | E37: 1 | F37: =E37*D37 -> 25 | G37: Ver detalhes memoral descritivo
A38: =C32 -> 1.4 | B38: TOTAL | F38: =SUM(F37:F37) -> 25 | J38: =SUM(C38:I38) -> 25
B40: ITEM: | C40: =Orçamento!A12 -> 1.5 | H40: UNIDADE: | I40: UN.
B41: {=IFERROR(VLOOKUP(C40,Orçamento!$A$1:$I$327,4,0),”NÃO ENC.”))} -> #N/A
B43: Local | D43: Quantidade por peça (un.) | E43: Quantidade | F43: Total | G43: Observações
F44: (Un.)
B45: Praça da Matriz | D45: 1 | E45: 6 | F45: =E45*D45 -> 6 | G45: Ver detalhes memoral descritivo
A46: =C40 -> 1.5 | B46: TOTAL | F46: =SUM(F45:F45) -> 6 | J46: =SUM(C46:I46) -> 6
B48: ITEM: | C48: =Orçamento!A13 -> 1.6 | H48: UNIDADE: | I48: M
B49: {=IFERROR(VLOOKUP(C48,Orçamento!$A$1:$I$327,4,0),”NÃO ENC.”))} -> #N/A
B51: Local | D51: Quantidade por peça (m) | E51: Número de peças | F51: Total (m) | G51: Observações
B53: Bordas placas anjo | D53: 19 | E53: 6 | F53: =E53*D53 -> 114 | G53: Ver detalhes memoral descritivo
A54: =C48 -> 1.6 | B54: TOTAL | F54: =SUM(F53:F53) -> 114 | J54: =SUM(C54:I54) -> 114
B56: ITEM: | C56: =Orçamento!A14 -> 1.7 | H56: UNIDADE: | I56: UN.
B57: {=IFERROR(VLOOKUP(C56,Orçamento!$A$1:$I$327,4,0),”NÃO ENC.”))} -> #N/A
B59: Local | D59: Quantidade por peça (un.) | E59: Quantidade por unidade | F59: Total | G59: Observações
F60: (Un.)
B61: Letras placas anjo - Um par por placa | D61: 6 | E61: 2 | F61: =E61*D61 -> 12 | G61: frente/verso - ver memorial descritivo
A62: =C56 -> 1.7 | B62: TOTAL | F62: =SUM(F61:F61) -> 12 | J62: =SUM(C62:I62) -> 12
A65: 2. | B65: RÓTULA PRAÇA JOÃO CORREA
B66: ITEM: | C66: =Orçamento!A18 -> 2.1 | H66: UNIDADE: | I66: UN.
B67: {=IFERROR(VLOOKUP(C66,Orçamento!$A$1:$I$327,4,0),”NÃO ENC.”))} -> #N/A
B69: Local | D69: Quantidade por peça (un.) | E69: Quantidade | F69: Total | G69: Observações
F70: (Un.)
B71: Rótula Casa de Pedra | D71: 1 | E71: 12 | F71: =E71*D71 -> 12 | G71: Ver detalhes memoral descritivo
A72: =C66 -> 2.1 | B72: TOTAL | F72: =SUM(F71:F71) -> 12 | J72: =SUM(C72:I72) -> 12
B74: ITEM: | C74: =Orçamento!A19 -> 2.2 | H74: UNIDADE: | I74: M²
B75: {=IFERROR(VLOOKUP(C74,Orçamento!$A$1:$I$327,4,0),”NÃO ENC.”))} -> #N/A
B77: Local | C77: Comprimento | D77: Largura | E77: Quantidade | F77: Área | G77: Observações
C78: (m) | D78: (m) | F78: (m²)
B79: Cesta de cipó | C79: 4 | D79: 4 | E79: 1 | F79: =D79*C79 -> 16 | G79: Ver detalhes memoral descritivo
A80: =C74 -> 2.2 | B80: TOTAL | F80: =SUM(F79:F79) -> 16 | J80: =SUM(C80:I80) -> 16
B82: ITEM: | C82: =Orçamento!A20 -> 2.3 | H82: UNIDADE: | I82: M
B83: {=IFERROR(VLOOKUP(C82,Orçamento!$A$1:$I$327,4,0),”NÃO ENC.”))} -> #N/A
B85: Local | D85: Quantidade por peça (m) | E85: Número de peças | F85: Total (m) | G85: Observações
B87: Borda inferior cesta | D87: 12 | E87: 1 | F87: =E87*D87 -> 12 | G87: Ver detalhes memoral descritivo
B88: Borda superior cesta | D88: 32 | E88: 2 | F88: =E88*D88 -> 64 | G88: Ver detalhes memoral descritivo
B89: Alça cesta | D89: 10 | E89: 3 | F89: =E89*D89 -> 30 | G89: Ver detalhes memoral descritivo
A90: =C82 -> 2.3 | B90: TOTAL | F90: =SUM(F87:F89) -> 106 | J90: =SUM(C90:I90) -> 106
B92: ITEM: | C92: =Orçamento!A21 -> 2.4 | H92: UNIDADE: | I92: UN.
B93: {=IFERROR(VLOOKUP(C92,Orçamento!$A$1:$I$327,4,0),”NÃO ENC.”))} -> #N/A
B95: Local | D95: Quantidade por peça (un.) | E95: Quantidade | F95: Total | G95: Observações
F96: (Un.)
B97: Rótula Casa de Pedra | D97: 1 | E97: 8 | F97: =E97*D97 -> 8 | G97: Cesta de cipó - ver detalhes memrial descritivo
A98: =C92 -> 2.4 | B98: TOTAL | F98: =SUM(F97:F97) -> 8 | J98: =SUM(C98:I98) -> 8
B100: ITEM: | C100: =Orçamento!A22 -> 2.5 | H100: UNIDADE: | I100: UN.
B101: {=IFERROR(VLOOKUP(C100,Orçamento!$A$1:$I$327,4,0),”NÃO ENC.”))} -> #N/A
B103: Local | D103: Quantidade por peça (un.) | E103: Quantidade | F103: Total | G103: Observações
F104: (Un.)
B105: Rótula Casa de Pedra | D105: 1 | E105: 4 | F105: =E105*D105 -> 4 | G105: Cesta de cipó - ver detalhes memrial descritivo
A106: =C100 -> 2.5 | B106: TOTAL | F106: =SUM(F105:F105) -> 4 | J106: =SUM(C106:I106) -> 4
B108: ITEM: | C108: =Orçamento!A23 -> 2.6 | H108: UNIDADE: | I108: UN.
B109: {=IFERROR(VLOOKUP(C108,Orçamento!$A$1:$I$327,4,0),”NÃO ENC.”))} -> #N/A
B111: Local | D111: Quantidade por peça (un.) | E111: Quantidade | F111: Total | G111: Observações
F112: (Un.)
B113: Rótula Casa de Pedra | D113: 1 | E113: 1 | F113: =E113*D113 -> 1 | G113: Cesta de cipó - ver detalhes memrial descritivo
A114: =C108 -> 2.6 | B114: TOTAL | F114: =SUM(F113:F113) -> 1 | J114: =SUM(C114:I114) -> 1
B116: ITEM: | C116: =Orçamento!A24 -> 2.7 | H116: UNIDADE: | I116: M
B117: {=IFERROR(VLOOKUP(C116,Orçamento!$A$1:$I$327,4,0),”NÃO ENC.”))} -> #N/A
B119: Local | D119: Quantidade por peça (m) | E119: Número de peças | F119: Total (m) | G119: Observações
B121: Placa 'Pascoa em Canela' | D121: 8 | E121: 3 | F121: =E121*D121 -> 24 | G121: Placa na cesta em cipó - ver detalhes memorial descritivo
A122: =C116 -> 2.7 | B122: TOTAL | F122: =SUM(F121) -> 24 | J122: =SUM(C122:I122) -> 24
B124: ITEM: | C124: =Orçamento!A25 -> 2.8 | H124: UNIDADE: | I124: UN.
B125: {=IFERROR(VLOOKUP(C124,Orçamento!$A$1:$I$327,4,0),”NÃO ENC.”))} -> #N/A
B127: Local | D127: Quantidade por peça (un.) | E127: Quantidade | F127: Total | G127: Observações
F128: (Un.)
B129: Junto à cesta | D129: 1 | E129: 2 | F129: =E129 -> 2 | G129: Ver detalhes memoral descritivo
A130: =C124 -> 2.8 | B130: TOTAL | F130: =SUM(F129:F129) -> 2 | J130: =SUM(C130:I130) -> 2
B132: ITEM: | C132: =Orçamento!A26 -> 2.9 | H132: UNIDADE: | I132: UN.
B133: {=IFERROR(VLOOKUP(C132,Orçamento!$A$1:$I$327,4,0),”NÃO ENC.”))} -> #N/A
B135: Local | D135: Quantidade por peça (un.) | E135: Quantidade | F135: Total | G135: Observações
F136: (Un.)
B137: Junto à cesta | D137: 1 | E137: 2 | F137: =E137 -> 2 | G137: Ver detalhes memoral descritivo
A138: =C132 -> 2.9 | B138: TOTAL | F138: =SUM(F137:F137) -> 2 | J138: =SUM(C138:I138) -> 2
B140: ITEM: | C140: =Orçamento!A27 -> 2.10 | H140: UNIDADE: | I140: UN.
...

Sheet CRONOGRAMA
A1: =#VALUE! -> #VALUE! | J1: PREFEITURA MUNICIPAL DE CANELA
J2: SECRETARIA DE TURISMO E CULTURA
J3: SETOR DE PLANEJAMENTO E ARQUITETURA
A7: ATIVIDADES A SEREM EXECUTADAS | B7: MARÇO | M7: ABRIL
B8: SEG | C8: TER | D8: QUA | E8: QUI | F8: SEX | G8: SAB | H8: DOM | I8: SEG | J8: TER | K8: QUA | L8: QUI | M8: SEG | N8: TER | O8: QUA | P8: QUI
B9: 4 | C9: 5 | D9: 6 | E9: 7 | F9: 8 | G9: 9 | H9: 10 | I9: 11 | J9: 12 | K9: 13 | L9: 14 | M9: 8 | N9: 18 | O9: 19 | P9: 20
A10: PRAÇA JOÃO CORREA COMPLETA
A11: PREFEITURA
A12: AV. JULIO DE CASTILHOS
A13: RÓTULA AV. JÚLIO DE CASTILHOS X FELISBERTO SOARES
A14: ILUMINAÇÃO E INSTALAÇÕES ELÉTRICA AV. JÚLIO DE CASTILHOS E SUAS RÓTULAS
A15: PRAÇA DA MATRIZ COM ILUMINAÇÃO COMPLETA
A16: RÓTULA POSTO AV. OSWALDO ARANHA COM ILUMINAÇÃO E INSTALAÇÕES ELÉTRICAS COMPLETAS
A17: RÓTULA CARACOL COM ILUMINAÇÃO E INSTALAÇÕES ELÉTRICAS COMPLETAS
A18: RÓTULA PAUL HARRIS X AV. OSWALDO ARANHA
A19: RÓTULA AV. JÚLIO DE CASTILHOS E RUA AUGUSTO PESTANA
A20: RÓTULA AV. JÚLIO DE CASTILHOS E AV. JOÃO PESSOA
A21: PÓRTICO DA ENTRADA DA CIDADE
... A29: ORGANIZAÇÃO E ARMAZENAMENTO DO MATERIAL DO ACERVO
C31: COM TODAS AS INSTALAÇÕES ELÉTRICAS E ILUMINAÇÃO
C32: COM DECORAÇÃO
C33: INÍCIO DO EVENTO
C34: DESMONTAGEM
