Workbook

Sheet ORGÂNICOS
A2: 1. Coleta de Resíduos Sólidos Orgânicos/Rejeitos
A3: Planilha de Composição de Custos
A5: Orçamento Sintético
A6: Descrição do Item | E6: Custo (R$/mês) | F6: %
A7: =A45 -> 1. Mão-de-obra | E7: =+F206 -> 157555.66 | F7: =IFERROR(E7/$E$26,0) -> 0.42717303
A8: =A47 -> 1.1. Coletor Turno Dia | E8: =F58 -> 64872.535 | F8: =IFERROR(E8/$E$26,0) -> 0.17588576
A9: =A60 -> 1.2. Coletor veículo médio porte | E9: =F71 -> 10812.089 | F9: =IFERROR(E9/$E$26,0) -> 0.029314294
A10: =A91 -> 1.3. Motorista Turno do Dia ( 4 caminhões) | E10: =F104 -> 27151.557 | F10: =IFERROR(E10/$E$26,0) -> 0.073614702
A11: =A122 -> 1.4. Motorista Turno Noite | E11: =F141 -> 0 | F11: =IFERROR(E11/$E$26,0) -> 0
A12: =A106 -> 1.3.1 Motorista Turno do Dia (para veículo de médio porte) | E12: =F119 -> 13575.779 | F12: =IFERROR(E12/$E$26,0) -> 0.036807351
A13: =A143 -> 1.4 Líder de equipe (Administração e manutenção) | E13: =F157 -> 9502.6992 | F13: =IFERROR(E13/$E$26,0) -> 0.025764208
A14: =A160 -> 1.5. Vale Transporte | E14: =F167 -> 4083.8196 | F14: =IFERROR(E14/$E$26,0) -> 0.011072262
A15: =A169 -> 1.6. Vale-refeição (diário) | E15: =F174 -> 16389.1 | F15: =IFERROR(E15/$E$26,0) -> 0.044434973
A16: =A176 -> 1.7. Auxílio Alimentação (mensal) | E16: =SUM(F180,F187) -> 8400 | F16: =IFERROR(E16/$E$26,0) -> 0.022774513
A17: =A189 -> 1.8. Seguro de vida em grupo | E17: =F193 -> 588 | F17: =IFERROR(E17/$E$26,0) -> 0.0015942159
A18: =A195 -> 1.9. Prêmio assiduidade em grupo | E18: =F199 -> 1822.8 | F18: =IFERROR(E18/$E$26,0) -> 0.0049420694
A19: =A201 -> 1.10. Plano de Benefício Social Familiar | E19: =F204 -> 357.28 | F19: =IFERROR(E19/$E$26,0) -> 0.00096867597
A20: =A208 -> 2. Uniformes e Equipamentos de Proteção Individual | E20: =+F256 -> 6774.4075 | F20: =IFERROR(E20/$E$26,0) -> 0.018367123
A21: =A258 -> 3. Veículos e Equipamentos | E21: =+F486 -> 119060.89 | F21: =IFERROR(E21/$E$26,0) -> 0.32280403
A22: =A488 -> 4. Ferramentas e Materiais de Consumo | E22: =+F499 -> 1615.8717 | F22: =IFERROR(E22/$E$26,0) -> 0.0043810346
A23: =A501 -> 5. Monitoramento da Frota | E23: =+F510 -> 1283.3333 | F23: =IFERROR(E23/$E$26,0) -> 0.0034794395
A24: =A512 -> 6. Pesagem | E24: =F516 -> 3810 | F24: =IFERROR(E24/$E$26,0) -> 0.010329869
A25: =A524 -> 7. Benefícios e Despesas Indiretas - BDI | E25: =+F530 -> 78733.184 | F25: =IFERROR(E25/$E$26,0) -> 0.21346547
A26: PREÇO TOTAL MENSAL COM A COLETA | E26: =E7+E20+E21+E22+E23+E25+E24 -> 368833.35 | F26: =F7+F20+F21+F22+F23+F25+F24 -> 1
A29: Quantitativos
A30: Mão de obra | E30: Quantidade
A31: =+A47 -> 1.1. Coletor Turno Dia | E31: 12
A32: =A60 -> 1.2. Coletor veículo médio porte | E32: 2
A33: =+A91 -> 1.3. Motorista Turno do Dia ( 4 caminhões) | E33: 4
A34: 1.3.1 Motorista Turno do Dia (1 para 1 veículo de médio porte) | E34: =E32 -> 2
A35: =+A122 -> 1.4. Motorista Turno Noite | E35: =C140 -> 0
A36: =A143 -> 1.4 Líder de equipe (Administração e manutenção) | E36: 1
A37: Total de mão de obra (postos de trabalho) | E37: =SUM(E31:E36) -> 21
A39: Veículos e Equipamentos | E39: Quantidade
A40: =+A260 -> 3.1. Veículo Coletor Compactador 15 m³ + 1 RESERVA | E40: 5
A41: =+A347 -> 3.2 Veículo de menor porte | E41: 1
A42: =A408 -> 3.3. Veículo Coletor Médio Porte (coleta de orgânico e recicláveis em locais de difícil acesso) | E42: =E32 -> 2
A43: Fator de utilização (FU) | B43: 0.7158
A45: 1. Mão-de-obra
A47: 1.1. Coletor Turno Dia
...

Sheet RECICLÁVEIS
A2: 2. Coleta de Resíduos Sólidos Recicláveis
A3: Planilha de Composição de Custos
A5: Orçamento Sintético
A6: Descrição do Item | E6: Custo (R$/mês) | F6: %
A7: =A42 -> 1. Mão-de-obra | E7: =+F167 -> 86935.942 | F7: =IFERROR(E7/$E$25,0) -> 0.42602636
A8: =A44 -> 1.1. Coletor Turno Dia | E8: =F55 -> 48654.401 | F8: =IFERROR(E8/$E$25,0) -> 0.23842909
A9: =A57 -> 1.2. Coletor Turno Noite | E9: =F74 -> 0 | F9: =IFERROR(E9/$E$25,0) -> 0
A10: =A76 -> 1.2. Motorista Turno do Dia ( 3 caminhões ) | E10: =F89 -> 20363.668 | F10: =IFERROR(E10/$E$25,0) -> 0.0997914
A11: =A106 -> 1.4. Motorista Turno Noite | E11: =F125 -> 0 | F11: =IFERROR(E11/$E$25,0) -> 0
A12: =A91 -> 1.3 Motorista Turno do Dia (1 veículo de médio porte ) | E12: =F104 -> 0 | F12: =IFERROR(E12/$E$25,0) -> 0
A13: =A126 -> 1.4. Vale Transporte | E13: =F132 -> 2389.3926 | F13: =IFERROR(E13/$E$25,0) -> 0.01170913
A14: =A134 -> 1.5. Vale-refeição (diário) | E14: =F138 -> 9141.6 | F14: =IFERROR(E14/$E$25,0) -> 0.044798072
A15: =A140 -> 1.6. Auxílio Alimentação (mensal) | E15: =SUM(F149,F144) -> 4800 | F15: =IFERROR(E15/$E$25,0) -> 0.023522222
A16: =A150 -> 1.7. Seguro de vida em grupo | E16: =F154 -> 336 | F16: =IFERROR(E16/$E$25,0) -> 0.0016465556
A17: =A156 -> 1.8. Prêmio assiduidade em grupo | E17: =F160 -> 1021.2 | F17: =IFERROR(E17/$E$25,0) -> 0.0050043528
A18: =A161 -> 1.9. Plano de Benefício Social Familiar | E18: =F164 -> 229.68 | F18: =IFERROR(E18/$E$25,0) -> 0.0011255383
A19: =A169 -> 2. Uniformes e Equipamentos de Proteção Individual | E19: =+F215 -> 4037.9175 | F19: =IFERROR(E19/$E$25,0) -> 0.019787665
A20: =A217 -> 3. Veículos e Equipamentos | E20: =+F393 -> 64229.021 | F20: =IFERROR(E20/$E$25,0) -> 0.31475194
A21: =A395 -> 4. Ferramentas e Materiais de Consumo | E21: =+F406 -> 1615.8717 | F21: =IFERROR(E21/$E$25,0) -> 0.0079185193
A22: =A408 -> 5. Monitoramento da Frota | E22: =+F417 -> 533.33333 | F22: =IFERROR(E22/$E$25,0) -> 0.0026135803
A23: =A419 -> 6. Pesagem | E23: =F423 -> 3150 | F23: =IFERROR(E23/$E$25,0) -> 0.015436458
A24: =A430 -> 7. Benefícios e Despesas Indiretas - BDI | E24: =+F436 -> 43560.266 | F24: =IFERROR(E24/$E$25,0) -> 0.21346547
A25: PREÇO TOTAL MENSAL COM A COLETA | E25: =E7+E19+E20+E21+E22+E24+E23 -> 204062.35 | F25: =F7+F19+F20+F21+F22+F24+F23 -> 1
A28: Quantitativos
A29: Mão de obra | E29: Quantidade
A30: =+A44 -> 1.1. Coletor Turno Dia | E30: 9
A31: =+A57 -> 1.2. Coletor Turno Noite | E31: =C73 -> 0
A32: =+A76 -> 1.2. Motorista Turno do Dia ( 3 caminhões ) | E32: 3
A33: =A91 -> 1.3 Motorista Turno do Dia (1 veículo de médio porte ) | E33: 0
A34: =+A106 -> 1.4. Motorista Turno Noite | E34: =C124 -> 0
A35: Total de mão de obra (postos de trabalho) | E35: =SUM(E30:E34) -> 12
A37: Veículos e Equipamentos | E37: Quantidade
A38: =+A219 -> 3.1. Veículo Coletor Compactador 15 m³ | E38: 3
A39: =A314 -> 3.2. Veículo Coletor Médio Porte | E39: 0
A40: Fator de utilização (FU) | B40: 0.6354
A42: 1. Mão-de-obra
A44: 1.1. Coletor Turno Dia
A45: Discriminação | B45: Unidade | C45: Quantidade | D45: Custo unitário | E45: Subtotal | F45: Total (R$)
A46: Piso da categoria | B46: mês | C46: 1 | D46: ='VALORES BASE'!B1 -> 2082.31 | E46: =C46*D46 -> 2082.31
A47: Horas Extras (100%) | B47: hora | C47: ='VALORES BASE'!B58 -> 7.92 | D47: =D46/220*2 -> 18.930091 | E47: =C47*D47 -> 149.92632
...

Sheet LOTE
A1: Lote | B1: Descrição | C1: Custo Mensal Por Tonelada | D1: Quantitativo Mensal Estimado (tn) | E1: Custo Estimado Mensal | F1: Custo Estimado Anual
A2: Lote 01 | B2: Coleta de resíduos sólidos orgânicos/rejeitos | C2: =ORGÂNICOS!F537 -> 575.4786 | D2: ='SERIE HISTORICA'!C14 -> 640.91583 | E2: =ORGÂNICOS!F533 -> 368833.35 | F2: =E2*12 -> 4426000.2
A3: Lote 02 | B3: Coleta de resíduos sólidos recicláveis | C3: =RECICLÁVEIS!F443 -> 464.53029 | D3: ='SERIE HISTORICA'!D14 -> 439.2875 | E3: =RECICLÁVEIS!F439 -> 204062.35 | F3: =E3*12 -> 2448748.2
A4: Total | E4: =SUM(E3,E2) -> 572895.7 | F4: =SUM(F3,F2) -> 6874748.4

Sheet SERIE HISTORICA
A1: mês | B1: ano | C1: orgânico | D1: reciclável | E1: Total
A2: junho | B2: 2025 | C2: 611.57 | D2: 455.01 | E2: =SUM(C2,D2) -> 1066.58
A3: julho | B3: 2025 | C3: 651.42 | D3: 493.79 | E3: =SUM(C3,D3) -> 1145.21
A4: agosto | B4: 2025 | C4: 620.12 | D4: 420.99 | E4: =SUM(C4,D4) -> 1041.11
A5: setembro | B5: 2025 | C5: 624.25 | D5: 420.75 | E5: =SUM(C5,D5) -> 1045
A6: outubro | B6: 2025 | C6: 636.4 | D6: 439.86 | E6: =SUM(C6,D6) -> 1076.26
A7: novembro | B7: 2025 | C7: 632.53 | D7: 441.96 | E7: =SUM(C7,D7) -> 1074.49
A8: dezembro | B8: 2025 | C8: 795.78 | D8: 505.51 | E8: =SUM(C8,D8) -> 1301.29
A9: janeiro | B9: 2026 | C9: 587.93 | D9: 510.41 | E9: =SUM(C9,D9) -> 1098.34
A10: fevereiro | B10: 2026 | C10: 550.43 | D10: 376.53 | E10: =SUM(C10,D10) -> 926.96
A11: março | B11: 2026 | C11: 690.76 | D11: 413.82 | E11: =SUM(C11,D11) -> 1104.58
A12: abril | B12: 2026 | C12: 666.12 | D12: 422.48 | E12: =SUM(C12,D12) -> 1088.6
A13: maio | B13: 2026 | C13: 623.68 | D13: 370.34 | E13: =SUM(C13,D13) -> 994.02
B14: MÉDIA | C14: =AVERAGE(C2:C13) -> 640.91583 | D14: =AVERAGE(D2:D13) -> 439.2875 | E14: =AVERAGE(E2:E13) -> 1080.2033

Sheet VALORES BASE
A1: SALARIO COLETOR | B1: 2082.31 | C1: obs
A2: SALARIO MOTORISTA | B2: 3012
A3: VALOR CAMINHÃO COLETOR | B3: ='CAMINHOES FIPE'!B13 -> 545875 | C3: CÓDIGO FIPE 506175-0
A4: VALOR VEICULO MENOR PORTE LÍDER DE EQUIPE | B4: 110623 | C4: CÓDIGO FIPE 005538-7
A5: Jaqueta com reflexivo (NBR 15.292) | B5: 150
A6: Calça | B6: 64.66
A7: Camiseta | B7: 41.89
A8: Boné Legionário com proteção UV | B8: 165
A9: Botina de segurança c/ palmilha aço | B9: 119.95
A10: Meia de algodão com cano alto | B10: 7.2
A11: Capa de chuva amarela com reflexivo | B11: 43.19
A12: Colete reflexivo | B12: 19.13
A13: Luva de proteção | B13: 28.39
A14: Protetor solar FPS 30 | B14: 13.99
A15: Higienização de uniformes e EPIs | B15: 100
A16: Custo do jogo de pneus 275/80R22,5 | B16: 1823.73
... A58: HORA EXTRA | B58: 7.92
A59: TAXA ESTIAMDA DETRAN (1 ANO EMPLACAMENTO NOVO + 4 ANOS NORMAL) | B59: =(478.55+4*109.29)/5 -> 183.142
A60: CONSUMO CAMINHAO KM/L | B60: 2.1
A61: CONSUMO OLEO HIDRAULICO L/1000 K M orgânico | B61: 16.47
A62: CONSUMO OLEO HIDRAULICO L/1000 K M reciclável | B62: 12.8
A63: VIDA UTIL PNEU CAMINHAO COELTOR | B63: 65000
A64: HORA EXTRA FU 100% | B64: =1.08*7.33 -> 7.9164
A65: seguro de vida em grupo | B65: 28
A66: Premio assiduidade motorista | B66: =B2/30 -> 100.4
A67: Premio assiduidade coletores | B67: 80
A68: plano de beneficio social famiilar | B68: 25.52

Sheet CAMINHOES FIPE
A1: Marca | B1: Modelo | C1: Código Fipe | D1: valor fipe
A2: MERCEDES-BENZ | B2: Atego 1719 4x2 2p (diesel)(E6) | C2: 509338-4 | D2: 545875
A3: MERCEDES-BENZ | B3: Atego 1726 4x2 2p (diesel)(E6) | C3: 509339-2 | D3: 578293
A4: MERCEDES-BENZ | B4: Atego 1729 4x2 2p (diesel)(E6) | C4: 509373-2 | D4: 629451
A5: VOLKSWAGEN | B5: 18-260 Constellation 4x2 2p (diesel)(E6) | C5: 515190-2 | D5: 553750
A6: VOLKSWAGEN | B6: 17-210 Constellation 4x2 2p (diesel)(E6) | C6: 515188-0 | D6: 513800
A7: FOTON | B7: AUMAN D 1722L 4x2 (diesel) (E6) | C7: 526013-2 | D7: 454500
A8: IVECO | B8: TECTOR 17-210 4x2 2p (Diesel)(E6) | C8: 506175-0 | D8: 444375
A9: IVECO | B9: TECTOR 17-320 4x2 2p (Diesel)(E6) | C9: 506176-8 | D9: 483750
A10: VOLVO | B10: VM 290 4x2 2p (diesel) (E6) | C10: 516254-8 | D10: 627840
A12: valor médio | B12: =AVERAGE(D2:D10) -> 536848.22
A13: valor mediana | B13: =MEDIAN(D2:D10) -> 545875

Sheet Roteiros Coleta_URBANO
A1: Coleta de Resíduos Sólidos Orgânicos/Rejeitos Zona Urbana | C1: Coleta de Seletivos Zona Urbana | H1: Coleta Resíduos Sólidos Recicláveis Zona Urbana | L1: Distância km (coleta + transporte) | M1: km Mensal Coleta orgânicos | N1: km Mensal Coleta Recicláveis
A2: Setores | D2: Turno | E2: Dias | F2: Locais | H2: Setores | I2: Turno | J2: Dias | K2: Locais
A3: 1 | D3: M | E3: 2°, 4° e 6° | F3: *Sequoias, SESI, Eugênio Ferreria, São Lucas e Jardim Mariana. | H3: 1 | I3: M | J3: 3° e 5° | K3: *Sequoias, SESI, Eugênio Ferreria, São Lucas e Jardim Mariana. | L3: 40.11 | M3: =L3*3*B13 -> 522.8625 | N3: =L3*2*$B$13 -> 348.575
A4: 2 | D4: M | E4: 2°, 4° e 6° | F4: *Hortênsias, São José, Santa Marta, Vila Dante, Reserva e Laje. | H4: 2 | I4: M | J4: 3° e 5° | K4: *Hortênsias, São José, Santa Marta, Vila Dante, Reserva e Laje. | L4: 29.05 | M4: =L4*3*B13 -> 378.6875 | N4: =L4*2*$B$13 -> 252.45833
A5: 3 | D5: M | E5: 2°, 4° e 6° | F5: *Caracol, Pinheiro Grosso, Suíça, Vila Suzana e Luíza Correia. | H5: 3 | I5: T | J5: 3° e 5° | K5: *Caracol, Pinheiro Grosso, Suíça, Vila Suzana e Luíza Correia. | L5: 41.64 | M5: =L5*3*B13 -> 542.80714 | N5: =L5*2*$B$13 -> 361.87143
A6: 4 | D6: M | E6: 2°, 4° e 6° | F6: *Celulose, Vila Boeira, Serrano, Centro. | H6: 4 | I6: M | J6: 3° e 5° | K6: *Celulose, Vila Boeira, Serrano, Centro. | L6: 50.97 | M6: =L6*3*B13 -> 664.43036 | N6: =L6*2*$B$13 -> 442.95357
A7: 5 | D7: M | E7: 3°, 5° e Sábado | F7: *Rancho Jane, Saiqui, Jardim das Fontes, São Rafael e Distrito Industrial. | H7: 5 | I7: M | J7: 4° e 6° | K7: *Rancho Jane, Saiqui, Jardim das Fontes, São Rafael e Distrito Industrial. | L7: 23.36 | M7: =L7*3*B13 -> 304.51429 | N7: =L7*2*$B$13 -> 203.00952
A8: 6 | D8: M | E8: 3°, 5° e Sábado | F8: *Caçador, Ulisses de Abreu, São Luiz, Bom Jesus e Canelinha. | H8: 6 | I8: T | J8: 4° e 6° | K8: *Caçador, Ulisses de Abreu, São Luiz, Bom Jesus e Canelinha. | L8: 43.73 | M8: =L8*3*B13 -> 570.05179 | N8: =L8*2*$B$13 -> 380.03452
A9: 7 | D9: M | E9: 3°, 5° e Sábado | F9: *Alpes Verdes, Palace Hotel, Quinta da Serra, Sta Terezinha, Maggi e Leodoro de Azevedo. | H9: 7 | I9: M | J9: 4° e 6° | K9: *Alpes Verdes, Palace Hotel,Quinta da Serra, Sta Terezinha, Maggi e Leodoro de Azevedo. | L9: 60.1 | M9: =L9*3*B13 -> 783.44643 | N9: =L9*2*$B$13 -> 522.29762
A10: Total | M10: =SUM(M3:M9) -> 3766.8 | N10: =SUM(N3:N9) -> 2511.2
A13: MÉDIA DE SEMANAS NO ANO | B13: =365/12/7 -> 4.3452381

Sheet Roteiros Coleta_RURAL
A1: Coleta Resíduos Sólidos Recicláveis Zona Rural | E1: Distância km (coleta + transporte)
A2: Setores | B2: Dias | C2: Roteiro | D2: Locais
A3: 1 | B3: Primeiro Sábado do mês | C3: Roteiro Norte | D3: Esteinho, Lajeana, Limeira, Banhado Grande,Tubiana e Caçador | E3: 43.78
A4: 2 | B4: Segundo Sábado do mês | C4: Roteiro Sudeste | D4: Morro Calçado, Linha São Paulo, Monjolo, Bugres, Rancho Grande e Canastra | E4: 64.52
A5: 3 | B5: Último Sábado do mês | C5: Roteiro Sudoeste | D5: São João, Amoreira, Chapadão, Morro Alegre, Quilombo e Passo do Louro | E5: 52.24
B6: TOTAL | E6: =SUM(E3:E5) -> 160.54

Sheet COLETAS BECOS
A1: KM | B1: SETOR | C1: ORGANICO DIA | D1: SELETIVO DIA | E1: km mensal organico | F1: km mensal RECICLÁVEL
A2: 5.9 | B2: 1 | C2: 3 | D2: 2 | E2: =A2*C2*$B$11 -> 76.910714 | F2: =A2*D2*$B$11 -> 51.27381
A3: 2.1 | B3: 2 | C3: 3 | D3: 2 | E3: =A3*C3*$B$11 -> 27.375 | F3: =A3*D3*$B$11 -> 18.25
A4: 1.6 | B4: 4 | C4: 3 | D4: 2 | E4: =A4*C4*$B$11 -> 20.857143 | F4: =A4*D4*$B$11 -> 13.904762
A5: 2.9 | B5: 5 | C5: 3 | D5: 2 | E5: =A5*C5*$B$11 -> 37.803571 | F5: =A5*D5*$B$11 -> 25.202381
A6: 10.2 | B6: 6 | C6: 3 | D6: 2 | E6: =A6*C6*$B$11 -> 132.96429 | F6: =A6*D6*$B$11 -> 88.642857
A7: 1.8 | B7: 7 | C7: 3 | D7: 2 | E7: =A7*C7*$B$11 -> 23.464286 | F7: =A7*D7*$B$11 -> 15.642857
A8: =SUM(A2:A7) -> 24.5 | E8: =SUM(E2:E7) -> 319.375 | F8: =SUM(F2:F7) -> 212.91667
D9: DESLOCAMENTO | E9: =1.2*E8 -> 383.25 | F9: =1.2*F8 -> 255.5
D10: TOTAL | E10: =E9+E8 -> 702.625 | F10: =F9+F8 -> 468.41667
A11: MÉDIAS SEMANAS ANO | B11: =365/12/7 -> 4.3452381

Sheet Roteiros Coleta_URBANO_CENTRAL
A1: Coleta Resíduos Sólidos Recicláveis Zona Urbana | E1: Distância km (coleta + transporte) | F1: km Mensal Coleta Recicláveis
A2: Setores | B2: Turno | C2: Dias | D2: Locais
A3: Central | B3: M | C3: Sábados | D3: Vias Diversas | E3: 29 | F3: =E3*'COLETAS BECOS'!B11 -> 126.0119
A4: Coleta destinada a atender a região central | F4: =SUM(F3) -> 126.0119

Sheet 4.BDI
A1: 4. Composição do BDI - Benefícios e Despesas Indiretas
D3: Referência estudo TCE
D4: 1° Quartil | E4: Médio | F4: 3° Quartil
A5: Administração Central | B5: AC | C5: 0.0508 | D5: 0.0297 | E5: 0.0508 | F5: 0.0627
A6: Seguros/Riscos/Garantias | B6: SRG | C6: 0.0133 | D6: =0.3%+0.56% -> 0.0086 | E6: =0.48%+0.85% -> 0.0133 | F6: =0.82%+0.89% -> 0.0171
A7: Lucro | B7: L | C7: 0.1064 | D7: 0.0778 | E7: 0.1085 | F7: 0.1355
A8: Despesas Financeiras | B8: DF | C8: =(1+E8/100)^(E9/252)-1 -> 0.0080923674 | D8: i | E8: ='VALORES BASE'!B32 -> 14.5
A9: Tributos - ISS | B9: T | C9: 0.03 | D9: DU | E9: 15
A10: Tributos - PIS/COFINS | C10: 0.0365
A11: Fórmula para o cálculo do BDI:
A12: {[(1+AC+SRG) x (1+L) x (1+DF)] / (1-T)} -1
A13: Resultado do cálculo do BDI: | C13: =ROUND((((1+C5+C6)*(1+C7)*(1+C8))/(1-(C9+C10))-1),4) -> 0.2714 | D13: 0.2143 | E13: 0.2717 | F13: 0.3362

Sheet FATOR FU_OFICIAL
A1: FU COLETA DE RESÍDUOS SÓLIDOS ORGÂNICOS (CAMINHÕES, COLETORES E MOTORISTAS)
A2: SETORES | B2: CAMINHÕES DA FROTA | C2: CAMINHÕES EM ATIVIDADE NOS SETORES | D2: DIAS DE COLETA | E2: Horas trabalhadas/dia | F2: FU%
A3: 1,2,3,4 | B3: 4 | C3: 4 | D3: 3 | E3: =44/6 -> 7.3333333 | F3: =(C3/B3)*((D3*E3)/44) -> 0.5
A4: 5,6,7 | B4: 4 | C4: 3 | D4: 3 | E4: =44/6 -> 7.3333333 | F4: =(C4/B4)*((D4*E4)/44) -> 0.375
F5: 1
A6: FU COLETA DE RESÍDUOS SÓLIDOS ORGÂNICOS (VEÍCULO DE MÉDIO PORTE E MOTORISTA)
A7: SETORES | B7: VEÍCULOS DA FROTA | C7: VEÍCULOS EM ATIVIDADE | D7: DIAS DE COLETA | E7: Horas trabalhadas/dia | F7: FU%
A8: COLETA ESPECIAL | B8: 1 | C8: 1 | D8: 6 | E8: =44/6 -> 7.3333333 | F8: =(C8/B8)*((D8*E8)/44) -> 1
F9: =SUM(F8) -> 1
A12: FU COLETA DE RESÍDUOS SÓLIDOS RECICLÁVEIS (CAMINHÕES, COLETORES E MOTORISTAS)
A13: SETORES | B13: CAMINHÕES DA FROTA | C13: CAMINHÕES EM ATIVIDADE NOS SETORES | D13: DIAS DE COLETA | E13: Horas trabalhadas/dia | F13: FU%
A14: 1,2,3 | B14: 3 | C14: 3 | D14: 2 | E14: =44/6 -> 7.3333333 | F14: =(C14/B14)*((D14*E14)/44) -> 0.33333333
A15: 4 | B15: 3 | C15: 1 | D15: 2 | E15: =44/6 -> 7.3333333 | F15: =(C15/B15)*((D15*E15)/44) -> 0.11111111
A16: 5,6,7 | B16: 3 | C16: 3 | D16: 2 | E16: =44/6 -> 7.3333333 | F16: =(C16/B16)*((D16*E16)/44) -> 0.33333333
A17: 1,2,3 (Rural) | B17: 3 | C17: 1 | D17: 0.75 | E17: =44/6 -> 7.3333333 | F17: =(C17/B17)*((D17*E17)/44) -> 0.041666667
A18: Coleta Área Central | B18: 3 | C18: 1 | D18: 1 | E18: 3 | F18: =(C18/B18)*((D18*E18)/44) -> 0.022727273
F19: 1
A20: FU COLETA DE RESÍDUOS SÓLIDOS RECICLÁVEIS (VEÍCULO DE MÉDIO PORTE E MOTORISTA)
A21: SETORES | B21: VEÍCULOS DA FROTA | C21: VEÍCULOS EM ATIVIDADE | D21: DIAS DE COLETA | E21: Horas trabalhadas/dia | F21: FU%
A22: COLETA ESPECIAL | B22: 1 | C22: 1 | D22: 6 | E22: =44/6 -> 7.3333333 | F22: =(C22/B22)*((D22*E22)/44) -> 1
F23: =SUM(F22) -> 1

Sheet Estimativa Pesagem Ticket
A1: Coleta Resíduos Sólidos Recicláveis Zona Rural
A2: Setores | B2: Dias | C2: quantidade mensal
A3: 1 | B3: COLETA DE RESÍDUOS ORGÂNICOS | C3: 127
A4: 2 | B4: COLETA DE RESÍDUOS RECICLÁVEIS | C4: 105
B5: TOTAL

Sheet COTAÇÕES
A1: ITEM | B1: PREÇO 1 | E1: PREÇO 2 | H1: PREÇO 3
B2: DATA | C2: FONTE | D2: PREÇO | E2: DATA | F2: FONTE | G2: PREÇO | H2: DATA | I2: FONTE | J2: PREÇO | K2: MEDIANA
A3: Jaqueta com reflexivo (NBR 15.292) | B3: 45748 | C3: https://www.ebconfeccao.com.br | D3: 190 | E3: 45748 | F3: https://produto.mercadolivre.com.br | G3: 150 | H3: 45748 | I3: https://www.magazineluiza.com.br | J3: 150 | K3: =MEDIAN(J3,G3,D3) -> 150
A4: Calça | B4: 45748 | C4: https://www.jamiluniformes.com.br | D4: 66.9 | E4: 45748 | F4: https://produto.mercadolivre.com.br | G4: 64.66 | H4: 45748 | I4: https://www.fardasexpress.com.br | J4: 50 | K4: =MEDIAN(J4,G4,D4) -> 64.66
A5: Camiseta | B5: 45748 | C5: https://tulypauniformes.com.br | D5: 36.5 | E5: 45748 | F5: https://produto.mercadolivre.com.br | G5: 41.89 | H5: 45748 | I5: https://www.j7uniformesprofissionais.com.br | J5: 43.9 | K5: =MEDIAN(J5,G5,D5) -> 41.89
A6: Boné Legionário com poteção solar | B6: 45799 | C6: https://ellepsun.com.br | D6: 169.9 | E6: 45799 | F6: https://www.uvline.com.br | G6: 139.9 | H6: 45799 | I6: https://loja.suncover.com.br | J6: 165 | K6: =MEDIAN(J6,G6,D6) -> 165
A7: Botina de segurança c/ palmilha aço | B7: 45748 | C7: https://produto.mercadolivre.com.br | D7: 126.32 | E7: 45748 | F7: https://www.superepi.com.br | G7: 119.95 | H7: 45748 | I7: https://www.magazineluiza.com.br | J7: 97.55 | K7: =MEDIAN(J7,G7,D7) -> 119.95
A8: Meia de algodão com cano alto | B8: 45748 | C8: https://disapar.com.br | D8: 9.86 | E8: 45748 | F8: https://outletdoepi.com | G8: 7.2 | H8: 45748 | I8: https://www.superepi.com.br | J8: 6.15 | K8: =MEDIAN(J8,G8,D8) -> 7.2
A9: Capa de chuva amarela com reflexivo | B9: 45748 | C9: https://www.superepi.com.br | D9: 47.38 | E9: 45748 | F9: https://produto.mercadolivre.com.br | G9: 43.19 | H9: 45748 | I9: https://www.lojas360.com.br/ | J9: 21.56 | K9: =MEDIAN(J9,G9,D9) -> 43.19
A10: Colete reflexivo | B10: 45748 | C10: https://www.superepi.com.br | D10: 19.13 | E10: 45748 | F10: https://www.astrodistribuidora.com | G10: 17.7 | H10: 45748 | I10: https://www.armazemdoepi.com.bR | J10: 19.9 | K10: =MEDIAN(J10,G10,D10) -> 19.13
A11: Luva de proteção | B11: 45748 | C11: https://www.astrodistribuidora.com | D11: 28.39 | E11: 45748 | F11: https://www.superepi.com.br | G11: 27.04 | H11: 45748 | I11: https://www.multiepis.com.br | J11: 29.9 | K11: =MEDIAN(J11,G11,D11) -> 28.39
A12: Protetor solar FPS 30 | B12: 45748 | C12: https://www.oceanob2b.com | D12: 13.9 | E12: 45748 | F12: https://www.superepi.com.br | G12: 15.5 | H12: 45748 | I12: https://www.lojadomecanico.com.br | J12: 13.99 | K12: =MEDIAN(J12,G12,D12) -> 13.99
A13: Recipiente térmico para água (5L) | B13: 45748 | C13: https://www.polodoepi.com.br | D13: 40.18 | E13: 45748 | F13: https://www.zigferramentas.com.br | G13: 56 | H13: 45748 | I13: https://www.magazineluiza.com.br | J13: 41.22 | K13: =MEDIAN(J13,G13,D13) -> 41.22
A14: Pá de Concha | B14: 45748 | C14: https://www.fg.com.br | D14: 41.99 | E14: 45748 | F14: https://www.lojadomecanico.com.br | G14: 45.9 | H14: 45748 | I14: https://www.mabore.com.br | J14: 60.82 | K14: =MEDIAN(J14,G14,D14) -> 45.9
... A17: pneus 175/70 R14 | B17: 45796 | C17: https://www.magazineluiza.com.br | D17: 389.9 | E17: 45796 | F17: https://www.casasbahia.com.br | G17: 349.9 | H17: 45796 | I17: https://www.pneustore.com.br | J17: 329.9 | K17: =MEDIAN(J17,G17,D17) -> 349.9
A18: Óleo Diesel | B18: 45751 | C18: https://precos.petrobras.com.br | D18: 6.44 | E18: 45751 | F18: ANP | G18: 6.16 | K18: 6.44
A19: Óleo motor | B19: 45751 | C19: https://www.importvans.com | D19: 34.5 | E19: 45751 | F19: https://www.dpaschoal.com.br | G19: 36.3 | H19: 45751 | I19: https://www.unifreiospecas.com.br | J19: 36.75 | K19: =MEDIAN(J19,G19,D19) -> 36.3
A20: Óleo Transmissão | B20: 45751 | C20: https://produto.mercadolivre.com.br | D20: 42 | E20: 45751 | F20: https://www.loja.aptacaminhoes.com.br | G20: 54.12 | H20: 45751 | I20: https://www.autopecastiete.com.br | J20: 72.06 | K20: =MEDIAN(J20,G20,D20) -> 54.12
A21: Òleo hidráulico | B21: 45751 | C21: https://www.loja.aptacaminhoes.com.br | D21: 53.89 | E21: 45751 | F21: https://www.armazemautopecas.com.br | G21: 44.91 | H21: 45751 | I21: https://www.lfmaquinaseferramentas.com.br | J21: 47.4 | K21: =MEDIAN(J21,G21,D21) -> 47.4
A22: Graxa | B22: 45751 | C22: https://www.lfmaquinaseferramentas.com.br | D22: 36 | E22: 45751 | F22: https://www.incorzul.com.br | G22: 28.74 | H22: 45751 | I22: https://loja.dispetral.com.br | J22: 40 | K22: =MEDIAN(J22,G22,D22) -> 36
A23: Câmera Marcha ré caminhao | B23: 45799 | C23: https://someacessorios.com.br | D23: 880 | E23: 45799 | F23: https://produto.mercadolivre.com.br | G23: 647 | H23: 45799 | I23: https://www.acessoriosjltudoparaonibus.com.br | J23: 529.46 | K23: =MEDIAN(J23,G23,D23) -> 647

Sheet 7. Dimensionamento - organicos
A1: 7. Dimensionamento da frota
A3: Indicador | B3: Unid | C3: Valor
A4: População (H) | B4: hab | C4: 50613
A5: Geração per capita (G) | B5: Kg/hab.dia | C5: 0.43
A6: Geração total diária (Qd) | B6: ton/dia | C6: =C4*C5/1000 -> 21.76359
A7: Geração Mensal Média | B7: ton | C7: =(C6*30) -> 652.9077
A8: Número de dias de coleta por semana (Dc) | B8: dia | C8: 3
A9: Quantitativo diário de coleta (Qc) | B9: ton/dia | C9: =IFERROR(C6*7/C8,0) -> 50.78171
A10: Densidade RSU compactado | B10: Kg/m³ | C10: 500
A11: Tipo de Veículo (1 = toco, 2 = truck) | C11: 1
A12: Capacidade do Compactador | B12: m³ | C12: 15
A13: Capacidade nominal de carga (Cc) | B13: ton | C13: =IF(AND(C12>=15,C11=1),5.8,C12/2) -> 5.8
A14: Número de Cargas por dia (Nc) | C14: =IFERROR(C9/C13,0) -> 8.7554672
A15: Número total de percursos de coleta por veículo, por dia (Np) | C15: 2.5
A16: Número de veículos da Frota (F) | C16: =IFERROR(C14/C15,0) -> 3.5021869

Sheet 7. Dimensionamento - reciclavei
A1: 7. Dimensionamento da frota
A3: Indicador | B3: Unid | C3: Valor
A4: População (H) | B4: hab | C4: 50613
A5: Geração per capita (G) | B5: Kg/hab.dia | C5: 0.28
A6: Geração total diária (Qd) | B6: ton/dia | C6: =C4*C5/1000 -> 14.17164
A7: Geração Mensal Média | B7: ton | C7: =(C6*30) -> 425.1492
A8: Número de dias de coleta por semana (Dc) | B8: dia | C8: 3
A9: Quantitativo diário de coleta (Qc) | B9: ton/dia | C9: =IFERROR(C6*7/C8,0) -> 33.06716
A10: Densidade RSU compactado | B10: Kg/m³ | C10: 500
A11: Tipo de Veículo (1 = toco, 2 = truck) | C11: 1
A12: Capacidade do Compactador | B12: m³ | C12: 15
A13: Capacidade nominal de carga (Cc) | B13: ton | C13: =IF(AND(C12>=15,C11=1),5.8,C12/2) -> 5.8
A14: Número de Cargas por dia (Nc) | C14: =IFERROR(C9/C13,0) -> 5.7012345
A15: Número total de percursos de coleta por veículo, por dia (Np) | C15: 2.5
A16: Número de veículos da Frota (F) | C16: =IFERROR(C14/C15,0) -> 2.2804938

Sheet 2.Encargos Sociais
A1: 2. Composição dos Encargos Sociais
A2: Código | B2: Descrição | C2: Valor
A3: A1 | B3: INSS | C3: 0.2
A4: A2 | B4: SESI | C4: 0.015
A5: A3 | B5: SENAI | C5: 0.01
A6: A4 | B6: INCRA | C6: 0.002
A7: A5 | B7: SEBRAE | C7: 0.006
A8: A6 | B8: Salário educação | C8: 0.025
A9: A7 | B9: Seguro contra acidentes de trabalho | C9: 0.03
A10: A8 | B10: FGTS | C10: 0.08
A11: A | B11: SOMA GRUPO A | C11: =SUM(C3:C10) -> 0.368
A13: B1 | B13: Férias gozadas | C13: =ROUND(IF('3.CAGED'!C22>24,(1-12/'3.CAGED'!C22)*0.1111,0.1111-C22),4) -> 0.0619
A14: B2 | B14: 13º salário | C14: =ROUND('3.CAGED'!C26/'3.CAGED'!C23,4) -> 0.0833
A15: B3 | B15: Licença Paternidade | C15: 0.0006
A16: B4 | B16: Faltas justificadas | C16: 0.0082
A17: B5 | B17: Auxilio acidente de trabalho | C17: 0.0031
A18: B6 | B18: Auxilio doença | C18: 0.0166
A19: B | B19: SOMA GRUPO B | C19: =SUM(C13:C18) -> 0.1737
A21: C1 | B21: Aviso prévio indenizado | C21: =ROUND(('3.CAGED'!C27) *'3.CAGED'!C20/'3.CAGED'!C23,4) -> 0.0256
A22: C2 | B22: Férias indenizadas | C22: =ROUND(IF('3.CAGED'!C22>12,12/'3.CAGED'!C22*0.1111,0.1111),4) -> 0.0492
A23: C3 | B23: Férias indenizadas s/ aviso previo inden. | C23: =C21*C22 -> 0.00125952
A24: C4 | B24: Depósito rescisão sem justa causa | C24: =ROUND(('3.CAGED'!C23+'3.CAGED'!C24+'3.CAGED'!C26)/'3.CAGED'!C21*'3.CAGED'!C28*'3.CAGED'!C29*'3.CAGED'!C20/'3.CAGED'!C23,4) -> 0.0205
A25: C5 | B25: Indenização adicional | C25: =ROUND(('3.CAGED'!C25/'3.CAGED'!C23)*'3.CAGED'!C20/12,4) -> 0.0018
A26: C | B26: SOMA GRUPO C | C26: =SUM(C21:C25) -> 0.09835952
A28: D1 | B28: Reincidência de Grupo A sobre Grupo B | C28: =ROUND(C11*C19,4) -> 0.0639
A29: D2 | B29: Reincidência de FGTS sobre aviso prévio indenizado | C29: =ROUND((C21*C10),4) -> 0.002
A30: D | B30: SOMA GRUPO D | C30: =SUM(C28:C29) -> 0.0659
B31: SOMA (A+B+C+D) | C31: =C30+C26+C19+C11 -> 0.70595952

Sheet 3.CAGED
B1: 3. CAGED
B2: Rio Grande do Sul - Coleta de Resíduos Não-Perigosos - CNAE 38114
B3: Admissões | C3: 2100
B4: Desligamentos | C4: 2031
B5: Dispensados com justa causa | C5: 44
B6: Dispensados sem justa causa | C6: 1192
B7: Espontâneos | C7: 372
B8: Fim de contrato por prazo determinado | C8: 22
B9: Término de contrato | C9: 350
B10: Aposentados | C10: 1
B11: Mortos | C11: 30
B12: Transferência de saída | C12: 0
B13: Acordo | C13: 0
B14: Indicadores
B15: Estoque recuperado início do Período 01-01-2019 | C15: 4625
B16: Estoque recuperado final do Período 31-12-2019 | C16: 4694
B17: Variação Emprego Absoluta de 01-01-2019 a 31-12-2019 | C17: =C3-C4 -> 69
B19: Estoque Médio | C19: =MEDIAN(C15,C16) -> 4659.5
B20: % Demitidos s/ Justa Causa em relação ao Estoque Médio | C20: =C6/C19 -> 0.25582144
B21: Taxa de Rotatividade | C21: =MEDIAN(C3,C4)/C19 -> 0.44328791
B22: Rotatividade temporal (meses) | C22: =12/C21 -> 27.070443
B23: Dias ano | C23: 360
B24: 1/3 de férias (dias) | C24: 10
B25: Férias (dias) | C25: 30
B26: 13º Salário (dias) | C26: 30
B27: Dias de Aviso prévio | C27: =30+(3*TRUNC(1/C21)) -> 36
B28: FGTS | C28: 0.08
B29: Multa FGTS | C29: 0.4

Sheet 5. Depreciação
A1: 5. Depreciação Referencial TCE/RS (%)
A2: Idade do veículo (ano) | B2: Depreciação Média
A3: 1 | B3: 33.63
A4: 2 | B4: 43.13
A5: 3 | B5: 48.68
A6: 4 | B6: 52.62
A7: 5 | B7: 55.68
A8: 6 | B8: 58.18
A9: 7 | B9: 60.29
A10: 8 | B10: 62.12
A11: 9 | B11: 63.73
A12: 10 | B12: 65.18
A13: 11 | B13: 66.48
A14: 12 | B14: 67.67
... A17: 15 | B17: 70.73

Sheet 6.Remuneração de capital
A1: 6. Remuneração de Capital
A3: Fórmula de cálculo da remuneração de capital:
A12: Jm = remuneração de capital mensal
A13: i = taxa de juros do mercado (sugere-se adotar a taxa SELIC)
A14: Im = investimento médio
A15: V0 = valor inicial do bem
A16: Vr = valor residual do bem
A17: n = vida útil do bem em anos
