Workbook

Sheet Table 1
A1: SERVIÇO DE RECOLHIMENTO DE RESÍDUO DE PODAS
A2: PLANILHA DE CUSTOS
A3: 1 . REMUNERAÇÃO
A4: 1.1 MOTORISTA DE CAMINHÃO
A5: Piso da categoria | E5: R$ | G5: 2200
A6: Insalubridade 20% s/ salário mín. nacional | E6: R$ | G6: 0
A7: Quantidade | E7: 2
A8: Total | E8: =G5+G6*E7 -> 2200 | G8: =G5+G6*E7 -> 2200
A9: VALOR | B9: TOTAL | C9: DE | D9: REMUNERAÇÃO | E9: MENSAL | H9: PARA | I9: MOTORISTA | L9: =E8*E7 -> 4400
A10: ENCARGOS SOCIAIS
A11: Grupo A
A12: FGTS | E12: 0.08 | K12: R$ | M12: =L9*E12 -> 352
A13: INCRA | E13: 0.002 | K13: R$ | M13: =L9*E13 -> 8.8
A14: INSS | E14: 0.2 | K14: R$ | M14: =L9*E14 -> 880
A15: SALÁRIO EDUCAÇÃO | E15: 0.025 | K15: R$ | M15: =L9*E15 -> 110
A16: SEBRAE | E16: 0.006 | K16: R$ | M16: =L9*E16 -> 26.4
A17: SAT + FAP | E17: 0.03 | K17: R$ | M17: =L9*E17 -> 132
A18: SENAI/SENAC | E18: 0.01 | K18: R$ | M18: =L9*E18 -> 44
A19: SESI/SESC | E19: 0.015 | K19: R$ | M19: =L9*E19 -> 66
A20: TOTAL GRUPO A | E20: 0.368 | K20: R$ | M20: =SUM(M12:M19) -> 1619.2
A21: GRUPO B
A22: Férias | E22: 0.1111 | K22: =L9*E22 -> 488.84
A23: Licença Paternidade | E23: 0.0006 | K23: =L9*E23 -> 2.64
A24: Faltas justificadas | E24: 0.0082 | K24: =L9*E24 -> 36.08
A25: Auxilio acidente de trabalho | E25: 0.0031 | K25: =L9*E25 -> 13.64
A26: Auxilio doença | E26: 0.0166 | K26: =L9*E26 -> 73.04
A27: 13º SALÁRIO | E27: 0.0833 | K27: =L9*E27 -> 366.52
A28: TOTAL GRUPO B | E28: 0.2229 | K28: =SUM(K21:M27) -> 980.76
A29: GRUPO C
A30: Aviso Prévio Indenizado | E30: 0.0408 | K30: R$ | M30: =L9*E30 -> 179.52
A31: 13º salário e férias indenizadas | E31: 0.02 | K31: R$ | M31: =L9*E31 -> 88
A32: Atestados + Acident de Trabalho | E32: 0.02 | K32: R$ | M32: =L9*E32 -> 88
A33: Depósito rescisão sem justa causa | E33: 0.0372 | K33: R$ | M33: =L9*E33 -> 163.68
A34: Faltas | E34: 0.0076 | K34: R$ | M34: =L9*E34 -> 33.44
A35: TOTAL GRUPO C | E35: 0.1256 | K35: R$ | M35: =SUM(M30:M34) -> 552.64
A36: GRUPO D
A37: Incidência dos encargos de A sobre B | E37: 0.082 | K37: =L9*E37 -> 360.8
A38: Reincidência de Grupo A sobre aviso prévio indenizado | E38: 0.015 | K38: =L9*E38 -> 66
A39: TOTAL GRUPO D | E39: 0.097 | K39: =K37+K38 -> 426.8
A40: TOTAL DOS ENCARGOS SOCIAIS | E40: 0.8135 | K40: =K39+M35+K28+M20 -> 3579.4

Sheet Table 2
A1: BENEFÍCIOS
A2: Descrição | E2: Quantidade | I2: Valor unitário | M2: Valor mês | P2: Total
A3: Uniformes e EPIs para o motorista | E3: 5 | I3: R$ | K3: 57.92 | M3: R$ | O3: 57.92 | P3: R$ | Q3: =O3 -> 57.92
A4: Auxílio refeição | E4: 112 | I4: R$ | K4: 13.22 | M4: R$ | O4: =K4*E4 -> 1480.64 | P4: R$ | Q4: =O4 -> 1480.64
A5: Auxílio alimentação | E5: 5 | I5: R$ | K5: 125.35 | M5: R$ | O5: 626.75 | P5: R$ | Q5: =O5 -> 626.75
A6: Medicina e Segurança do Trabalho | E6: 5 | I6: R$ | K6: 12 | M6: R$ | O6: 60 | P6: R$ | Q6: =O6 -> 60
A7: Seguro de Vida | E7: 5 | I7: R$ | K7: 45 | M7: R$ | O7: 225 | P7: R$ | Q7: =O7 -> 225
A8: Transporte para o motorista (R$ 3,50 * 44 unid = R$ 154,00 - R$ 109,03 (6% s/ salário) = R$ 44,97 | E8: 220 | I8: R$ | K8: 3.5 | M8: R$ | O8: 770 | P8: R$ | Q8: =O8 -> 770
A9: TOTAL BENEFÍCIOS | P9: R$ | Q9: =SUM(Q3:Q8) -> 3220.31
A10: TOTAL DE SALÁRIOS + ENCARGOS + BENEFÍCIOS PARA FUNÇÃO DE MOTORISTA | P10: R$ | Q10: ='Table 1'!E8+'Table 1'!K40+Q9 -> 8999.71
A61: 1.3 AUXILIAR
A62: Piso da categoria | E62: R$ | H62: 1661.07
A63: Insalubridade 20% s/ Salário mínimo | E63: R$ | H63: 302.4
A64: total | E64: =H62+H63 -> 1963.47
A65: quantidade | E65: 4
A66: VALOR | B66: TOTAL | C66: DE | D66: REMUNERAÇÃO | F66: MENSAL | G66: PARA | J66: AUXILIAR | L66: DE | N66: LIMPEZA | P66: R$ | Q66: =E64*E65 -> 7853.88
A67: ENCARGOS SOCIAIS
A68: Grupo A
A69: FGTS | E69: 0.08 | P69: R$ | Q69: =Q66*E69 -> 628.3104
A70: INCRA | E70: 0.002 | P70: R$ | Q70: =Q66*E70 -> 15.70776
A71: INSS | E71: 0.2 | P71: R$ | Q71: =Q66*E71 -> 1570.776
A72: SALÁRIO EDUCAÇÃO | E72: 0.025 | P72: R$ | Q72: =Q66*E72 -> 196.347
A73: SEBRAE | E73: 0.006 | P73: R$ | Q73: =Q66*E73 -> 47.12328
A74: SAT + FAP | E74: 0.03 | P74: R$ | Q74: =Q66*E74 -> 235.6164
A75: SENAI/SENAC | E75: 0.01 | P75: R$ | Q75: =Q66*E75 -> 78.5388
A76: SESI/SESC | E76: 0.015 | P76: R$ | Q76: =Q66*E76 -> 117.8082
A77: TOTAL GRUPO A | E77: 0.368 | P77: R$ | Q77: =SUM(Q69:Q76) -> 2890.2278
A78: GRUPO B
A79: Férias | E79: 0.1111 | P79: =Q66*E79 -> 872.56607
A80: Licença Paternidade | E80: 0.0006 | P80: =Q66*E80 -> 4.712328
A81: Faltas justificadas | E81: 0.0082 | P81: =Q66*E81 -> 64.401816
A82: Auxilio acidente de trabalho | E82: 0.0031 | P82: =Q66*E82 -> 24.347028
A83: Auxilio doença | E83: 0.0166 | P83: =Q66*E83 -> 130.37441
A84: 13º SALÁRIO | E84: 0.0833 | P84: =Q66*E84 -> 654.2282
A85: TOTAL GRUPO B | E85: 0.2229 | P85: =SUM(P79:P84) -> 1750.6299
A86: GRUPO C
A87: Aviso Prévio Indenizado | E87: 0.0408 | P87: =Q66*E87 -> 320.4383
A88: 13º salário e férias indenizadas | E88: 0.02 | P88: =Q66*E88 -> 157.0776
A89: Atestados + Acident de Trabalho | E89: 0.02 | P89: =Q66*E89 -> 157.0776
A90: Depósito rescisão sem justa causa | E90: 0.0372 | P90: =Q66*E90 -> 292.16434
...

Sheet Table 3
A1: TOTAL | B1: GRUPO | C1: C | G1: 0.1256 | N1: =SUM('Table 2'!P87:Q91) -> 986.44733 | P1: =SUM('Table 2'!P87:P91) -> 986.44733
A2: GRUPO D
A3: Incidência dos encargos de A sobre B | G3: 0.082 | N3: ='Table 2'!Q66*G3 -> 644.01816 | O3: 253.73
A4: Reincidência de Grupo A sobre aviso prévio indenizado | G4: 0.015 | N4: ='Table 2'!Q66*G4 -> 117.8082
A5: TOTAL GRUPO D | G5: 0.097 | N5: =SUM(N3:N4) -> 761.82636
A6: TOTAL DOS ENCARGOS SOCIAIS | G6: 0.8135 | N6: ='Table 2'!Q77+'Table 2'!P85+P1+N5 -> 6389.1314 | O6: 2516.44
A8: BENEFÍCIOS
A9: Descrição | G9: Quantidade | I9: Valor unitário | L9: Valor mês | N9: Total
A10: Uniformes e EPIs para o auxiliar de limpeza | G10: 4 | I10: R$ | J10: 140.4 | L10: R$ | M10: =J10*G10 -> 561.6 | N10: R$ | O10: =M10 -> 561.6
A11: Auxílio refeição R$ (16,52 - 20%) | G11: 115.5 | I11: R$ | J11: 13.22 | L11: R$ | M11: =G11*J11 -> 1526.91 | N11: R$ | O11: =M11 -> 1526.91
A12: Auxilio Alimentação | G12: 4 | I12: 125.35 | L12: =G12*I12 -> 501.4 | N12: =L12 -> 501.4
A13: Plano de benefício familiar | G13: 4 | I13: R$ | J13: 15.02 | L13: R$ | M13: =J13*G13 -> 60.08 | N13: R$ | O13: =M13 -> 60.08
A14: Medicina e Segurança do Trabalho | G14: 4 | I14: R$ | J14: 12 | L14: R$ | M14: =J14*G14 -> 48 | N14: R$ | O14: =M14 -> 48
A15: Seguro de Vida | G15: 4 | I15: R$ | J15: 45 | L15: R$ | M15: =J15*G15 -> 180 | N15: R$ | O15: =M15 -> 180
A16: Transporte para o auxiliar (R$ 3,50 * 44 unid = R$ 154,00 - R$ 71,09 (6% s/ salário) = R$ 82,91 | G16: 176 | I16: R$ | J16: 3.5 | L16: R$ | M16: 616 | N16: R$ | O16: =M16 -> 616
A17: TOTAL BENEFÍCIOS | N17: R$ | O17: =SUM(N10:P16) -> 3493.99
A18: TOTAL DE SALÁRIOS + ENCARGOS + BENEFÍCIOS PARA FUNÇÃO DE AUXILIAR | N18: R$ | O18: ='Table 2'!Q66+N6+O17 -> 17737.001

Sheet Table 4
A25: TOTAL DE REMUNERAÇÃO + ENCARGOS + BENEFÍCIOS PARA TODOS OS TRABALHADORES | G25: =H24+H12+'Table 3'!O18+'Table 2'!Q59+'Table 2'!Q10 -> 26736.711
A26: 2. VEÍCULOS E EQUIPAMENTOS
A27: 2.1 Depreciação do Caminhão
A28: Descrição | B28: Unidade | C28: Quantidade | E28: Custo unitário | G28: Subtotal
A29: Custo de aquisição do chassis e caçamba | B29: unidade | C29: 2 | E29: 350000 | G29: 700000
A30: Vida útil | B30: anos | C30: 5
A31: Idade do veículo | B31: anos | C31: 0
A32: Depreciação | B32: % | C32: 0.1 | E32: =G29 -> 700000 | G32: =C32*E32 -> 70000
A33: Depreciação mensal do veículo | B33: mês | C33: 12 | E33: =G32 -> 70000 | G33: =E33/C33 -> 5833.3333
A34: 2.2 Depreciação da retroescavadeira
A35: Descrição | B35: Unidade | C35: Quantidade | E35: Custo unitário | G35: Subtotal
A42: Descrição | B42: Unidade | C42: Quantidade | E42: Custo unitário | G42: Subtotal
A43: Custo de aquisição do caminhão | B43: unidade | C43: 0 | G43: =E43*C43 -> 0
A44: Vida útil | B44: anos | C44: 5
A46: Depreciação | B46: % | C46: 0.1 | E46: =G43 -> 0 | G46: =E46*C46 -> 0
A48: TOTAL DEPRECIAÇÃO | G48: =G33+G40+G47 -> 5833.3333

Sheet Table 5
A1: 2.2 Remuneração de capital do caçamba/mês
A2: Discriminação | B2: Unidade | C2: Quantidade | D2: Custo unitário | F2: Subtotal
A3: Custo de aquisição do chassis e carroceria | B3: unidade | C3: 2 | D3: ='Table 4'!E29 -> 350000 | F3: =D3*C3 -> 700000
A4: Taxa de juros anual nominal | B4: % | C4: 5.25
A5: Valor do veículo proposto (V0) | B5: R$ | C5: 600000
A6: Investimento médio total do chassis | B6: R$ | C6: 0
A7: Remuneração de capital mensal | B7: R$ | C7: 12 | D7: =C5*C4/100 -> 31500 | F7: =D7/C7 -> 2625
A9: 2.2.1 Remuneração de capital da Retroescavadeira
A10: Custo de aquisição daretroescavadeira | B10: unidade | C10: 0 | D10: ='Table 4'!E36 -> 0 | F10: =D10*C10 -> 0
A11: Taxa de juros anual nominal | B11: % | C11: 5.25
A12: Valor do triturador proposto (V0) | B12: R$ | C12: 0
A13: Investimento médio total do triturador | B13: R$
A14: Remuneração de capital mensal | B14: mensal | C14: 12 | D14: =C12*C11/100 -> 0 | F14: 0
A16: 2.2.1 Remuneração de capital do caminhão Roll/on Roll/of
A17: Custo de aquisição do caminhão roll on | B17: unidade | C17: 0 | F17: =D17*C17 -> 0
A18: Taxa de juros anual nominal | B18: % | C18: 5.25
A19: Valor do triturador proposto (V0) | B19: R$
A20: Investimento médio total do triturador | B20: R$
A21: Remuneração de capital mensal | B21: mensal | C21: 12 | D21: =C19*C18/100 -> 0 | F21: =D21/C21 -> 0
A22: TOTAL DA REMUNERAÇÃO DE CAPITAL | F22: =F14+F7+F21 -> 2625
A23: 2.3. IMPOSTOS E SEGUROS
A24: Descrição | B24: Unidade | C24: Quantidade | D24: Valor | E24: unitário | F24: Total
A25: IPVA | B25: unidade | C25: 2 | D25: R$ | E25: =D3*1.5% -> 5250 | F25: R$ | G25: =E25*C25 -> 10500
A26: Licenciamento e seguro obrigatório | B26: unidade | C26: 0 | D26: R$ | E26: 0 | F26: R$ | G26: =E26*C26 -> 0
A27: Seguros | B27: unidade | C27: 2 | D27: R$ | E27: 4580 | F27: R$ | G27: =E27*C27 -> 9160
A28: Impostos e seguros mensais | B28: mês | C28: 12 | D28: R$ | E28: =G25+G27 -> 19660 | F28: =E28/C28 -> 1638.3333 | G28: =G25+G26+G27 -> 19660
A29: 2.4. CONSUMOS
A30: Quilometragem mensal | B30: 4090
A33: Discriminação | B33: Unidade | C33: Quantidade | D33: Custo unitário | F33: Total
A35: Custo de óleo diesel / km rodado | B35: km/l | C35: 3.36 | D35: =D34/C35 -> 0
A36: Custo mensal com óleo diesel | B36: km | C36: =B30 -> 4090 | D36: 6.44 | F36: =D36*C36 -> 26339.6
A37: Custo de óleo do motor /1.000 km rodados | B37: l/1.000 km | C37: 6 | D37: 13.94
A38: Custo mensal com óleo do motor | B38: km | C38: =B30 -> 4090 | D38: =D37*C37 -> 83.64 | F38: =D38*9.3 -> 777.852
A39: Custo de óleo da transmissão /1.000 km | B39: l/1.000 km | C39: 0.85 | D39: =23.8*C39 -> 20.23
A40: Custo mensal com óleo da transmissão | B40: km | C40: =B30 -> 4090 | D40: =D39*C39 -> 17.1955 | F40: =D40*9.3 -> 159.91815
A41: Custo de óleo hidráulico / 1.000 km | B41: l/1.000 km | C41: 4 | D41: 0
A42: Custo mensal com óleo hidráulico | B42: km | C42: =B30 -> 4090 | D42: 0.043 | F42: 140.71
A43: Custo de graxa /1.000 km rodados | B43: kg/1.000 km | C43: 16 | D43: 9.25
A44: Custo mensal com graxa | B44: km | C44: =B30 -> 4090 | D44: 0.148 | F44: 488.4
A45: Custo com consumos/km rodado | B45: R$/km rodado | D45: =C44/(F36+F38+F40+F42+F44) -> 0.14656094
...

Sheet Table 6
A1: 2.6 Pneus
A2: Discriminação | E2: Unidade | F2: Quantidade | G2: Custo unitário | H2: Total
A3: Custo do jogo de pneus 275/80 R22,5 | E3: unidade | F3: 2 | G3: 1861.9 | H3: =G3*F3 -> 3723.8
A4: Número de recapagens por pneu | E4: unidade | F4: 1
A5: Custo de recapagem | E5: unidade | F5: 0 | G5: 267 | H5: =G5*F5 -> 0
A6: Custo jg. compl. + X recap./ km rodado | E6: km/jogo | F6: 40000 | G6: =H3+H5 -> 3723.8 | H6: =G6/F6 -> 0.093095
A7: Custo mensal com pneus | E7: km | F7: 5200 | G7: =H6 -> 0.093095 | H7: =F7*G7 -> 484.094
A8: TOTAL DE CUSTO MENSAL COM PNEUS | H8: =H7 -> 484.094
A9: 2.7 INSUMOS
A10: Discriminação | E10: Quantidade | F10: Valor Aquisição | G10: Vida Útil meses | H10: Valor mensal
A11: Vassouras para varrição | E11: 1 | F11: R$ 80,00 | G11: 2 | H11: =F11*E11/G11 -> 40
A12: Forcado | E12: 1 | F12: 17 | G12: 4 | H12: =F12*E12/G12 -> 4.25
A13: Pá para Coleta de Resíduos | E13: 1 | F13: 26.95 | G13: 4 | H13: =F13*E13/G13 -> 6.7375
A14: enxada | E14: 1 | F14: 49 | G14: 4 | H14: =F14*E14/G14 -> 12.25
A15: TOTAL CUSTO MENSAL DE INSUMOS | H15: =SUM(H11:I14) -> 63.2375
A17: 2.8 CONTRATO COM TERCEIROS
A18: Discriminação | E18: Unidade | F18: Quantidade | G18: Custo unitário | H18: Total
A19: Contratação de área licenciada para destinação de Inestes/Volumosos | E19: quantidade/mês | F19: 0 | G19: 150 | H19: =G19*F19 -> 0
A20: TOTAL CUSTO TERCEIROS | H20: =H19 -> 0
A25: TOTAL CUSTO VEÍCULO DE APOIO | H25: =H24 -> 0
A26: Custo Mensal com Veículos e Equipamentos e licenciamento (R$/mês) | H26: =H25+H20+H15+H8+'Table 5'!F52+'Table 5'!F46+'Table 5'!F28+'Table 5'!F22+'Table 4'!G48 -> 39409.378
A27: CUSTO TOTAL MENSAL COM PESSOAL/VEÍCULO/EQUIPAMENTOS (R$/mês) | H27: =H26+'Table 4'!G25 -> 66146.09
A29: 4. CUSTO MENSAL COM BDI (R$/mês)
A30: Despesas administrativas (Contador, responsável técnico, técnico em segurança do trabalho, galpão, água, luz, telefone) | E30: 0.03 | H30: =H27*E30 -> 1984.3827
A31: Lucro | E31: 0.1 | H31: =H27*E31 -> 6614.609
A32: ISS | E32: 0.025 | H32: =H27*E32 -> 1653.6522
A33: PIS | E33: 0.0065 | H33: =H27*E33 -> 429.94958
A34: COFINS | E34: 0.03 | H34: =H27*E34 -> 1984.3827
A35: IR | E35: 0.048 | H35: =H27*E35 -> 3175.0123
A36: CSSL | E36: 0.0288 | H36: =H27*E36 -> 1905.0074
A37: Total | E37: =E30+E31+E32+E33+E34+E35+E36 -> 0.2683 | H37: =SUM(H30:H36) -> 17746.996
A38: PREÇO MENSAL TOTAL R$ | B38: TOTAL | C38: (R$/mês) | I38: =SUM(H27+H37) -> 83893.086
