Workbook

Sheet ORÇAMENTO POR ETAPAS
A2: PREFEITURA MUNICIPAL DE CANELA
A3: Estado do Rio Grande do Sul
A4: Secretaria Municipal de Turismo e Cultura
A5: OBRA: REVITALIZAÇÃO CENTRO DE FEIRAS, CANELA RS
A6: ITEM | B6: CÓDIGO | C6: DESCRIÇÃO | D6: UNID. | E6: QUANT. | F6: MATERIAL/EQUIP. UNIT. | G6: M.O. UNIT. | H6: CUSTO MAT. UNIT. | I6: CUSTO MO. UNIT. | J6: TOTAL SEM BDI | K6: TOTAL COM BDI 25,92% | L6: VALOR CONCEDENTE | M6: VALOR PROPONENTE | N6: FONTE | O6: OBSERVAÇÃO
A7: 1. SERVIÇOS PRELIMINARES
A8: 1.1 | B8: 103689 | C8: Fornecimento E Instalação De Placa De Obra Com Chapa Galvanizada E Estrutura De Madeira (Af_03/2022_Ps) | D8: m² | E8: 2.88 | F8: 459.39 | G8: 49.61 | H8: =E8*F8 -> 1323.0432 | I8: =E8*G8 -> 142.8768 | J8: =H8+I8 -> 1465.92 | K8: =J8*(1+25.92%) -> 1845.8865 | L8: =K8*0.869565217269 -> 1605.1187 | M8: =K8*0.13043478274 -> 240.7678 | N8: PENDENTE VALIDAÇÃO SINAPI/RS JUN/2026 | O8: Valor existente preservado apenas para rastreabilidade. Não considerar como SINAPI/RS JUN/2026 até validação na base mensal oficial.
A9: 1.2 | B9: 97622 | C9: Demolição De Alvenaria De Bloco Furado, De Forma Manual, Sem Reaproveitamento (Af_12/2017) | D9: m³ | E9: 80.51 | F9: 1.84 | G9: 82 | H9: =E9*F9 -> 148.1384 | I9: =E9*G9 -> 6601.82 | J9: =H9+I9 -> 6749.9584 | K9: =J9*(1+25.92%) -> 8499.5476 | L9: =K9*0.869565217269 -> 7390.911 | M9: =K9*0.13043478274 -> 1108.6366 | N9: PENDENTE VALIDAÇÃO SINAPI/RS JUN/2026 | O9: Valor existente preservado apenas para rastreabilidade. Não considerar como SINAPI/RS JUN/2026 até validação na base mensal oficial.
A10: 1.3 | B10: 104789 | C10: Demolição De Piso De Concreto Simples, De Forma Manual, Sem Reaproveitamento | D10: m³ | E10: 40.66 | F10: 5.06 | G10: 290 | H10: =E10*F10 -> 205.7396 | I10: =E10*G10 -> 11791.4 | J10: =H10+I10 -> 11997.14 | K10: =J10*(1+25.92%) -> 15106.798 | L10: =K10*0.869565217269 -> 13136.346 | M10: =K10*0.13043478274 -> 1970.4519 | N10: PENDENTE VALIDAÇÃO SINAPI/RS JUN/2026 | O10: Valor existente preservado apenas para rastreabilidade. Não considerar como SINAPI/RS JUN/2026 até validação na base mensal oficial.
A11: 1.4 | B11: 20193 | C11: Locação de andaime metálico tipo fachadeiro, com peças de aproximadamente 1,20 m de largura e 2,0 m de altura, incluindo diagonais em x, barras de ligação, sapatas e demais itens necessários à montagem | D11: m²/mes | E11: 250 | F11: 22.5 | G11: 2 | H11: =E11*F11 -> 5625 | I11: =E11*G11 -> 500 | J11: =H11+I11 -> 6125 | K11: =J11*(1+25.92%) -> 7712.6 | L11: =K11*0.869565217269 -> 6706.6087 | M11: =K11*0.13043478274 -> 1005.9913 | N11: PENDENTE VALIDAÇÃO SINAPI/RS JUN/2026 | O11: Valor existente preservado apenas para rastreabilidade. Não considerar como SINAPI/RS JUN/2026 até validação na base mensal oficial.
A12: 1.5 | B12: 97063 | C12: Montagem E Desmontagem De Andaime Modular Fachadeiro, Com Piso Metálico, Para Edifícios Com Múltiplos Pavimentos (Exclusive Andaime E Limpeza) | D12: m² | E12: 250 | F12: 3.54 | G12: 23.15 | H12: =E12*F12 -> 885 | I12: =E12*G12 -> 5787.5 | J12: =H12+I12 -> 6672.5 | K12: =J12*(1+25.92%) -> 8402.012 | L12: =K12*0.869565217269 -> 7306.0974 | M12: =K12*0.13043478274 -> 1095.9146 | N12: PENDENTE VALIDAÇÃO SINAPI/RS JUN/2026 | O12: Valor existente preservado apenas para rastreabilidade. Não considerar como SINAPI/RS JUN/2026 até validação na base mensal oficial.
A13: 1.6 | B13: 100981 | C13: Carga, Manobra E Descarga De Entulho Em Caminhão Basculante 6 M³ - Carga Com Escavadeira Hidráulica (Caçamba De 0,80 M³ / 111 Hp) E Descarga Livre | D13: m³ | E13: 580 | F13: 10.64 | G13: 1.88 | H13: =E13*F13 -> 6171.2 | I13: =E13*G13 -> 1090.4 | J13: =H13+I13 -> 7261.6 | K13: =J13*(1+25.92%) -> 9143.8067 | L13: =K13*0.869565217269 -> 7951.1363 | M13: =K13*0.13043478274 -> 1192.6704 | N13: SINAPI/RS JUN/2026 - SEM DESONERAÇÃO | O13: RS JUN/2026 validado: total unitário R$ 10,13. BDI adotado: 25,92%.
A14: 1.7 | B14: 97914 | C14: Transporte Com Caminhão Basculante De 6 M³, Em Via Urbana Pavimentada, Dmt Até 30 Km | D14: m³ Km | E14: 6000 | F14: 3 | G14: 0.46 | H14: =E14*F14 -> 18000 | I14: =E14*G14 -> 2760 | J14: =H14+I14 -> 20760 | K14: =J14*(1+25.92%) -> 26140.992 | L14: =K14*0.869565217269 -> 22731.297 | M14: =K14*0.13043478274 -> 3409.6946 | N14: PENDENTE VALIDAÇÃO SINAPI/RS JUN/2026 | O14: Valor existente preservado apenas para rastreabilidade. Não considerar como SINAPI/RS JUN/2026 até validação na base mensal oficial.
A15: 1.8 | B15: 37524 | C15: Tela Plástica Laranja, Tipo Tapume Para Sinalização, Malha Retangular, Rolo 1.20 X 50 M | D15: m | E15: 350 | F15: 3.3 | G15: 1.39 | H15: =E15*F15 -> 1155 | I15: =E15*G15 -> 486.5 | J15: =H15+I15 -> 1641.5 | K15: =J15*(1+25.92%) -> 2066.9768 | L15: =K15*0.869565217269 -> 1797.3711 | M15: =K15*0.13043478274 -> 269.60567 | N15: PENDENTE VALIDAÇÃO SINAPI/RS JUN/2026 | O15: Valor existente preservado apenas para rastreabilidade. Não considerar como SINAPI/RS JUN/2026 até validação na base mensal oficial.
A16: 1.9 | B16: 97637 | C16: Remoção De Tapume/ Chapas Metálicas E De Madeira, De Forma Manual, Sem Reaproveitamento | D16: m² | E16: 350 | F16: 0 | G16: 4.26 | H16: =E16*F16 -> 0 | I16: =E16*G16 -> 1491 | J16: =H16+I16 -> 1491 | K16: =J16*(1+25.92%) -> 1877.4672 | L16: =K16*0.869565217269 -> 1632.5802 | M16: =K16*0.13043478274 -> 244.88703 | N16: PENDENTE VALIDAÇÃO SINAPI/RS JUN/2026 | O16: Valor existente preservado apenas para rastreabilidade. Não considerar como SINAPI/RS JUN/2026 até validação na base mensal oficial.
A17: 1.10 | B17: 99059 | C17: Locação Convencional De Obra, Utilizando Gabarito De Tábuas Corridas Pontaletadas A Cada 2,00m - 2 Utilizações | D17: m | E17: 597.58 | F17: 30.83 | G17: 51.3 | H17: =E17*F17 -> 18423.391 | I17: =E17*G17 -> 30655.854 | J17: =H17+I17 -> 49079.245 | K17: =J17*(1+25.92%) -> 61800.586 | L17: =K17*0.869565217269 -> 53739.64 | M17: =K17*0.13043478274 -> 8060.946 | N17: PENDENTE VALIDAÇÃO SINAPI/RS JUN/2026 | O17: Valor existente preservado apenas para rastreabilidade. Não considerar como SINAPI/RS JUN/2026 até validação na base mensal oficial.
A18: 1.11 | B18: 98525 | C18: Limpeza Mecanizada De Camada Vegetal, Vegetação E Pequenas Árvores (Diâmetro De Tronco Menor Que 0,20 M), Com Trator De Esteiras | D18: m² | E18: 793 | F18: 0.75 | G18: 0.11 | H18: =E18*F18 -> 594.75 | I18: =E18*G18 -> 87.23 | J18: =H18+I18 -> 681.98 | K18: =J18*(1+25.92%) -> 858.74922 | L18: =K18*0.869565217269 -> 746.73845 | M18: =K18*0.13043478274 -> 112.01077 | N18: PENDENTE VALIDAÇÃO SINAPI/RS JUN/2026 | O18: Valor existente preservado apenas para rastreabilidade. Não considerar como SINAPI/RS JUN/2026 até validação na base mensal oficial.
A19: 1.12 | B19: 96521 | C19: Escavação Mecanizada Para Bloco De Coroamento Ou Sapata Com Retroescavadeira (Incluindo Escavação Para Colocação De Fôrmas) | D19: m³ | E19: 51.6 | F19: 36.84 | G19: 7.27 | H19: =E19*F19 -> 1900.944 | I19: =E19*G19 -> 375.132 | J19: =H19+I19 -> 2276.076 | K19: =J19*(1+25.92%) -> 2866.0349 | L19: =K19*0.869565217269 -> 2492.2043 | M19: =K19*0.13043478274 -> 373.83064 | N19: PENDENTE VALIDAÇÃO SINAPI/RS JUN/2026 | O19: Valor existente preservado apenas para rastreabilidade. Não considerar como SINAPI/RS JUN/2026 até validação na base mensal oficial.
... A22: 1.15 | B22: 96525 | C22: Escavação Mecanizada Para Viga Baldrame Ou Sapata Corrida Com Mini-Escavadeira (Incluindo Escavação Para Colocação De Fôrmas) | D22: m³ | E22: 527.22 | F22: 61.35 | G22: 7.57 | H22: =E22*F22 -> 32344.947 | I22: =E22*G22 -> 3991.0554 | J22: =H22+I22 -> 36336.002 | K22: =J22*(1+25.92%) -> 45754.294 | L22: =K22*0.869565217269 -> 39786.343 | M22: =K22*0.13043478274 -> 5967.9514 | N22: PENDENTE VALIDAÇÃO SINAPI/RS JUN/2026 | O22: Valor existente preservado apenas para rastreabilidade. Não considerar como SINAPI/RS JUN/2026 até validação na base mensal oficial.
A23: 1.16 | B23: 01.01.00.1 0 | C23: Ligação Provisória De Água/Esgoto | D23: un | E23: 1 | F23: 1253.3 | G23: 246.7 | H23: =E23*F23 -> 1253.3 | I23: =E23*G23 -> 246.7 | J23: =H23+I23 -> 1500 | K23: =J23*(1+25.92%) -> 1888.8 | L23: =K23*0.869565217269 -> 1642.4348 | M23: =K23*0.13043478274 -> 246.36522 | N23: PENDENTE VALIDAÇÃO SINAPI/RS JUN/2026 | O23: Valor existente preservado apenas para rastreabilidade. Não considerar como SINAPI/RS JUN/2026 até validação na base mensal oficial.
A24: 1.17 | B24: 98459 | C24: Tapume com telha metálica | D24: m² | E24: 350 | F24: 58.69 | G24: 43.7 | H24: =E24*F24 -> 20541.5 | I24: =E24*G24 -> 15295 | J24: =H24+I24 -> 35836.5 | K24: =J24*(1+25.92%) -> 45125.321 | L24: =K24*0.869565217269 -> 39239.409 | M24: =K24*0.13043478274 -> 5885.9114 | N24: PENDENTE VALIDAÇÃO SINAPI/RS JUN/2026 | O24: Valor existente preservado apenas para rastreabilidade. Não considerar como SINAPI/RS JUN/2026 até validação na base mensal oficial.
C25: SUBTOTAL | J25: =SUM(J8:J24) -> 211190.45 | K25: =SUM(K8:K24) -> 265931.02 | L25: =K25*0.869565217269 -> 231244.36 | M25: =K25*0.13043478274 -> 34686.654
A27: 2. FUNDAÇÃO | K27: =J27*0.2592+J27 -> 0 | L27: =K27*0.869565217269 -> 0 | M27: =K27*0.13043478274 -> 0
A28: 2.1 | B28: 96619 | C28: Lastro De Concreto Magro, Aplicado Em Blocos De Coroamento Ou Sapatas, Espessura De 5 Cm | D28: m² | E28: 9.63 | F28: 27.3 | G28: 16.57 | H28: =E28*F28 -> 262.899 | I28: =E28*G28 -> 159.5691 | J28: =H28+I28 -> 422.4681 | K28: =J28*(1+25.92%) -> 531.97183 | L28: =K28*0.869565217269 -> 462.5842 | M28: =K28*0.13043478274 -> 69.38763 | N28: PENDENTE VALIDAÇÃO SINAPI/RS JUN/2026 | O28: Valor existente preservado apenas para rastreabilidade. Não considerar como SINAPI/RS JUN/2026 até validação na base mensal oficial.
A29: 2.2 | B29: 96529 | C29: Fabricação, Montagem E Desmontagem De Fôrma Para Sapata, Em Madeira Serrada, E=25 Mm, 1 Utilização | D29: m² | E29: 225 | F29: 156.35 | G29: 155.45 | H29: =E29*F29 -> 35178.75 | I29: =E29*G29 -> 34976.25 | J29: =H29+I29 -> 70155 | K29: =J29*(1+25.92%) -> 88339.176 | L29: =K29*0.869565217269 -> 76816.675 | M29: =K29*0.13043478274 -> 11522.501 | N29: PENDENTE VALIDAÇÃO SINAPI/RS JUN/2026 | O29: Valor existente preservado apenas para rastreabilidade. Não considerar como SINAPI/RS JUN/2026 até validação na base mensal oficial.
A30: 2.3 | B30: 96558 | C30: Concretagem De Sapata, Fck 30 Mpa, Com Uso De Bomba - Lançamento, Adensamento E Acabamento (Af_01/2024) | D30: m³ | E30: 173.66 | F30: 698.3 | G30: 50.22 | H30: =E30*F30 -> 121266.78 | I30: =E30*G30 -> 8721.2052 | J30: =H30+I30 -> 129987.98 | K30: =J30*(1+25.92%) -> 163680.87 | L30: =K30*0.869565217269 -> 142331.19 | M30: =K30*0.13043478274 -> 21349.679 | N30: PENDENTE VALIDAÇÃO SINAPI/RS JUN/2026 | O30: Valor existente preservado apenas para rastreabilidade. Não considerar como SINAPI/RS JUN/2026 até validação na base mensal oficial.
A31: 2.4 | B31: 96543 | C31: Armação De Bloco Utilizando Aço Ca-60 De 5 Mm - Montagem | D31: kg | E31: 173.47 | F31: 10.01 | G31: 12.68 | H31: =E31*F31 -> 1736.4347 | I31: =E31*G31 -> 2199.5996 | J31: =H31+I31 -> 3936.0343 | K31: =J31*(1+25.92%) -> 4956.2544 | L31: =K31*0.869565217269 -> 4309.7864 | M31: =K31*0.13043478274 -> 646.46796 | N31: PENDENTE VALIDAÇÃO SINAPI/RS JUN/2026 | O31: Valor existente preservado apenas para rastreabilidade. Não considerar como SINAPI/RS JUN/2026 até validação na base mensal oficial.
A32: 2.5 | B32: 96546 | C32: Armação De Bloco, Viga Baldame Ou Sapata Utilizando Aço Ca-50 De 10 Mm - Montagem (Af_06/2017) | D32: Kg | E32: 393.36 | F32: 8.41 | G32: 5.81 | H32: =E32*F32 -> 3308.1576 | I32: =E32*G32 -> 2285.4216 | J32: =H32+I32 -> 5593.5792 | K32: =J32*(1+25.92%) -> 7043.4349 | L32: =K32*0.869565217269 -> 6124.726 | M32: =K32*0.13043478274 -> 918.7089 | N32: PENDENTE VALIDAÇÃO SINAPI/RS JUN/2026 | O32: Valor existente preservado apenas para rastreabilidade. Não considerar como SINAPI/RS JUN/2026 até validação na base mensal oficial.
A33: 2.6 | B33: 96547 | C33: Armação De Bloco, Viga Baldrame Ou Sapata Utilizando Aço Ca-50 De 12,5 Mm - Montagem. Af_06/2017 | D33: Kg | E33: 2800.51 | F33: 8.09 | G33: 2.95 | H33: =E33*F33 -> 22656.126 | I33: =E33*G33 -> 8261.5045 | J33: =H33+I33 -> 30917.63 | K33: =J33*(1+25.92%) -> 38931.48 | L33: =K33*0.869565217269 -> 33853.461 | M33: =K33*0.13043478274 -> 5078.0192 | N33: PENDENTE VALIDAÇÃO SINAPI/RS JUN/2026 | O33: Valor existente preservado apenas para rastreabilidade. Não considerar como SINAPI/RS JUN/2026 até validação na base mensal oficial.
A34: 2.7 | B34: 97046 | C34: Ponteiras De Proteção De Pontas E Vergalhões Expostos Em Estruturas De Concreto Armado Convencional", Com Aferição Af_03/2024 | D34: m² | E34: 1718.6 | F34: 0.26 | G34: 0.12 | H34: =E34*F34 -> 446.836 | I34: =E34*G34 -> 206.232 | J34: =H34+I34 -> 653.068 | K34: =J34*(1+25.92%) -> 822.34323 | L34: =K34*0.869565217269 -> 715.08107 | M34: =K34*0.13043478274 -> 107.26216 | N34: PENDENTE VALIDAÇÃO SINAPI/RS JUN/2026 | O34: Valor existente preservado apenas para rastreabilidade. Não considerar como SINAPI/RS JUN/2026 até validação na base mensal oficial.
A35: 2.8 | B35: 97096 | C35: Concretagem De Radier, Piso De Concreto Ou Laje Sobre Solo, Fck 30 Mpa - Lançamento, Adensamento E Acabamento (Af_09/2021 Ou Similar) | D35: m³ | E35: 343.72 | F35: 617.02 | G35: 27.34 | H35: =E35*F35 -> 212082.11 | I35: =E35*G35 -> 9397.3048 | J35: =H35+I35 -> 221479.42 | K35: =J35*(1+25.92%) -> 278886.88 | L35: =K35*0.869565217269 -> 242510.33 | M35: =K35*0.13043478274 -> 36376.55 | N35: PENDENTE VALIDAÇÃO SINAPI/RS JUN/2026 | O35: Valor existente preservado apenas para rastreabilidade. Não considerar como SINAPI/RS JUN/2026 até validação na base mensal oficial.
A36: 2.9 | B36: 97092 | C36: Armação Para Execução De Radier, Piso De Concreto Ou Laje Sobre Solo, Com Uso De Tela Q-196. Af_09/2021. | D36: Kg | E36: 2143.36 | F36: 10.89 | G36: 1.48 | H36: =E36*F36 -> 23341.19 | I36: =E36*G36 -> 3172.1728 | J36: =H36+I36 -> 26513.363 | K36: =J36*(1+25.92%) -> 33385.627 | L36: =K36*0.869565217269 -> 29030.98 | M36: =K36*0.13043478274 -> 4354.647 | N36: PENDENTE VALIDAÇÃO SINAPI/RS JUN/2026 | O36: Valor existente preservado apenas para rastreabilidade. Não considerar como SINAPI/RS JUN/2026 até validação na base mensal oficial.
A37: 2.10 | B37: 97097 | C37: Acabamento Polido Para Piso De Concreto Armado Ou Laje Sobre Solo De Alta Resistência | D37: m³ | E37: 5679.78 | F37: 34.21 | G37: 3.46 | H37: =E37*F37 -> 194305.27 | I37: =E37*G37 -> 19652.039 | J37: =H37+I37 -> 213957.31 | K37: =J37*(1+25.92%) -> 269415.05 | L37: =K37*0.869565217269 -> 234273.95 | M37: =K37*0.13043478274 -> 35141.093 | N37: PENDENTE VALIDAÇÃO SINAPI/RS JUN/2026 | O37: Valor existente preservado apenas para rastreabilidade. Não considerar como SINAPI/RS JUN/2026 até validação na base mensal oficial.
A38: 2.11 | B38: 97114 | C38: Execução De Juntas De Contração Para Pavimentos De Concreto (Af_11/2017). | D38: m | E38: 1157.21 | F38: 0.02 | G38: 0.51 | H38: =E38*F38 -> 23.1442 | I38: =E38*G38 -> 590.1771 | J38: =H38+I38 -> 613.3213 | K38: =J38*(1+25.92%) -> 772.29418 | L38: =K38*0.869565217269 -> 671.56016 | M38: =K38*0.13043478274 -> 100.73402 | N38: PENDENTE VALIDAÇÃO SINAPI/RS JUN/2026 | O38: Valor existente preservado apenas para rastreabilidade. Não considerar como SINAPI/RS JUN/2026 até validação na base mensal oficial.
A39: 2.12 | B39: 98557 | C39: Impermeabilização De Superfície Com Emulsão Asfáltica, 2 Demãos (Af_06/2018 Ou Af_09/2023) | D39: m² | E39: 96.36 | F39: 28.74 | G39: 19.26 | H39: =E39*F39 -> 2769.3864 | I39: =E39*G39 -> 1855.8936 | J39: =H39+I39 -> 4625.28 | K39: =J39*(1+25.92%) -> 5824.1526 | L39: =K39*0.869565217269 -> 5064.4805 | M39: =K39*0.13043478274 -> 759.67208 | N39: PENDENTE VALIDAÇÃO SINAPI/RS JUN/2026 | O39: Valor existente preservado apenas para rastreabilidade. Não considerar como SINAPI/RS JUN/2026 até validação na base mensal oficial.
A40: 2.13 | B40: 96555 | C40: Concretagem De Bloco De Coroamento Ou Viga Baldrame, Fck 30 Mpa, Com Uso De Jerica - Lançamento, Adensamento E Acabamento | D40: m² | E40: 11.59 | F40: 583.25 | G40: 183.09 | H40: =E40*F40 -> 6759.8675 | I40: =E40*G40 -> 2122.0131 | J40: =H40+I40 -> 8881.8806 | K40: =J40*(1+25.92%) -> 11184.064 | L40: =K40*0.869565217269 -> 9725.2731 | M40: =K40*0.13043478274 -> 1458.791 | N40: PENDENTE VALIDAÇÃO SINAPI/RS JUN/2026 | O40: Valor existente preservado apenas para rastreabilidade. Não considerar como SINAPI/RS JUN/2026 até validação na base mensal oficial.
A41: 2.14 | B41: 94316 | C41: Aterro mecanizado de vala com retroescavadeira (capacidade da caçamba da retro: 0,26 m³ / potência: 88 hp), largura até 1,5 m, profundidade até 1,5 m, com solo argilo-arenoso | D41: m³ | E41: 588.85 | F41: 76.2 | G41: 1.67 | H41: =E41*F41 -> 44870.37 | I41: =E41*G41 -> 983.3795 | J41: =H41+I41 -> 45853.749 | K41: =J41*0.2592+J41 -> 57739.041 | L41: =K41*0.869565217269 -> 50207.862 | M41: =K41*0.13043478274 -> 7531.1793
C42: SUBTOTAL | J42: =SUM(J28:J41) -> 763590.09 | K42: =SUM(K28:K41) -> 961512.64 | L42: =K42*0.869565217269 -> 836097.95 | M42: =K42*0.13043478274 -> 125414.69
A44: 3. ESTRUTURAS | K44: =J44*0.2592+J44 -> 0 | L44: =K44*0.869565217269 -> 0 | M44: =K44*0.13043478274 -> 0
A45: 3.1 | B45: 100765 | C45: Pilar metálico perfil laminado/soldado em aço estrutural, com conexões parafusadas, inclusos mão de obra, transporte e içamento utilizando guindaste - fornecimento e instalação | D45: Kg | E45: 10240.23 | F45: 2.57 | G45: 0.47 | H45: =E45*F45 -> 26317.391 | I45: =E45*G45 -> 4812.9081 | J45: =H45+I45 -> 31130.299 | K45: =J45*(1+25.92%) -> 39199.273 | L45: =K45*0.869565217269 -> 34086.324 | M45: =K45*0.13043478274 -> 5112.9486 | N45: PENDENTE VALIDAÇÃO SINAPI/RS JUN/2026 | O45: Valor existente preservado apenas para rastreabilidade. Não considerar como SINAPI/RS JUN/2026 até validação na base mensal oficial.
...

Sheet CURVA ABC
A2: CURVA ABC DO ORÇAMENTO OBRA: REVITALIZAÇÃO CENTRO DE FEIRAS, CANELA RS | M2: ITEM | N2: DESCRIÇÃO RESUMIDA | O2: TOTAL COM BDI
A3: Classificação dos itens pelo valor total com BDI de 25,92%. | M3: =B6 -> 6.175 | N3: =LEFT(D6,42) -> PAINEL SOLAR FOTOVOLTAICO, 2 x 1 m, de 400 | O3: =H6 -> 2214449.6
M4: =B7 -> 10.3 | N4: =LEFT(D7,42) -> Telhamento Com Telha Metálica Termoacústic | O4: =H7 -> 2142908.6
A5: ORDEM | B5: ITEM | C5: CÓDIGO | D5: DESCRIÇÃO | E5: UNID. | F5: QUANT. | G5: PREÇO UNIT. COM BDI | H5: TOTAL COM BDI | I5: % DO TOTAL | J5: % ACUMULADO | K5: CLASSE | M5: =B8 -> 11.9 | N5: =LEFT(D8,42) -> Divisória articulada Acústica, Altura De 3 | O5: =H8 -> 1079877.9
A6: 1 | B6: 6.175 | C6: 103494 | D6: PAINEL SOLAR FOTOVOLTAICO, 2 x 1 m, de 400 a 450 W (fornecimento e instalação) | E6: un | F6: 831 | G6: 2664.801 | H6: 2214449.6 | I6: =H6/$H$406 -> 0.15563085 | J6: =I6 -> 0.15563085 | K6: =IF(J6<=80%,"A",IF(J6<=95%,"B","C")) -> A | M6: =B9 -> 6.174 | N6: =LEFT(D9,42) -> Ar Condicionado Splitão 15 Tr – Fornecimen | O6: =H9 -> 770209.07
A7: 2 | B7: 10.3 | C7: 94216 | D7: Telhamento Com Telha Metálica Termoacústica (Sanduíche) De Aluzinco Com Isolamento Rígido | E7: m² | F7: 7102.5 | G7: 301.71188 | H7: 2142908.6 | I7: =H7/$H$406 -> 0.15060297 | J7: =J6+I7 -> 0.30623382 | K7: =IF(J7<=80%,"A",IF(J7<=95%,"B","C")) -> A | M7: =B10 -> 14.1 | N7: =LEFT(D10,42) -> Composição mínima para administração l | O7: =H10 -> 378200.68
A8: 3 | B8: 11.9 | C8: 102239 | D8: Divisória articulada Acústica, Altura De 310 Cm, Acabamento Em [Mdf/Tecido/Melamínico], Isolamento Mínimo De [40/50] Db, Incluindo Trilhos Superiores E Sistema De Vedação Retrátil | E8: m² | F8: 293 | G8: 3685.5903 | H8: 1079877.9 | I8: =H8/$H$406 -> 0.075893497 | J8: =J7+I8 -> 0.38212732 | K8: =IF(J8<=80%,"A",IF(J8<=95%,"B","C")) -> A | M8: =B11 -> 10.1 | N8: =LEFT(D11,42) -> Trama De Aço Composta Por Ripas, Caibros E | O8: =H11 -> 346068.27
A9: 4 | B9: 6.174 | C9: 103278 | D9: Ar Condicionado Splitão 15 Tr – Fornecimento E Instalação. | E9: un | F9: 20 | G9: 38510.454 | H9: 770209.07 | I9: =H9/$H$406 -> 0.054130061 | J9: =J8+I9 -> 0.43625738 | K9: =IF(J9<=80%,"A",IF(J9<=95%,"B","C")) -> A | M9: =B12 -> 3.2 | N9: =LEFT(D12,42) -> Fabricação e instalação de tesoura (inteir | O9: =H12 -> 341802.8
A10: 5 | B10: 14.1 | C10: CP05 | D10: Composição mínima para administração local, composta por técnico em edificações em tempo integral no canteiro de obras e responsável técnico pelo menos 12 horas semanais | E10: un | F10: 1 | G10: 378200.68 | H10: 378200.68 | I10: =H10/$H$406 -> 0.02657983 | J10: =J9+I10 -> 0.46283721 | K10: =IF(J10<=80%,"A",IF(J10<=95%,"B","C")) -> A | M10: =B13 -> 2.8 | N10: =LEFT(D13,42) -> Concretagem De Radier, Piso De Concreto Ou | O10: =H13 -> 278886.88
A11: 6 | B11: 10.1 | C11: 92580 | D11: Trama De Aço Composta Por Ripas, Caibros E Terças Até 2 Águas Para Telha Ondulada De Fibrocimento, Metálica, Incluso Transporte Vertical. | E11: m² | F11: 2378.15 | G11: 145.51995 | H11: 346068.27 | I11: =H11/$H$406 -> 0.024321574 | J11: =J10+I11 -> 0.48715879 | K11: =IF(J11<=80%,"A",IF(J11<=95%,"B","C")) -> A | M11: =B14 -> 2.10 | N11: =LEFT(D14,42) -> Acabamento Polido Para Piso De Concreto Ar | O11: =H14 -> 269415.05
A12: 7 | B12: 3.2 | C12: 100378 | D12: Fabricação e instalação de tesoura (inteira ou meia) em aço, vãos de 6,0 m a 12,0 m, incluso içamento, exclusive pintura. | E12: kg | F12: 10179 | G12: 33.579212 | H12: 341802.8 | I12: =H12/$H$406 -> 0.024021798 | J12: =J11+I12 -> 0.51118058 | K12: =IF(J12<=80%,"A",IF(J12<=95%,"B","C")) -> A | M12: =B15 -> 6.195 | N12: =LEFT(D15,42) -> Eletrocalha perfurada tipo C — 200x50mm ch | O12: =H15 -> 268913.99
A13: 8 | B13: 2.8 | C13: 97096 | D13: Concretagem De Radier, Piso De Concreto Ou Laje Sobre Solo, Fck 30 Mpa - Lançamento, Adensamento E Acabamento (Af_09/2021 Ou Similar) | E13: m³ | F13: 343.72 | G13: 811.37811 | H13: 278886.88 | I13: =H13/$H$406 -> 0.019600086 | J13: =J12+I13 -> 0.53078067 | K13: =IF(J13<=80%,"A",IF(J13<=95%,"B","C")) -> A | M13: =B16 -> 5.1 | N13: =LEFT(D16,42) -> Alvenaria De Vedação De Blocos Cerâmicos F | O13: =H16 -> 255900.03
A14: 9 | B14: 2.10 | C14: 97097 | D14: Acabamento Polido Para Piso De Concreto Armado Ou Laje Sobre Solo De Alta Resistência | E14: m³ | F14: 5679.78 | G14: 47.434064 | H14: 269415.05 | I14: =H14/$H$406 -> 0.018934408 | J14: =J13+I14 -> 0.54971508 | K14: =IF(J14<=80%,"A",IF(J14<=95%,"B","C")) -> A | M14: =B17 -> 5.23 | N14: =LEFT(D17,42) -> Carpete De Nylon Em Placas 50 X 50 Cm Para | O14: =H17 -> 249617.29
A15: 10 | B15: 6.195 | C15: 97241 | D15: Eletrocalha perfurada tipo C — 200x50mm chapa 18 | E15: m | F15: 1833.6 | G15: 146.65902 | H15: 268913.99 | I15: =H15/$H$406 -> 0.018899194 | J15: =J14+I15 -> 0.56861427 | K15: =IF(J15<=80%,"A",IF(J15<=95%,"B","C")) -> A | M15: =B18 -> 11.7 | N15: =LEFT(D18,42) -> Longarina confort encosto médio 4 lugares | O15: =H18 -> 230181.82
A16: 11 | B16: 5.1 | C16: 103363 | D16: Alvenaria De Vedação De Blocos Cerâmicos Furados Na Horizontal De 19 X19 X 29 Cm, Espessura 19 Cm,E Argamassa De Assentamento Com Preparo Manual | E16: m² | F16: 1722.25 | G16: 148.58472 | H16: 255900.03 | I16: =H16/$H$406 -> 0.017984577 | J16: =J15+I16 -> 0.58659885 | K16: =IF(J16<=80%,"A",IF(J16<=95%,"B","C")) -> A | M16: =B19 -> 5.25 | N16: =LEFT(D19,42) -> Instalação De Vidro Temperado, E=10mm, Em | O16: =H19 -> 219125.62
A17: 12 | B17: 5.23 | C17: 39636 | D17: Carpete De Nylon Em Placas 50 X 50 Cm Para Trafego Comercial Pesado, E = 6,5 Mm (Instalado) | E17: m² | F17: 715 | G17: 349.11509 | H17: 249617.29 | I17: =H17/$H$406 -> 0.017543028 | J17: =J16+I17 -> 0.60414188 | K17: =IF(J17<=80%,"A",IF(J17<=95%,"B","C")) -> A | M17: =B20 -> 10.2 | N17: =LEFT(D20,42) -> Fabricação E Instalação De Tesoura Inteira | O17: =H20 -> 200366.54
A18: 13 | B18: 11.7 | C18: CP04 | D18: Longarina confort encosto médio 4 lugares courino ou tecido cor inza grafite | E18: un | F18: 145 | G18: 1587.4608 | H18: 230181.82 | I18: =H18/$H$406 -> 0.016177109 | J18: =J17+I18 -> 0.62031899 | K18: =IF(J18<=80%,"A",IF(J18<=95%,"B","C")) -> A
A19: 14 | B19: 5.25 | C19: 102181 | D19: Instalação De Vidro Temperado, E=10mm, Em Perfil U | E19: m² | F19: 291.31 | G19: 752.20767 | H19: 219125.62 | I19: =H19/$H$406 -> 0.015400082 | J19: =J18+I19 -> 0.63571907 | K19: =IF(J19<=80%,"A",IF(J19<=95%,"B","C")) -> A
A20: 15 | B20: 10.2 | C20: 92620 | D20: Fabricação E Instalação De Tesoura Inteira Em Aço Para Vãos Iguais A 20,00 M Até 23,00m Para Telha Ondulada Metalica, Inclusive Içamento | E20: un | F20: 20 | G20: 10018.327 | H20: 200366.54 | I20: =H20/$H$406 -> 0.0140817 | J20: =J19+I20 -> 0.64980077 | K20: =IF(J20<=80%,"A",IF(J20<=95%,"B","C")) -> A
A21: 16 | B21: 4.7 | C21: CP02 | D21: Fornecimento E Assentamento De Passeio Em Pedra Basalto Recortada, 45x45cm, Superfície Lisa E Uniforme Em Tons De Cinza, C/ Rejunte E Argamassa De Assentamento | E21: m² | F21: 750 | G21: 261.40992 | H21: 196057.44 | I21: =H21/$H$406 -> 0.013778858 | J21: =J20+I21 -> 0.66357963 | K21: =IF(J21<=80%,"A",IF(J21<=95%,"B","C")) -> A
A22: 17 | B22: 4.8 | C22: 92398 | D22: Execução de pavimento em piso intertravado, com bloco retangular cor natural de 20 x 10 cm, espessura 8 cm. | E22: m² | F22: 1176 | G22: 147.27603 | H22: 173196.61 | I22: =H22/$H$406 -> 0.012172206 | J22: =J21+I22 -> 0.67575183 | K22: =IF(J22<=80%,"A",IF(J22<=95%,"B","C")) -> A
A23: 18 | B23: 5.15 | C23: 87775 | D23: Massa Única Para Panos De Fachadas - Espessura 2,5 Cm | E23: m² | F23: 1722.25 | G23: 96.981192 | H23: 167025.86 | I23: =H23/$H$406 -> 0.011738527 | J23: =J22+I23 -> 0.68749036 | K23: =IF(J23<=80%,"A",IF(J23<=95%,"B","C")) -> A
A24: 19 | B24: 2.3 | C24: 96558 | D24: Concretagem De Sapata, Fck 30 Mpa, Com Uso De Bomba - Lançamento, Adensamento E Acabamento (Af_01/2024) | E24: m³ | F24: 173.66 | G24: 942.53638 | H24: 163680.87 | I24: =H24/$H$406 -> 0.011503442 | J24: =J23+I24 -> 0.6989938 | K24: =IF(J24<=80%,"A",IF(J24<=95%,"B","C")) -> A
A25: 20 | B25: 6.198 | C25: CP-EL-175 | D25: Suporte vertical para eletrocalha — 200x50mm | E25: pç | F25: 1370 | G25: 103.2544 | H25: 141458.53 | I25: =H25/$H$406 -> 0.0099416627 | J25: =J24+I25 -> 0.70893546 | K25: =IF(J25<=80%,"A",IF(J25<=95%,"B","C")) -> A
A26: 21 | B26: 5.31 | C26: 99861 | D26: Gradil Em Ferro Fixado Em Vãos De Janelas, Formado Por Barras Chatas De 25x4,8 Mm | E26: m² | F26: 160 | G26: 783.61275 | H26: 125378.04 | I26: =H26/$H$406 -> 0.0088115309 | J26: =J25+I26 -> 0.717747 | K26: =IF(J26<=80%,"A",IF(J26<=95%,"B","C")) -> A
A27: 22 | B27: 5.27 | C27: 102259 | D27: Divisória Sanitária, Tipo Cabine, Em Painéis Estruturais Ts, Inclusive Estrutura, Porta E Ferragens. Af_10/2025 | E27: m² | F27: 177.54 | G27: 652.98334 | H27: 115930.66 | I27: =H27/$H$406 -> 0.0081475721 | J27: =J26+I27 -> 0.72589457 | K27: =IF(J27<=80%,"A",IF(J27<=95%,"B","C")) -> A
A28: 23 | B28: 5.16 | C28: 87529 | D28: Massa Única Para Paredes Internas - Espessura 2,0 Cm | E28: m² | F28: 1722.25 | G28: 63.833633 | H28: 109937.47 | I28: =H28/$H$406 -> 0.0077263726 | J28: =J27+I28 -> 0.73362094 | K28: =IF(J28<=80%,"A",IF(J28<=95%,"B","C")) -> A
A29: 24 | B29: 5.12 | C29: 94569 | D29: Janela De Alumínio Tipo Maxim-Ar, Batente/ Requadro 3 A 14 Cm, Vidro Incluso, Fixação Com Parafuso, Sem Guarnição/ Alizar, Dimensões 60x80 (A X L) Cm, Sem Acabamento, Vedação Com Silicone, Exclusive Contramarco - Fornecimento E Instalação | E29: m² | F29: 116.75 | G29: 881.86813 | H29: 102958.1 | I29: =H29/$H$406 -> 0.0072358645 | J29: =J28+I29 -> 0.7408568 | K29: =IF(J29<=80%,"A",IF(J29<=95%,"B","C")) -> A
A30: 25 | B30: 12.1 | C30: 39511 | D30: Forro De Fibra Mineral Em Placas De 625 X 625 Mm, E = 15 Mm, Borda Reta, Com Pintura Antimofo, Apoiado Em Perfil De Aco Galvanizado Com 24 Mm De Base - Instalado | E30: m² | F30: 700 | G30: 144.808 | H30: 101365.6 | I30: =H30/$H$406 -> 0.0071239438 | J30: =J29+I30 -> 0.74798075 | K30: =IF(J30<=80%,"A",IF(J30<=95%,"B","C")) -> A
A31: 26 | B31: 5.20 | C31: 87263 | D31: Revestimento Cerâmico Para Pisos Com Placas Tipo Porcelanato Dimensões 60x60cm | E31: m² | F31: 474.61 | G31: 212.92505 | H31: 101056.36 | I31: =H31/$H$406 -> 0.0071022105 | J31: =J30+I31 -> 0.75508296 | K31: =IF(J31<=80%,"A",IF(J31<=95%,"B","C")) -> A
A32: 27 | B32: 5.33 | C32: 106215 | D32: Corrimão duplo fixado no piso em aço inox de 1.1/2", montantes tubulares 1.1/2" espaçados de 1,00m, fixado com chumbador mecânico. | E32: m | F32: 92 | G32: 979.30502 | H32: 90096.062 | I32: =H32/$H$406 -> 0.0063319241 | J32: =J31+I32 -> 0.76141488 | K32: =IF(J32<=80%,"A",IF(J32<=95%,"B","C")) -> A
A33: 28 | B33: 2.2 | C33: 96529 | D33: Fabricação, Montagem E Desmontagem De Fôrma Para Sapata, Em Madeira Serrada, E=25 Mm, 1 Utilização | E33: m² | F33: 225 | G33: 392.61856 | H33: 88339.176 | I33: =H33/$H$406 -> 0.0062084507 | J33: =J32+I33 -> 0.76762333 | K33: =IF(J33<=80%,"A",IF(J33<=95%,"B","C")) -> A
A34: 29 | B34: 6.32 | C34: CP-EL-032 | D34: Suporte para cabo de aço — 38x90mm | E34: pç | F34: 1393 | G34: 62.96 | H34: 87703.28 | I34: =H34/$H$406 -> 0.0061637601 | J34: =J33+I34 -> 0.77378709 | K34: =IF(J34<=80%,"A",IF(J34<=95%,"B","C")) -> A
A35: 30 | B35: 5.32 | C35: 105090 | D35: Piso de madeira, sobre vigotas de madeira seção 7,5 x 15 cm – Palco | E35: m² | F35: 110 | G35: 754.99114 | H35: 83049.025 | I35: =H35/$H$406 -> 0.0058366605 | J35: =J34+I35 -> 0.77962375 | K35: =IF(J35<=80%,"A",IF(J35<=95%,"B","C")) -> A
A36: 31 | B36: 5.19 | C36: 88489 | D36: Pintura Acrílica De 1ª, Duas Demãos, Em Paredes, Cores De Projeto | E36: m² | F36: 4215 | G36: 17.742128 | H36: 74783.07 | I36: =H36/$H$406 -> 0.0052557316 | J36: =J35+I36 -> 0.78487949 | K36: =IF(J36<=80%,"A",IF(J36<=95%,"B","C")) -> A
A37: 32 | B37: 5.30 | C37: 100353 | D37: Muro De Arrimo Com Blocos De Concreto Estrutural E Pilares Intermediários, Com Altura Maior Que 2,8 M E Menor Ou Igual A 4,0 M (Exceto Fundação). Af_11/2024 Altura 1,5m | E37: m² | F37: 85 | G37: 799.81866 | H37: 67984.586 | I37: =H37/$H$406 -> 0.0047779362 | J37: =J36+I37 -> 0.78965742 | K37: =IF(J37<=80%,"A",IF(J37<=95%,"B","C")) -> A
A38: 33 | B38: 5.14 | C38: 87905 | D38: Chapisco Aplicado Em Alvenaria (Com Vãos) E Estruturas De Concreto De Fachada, Com Colher De Pedreiro, Preparo Em Betoneira. | E38: m² | F38: 4444.5 | G38: 14.437861 | H38: 64169.074 | I38: =H38/$H$406 -> 0.0045097832 | J38: =J37+I38 -> 0.79416721 | K38: =IF(J38<=80%,"A",IF(J38<=95%,"B","C")) -> A
A39: 34 | B39: 1.10 | C39: 99059 | D39: Locação Convencional De Obra, Utilizando Gabarito De Tábuas Corridas Pontaletadas A Cada 2,00m - 2 Utilizações | E39: m | F39: 597.58 | G39: 103.4181 | H39: 61800.586 | I39: =H39/$H$406 -> 0.0043433266 | J39: =J38+I39 -> 0.79851053 | K39: =IF(J39<=80%,"A",IF(J39<=95%,"B","C")) -> A
A40: 35 | B40: 2.14 | C40: 94316 | D40: Aterro mecanizado de vala com retroescavadeira (capacidade da caçamba da retro: 0,26 m³ / potência: 88 hp), largura até 1,5 m, profundidade até 1,5 m, com solo argilo-arenoso | E40: m³ | F40: 588.85 | G40: 98.053904 | H40: 57739.041 | I40: =H40/$H$406 -> 0.0040578824 | J40: =J39+I40 -> 0.80256841 | K40: =IF(J40<=80%,"A",IF(J40<=95%,"B","C")) -> B
A41: 36 | B41: 5.17 | C41: 87269 | D41: Revestimento Cerâmico Para Paredes Internas Com Placas Tipo Esmaltada Dimensões 25x35cm | E41: m² | F41: 483 | G41: 116.2632 | H41: 56155.123 | I41: =H41/$H$406 -> 0.0039465651 | J41: =J40+I41 -> 0.80651498 | K41: =IF(J41<=80%,"A",IF(J41<=95%,"B","C")) -> B
...

Sheet CRONOGRAMA 12 MESES
A2: CRONOGRAMA FÍSICO-FINANCEIRO — 12 MESES OBRA: REVITALIZAÇÃO CENTRO DE FEIRAS, CANELA RS
A3: Distribuição referencial por etapa. Os percentuais amarelos podem ser ajustados, mantendo 100% por etapa.
A5: ETAPA | B5: TOTAL COM BDI | C5: MÊS 1 | D5: MÊS 2 | E5: MÊS 3 | F5: MÊS 4 | G5: MÊS 5 | H5: MÊS 6 | I5: MÊS 7 | J5: MÊS 8 | K5: MÊS 9 | L5: MÊS 10 | M5: MÊS 11 | N5: MÊS 12 | O5: TOTAL FÍSICO | P5: VERIFICAÇÃO
A6: 1. SERVIÇOS PRELIMINARES | B6: =SUM('ORÇAMENTO POR ETAPAS'!K8:K24) -> 265931.02 | C6: 0.5 | D6: 0.3 | E6: 0.2 | F6: 0 | G6: 0 | H6: 0 | I6: 0 | J6: 0 | K6: 0 | L6: 0 | M6: 0 | N6: 0 | O6: =SUM(C6:N6) -> 1 | P6: =IF(ABS(O6-100%)<0.000001,"OK","REVISAR") -> OK
A7: 2. FUNDAÇÃO | B7: =SUM('ORÇAMENTO POR ETAPAS'!K28:K41) -> 961512.64 | C7: 0.1 | D7: 0.35 | E7: 0.35 | F7: 0.2 | G7: 0 | H7: 0 | I7: 0 | J7: 0 | K7: 0 | L7: 0 | M7: 0 | N7: 0 | O7: =SUM(C7:N7) -> 1 | P7: =IF(ABS(O7-100%)<0.000001,"OK","REVISAR") -> OK
A8: 3. ESTRUTURAS | B8: =SUM('ORÇAMENTO POR ETAPAS'!K45:K70) -> 675400.79 | C8: 0 | D8: 0 | E8: 0.1 | F8: 0.25 | G8: 0.3 | H8: 0.25 | I8: 0.1 | J8: 0 | K8: 0 | L8: 0 | M8: 0 | N8: 0 | O8: =SUM(C8:N8) -> 1 | P8: =IF(ABS(O8-100%)<0.000001,"OK","REVISAR") -> OK
A9: 4. PASSEIOS E CANTEIROS | B9: =SUM('ORÇAMENTO POR ETAPAS'!K74:K89) -> 654667.43 | C9: 0 | D9: 0 | E9: 0 | F9: 0 | G9: 0 | H9: 0 | I9: 0 | J9: 0.15 | K9: 0.35 | L9: 0.35 | M9: 0.15 | N9: 0 | O9: =SUM(C9:N9) -> 1 | P9: =IF(ABS(O9-100%)<0.000001,"OK","REVISAR") -> OK
A10: 5. VEDAÇÕES, PISOS E REVESTIMENTOS | B10: =SUM('ORÇAMENTO POR ETAPAS'!K93:K125) -> 2190876.7 | C10: 0 | D10: 0 | E10: 0 | F10: 0 | G10: 0.1 | H10: 0.15 | I10: 0.25 | J10: 0.25 | K10: 0.15 | L10: 0.1 | M10: 0 | N10: 0 | O10: =SUM(C10:N10) -> 1 | P10: =IF(ABS(O10-100%)<0.000001,"OK","REVISAR") -> OK
A11: 6. INSTALAÇÕES ELÉTRICA | B11: =SUM('ORÇAMENTO POR ETAPAS'!K129:K327) -> 4469978.4 | C11: 0 | D11: 0 | E11: 0 | F11: 0 | G11: 0 | H11: 0.1 | I11: 0.15 | J11: 0.2 | K11: 0.25 | L11: 0.2 | M11: 0.1 | N11: 0 | O11: =SUM(C11:N11) -> 1 | P11: =IF(ABS(O11-100%)<0.000001,"OK","REVISAR") -> OK
A12: 7. INSTALAÇÕES HIDRÁULICA E SANITÁRIAS | B12: =SUM('ORÇAMENTO POR ETAPAS'!K331:K354) -> 146566.69 | C12: 0 | D12: 0 | E12: 0 | F12: 0.1 | G12: 0.2 | H12: 0.25 | I12: 0.25 | J12: 0.15 | K12: 0.05 | L12: 0 | M12: 0 | N12: 0 | O12: =SUM(C12:N12) -> 1 | P12: =IF(ABS(O12-100%)<0.000001,"OK","REVISAR") -> OK
A13: 8. SPDA | B13: =SUM('ORÇAMENTO POR ETAPAS'!K358:K383) -> 112380.26 | C13: 0 | D13: 0 | E13: 0 | F13: 0 | G13: 0 | H13: 0 | I13: 0 | J13: 0.25 | K13: 0.5 | L13: 0.25 | M13: 0 | N13: 0 | O13: =SUM(C13:N13) -> 1 | P13: =IF(ABS(O13-100%)<0.000001,"OK","REVISAR") -> OK
A14: 9. LOUÇAS E METAIS | B14: =SUM('ORÇAMENTO POR ETAPAS'!K387:K402) -> 89787.86 | C14: 0 | D14: 0 | E14: 0 | F14: 0 | G14: 0 | H14: 0 | I14: 0 | J14: 0 | K14: 0.2 | L14: 0.5 | M14: 0.3 | N14: 0 | O14: =SUM(C14:N14) -> 1 | P14: =IF(ABS(O14-100%)<0.000001,"OK","REVISAR") -> OK
A15: 10. COBERTURA | B15: =SUM('ORÇAMENTO POR ETAPAS'!K406:K411) -> 2748356.2 | C15: 0 | D15: 0 | E15: 0.1 | F15: 0.3 | G15: 0.3 | H15: 0.2 | I15: 0.1 | J15: 0 | K15: 0 | L15: 0 | M15: 0 | N15: 0 | O15: =SUM(C15:N15) -> 1 | P15: =IF(ABS(O15-100%)<0.000001,"OK","REVISAR") -> OK
A16: 11. MOBILIÁRIOS | B16: =SUM('ORÇAMENTO POR ETAPAS'!K415:K423) -> 1360881 | C16: 0 | D16: 0 | E16: 0 | F16: 0 | G16: 0 | H16: 0 | I16: 0 | J16: 0 | K16: 0.15 | L16: 0.35 | M16: 0.35 | N16: 0.15 | O16: =SUM(C16:N16) -> 1 | P16: =IF(ABS(O16-100%)<0.000001,"OK","REVISAR") -> OK
A17: 12. FORROS | B17: =SUM('ORÇAMENTO POR ETAPAS'!K427:K430) -> 154982.34 | C17: 0 | D17: 0 | E17: 0 | F17: 0 | G17: 0 | H17: 0 | I17: 0.15 | J17: 0.3 | K17: 0.35 | L17: 0.2 | M17: 0 | N17: 0 | O17: =SUM(C17:N17) -> 1 | P17: =IF(ABS(O17-100%)<0.000001,"OK","REVISAR") -> OK
A18: 13. SERVIÇOS COMPLEMENTARES | B18: =SUM('ORÇAMENTO POR ETAPAS'!K434:K442) -> 19338.099 | C18: 0 | D18: 0 | E18: 0 | F18: 0 | G18: 0 | H18: 0 | I18: 0 | J18: 0 | K18: 0 | L18: 0 | M18: 0.4 | N18: 0.6 | O18: =SUM(C18:N18) -> 1 | P18: =IF(ABS(O18-100%)<0.000001,"OK","REVISAR") -> OK
A19: 14. ADMINISTRAÇÃO LOCAL | B19: =SUM('ORÇAMENTO POR ETAPAS'!K446:K446) -> 378200.68 | C19: 0.083333333 | D19: 0.083333333 | E19: 0.083333333 | F19: 0.083333333 | G19: 0.083333333 | H19: 0.083333333 | I19: 0.083333333 | J19: 0.083333333 | K19: 0.083333333 | L19: 0.083333333 | M19: 0.083333333 | N19: 0.083333333 | O19: =SUM(C19:N19) -> 1 | P19: =IF(ABS(O19-100%)<0.000001,"OK","REVISAR") -> OK
A20: TOTAL | B20: =SUM(B6:B19) -> 14228860 | C20: =SUMPRODUCT($B$6:$B$19,C$6:C$19)/$B$20 -> 0.018317244 | D20: =SUMPRODUCT($B$6:$B$19,D$6:D$19)/$B$20 -> 0.031473038 | E20: =SUMPRODUCT($B$6:$B$19,E$6:E$19)/$B$20 -> 0.053666144 | F20: =SUMPRODUCT($B$6:$B$19,F$6:F$19)/$B$20 -> 0.08657285 | G20: =SUMPRODUCT($B$6:$B$19,G$6:G$19)/$B$20 -> 0.091858717 | H20: =SUMPRODUCT($B$6:$B$19,H$6:H$19)/$B$20 -> 0.10979862 | I20: =SUMPRODUCT($B$6:$B$19,I$6:I$19)/$B$20 -> 0.11610188 | J20: =SUMPRODUCT($B$6:$B$19,J$6:J$19)/$B$20 -> 0.11722699 | ... N20: =SUMPRODUCT($B$6:$B$19,N$6:N$19)/$B$20 -> 0.017376777 | O20: =SUM(C20:N20) -> 1 | P20: =IF(ABS(O20-100%)<0.000001,"OK","REVISAR") -> OK
A23: ETAPA | B23: TOTAL COM BDI | C23: MÊS 1 | D23: MÊS 2 | E23: MÊS 3 | F23: MÊS 4 | G23: MÊS 5 | H23: MÊS 6 | I23: MÊS 7 | J23: MÊS 8 | K23: MÊS 9 | L23: MÊS 10 | M23: MÊS 11 | N23: MÊS 12 | O23: TOTAL DISTRIBUÍDO | P23: DIFERENÇA
A24: =A6 -> 1. SERVIÇOS PRELIMINARES | B24: =B6 -> 265931.02 | C24: =$B24*C$6 -> 132965.51 | D24: =$B24*D$6 -> 79779.305 | E24: =$B24*E$6 -> 53186.203 | F24: =$B24*F$6 -> 0 | G24: =$B24*G$6 -> 0 | H24: =$B24*H$6 -> 0 | I24: =$B24*I$6 -> 0 | J24: =$B24*J$6 -> 0 | ... N24: =$B24*N$6 -> 0 | O24: =SUM(C24:N24) -> 265931.02 | P24: =ROUND(O24-B24,2) -> 0
A25: =A7 -> 2. FUNDAÇÃO | B25: =B7 -> 961512.64 | C25: =$B25*C$7 -> 96151.264 | D25: =$B25*D$7 -> 336529.42 | E25: =$B25*E$7 -> 336529.42 | F25: =$B25*F$7 -> 192302.53 | G25: =$B25*G$7 -> 0 | H25: =$B25*H$7 -> 0 | I25: =$B25*I$7 -> 0 | J25: =$B25*J$7 -> 0 | ... N25: =$B25*N$7 -> 0 | O25: =SUM(C25:N25) -> 961512.64 | P25: =ROUND(O25-B25,2) -> 0
A26: =A8 -> 3. ESTRUTURAS | B26: =B8 -> 675400.79 | C26: =$B26*C$8 -> 0 | D26: =$B26*D$8 -> 0 | E26: =$B26*E$8 -> 67540.079 | F26: =$B26*F$8 -> 168850.2 | G26: =$B26*G$8 -> 202620.24 | H26: =$B26*H$8 -> 168850.2 | I26: =$B26*I$8 -> 67540.079 | J26: =$B26*J$8 -> 0 | ... N26: =$B26*N$8 -> 0 | O26: =SUM(C26:N26) -> 675400.79 | P26: =ROUND(O26-B26,2) -> 0
A27: =A9 -> 4. PASSEIOS E CANTEIROS | B27: =B9 -> 654667.43 | C27: =$B27*C$9 -> 0 | D27: =$B27*D$9 -> 0 | E27: =$B27*E$9 -> 0 | F27: =$B27*F$9 -> 0 | G27: =$B27*G$9 -> 0 | H27: =$B27*H$9 -> 0 | I27: =$B27*I$9 -> 0 | J27: =$B27*J$9 -> 98200.114 | ... N27: =$B27*N$9 -> 0 | O27: =SUM(C27:N27) -> 654667.43 | P27: =ROUND(O27-B27,2) -> 0
A28: =A10 -> 5. VEDAÇÕES, PISOS E REVESTIMENTOS | B28: =B10 -> 2190876.7 | C28: =$B28*C$10 -> 0 | D28: =$B28*D$10 -> 0 | E28: =$B28*E$10 -> 0 | F28: =$B28*F$10 -> 0 | G28: =$B28*G$10 -> 219087.67 | H28: =$B28*H$10 -> 328631.51 | I28: =$B28*I$10 -> 547719.18 | J28: =$B28*J$10 -> 547719.18 | ... N28: =$B28*N$10 -> 0 | O28: =SUM(C28:N28) -> 2190876.7 | P28: =ROUND(O28-B28,2) -> 0
A29: =A11 -> 6. INSTALAÇÕES ELÉTRICA | B29: =B11 -> 4469978.4 | C29: =$B29*C$11 -> 0 | D29: =$B29*D$11 -> 0 | E29: =$B29*E$11 -> 0 | F29: =$B29*F$11 -> 0 | G29: =$B29*G$11 -> 0 | H29: =$B29*H$11 -> 446997.84 | I29: =$B29*I$11 -> 670496.76 | J29: =$B29*J$11 -> 893995.68 | ... N29: =$B29*N$11 -> 0 | O29: =SUM(C29:N29) -> 4469978.4 | P29: =ROUND(O29-B29,2) -> 0
A30: =A12 -> 7. INSTALAÇÕES HIDRÁULICA E SANITÁRIAS | B30: =B12 -> 146566.69 | C30: =$B30*C$12 -> 0 | D30: =$B30*D$12 -> 0 | E30: =$B30*E$12 -> 0 | F30: =$B30*F$12 -> 14656.669 | G30: =$B30*G$12 -> 29313.338 | H30: =$B30*H$12 -> 36641.673 | I30: =$B30*I$12 -> 36641.673 | J30: =$B30*J$12 -> 21985.004 | ... N30: =$B30*N$12 -> 0 | O30: =SUM(C30:N30) -> 146566.69 | P30: =ROUND(O30-B30,2) -> 0
A31: =A13 -> 8. SPDA | B31: =B13 -> 112380.26 | C31: =$B31*C$13 -> 0 | D31: =$B31*D$13 -> 0 | E31: =$B31*E$13 -> 0 | F31: =$B31*F$13 -> 0 | G31: =$B31*G$13 -> 0 | H31: =$B31*H$13 -> 0 | I31: =$B31*I$13 -> 0 | J31: =$B31*J$13 -> 28095.066 | ... N31: =$B31*N$13 -> 0 | O31: =SUM(C31:N31) -> 112380.26 | P31: =ROUND(O31-B31,2) -> 0
A32: =A14 -> 9. LOUÇAS E METAIS | B32: =B14 -> 89787.86 | C32: =$B32*C$14 -> 0 | D32: =$B32*D$14 -> 0 | E32: =$B32*E$14 -> 0 | F32: =$B32*F$14 -> 0 | G32: =$B32*G$14 -> 0 | H32: =$B32*H$14 -> 0 | I32: =$B32*I$14 -> 0 | J32: =$B32*J$14 -> 0 | ... N32: =$B32*N$14 -> 0 | O32: =SUM(C32:N32) -> 89787.86 | P32: =ROUND(O32-B32,2) -> 0
A33: =A15 -> 10. COBERTURA | B33: =B15 -> 2748356.2 | C33: =$B33*C$15 -> 0 | D33: =$B33*D$15 -> 0 | E33: =$B33*E$15 -> 274835.62 | F33: =$B33*F$15 -> 824506.86 | G33: =$B33*G$15 -> 824506.86 | H33: =$B33*H$15 -> 549671.24 | I33: =$B33*I$15 -> 274835.62 | J33: =$B33*J$15 -> 0 | ... N33: =$B33*N$15 -> 0 | O33: =SUM(C33:N33) -> 2748356.2 | P33: =ROUND(O33-B33,2) -> 0
A34: =A16 -> 11. MOBILIÁRIOS | B34: =B16 -> 1360881 | C34: =$B34*C$16 -> 0 | D34: =$B34*D$16 -> 0 | E34: =$B34*E$16 -> 0 | F34: =$B34*F$16 -> 0 | G34: =$B34*G$16 -> 0 | H34: =$B34*H$16 -> 0 | I34: =$B34*I$16 -> 0 | J34: =$B34*J$16 -> 0 | ... N34: =$B34*N$16 -> 204132.15 | O34: =SUM(C34:N34) -> 1360881 | P34: =ROUND(O34-B34,2) -> 0
A35: =A17 -> 12. FORROS | B35: =B17 -> 154982.34 | C35: =$B35*C$17 -> 0 | D35: =$B35*D$17 -> 0 | E35: =$B35*E$17 -> 0 | F35: =$B35*F$17 -> 0 | G35: =$B35*G$17 -> 0 | H35: =$B35*H$17 -> 0 | I35: =$B35*I$17 -> 23247.35 | J35: =$B35*J$17 -> 46494.701 | ... N35: =$B35*N$17 -> 0 | O35: =SUM(C35:N35) -> 154982.34 | P35: =ROUND(O35-B35,2) -> 0
A36: =A18 -> 13. SERVIÇOS COMPLEMENTARES | B36: =B18 -> 19338.099 | C36: =$B36*C$18 -> 0 | D36: =$B36*D$18 -> 0 | E36: =$B36*E$18 -> 0 | F36: =$B36*F$18 -> 0 | G36: =$B36*G$18 -> 0 | H36: =$B36*H$18 -> 0 | I36: =$B36*I$18 -> 0 | J36: =$B36*J$18 -> 0 | ... N36: =$B36*N$18 -> 11602.859 | O36: =SUM(C36:N36) -> 19338.099 | P36: =ROUND(O36-B36,2) -> 0
A37: =A19 -> 14. ADMINISTRAÇÃO LOCAL | B37: =B19 -> 378200.68 | C37: =$B37*C$19 -> 31516.724 | D37: =$B37*D$19 -> 31516.724 | E37: =$B37*E$19 -> 31516.724 | F37: =$B37*F$19 -> 31516.724 | G37: =$B37*G$19 -> 31516.724 | H37: =$B37*H$19 -> 31516.724 | I37: =$B37*I$19 -> 31516.724 | J37: =$B37*J$19 -> 31516.724 | ... N37: =$B37*N$19 -> 31516.724 | O37: =SUM(C37:N37) -> 378200.68 | P37: =ROUND(O37-B37,2) -> 0
A38: TOTAL MENSAL | B38: =SUM(B24:B37) -> 14228860 | C38: =SUM(C24:C37) -> 260633.5 | D38: =SUM(D24:D37) -> 447825.45 | E38: =SUM(E24:E37) -> 763608.05 | F38: =SUM(F24:F37) -> 1231833 | G38: =SUM(G24:G37) -> 1307044.8 | H38: =SUM(H24:H37) -> 1562309.2 | I38: =SUM(I24:I37) -> 1651997.4 | ... N38: =SUM(N24:N37) -> 247251.73 | O38: =SUM(C38:N38) -> 14228860 | P38: =ROUND(O38-B38,2) -> 0
A39: ACUMULADO | C39: =C38 -> 260633.5 | D39: =C39+D38 -> 708458.95 | E39: =D39+E38 -> 1472067 | F39: =E39+F38 -> 2703900 | G39: =F39+G38 -> 4010944.8 | H39: =G39+H38 -> 5573254 | I39: =H39+I38 -> 7225251.4 | J39: =I39+J38 -> 8893257.8 | K39: =J39+K38 -> 10939886 | ... N39: =M39+N38 -> 14228860 | O39: =N39 -> 14228860 | P39: =ROUND(O39-B38,2) -> 0

Sheet RESUMO COMPOSIÇÕES PRÓPRIAS
A2: RESUMO DAS COMPOSIÇÕES PRÓPRIAS – OBRA: REVITALIZAÇÃO CENTRO DE FEIRAS, CANELA RS
A3: BDI aplicado | B3: 0.2592
A5: ITEM | B5: CÓDIGO | C5: DESCRIÇÃO | D5: UNID. | E5: QUANT. | F5: MATERIAL UNIT. | G5: M.O. UNIT. | H5: CUSTO DIRETO UNIT. | I5: CUSTO DETALHADO | J5: DIFERENÇA | K5: PREÇO UNIT. COM BDI | L5: TOTAL SEM BDI | M5: TOTAL COM BDI | N5: LINHA FONTE
A6: ='ORÇAMENTO POR ETAPAS'!A80 -> 4.7 | B6: ='ORÇAMENTO POR ETAPAS'!B80 -> CP02 | C6: ='ORÇAMENTO POR ETAPAS'!C80 -> Fornecimento E Assentamento De Passeio Em Pedra Basalto Recortada, 45x45cm, Superfície Lisa E Uniforme Em Tons De Cinza, C/ Rejunte E Argamassa De Assentamento | D6: ='ORÇAMENTO POR ETAPAS'!D80 -> m² | E6: ='ORÇAMENTO POR ETAPAS'!E80 -> 750 | F6: ='ORÇAMENTO POR ETAPAS'!F80 -> 155.6 | G6: ='ORÇAMENTO POR ETAPAS'!G80 -> 52 | H6: =F6+G6 -> 207.6 | I6: ='COMPOSIÇÕES PRÓPRIAS'!J11 -> 207.6 | J6: =I6-H6 -> 0 | K6: =H6*(1+$B$3) -> 261.40992 | L6: =E6*H6 -> 155700 | M6: =E6*K6 -> 196057.44 | N6: 80
A7: ='ORÇAMENTO POR ETAPAS'!A129 -> 6.1 | B7: ='ORÇAMENTO POR ETAPAS'!B129 -> CP-EL-001 | C7: ='ORÇAMENTO POR ETAPAS'!C129 -> Arruela zamak — 1/2" | D7: ='ORÇAMENTO POR ETAPAS'!D129 -> pç | E7: ='ORÇAMENTO POR ETAPAS'!E129 -> 1 | F7: ='ORÇAMENTO POR ETAPAS'!F129 -> 0.47 | G7: ='ORÇAMENTO POR ETAPAS'!G129 -> 0.08 | H7: =F7+G7 -> 0.55 | I7: ='COMPOSIÇÕES PRÓPRIAS'!J14 -> 0.55 | J7: =I7-H7 -> 0 | K7: =H7*(1+$B$3) -> 0.69256 | L7: =E7*H7 -> 0.55 | M7: =E7*K7 -> 0.69256 | N7: 129
A8: ='ORÇAMENTO POR ETAPAS'!A130 -> 6.2 | B8: ='ORÇAMENTO POR ETAPAS'!B130 -> CP-EL-002 | C8: ='ORÇAMENTO POR ETAPAS'!C130 -> Arruela zamak — 2" | D8: ='ORÇAMENTO POR ETAPAS'!D130 -> pç | E8: ='ORÇAMENTO POR ETAPAS'!E130 -> 5 | F8: ='ORÇAMENTO POR ETAPAS'!F130 -> 0.47 | G8: ='ORÇAMENTO POR ETAPAS'!G130 -> 0.08 | H8: =F8+G8 -> 0.55 | I8: ='COMPOSIÇÕES PRÓPRIAS'!J17 -> 0.55 | J8: =I8-H8 -> 0 | K8: =H8*(1+$B$3) -> 0.69256 | L8: =E8*H8 -> 2.75 | M8: =E8*K8 -> 3.4628 | N8: 130
A9: ='ORÇAMENTO POR ETAPAS'!A131 -> 6.3 | B9: ='ORÇAMENTO POR ETAPAS'!B131 -> CP-EL-003 | C9: ='ORÇAMENTO POR ETAPAS'!C131 -> Bucha zamak — 1/2" | D9: ='ORÇAMENTO POR ETAPAS'!D131 -> pç | E9: ='ORÇAMENTO POR ETAPAS'!E131 -> 1 | F9: ='ORÇAMENTO POR ETAPAS'!F131 -> 26.74 | G9: ='ORÇAMENTO POR ETAPAS'!G131 -> 4.72 | H9: =F9+G9 -> 31.46 | I9: ='COMPOSIÇÕES PRÓPRIAS'!J20 -> 31.46 | J9: =I9-H9 -> 0 | K9: =H9*(1+$B$3) -> 39.614432 | L9: =E9*H9 -> 31.46 | M9: =E9*K9 -> 39.614432 | N9: 131
A10: ='ORÇAMENTO POR ETAPAS'!A132 -> 6.4 | B10: ='ORÇAMENTO POR ETAPAS'!B132 -> CP-EL-004 | C10: ='ORÇAMENTO POR ETAPAS'!C132 -> Bucha zamak — 2" | D10: ='ORÇAMENTO POR ETAPAS'!D132 -> pç | E10: ='ORÇAMENTO POR ETAPAS'!E132 -> 5 | F10: ='ORÇAMENTO POR ETAPAS'!F132 -> 26.74 | G10: ='ORÇAMENTO POR ETAPAS'!G132 -> 4.72 | H10: =F10+G10 -> 31.46 | I10: ='COMPOSIÇÕES PRÓPRIAS'!J23 -> 31.46 | J10: =I10-H10 -> 0 | K10: =H10*(1+$B$3) -> 39.614432 | L10: =E10*H10 -> 157.3 | M10: =E10*K10 -> 198.07216 | N10: 132
A11: ='ORÇAMENTO POR ETAPAS'!A134 -> 6.6 | B11: ='ORÇAMENTO POR ETAPAS'!B134 -> CP-EL-006 | C11: ='ORÇAMENTO POR ETAPAS'!C134 -> Caixa PVC — 4x4" | D11: ='ORÇAMENTO POR ETAPAS'!D134 -> pç | E11: ='ORÇAMENTO POR ETAPAS'!E134 -> 5 | F11: ='ORÇAMENTO POR ETAPAS'!F134 -> 13.6 | G11: ='ORÇAMENTO POR ETAPAS'!G134 -> 2.4 | H11: =F11+G11 -> 16 | I11: ='COMPOSIÇÕES PRÓPRIAS'!J26 -> 16 | J11: =I11-H11 -> 0 | K11: =H11*(1+$B$3) -> 20.1472 | L11: =E11*H11 -> 80 | M11: =E11*K11 -> 100.736 | N11: 134
A12: ='ORÇAMENTO POR ETAPAS'!A135 -> 6.7 | B12: ='ORÇAMENTO POR ETAPAS'!B135 -> CP-EL-007 | C12: ='ORÇAMENTO POR ETAPAS'!C135 -> Caixa PVC octogonal — 3x3" | D12: ='ORÇAMENTO POR ETAPAS'!D135 -> pç | E12: ='ORÇAMENTO POR ETAPAS'!E135 -> 90 | F12: ='ORÇAMENTO POR ETAPAS'!F135 -> 13.6 | G12: ='ORÇAMENTO POR ETAPAS'!G135 -> 2.4 | H12: =F12+G12 -> 16 | I12: ='COMPOSIÇÕES PRÓPRIAS'!J29 -> 16 | J12: =I12-H12 -> 0 | K12: =H12*(1+$B$3) -> 20.1472 | L12: =E12*H12 -> 1440 | M12: =E12*K12 -> 1813.248 | N12: 135
A13: ='ORÇAMENTO POR ETAPAS'!A136 -> 6.8 | B13: ='ORÇAMENTO POR ETAPAS'!B136 -> CP-EL-008 | C13: ='ORÇAMENTO POR ETAPAS'!C136 -> Caixa alumínio 4"x2" — 3x4" | D13: ='ORÇAMENTO POR ETAPAS'!D136 -> pç | E13: ='ORÇAMENTO POR ETAPAS'!E136 -> 52 | F13: ='ORÇAMENTO POR ETAPAS'!F136 -> 28.9 | G13: ='ORÇAMENTO POR ETAPAS'!G136 -> 5.1 | H13: =F13+G13 -> 34 | I13: ='COMPOSIÇÕES PRÓPRIAS'!J32 -> 34 | J13: =I13-H13 -> 0 | K13: =H13*(1+$B$3) -> 42.8128 | L13: =E13*H13 -> 1768 | M13: =E13*K13 -> 2226.2656 | N13: 136
A14: ='ORÇAMENTO POR ETAPAS'!A137 -> 6.9 | B14: ='ORÇAMENTO POR ETAPAS'!B137 -> CP-EL-009 | C14: ='ORÇAMENTO POR ETAPAS'!C137 -> Condulete alum. encaixe tipo C — 1" sem tampa | D14: ='ORÇAMENTO POR ETAPAS'!D137 -> pç | E14: ='ORÇAMENTO POR ETAPAS'!E137 -> 80 | F14: ='ORÇAMENTO POR ETAPAS'!F137 -> 23.8 | G14: ='ORÇAMENTO POR ETAPAS'!G137 -> 4.2 | H14: =F14+G14 -> 28 | I14: ='COMPOSIÇÕES PRÓPRIAS'!J35 -> 28 | J14: =I14-H14 -> 0 | K14: =H14*(1+$B$3) -> 35.2576 | L14: =E14*H14 -> 2240 | M14: =E14*K14 -> 2820.608 | N14: 137
A15: ='ORÇAMENTO POR ETAPAS'!A138 -> 6.10 | B15: ='ORÇAMENTO POR ETAPAS'!B138 -> CP-EL-010 | C15: ='ORÇAMENTO POR ETAPAS'!C138 -> Condulete alum. encaixe tipo C — 1/2" sem tampa | D15: ='ORÇAMENTO POR ETAPAS'!D138 -> pç | E15: ='ORÇAMENTO POR ETAPAS'!E138 -> 6 | F15: ='ORÇAMENTO POR ETAPAS'!F138 -> 23.8 | G15: ='ORÇAMENTO POR ETAPAS'!G138 -> 4.2 | H15: =F15+G15 -> 28 | I15: ='COMPOSIÇÕES PRÓPRIAS'!J38 -> 28 | J15: =I15-H15 -> 0 | K15: =H15*(1+$B$3) -> 35.2576 | L15: =E15*H15 -> 168 | M15: =E15*K15 -> 211.5456 | N15: 138
A16: ='ORÇAMENTO POR ETAPAS'!A139 -> 6.11 | B16: ='ORÇAMENTO POR ETAPAS'!B139 -> CP-EL-011 | C16: ='ORÇAMENTO POR ETAPAS'!C139 -> Curva 180º PVC rosca — 2" | D16: ='ORÇAMENTO POR ETAPAS'!D139 -> pç | E16: ='ORÇAMENTO POR ETAPAS'!E139 -> 1 | F16: ='ORÇAMENTO POR ETAPAS'!F139 -> 12.75 | G16: ='ORÇAMENTO POR ETAPAS'!G139 -> 2.25 | H16: =F16+G16 -> 15 | I16: ='COMPOSIÇÕES PRÓPRIAS'!J41 -> 15 | J16: =I16-H16 -> 0 | K16: =H16*(1+$B$3) -> 18.888 | L16: =E16*H16 -> 15 | M16: =E16*K16 -> 18.888 | N16: 139
A17: ='ORÇAMENTO POR ETAPAS'!A140 -> 6.12 | B17: ='ORÇAMENTO POR ETAPAS'!B140 -> CP-EL-012 | C17: ='ORÇAMENTO POR ETAPAS'!C140 -> Curva 90º PVC longa rosca — 1/2" | D17: ='ORÇAMENTO POR ETAPAS'!D140 -> pç | E17: ='ORÇAMENTO POR ETAPAS'!E140 -> 1 | F17: ='ORÇAMENTO POR ETAPAS'!F140 -> 12.75 | G17: ='ORÇAMENTO POR ETAPAS'!G140 -> 2.25 | H17: =F17+G17 -> 15 | I17: ='COMPOSIÇÕES PRÓPRIAS'!J44 -> 15 | J17: =I17-H17 -> 0 | K17: =H17*(1+$B$3) -> 18.888 | L17: =E17*H17 -> 15 | M17: =E17*K17 -> 18.888 | N17: 140
A18: ='ORÇAMENTO POR ETAPAS'!A141 -> 6.13 | B18: ='ORÇAMENTO POR ETAPAS'!B141 -> CP-EL-013 | C18: ='ORÇAMENTO POR ETAPAS'!C141 -> Curva 90º PVC longa rosca — 2" | D18: ='ORÇAMENTO POR ETAPAS'!D141 -> pç | E18: ='ORÇAMENTO POR ETAPAS'!E141 -> 1 | F18: ='ORÇAMENTO POR ETAPAS'!F141 -> 12.75 | G18: ='ORÇAMENTO POR ETAPAS'!G141 -> 2.25 | H18: =F18+G18 -> 15 | I18: ='COMPOSIÇÕES PRÓPRIAS'!J47 -> 15 | J18: =I18-H18 -> 0 | K18: =H18*(1+$B$3) -> 18.888 | L18: =E18*H18 -> 15 | M18: =E18*K18 -> 18.888 | N18: 141
A19: ='ORÇAMENTO POR ETAPAS'!A142 -> 6.14 | B19: ='ORÇAMENTO POR ETAPAS'!B142 -> CP-EL-014 | C19: ='ORÇAMENTO POR ETAPAS'!C142 -> Luva PVC rosca — 1/2" | D19: ='ORÇAMENTO POR ETAPAS'!D142 -> pç | E19: ='ORÇAMENTO POR ETAPAS'!E142 -> 2 | F19: ='ORÇAMENTO POR ETAPAS'!F142 -> 4.08 | G19: ='ORÇAMENTO POR ETAPAS'!G142 -> 0.72 | H19: =F19+G19 -> 4.8 | I19: ='COMPOSIÇÕES PRÓPRIAS'!J50 -> 4.8 | J19: =I19-H19 -> 0 | K19: =H19*(1+$B$3) -> 6.04416 | L19: =E19*H19 -> 9.6 | M19: =E19*K19 -> 12.08832 | N19: 142
A20: ='ORÇAMENTO POR ETAPAS'!A143 -> 6.15 | B20: ='ORÇAMENTO POR ETAPAS'!B143 -> CP-EL-015 | C20: ='ORÇAMENTO POR ETAPAS'!C143 -> Luva aço galvan. leve — 1" | D20: ='ORÇAMENTO POR ETAPAS'!D143 -> pç | E20: ='ORÇAMENTO POR ETAPAS'!E143 -> 99 | F20: ='ORÇAMENTO POR ETAPAS'!F143 -> 11.47 | G20: ='ORÇAMENTO POR ETAPAS'!G143 -> 2.03 | H20: =F20+G20 -> 13.5 | I20: ='COMPOSIÇÕES PRÓPRIAS'!J53 -> 13.5 | J20: =I20-H20 -> 0 | K20: =H20*(1+$B$3) -> 16.9992 | L20: =E20*H20 -> 1336.5 | M20: =E20*K20 -> 1682.9208 | N20: 143
A21: ='ORÇAMENTO POR ETAPAS'!A144 -> 6.16 | B21: ='ORÇAMENTO POR ETAPAS'!B144 -> CP-EL-016 | C21: ='ORÇAMENTO POR ETAPAS'!C144 -> Luva aço galvan. leve — 1.1/4" | D21: ='ORÇAMENTO POR ETAPAS'!D144 -> pç | E21: ='ORÇAMENTO POR ETAPAS'!E144 -> 4 | F21: ='ORÇAMENTO POR ETAPAS'!F144 -> 11.47 | G21: ='ORÇAMENTO POR ETAPAS'!G144 -> 2.03 | H21: =F21+G21 -> 13.5 | I21: ='COMPOSIÇÕES PRÓPRIAS'!J56 -> 13.5 | J21: =I21-H21 -> 0 | K21: =H21*(1+$B$3) -> 16.9992 | L21: =E21*H21 -> 54 | M21: =E21*K21 -> 67.9968 | N21: 144
A22: ='ORÇAMENTO POR ETAPAS'!A145 -> 6.17 | B22: ='ORÇAMENTO POR ETAPAS'!B145 -> CP-EL-017 | C22: ='ORÇAMENTO POR ETAPAS'!C145 -> Arame aço galvanizado — 14BWG | D22: ='ORÇAMENTO POR ETAPAS'!D145 -> m | E22: ='ORÇAMENTO POR ETAPAS'!E145 -> 1 | F22: ='ORÇAMENTO POR ETAPAS'!F145 -> 2.38 | G22: ='ORÇAMENTO POR ETAPAS'!G145 -> 0.42 | H22: =F22+G22 -> 2.8 | I22: ='COMPOSIÇÕES PRÓPRIAS'!J59 -> 2.8 | J22: =I22-H22 -> 0 | K22: =H22*(1+$B$3) -> 3.52576 | L22: =E22*H22 -> 2.8 | M22: =E22*K22 -> 3.52576 | N22: 145
A23: ='ORÇAMENTO POR ETAPAS'!A146 -> 6.18 | B23: ='ORÇAMENTO POR ETAPAS'!B146 -> CP-EL-018 | C23: ='ORÇAMENTO POR ETAPAS'!C146 -> Arruela de pressão galvan. — 1/4" | D23: ='ORÇAMENTO POR ETAPAS'!D146 -> pç | E23: ='ORÇAMENTO POR ETAPAS'!E146 -> 36 | F23: ='ORÇAMENTO POR ETAPAS'!F146 -> 0.47 | G23: ='ORÇAMENTO POR ETAPAS'!G146 -> 0.08 | H23: =F23+G23 -> 0.55 | I23: ='COMPOSIÇÕES PRÓPRIAS'!J62 -> 0.55 | J23: =I23-H23 -> 0 | K23: =H23*(1+$B$3) -> 0.69256 | L23: =E23*H23 -> 19.8 | M23: =E23*K23 -> 24.93216 | N23: 146
A24: ='ORÇAMENTO POR ETAPAS'!A147 -> 6.19 | B24: ='ORÇAMENTO POR ETAPAS'!B147 -> CP-EL-019 | C24: ='ORÇAMENTO POR ETAPAS'!C147 -> Arruela lisa galvan. — 1/4" | D24: ='ORÇAMENTO POR ETAPAS'!D147 -> pç | E24: ='ORÇAMENTO POR ETAPAS'!E147 -> 11415 | F24: ='ORÇAMENTO POR ETAPAS'!F147 -> 0.47 | G24: ='ORÇAMENTO POR ETAPAS'!G147 -> 0.08 | H24: =F24+G24 -> 0.55 | I24: ='COMPOSIÇÕES PRÓPRIAS'!J65 -> 0.55 | J24: =I24-H24 -> 0 | K24: =H24*(1+$B$3) -> 0.69256 | L24: =E24*H24 -> 6278.25 | M24: =E24*K24 -> 7905.5724 | N24: 147
A25: ='ORÇAMENTO POR ETAPAS'!A148 -> 6.20 | B25: ='ORÇAMENTO POR ETAPAS'!B148 -> CP-EL-020 | C25: ='ORÇAMENTO POR ETAPAS'!C148 -> Arruela lisa galvan. — 3/8" | D25: ='ORÇAMENTO POR ETAPAS'!D148 -> pç | E25: ='ORÇAMENTO POR ETAPAS'!E148 -> 1393 | F25: ='ORÇAMENTO POR ETAPAS'!F148 -> 0.47 | G25: ='ORÇAMENTO POR ETAPAS'!G148 -> 0.08 | H25: =F25+G25 -> 0.55 | I25: ='COMPOSIÇÕES PRÓPRIAS'!J68 -> 0.55 | J25: =I25-H25 -> 0 | K25: =H25*(1+$B$3) -> 0.69256 | L25: =E25*H25 -> 766.15 | M25: =E25*K25 -> 964.73608 | N25: 148
A26: ='ORÇAMENTO POR ETAPAS'!A149 -> 6.21 | B26: ='ORÇAMENTO POR ETAPAS'!B149 -> CP-EL-021 | C26: ='ORÇAMENTO POR ETAPAS'!C149 -> Bucha de nylon — S4 | D26: ='ORÇAMENTO POR ETAPAS'!D149 -> pç | E26: ='ORÇAMENTO POR ETAPAS'!E149 -> 172 | F26: ='ORÇAMENTO POR ETAPAS'!F149 -> 0.38 | G26: ='ORÇAMENTO POR ETAPAS'!G149 -> 0.07 | H26: =F26+G26 -> 0.45 | I26: ='COMPOSIÇÕES PRÓPRIAS'!J71 -> 0.45 | J26: =I26-H26 -> 0 | K26: =H26*(1+$B$3) -> 0.56664 | L26: =E26*H26 -> 77.4 | M26: =E26*K26 -> 97.46208 | N26: 149
A27: ='ORÇAMENTO POR ETAPAS'!A150 -> 6.22 | B27: ='ORÇAMENTO POR ETAPAS'!B150 -> CP-EL-022 | C27: ='ORÇAMENTO POR ETAPAS'!C150 -> Bucha de nylon — S6 | D27: ='ORÇAMENTO POR ETAPAS'!D150 -> pç | E27: ='ORÇAMENTO POR ETAPAS'!E150 -> 1069 | F27: ='ORÇAMENTO POR ETAPAS'!F150 -> 0.38 | G27: ='ORÇAMENTO POR ETAPAS'!G150 -> 0.07 | H27: =F27+G27 -> 0.45 | I27: ='COMPOSIÇÕES PRÓPRIAS'!J74 -> 0.45 | J27: =I27-H27 -> 0 | K27: =H27*(1+$B$3) -> 0.56664 | L27: =E27*H27 -> 481.05 | M27: =E27*K27 -> 605.73816 | N27: 150
A28: ='ORÇAMENTO POR ETAPAS'!A151 -> 6.23 | B28: ='ORÇAMENTO POR ETAPAS'!B151 -> CP-EL-023 | C28: ='ORÇAMENTO POR ETAPAS'!C151 -> Fita isolante autofusão — 20m | D28: ='ORÇAMENTO POR ETAPAS'!D151 -> pç | E28: ='ORÇAMENTO POR ETAPAS'!E151 -> 1 | F28: ='ORÇAMENTO POR ETAPAS'!F151 -> 15.3 | G28: ='ORÇAMENTO POR ETAPAS'!G151 -> 2.7 | H28: =F28+G28 -> 18 | I28: ='COMPOSIÇÕES PRÓPRIAS'!J77 -> 18 | J28: =I28-H28 -> 0 | K28: =H28*(1+$B$3) -> 22.6656 | L28: =E28*H28 -> 18 | M28: =E28*K28 -> 22.6656 | N28: 151
A29: ='ORÇAMENTO POR ETAPAS'!A152 -> 6.24 | B29: ='ORÇAMENTO POR ETAPAS'!B152 -> CP-EL-024 | C29: ='ORÇAMENTO POR ETAPAS'!C152 -> Parafuso fenda galvan. cab. panela — 2,9x25mm autoatarrachante | D29: ='ORÇAMENTO POR ETAPAS'!D152 -> pç | E29: ='ORÇAMENTO POR ETAPAS'!E152 -> 172 | F29: ='ORÇAMENTO POR ETAPAS'!F152 -> 1.06 | G29: ='ORÇAMENTO POR ETAPAS'!G152 -> 0.19 | H29: =F29+G29 -> 1.25 | I29: ='COMPOSIÇÕES PRÓPRIAS'!J80 -> 1.25 | J29: =I29-H29 -> 0 | K29: =H29*(1+$B$3) -> 1.574 | L29: =E29*H29 -> 215 | M29: =E29*K29 -> 270.728 | N29: 152
A30: ='ORÇAMENTO POR ETAPAS'!A153 -> 6.25 | B30: ='ORÇAMENTO POR ETAPAS'!B153 -> CP-EL-025 | C30: ='ORÇAMENTO POR ETAPAS'!C153 -> Parafuso fenda galvan. cab. panela — 4,2x32mm autoatarrachante | D30: ='ORÇAMENTO POR ETAPAS'!D153 -> pç | E30: ='ORÇAMENTO POR ETAPAS'!E153 -> 1033 | F30: ='ORÇAMENTO POR ETAPAS'!F153 -> 1.06 | G30: ='ORÇAMENTO POR ETAPAS'!G153 -> 0.19 | H30: =F30+G30 -> 1.25 | I30: ='COMPOSIÇÕES PRÓPRIAS'!J83 -> 1.25 | J30: =I30-H30 -> 0 | K30: =H30*(1+$B$3) -> 1.574 | L30: =E30*H30 -> 1291.25 | M30: =E30*K30 -> 1625.942 | N30: 153
A31: ='ORÇAMENTO POR ETAPAS'!A154 -> 6.26 | B31: ='ORÇAMENTO POR ETAPAS'!B154 -> CP-EL-026 | C31: ='ORÇAMENTO POR ETAPAS'!C154 -> Parafuso fenda galvan. cab. panela — 4,8x45mm autoatarrachante | D31: ='ORÇAMENTO POR ETAPAS'!D154 -> pç | E31: ='ORÇAMENTO POR ETAPAS'!E154 -> 36 | F31: ='ORÇAMENTO POR ETAPAS'!F154 -> 1.06 | G31: ='ORÇAMENTO POR ETAPAS'!G154 -> 0.19 | H31: =F31+G31 -> 1.25 | I31: ='COMPOSIÇÕES PRÓPRIAS'!J86 -> 1.25 | J31: =I31-H31 -> 0 | K31: =H31*(1+$B$3) -> 1.574 | L31: =E31*H31 -> 45 | M31: =E31*K31 -> 56.664 | N31: 154
A32: ='ORÇAMENTO POR ETAPAS'!A155 -> 6.27 | B32: ='ORÇAMENTO POR ETAPAS'!B155 -> CP-EL-027 | C32: ='ORÇAMENTO POR ETAPAS'!C155 -> Parafuso galvan. cab. sext. — 3/8"x2.1/2" rosca soberba | D32: ='ORÇAMENTO POR ETAPAS'!D155 -> pç | E32: ='ORÇAMENTO POR ETAPAS'!E155 -> 18 | F32: ='ORÇAMENTO POR ETAPAS'!F155 -> 1.06 | G32: ='ORÇAMENTO POR ETAPAS'!G155 -> 0.19 | H32: =F32+G32 -> 1.25 | I32: ='COMPOSIÇÕES PRÓPRIAS'!J89 -> 1.25 | J32: =I32-H32 -> 0 | K32: =H32*(1+$B$3) -> 1.574 | L32: =E32*H32 -> 22.5 | M32: =E32*K32 -> 28.332 | N32: 155
A33: ='ORÇAMENTO POR ETAPAS'!A156 -> 6.28 | B33: ='ORÇAMENTO POR ETAPAS'!B156 -> CP-EL-028 | C33: ='ORÇAMENTO POR ETAPAS'!C156 -> Parafuso galvan. cab. sext. — 3/8"x2.1/2" rosca total WW | D33: ='ORÇAMENTO POR ETAPAS'!D156 -> pç | E33: ='ORÇAMENTO POR ETAPAS'!E156 -> 1375 | F33: ='ORÇAMENTO POR ETAPAS'!F156 -> 1.06 | G33: ='ORÇAMENTO POR ETAPAS'!G156 -> 0.19 | H33: =F33+G33 -> 1.25 | I33: ='COMPOSIÇÕES PRÓPRIAS'!J92 -> 1.25 | J33: =I33-H33 -> 0 | K33: =H33*(1+$B$3) -> 1.574 | L33: =E33*H33 -> 1718.75 | M33: =E33*K33 -> 2164.25 | N33: 156
A34: ='ORÇAMENTO POR ETAPAS'!A157 -> 6.29 | B34: ='ORÇAMENTO POR ETAPAS'!B157 -> CP-EL-029 | C34: ='ORÇAMENTO POR ETAPAS'!C157 -> Parafuso galvan. cabeça lentilha — 1/4"x5/8" máquina rosca total | D34: ='ORÇAMENTO POR ETAPAS'!D157 -> pç | E34: ='ORÇAMENTO POR ETAPAS'!E157 -> 6200 | F34: ='ORÇAMENTO POR ETAPAS'!F157 -> 1.06 | G34: ='ORÇAMENTO POR ETAPAS'!G157 -> 0.19 | H34: =F34+G34 -> 1.25 | I34: ='COMPOSIÇÕES PRÓPRIAS'!J95 -> 1.25 | J34: =I34-H34 -> 0 | K34: =H34*(1+$B$3) -> 1.574 | L34: =E34*H34 -> 7750 | M34: =E34*K34 -> 9758.8 | N34: 157
A35: ='ORÇAMENTO POR ETAPAS'!A158 -> 6.30 | B35: ='ORÇAMENTO POR ETAPAS'!B158 -> CP-EL-030 | C35: ='ORÇAMENTO POR ETAPAS'!C158 -> Porca sextavada galvan. — 1/4" | D35: ='ORÇAMENTO POR ETAPAS'!D158 -> pç | E35: ='ORÇAMENTO POR ETAPAS'!E158 -> 8263 | F35: ='ORÇAMENTO POR ETAPAS'!F158 -> 0.64 | G35: ='ORÇAMENTO POR ETAPAS'!G158 -> 0.11 | H35: =F35+G35 -> 0.75 | I35: ='COMPOSIÇÕES PRÓPRIAS'!J98 -> 0.75 | J35: =I35-H35 -> 0 | K35: =H35*(1+$B$3) -> 0.9444 | L35: =E35*H35 -> 6197.25 | M35: =E35*K35 -> 7803.5772 | N35: 158
A36: ='ORÇAMENTO POR ETAPAS'!A159 -> 6.31 | B36: ='ORÇAMENTO POR ETAPAS'!B159 -> CP-EL-031 | C36: ='ORÇAMENTO POR ETAPAS'!C159 -> Porca sextavada galvan. — 3/8" | D36: ='ORÇAMENTO POR ETAPAS'!D159 -> pç | E36: ='ORÇAMENTO POR ETAPAS'!E159 -> 1393 | F36: ='ORÇAMENTO POR ETAPAS'!F159 -> 0.64 | G36: ='ORÇAMENTO POR ETAPAS'!G159 -> 0.11 | H36: =F36+G36 -> 0.75 | I36: ='COMPOSIÇÕES PRÓPRIAS'!J101 -> 0.75 | J36: =I36-H36 -> 0 | K36: =H36*(1+$B$3) -> 0.9444 | L36: =E36*H36 -> 1044.75 | M36: =E36*K36 -> 1315.5492 | N36: 159
A37: ='ORÇAMENTO POR ETAPAS'!A160 -> 6.32 | B37: ='ORÇAMENTO POR ETAPAS'!B160 -> CP-EL-032 | C37: ='ORÇAMENTO POR ETAPAS'!C160 -> Suporte para cabo de aço — 38x90mm | D37: ='ORÇAMENTO POR ETAPAS'!D160 -> pç | E37: ='ORÇAMENTO POR ETAPAS'!E160 -> 1393 | F37: ='ORÇAMENTO POR ETAPAS'!F160 -> 42.5 | G37: ='ORÇAMENTO POR ETAPAS'!G160 -> 7.5 | H37: =F37+G37 -> 50 | I37: ='COMPOSIÇÕES PRÓPRIAS'!J104 -> 50 | J37: =I37-H37 -> 0 | K37: =H37*(1+$B$3) -> 62.96 | L37: =E37*H37 -> 69650 | M37: =E37*K37 -> 87703.28 | N37: 160
A38: ='ORÇAMENTO POR ETAPAS'!A161 -> 6.33 | B38: ='ORÇAMENTO POR ETAPAS'!B161 -> CP-EL-033 | C38: ='ORÇAMENTO POR ETAPAS'!C161 -> Vergalhão galvan. rosca total — 1/4"x(comp. p/ proj.) | D38: ='ORÇAMENTO POR ETAPAS'!D161 -> pç | E38: ='ORÇAMENTO POR ETAPAS'!E161 -> 1393 | F38: ='ORÇAMENTO POR ETAPAS'!F161 -> 18.7 | G38: ='ORÇAMENTO POR ETAPAS'!G161 -> 3.3 | H38: =F38+G38 -> 22 | I38: ='COMPOSIÇÕES PRÓPRIAS'!J107 -> 22 | J38: =I38-H38 -> 0 | K38: =H38*(1+$B$3) -> 27.7024 | L38: =E38*H38 -> 30646 | M38: =E38*K38 -> 38589.443 | N38: 161
