Workbook

Sheet CAGED
B1: 1. CAGED
B2: Rio Grande do Sul - Transporte Escolar - CNAE 49248
B3: Admissões | C3: 808
B4: Desligamentos | C4: 765
B5: Dispensados com justa causa | C5: 2
B6: Dispensados sem justa causa | C6: 504
B7: Espontâneos | C7: 130
B8: Fim de contrato por prazo determinado | C8: 6
B9: Término de contrato | C9: 116
B10: Aposentados | C10: 1
B11: Mortos | C11: 3
B12: Transferência de saída | C12: 0
B13: Acordo | C13: 0
B14: Indicadores
B15: Estoque recuperado início do Período 01-12-2018 | C15: 0
B16: Estoque recuperado final do Período 30-11-2019 | C16: 43
B17: Variação Emprego Absoluta de 01-12-2018 a 30-11-2019 | C17: =C3-C4 -> 43
B19: Estoque Médio | C19: =MEDIAN(C15,C16) -> 21.5
B20: % Demitidos s/ Justa Causa em relação ao Estoque Médio | C20: =C6/C19 -> 23.44186
B21: Taxa de Rotatividade | C21: =MEDIAN(C3,C4)/C19 -> 36.581395
B22: Rotatividade temporal (meses) | C22: =12/C21 -> 0.3280356
B23: Dias ano | C23: 360
B24: 1/3 de férias (dias) | C24: 10
B25: Férias (dias) | C25: 30
B26: 13º Salário (dias) | C26: 30
B27: Dias de Aviso prévio | C27: 36
B28: FGTS | C28: 0.08
B29: Multa FGTS | C29: 0.5

Sheet CAGED_2
B1: 1. CAGED
B2: Rio Grande do Sul - Transporte Escolar - CNAE 85503
B3: Admissões | C3: 378
B4: Desligamentos | C4: 267
B5: Dispensados com justa causa | C5: 0
B6: Dispensados sem justa causa | C6: 104
B7: Espontâneos | C7: 62
B8: Fim de contrato por prazo determinado | C8: 19
B9: Término de contrato | C9: 53
B10: Aposentados | C10: 0
B11: Mortos | C11: 0
B12: Transferência de saída | C12: 0
B13: Acordo | C13: 0
B14: Indicadores
B15: Estoque recuperado início do Período 01-01-2019 | C15: 0
B16: Estoque recuperado final do Período 31-12-2019 | C16: 111
B17: Variação Emprego Absoluta de 01-01-2019 a 31-12-2019 | C17: =C3-C4 -> 111
B19: Estoque Médio | C19: =MEDIAN(C15,C16) -> 55.5
B20: % Demitidos s/ Justa Causa em relação ao Estoque Médio | C20: =C6/C19 -> 1.8738739
B21: Taxa de Rotatividade | C21: =MEDIAN(C3,C4)/C19 -> 5.8108108
B22: Rotatividade temporal (meses) | C22: =12/C21 -> 2.0651163
B23: Dias ano | C23: 360
B24: 1/3 de férias (dias) | C24: 10
B25: Férias (dias) | C25: 30
B26: 13º Salário (dias) | C26: 30
B27: Dias de Aviso prévio | C27: 36
B28: FGTS | C28: 0.08
B29: Multa FGTS | C29: 0.5

Sheet Encargos
A1: 2. Composição dos Encargos Sociais
A2: Código | B2: Descrição | C2: Valor
A3: A1 | B3: INSS | C3: 0.2 | E3: 0
A4: A2 | B4: SESI | C4: 0.015 | E4: 0
A5: A3 | B5: SENAI | C5: 0.01 | E5: 0
A6: A4 | B6: INCRA | C6: 0.002 | E6: 0
A7: A5 | B7: SEBRAE | C7: 0.006 | E7: 0
A8: A6 | B8: Salário educação | C8: 0.025 | E8: 0
A9: A7 | B9: Seguro contra acidentes de trabalho | C9: 0.03 | E9: 0 | F9: mas do anexo IV paga
A10: A8 | B10: FGTS | C10: 0.08
A11: A | B11: SOMA GRUPO A | C11: =SUM(C3:C10) -> 0.368
A13: B1 | B13: Férias gozadas | C13: =ROUND(IF(CAGED!C22>24,(1-12/CAGED!C22)*0.1111,0.1111-C22),4) -> 0
A14: B2 | B14: 13º salário | C14: =ROUND(CAGED!C26/CAGED!C23,4) -> 0.0833
A15: B3 | B15: Licença Paternidade | C15: 0.0006
A16: B4 | B16: Faltas justificadas | C16: 0.0082
A17: B5 | B17: Auxilio acidente de trabalho | C17: 0.0001
A18: B6 | B18: Auxilio doença | C18: 0.0166
A19: B | B19: SOMA GRUPO B | C19: =SUM(C13:C18) -> 0.1088
A21: C1 | B21: Aviso prévio indenizado | C21: =ROUND((CAGED!C27) *CAGED!C20/CAGED!C23,4) -> 2.3442
A22: C2 | B22: Férias indenizadas | C22: =ROUND(IF(CAGED!C22>12,12/CAGED!C22*0.1111,0.1111),4) -> 0.1111
A23: C3 | B23: Férias indenizadas s/ aviso previo inden. | C23: =C21*C22 -> 0.26044062
A24: C4 | B24: Depósito rescisão sem justa causa | C24: =ROUND((CAGED!C23+CAGED!C24+CAGED!C26)/CAGED!C21*CAGED!C28*CAGED!C29*CAGED!C20/CAGED!C23,4) -> 0.0285
A25: C5 | B25: Indenização adicional | C25: =ROUND((CAGED!C25/CAGED!C23)*CAGED!C20/12,4) -> 0.1628
A26: C | B26: SOMA GRUPO C | C26: =SUM(C21:C25) -> 2.9070406
A28: D1 | B28: Reincidência de Grupo A sobre Grupo B | C28: =ROUND(C11*C19,4) -> 0.04
A29: D2 | B29: Reincidência de FGTS sobre aviso prévio indenizado | C29: =ROUND((C21*C10),4) -> 0.1875
A30: D | B30: SOMA GRUPO D | C30: =SUM(C28:C29) -> 0.2275
B31: SOMA (A+B+C+D) | C31: =C30+C26+C19+C11 -> 3.6113406

Sheet Encargos_2
A1: 2. Composição dos Encargos Sociais
A2: Código | B2: Descrição | C2: Valor
A3: A1 | B3: INSS | C3: 0.2
A4: A2 | B4: SESI | C4: 0.015
A5: A3 | B5: SENAI | C5: 0.01
A6: A4 | B6: INCRA | C6: 0.002
A7: A5 | B7: SEBRAE | C7: 0.006
A8: A6 | B8: Salário educação | C8: 0.025
A9: A7 | B9: Seguro contra acidentes de trabalho | C9: 0.03
A10: A8 | B10: FGTS | C10: 0.08
A11: A | B11: SOMA GRUPO A | C11: =SUM(C3:C10) -> 0.368
A13: B1 | B13: Férias gozadas | C13: =ROUND(IF(CAGED_2!C22>24,(1-12/CAGED_2!C22)*0.1111,0.1111-C22),4) -> 0
A14: B2 | B14: 13º salário | C14: =ROUND(CAGED_2!C26/CAGED_2!C23,4) -> 0.0833
A15: B3 | B15: Licença Paternidade | C15: 0.0006
A16: B4 | B16: Faltas justificadas | C16: 0.0082
A17: B5 | B17: Auxilio acidente de trabalho | C17: 0.0001
A18: B6 | B18: Auxilio doença | C18: 0.0166
A19: B | B19: SOMA GRUPO B | C19: =SUM(C13:C18) -> 0.1088
A21: C1 | B21: Aviso prévio indenizado | C21: =ROUND((CAGED_2!C27) *CAGED_2!C20/CAGED_2!C23,4) -> 0.1874
A22: C2 | B22: Férias indenizadas | C22: =ROUND(IF(CAGED_2!C22>12,12/CAGED_2!C22*0.1111,0.1111),4) -> 0.1111
A23: C3 | B23: Férias indenizadas s/ aviso previo inden. | C23: =C21*C22 -> 0.02082014
A24: C4 | B24: Depósito rescisão sem justa causa | C24: =ROUND((CAGED_2!C23+CAGED_2!C24+CAGED_2!C26)/CAGED_2!C21*CAGED_2!C28*CAGED_2!C29*CAGED_2!C20/CAGED_2!C23,4) -> 0.0143
A25: C5 | B25: Indenização adicional | C25: =ROUND((CAGED_2!C25/CAGED_2!C23)*CAGED_2!C20/12,4) -> 0.013
A26: C | B26: SOMA GRUPO C | C26: =SUM(C21:C25) -> 0.34662014
A28: D1 | B28: Reincidência de Grupo A sobre Grupo B | C28: =ROUND(C11*C19,4) -> 0.04
A29: D2 | B29: Reincidência de FGTS sobre aviso prévio indenizado | C29: =ROUND((C21*C10),4) -> 0.015
A30: D | B30: SOMA GRUPO D | C30: =SUM(C28:C29) -> 0.055
B31: SOMA (A+B+C+D) | C31: =C30+C26+C19+C11 -> 0.87842014

Sheet Mão de obra_motorista
A1: Fator de utilização (FU) | B1: 0.68 | E1: 10:30 h manhã | G1: 9:30 h tarde
E2: 20 horas na escola… dividir o horário
A3: 3. Composição da mão-de-obra
A4: 3.1. Motorista Turno do Dia
A5: Discriminação | B5: Unidade | C5: Quantidade | D5: Custo unitário | E5: Subtotal | F5: Total (R$)
A6: Piso da categoria (2) | B6: mês | C6: 1 | D6: 2863.33 | E6: =C6*D6 -> 2863.33
A7: Salário mínimo nacional (1) | B7: mês | C7: 1 | D7: 1320
A8: Horas Extras (100%) | B8: hora | C8: 0 | D8: =D6/220*2 -> 26.030273 | E8: =C8*D8 -> 0
A9: Horas Extras (50%) | B9: hora | C9: 0 | D9: =D6/220*1.5 -> 19.522705 | E9: =C9*D9 -> 0
A10: Descanso Semanal Remunerado (DSR) - hora extra | B10: R$ | D10: =63/302*(SUM(E8:E9)) -> 0 | E10: =D10 -> 0
A11: Base de cálculo da Insalubridade | C11: 0
A12: Adicional de Insalubridade | B12: % | C12: 0 | D12: =IF(C11=2,SUM(E6:E10),IF(C11=1,(SUM(E6:E10))*D7/D6,0)) -> 0 | E12: =C12*D12/100 -> 0
A13: Soma | E13: =SUM(E6:E12) -> 2863.33
A14: Encargos Sociais | B14: % | C14: =Encargos!$C$31*100 -> 361.13406 | D14: =E13 -> 2863.33 | E14: =D14*C14/100 -> 10340.46
A15: Total por Motorista | E15: =E13+E14 -> 13203.79
A16: Total do Efetivo | B16: homem | C16: 1 | D16: =E15 -> 13203.79 | E16: =C16*D16 -> 13203.79
D17: Fator de utilização | E17: =$B$1 -> 0.68 | F17: =E16*E17 -> 8978.5772
A19: 3.2. Motorista Turno Noite
A20: Discriminação | B20: Unidade | C20: Quantidade | D20: Custo unitário | E20: Subtotal | F20: Total (R$)
A21: Piso da categoria (2) | B21: mês | C21: 1 | D21: =D6 -> 2863.33 | E21: =C21*D21 -> 2863.33
A22: Salário mínimo nacional (1) | B22: mês | C22: 1 | D22: =D7 -> 1320
A23: Adicional Noturno | B23: horas trabalhadas | C23: 0
B24: hora contabilizada | C24: =C23*8/7 -> 0 | D24: =D21/220*0.2 -> 2.6030273 | E24: =C23*D24 -> 0
A25: Horas Extras (100%) | B25: hora | C25: 0 | D25: =D21/220*2 -> 26.030273 | E25: =C25*D25 -> 0
A26: Horas Extras Noturnas (100%) | B26: horas trabalhadas | C26: 0
B27: hora contabilizada | C27: =C26*8/7 -> 0 | D27: =D21/220*2*1.2 -> 31.236327 | E27: =C27*D27 -> 0
A28: Horas Extras (50%) | B28: hora | C28: 0 | D28: =D21/220*1.5 -> 19.522705 | E28: =C28*D28 -> 0
A29: Horas Extras Noturnas (50%) | B29: horas trabalhadas | C29: 0
B30: hora contabilizada | C30: =C29*8/7 -> 0 | D30: =D21/220*1.5*1.2 -> 23.427245 | E30: =C30*D30 -> 0
A31: Descanso Semanal Remunerado (DSR) - hora extra | B31: R$ | D31: =63/302*(SUM(E25:E30)) -> 0 | E31: =D31 -> 0
A32: Base de cálculo da Insalubridade | C32: 0
A33: Adicional de Insalubridade | B33: % | C33: =+C12 -> 0 | D33: =IF(C32=2,SUM(E21:E31),IF(C32=1,SUM(E21:E31)*D22/D21,0)) -> 0 | E33: =C33*D33/100 -> 0
A34: Soma | E34: =SUM(E21:E33) -> 2863.33
A35: Encargos Sociais | B35: % | C35: =Encargos!$C$31*100 -> 361.13406 | D35: =E34 -> 2863.33 | E35: =D35*C35/100 -> 10340.46
A36: Total por Motorista | E36: =E34+E35 -> 13203.79
A37: Total do Efetivo | B37: homem | C37: 0 | D37: =E36 -> 13203.79 | E37: =C37*D37 -> 0
D38: Fator de utilização | E38: =$B$1 -> 0.68 | F38: =E37*E38 -> 0
A41: 3.3. Vale Transporte
A42: Discriminação | B42: Unidade | C42: Quantidade | D42: Custo unitário | E42: Subtotal | F42: Total (R$)
A43: Vale Transporte | B43: R$ | C43: 1 | D43: 0
...

Sheet Mão de obra_auxiliar
A1: Fator de utilização (FU) | B1: 0.68 | D1: 20 horas | E1: 10:30 h manhã | G1: 9:30 h tarde
D2: 20 horas na escola… dividir o horário
A3: 3. Composição da mão-de-obra
A4: 3.1. Auxiliar/monitor escolar Dia
A5: Discriminação | B5: Unidade | C5: Quantidade | D5: Custo unitário | E5: Subtotal | F5: Total (R$)
A6: Piso da categoria (2) | B6: mês | C6: 1 | D6: 1872 | E6: =C6*D6 -> 1872
A7: Salário mínimo nacional (1) | B7: mês | C7: 1 | D7: 1320
A8: Horas Extras (100%) | B8: hora | C8: 0 | D8: =D6/220*2 -> 17.018182 | E8: =C8*D8 -> 0
A9: Horas Extras (50%) | B9: hora | C9: 0 | D9: =D6/220*1.5 -> 12.763636 | E9: =C9*D9 -> 0
A10: Descanso Semanal Remunerado (DSR) - hora extra | B10: R$ | D10: =63/302*(SUM(E8:E9)) -> 0 | E10: =D10 -> 0
A11: Base de cálculo da Insalubridade | C11: 0
A12: Adicional de Insalubridade | B12: % | C12: 0 | D12: =IF(C11=2,SUM(E6:E10),IF(C11=1,(SUM(E6:E10))*D7/D6,0)) -> 0 | E12: =C12*D12/100 -> 0
A13: Soma | E13: =SUM(E6:E12) -> 1872
A14: Encargos Sociais | B14: % | C14: =Encargos_2!$C$31*100 -> 87.842014 | D14: =E13 -> 1872 | E14: =D14*C14/100 -> 1644.4025
A15: Total por Auxiliar/monitor escolar | E15: =E13+E14 -> 3516.4025
A16: Total do Efetivo | B16: homem | C16: 1 | D16: =E15 -> 3516.4025 | E16: =C16*D16 -> 3516.4025
D17: Fator de utilização | E17: =$B$1 -> 0.68 | F17: =E16*E17 -> 2391.1537
A19: 3.2. Auxiliar/monitor escolar Noite
A20: Discriminação | B20: Unidade | C20: Quantidade | D20: Custo unitário | E20: Subtotal | F20: Total (R$)
A21: Piso da categoria (2) | B21: mês | C21: 1 | D21: =D6 -> 1872 | E21: =C21*D21 -> 1872
A22: Salário mínimo nacional (1) | B22: mês | C22: 1 | D22: =D7 -> 1320
A23: Adicional Noturno | B23: horas trabalhadas | C23: 0
B24: hora contabilizada | C24: =C23*8/7 -> 0 | D24: =D21/220*0.2 -> 1.7018182 | E24: =C23*D24 -> 0
A25: Horas Extras (100%) | B25: hora | C25: 0 | D25: =D21/220*2 -> 17.018182 | E25: =C25*D25 -> 0
A26: Horas Extras Noturnas (100%) | B26: horas trabalhadas | C26: 0
B27: hora contabilizada | C27: =C26*8/7 -> 0 | D27: =D21/220*2*1.2 -> 20.421818 | E27: =C27*D27 -> 0
A28: Horas Extras (50%) | B28: hora | C28: 0 | D28: =D21/220*1.5 -> 12.763636 | E28: =C28*D28 -> 0
A29: Horas Extras Noturnas (50%) | B29: horas trabalhadas | C29: 0
B30: hora contabilizada | C30: =C29*8/7 -> 0 | D30: =D21/220*1.5*1.2 -> 15.316364 | E30: =C30*D30 -> 0
A31: Descanso Semanal Remunerado (DSR) - hora extra | B31: R$ | D31: =63/302*(SUM(E25:E30)) -> 0 | E31: =D31 -> 0
A32: Base de cálculo da Insalubridade | C32: 0
A33: Adicional de Insalubridade | B33: % | C33: =+C12 -> 0 | D33: =IF(C32=2,SUM(E21:E31),IF(C32=1,SUM(E21:E31)*D22/D21,0)) -> 0 | E33: =C33*D33/100 -> 0
A34: Soma | E34: =SUM(E21:E33) -> 1872
A35: Encargos Sociais | B35: % | C35: =Encargos_2!$C$31*100 -> 87.842014 | D35: =E34 -> 1872 | E35: =D35*C35/100 -> 1644.4025
A36: Total por Auxiliar/monitor escolar | E36: =E34+E35 -> 3516.4025
A37: Total do Efetivo | B37: homem | C37: 0 | D37: =E36 -> 3516.4025 | E37: =C37*D37 -> 0
D38: Fator de utilização | E38: =$B$1 -> 0.68 | F38: =E37*E38 -> 0
A41: 3.3. Vale Transporte
A42: Discriminação | B42: Unidade | C42: Quantidade | D42: Custo unitário | E42: Subtotal | F42: Total (R$)
A43: Vale Transporte | B43: R$ | C43: 1 | D43: 0
...

Sheet Remuneração de capital
A1: Dados de Depreciação | J1: FIPE
A2: Valor do inicial veículo | B2: R$ | C2: 315000 | D2: Minibus Comfort 19 lugares 2023 | J2: Mercedes Benz - Sprinter 313 Van Luxo 2.2 129Cv 16L Dies - 2009 - Diesel | N2: 2009 | O2: 2012
A3: Vida útil estimada | B3: anos | C3: 20 | N3: 77328 | O3: 93063
A4: % de depreciação | B4: % | C4: =100/C3 -> 5 | J4: Mercedes Benz - Sprinter 313 Van Street Luxo 16L. Dies. - 2012 - Diesel | O4: 2012
A5: Valor residual | B5: R$ | C5: 60000 | O5: 87434
A6: Vida útil utilizada (idade do veículo) | B6: anos | C6: 0 | J6: Mercedes Benz - Sprinter 413 Van Luxo 2.2 16 E 20L Dies - 2012 - Diesel | O6: 2012
A7: Depreciação acumulada | B7: R$ | C7: =((C2-C5)*(C4%*C6)) -> 0 | O7: 116376
A8: Fator de utilização (FU) | C8: ='Mão de obra_motorista'!B1 -> 0.68
A9: 4. Depreciação e Remuneração de Capital
A10: 4.1. Depreciação
A11: Discriminação | B11: Unidade | C11: Quantidade | D11: Custo unitário | E11: Subtotal | F11: Total (R$)
A12: Custo de aquisição (valor inicial) | B12: unidade | C12: 1 | D12: =C2 -> 315000 | E12: =C12*D12 -> 315000
A13: Vida útil | B13: anos | C13: =C3 -> 20
A14: Idade do veículo | B14: anos | C14: =C6 -> 0
A15: Depreciação do chassis | B15: % | C15: 100 | D15: =E12 -> 315000 | E15: =C15*(D15-C5)/100 -> 255000
A16: Depreciação mensal veículos | B16: mês | C16: =C13*12 -> 240 | D16: =IF(C14<=C13,E15,0) -> 255000 | E16: =IFERROR(D16/C16,0) -> 1062.5
A17: Total por veículo | E17: =E16 -> 1062.5
A18: Total da frota | B18: unidade | C18: 1 | D18: =E17 -> 1062.5 | E18: =C18*D18 -> 1062.5
D19: Fator de utilização | E19: =C8 -> 0.68 | F19: =E18*E19 -> 722.5
A23: 4.2. Remuneração do Capital
A24: Discriminação | B24: Unidade | C24: Quantidade | D24: Custo unitário | E24: Subtotal | F24: Total (R$)
A25: Custo do chassis | B25: unidade | C25: 1 | D25: =C2 -> 315000 | E25: =C25*D25 -> 315000
A26: Taxa de juros anual nominal | B26: % | C26: 12.25
A27: Valor do veículo proposto (V0)* | B27: R$ | C27: =C2-C5-C7 -> 255000
A28: Investimento médio | B28: R$ | C28: =((C2-C7)-(C5))*((C3+1)/(2*C3))+(C5) -> 193875
A29: Remuneração mensal de capital do chassis | B29: R$ | D29: =C26*C28/12/100 -> 1979.1406 | E29: =D29 -> 1979.1406
A30: Total por veículo | E30: =E29 -> 1979.1406
A31: Total da frota | B31: unidade | C31: 1 | D31: =E30 -> 1979.1406 | E31: =C31*D31 -> 1979.1406
D32: Fator de utilização | E32: =C8 -> 0.68 | F32: =E31*E32 -> 1345.8156
A35: *valor do veículo proposto (para veículos usados) devem considerar o valor do bem depreciado até a data da proposta.

Sheet BDI
A2: 6. Composição do BDI - Benefícios e Despesas Indiretas
A3: Administração Central | B3: AC | C3: 0
A4: Seguros/Riscos/Garantias | B4: SRG | C4: 0
A5: Lucro | B5: L | C5: 0.1
A6: Despesas Financeiras | B6: DF | C6: =(1+E6)^(E7/252)-1 -> 0.003675256 | D6: i | E6: 0.1225
A7: Tributos - ISS | B7: T | C7: 0 | D7: DU | E7: 8
A8: Tributos - PIS/COFINS | C8: 0.0365
A9: Fórmula para o cálculo do BDI:
A10: {[(1+AC+SRG) x (1+L) x (1+DF)] / (1-T)} -1
A11: Resultado do cálculo do BDI: | C11: =ROUND((((1+C3+C4)*(1+C5)*(1+C6))/(1-(C7+C8))-1),4) -> 0.1459
E13: Transporte intermunicipal escolar não tem ISS
A15: CUSTO TOTAL MENSAL COM DESPESAS OPERACIONAIS | B15: R$/mês | F15: ='Mão de obra_motorista'!F59+'Impostos e manutenção'!F44 -> 14091.653
A17: 6.1. Benefícios e Despesas Indiretas - BDI
A18: Discriminação | B18: Unidade | C18: Quantidade | D18: Custo unitário | E18: Subtotal | F18: Total (R$)
A19: Benefícios e despesas indiretas | B19: % | C19: =C11*100 -> 14.59 | D19: =+F15 -> 14091.653 | E19: =C19*D19/100 -> 2055.9722
F20: =+E19 -> 2055.9722
A22: CUSTO MENSAL COM BDI (R$/mês) | F22: =F20 -> 2055.9722

Sheet Impostos e manutenção
A1: Fator de utilização (FU) | B1: ='Mão de obra_motorista'!B1 -> 0.68
A3: 5. Impostos e manutenção
A4: 5.1. Impostos e Seguros
A5: Discriminação | B5: Unidade | C5: Quantidade | D5: Custo unitário | E5: Subtotal | F5: Total (R$)
A6: IPVA | B6: unidade | C6: ='Remuneração de capital'!C31 -> 1 | D6: 0 | E6: =C6*D6 -> 0 | F6: =E6*E10 -> 0
A7: Licenciamento e Seguro obrigatório | B7: unidade | C7: ='Remuneração de capital'!C31 -> 1 | D7: 246.23 | E7: =C7*D7 -> 246.23 | F7: =E7*E10 -> 167.4364
A8: Seguro contra terceiros | B8: unidade | C8: ='Remuneração de capital'!C31 -> 1 | D8: 0 | E8: =C8*D8 -> 0 | F8: =E8*E10 -> 0
A9: Impostos e seguros mensais | B9: mês | C9: 12 | D9: =SUM(E6:E8) -> 246.23 | E9: =D9/C9 -> 20.519167
D10: Fator de utilização | E10: =B1 -> 0.68 | F10: =E9*E10 -> 13.953033
A12: 5.2. Consumos
F13: 411,20 km manhã/semana
A14: Quilometragem mensal | B14: 2950 | F14: 406,80 km tarde/semana
F15: (multipliquei por 4,5 semanas por mês)
A16: Discriminação | B16: Unidade | C16: Consumo | D16: Custo unitário | E16: Subtotal | F16: Total (R$)
A17: Custo de óleo diesel / km rodado | B17: km/l | C17: 8 | D17: 5.94
A18: Custo mensal com óleo diesel | B18: km | C18: =B14 -> 2950 | D18: =IFERROR(+D17/C17,"-") -> 0.7425 | E18: =IFERROR(C18*D18,"-") -> 2190.375
A19: Custo de óleo do motor /1.000 km rodados | B19: l/1.000 km | C19: 0.42 | D19: 48.51
A20: Custo mensal com óleo do motor | B20: km | C20: =C18 -> 2950 | D20: =+C19*D19/1000 -> 0.0203742 | E20: =C20*D20 -> 60.10389
A21: Custo de óleo da transmissão /1.000 km | B21: l/1.000 km | C21: 0.8 | D21: 52.27
A22: Custo mensal com óleo da transmissão | B22: km | C22: =C18 -> 2950 | D22: =+C21*D21/1000 -> 0.041816 | E22: =C22*D22 -> 123.3572
A23: Custo de óleo hidráulico / 1.000 km | B23: l/1.000 km | C23: 0.15 | D23: 54.32
A24: Custo mensal com óleo hidráulico | B24: km | C24: =C18 -> 2950 | D24: =+C23*D23/1000 -> 0.008148 | E24: =C24*D24 -> 24.0366
A25: Custo de graxa /1.000 km rodados | B25: kg/1.000 km | C25: 2.22 | D25: 44.9
A26: Custo mensal com graxa | B26: km | C26: =C18 -> 2950 | D26: =+C25*D25/1000 -> 0.099678 | E26: =C26*D26 -> 294.0501
A27: Custo com consumos/km rodado | B27: R$/km rodado | D27: =IFERROR(D18+D20+D22+D24+D26,0) -> 0.9125162
F28: =SUM(E17:E26) -> 2691.9228
A30: 5.3. Manutenção preventiva e corretiva
A31: Discriminação | B31: Unidade | C31: Quantidade | D31: Custo unitário | E31: Subtotal | F31: Total (R$)
A32: Custo de manutenção | B32: R$/km rodado | C32: =B14 -> 2950 | D32: 0.45 | E32: =C32*D32 -> 1327.5 | G32: 120 a hora
F33: =E32 -> 1327.5
A35: 5.4. Pneus
A36: Discriminação | B36: Unidade | C36: Quantidade | D36: Custo unitário | E36: Subtotal | F36: Total (R$)
A37: Custo do jogo de pneus 225/75 R16 | B37: unidade | C37: 4 | D37: 1030 | E37: =C37*D37 -> 4120
A38: Número de recapagens por pneu | B38: unidade | C38: 2
A39: Custo de recapagem | B39: unidade | C39: 8 | D39: 400 | E39: =C39*D39 -> 3200
A40: Custo jg. compl. + X recap./ km rodado | B40: km/jogo | C40: 20000 | D40: =E37+E39 -> 7320 | E40: =IFERROR(D40/C40,"-") -> 0.366 | F40: Coloquei 20.000 km pois pega estrada de chão
A41: Custo mensal com pneus | B41: km | C41: =B14 -> 2950 | D41: =E40 -> 0.366 | E41: =IFERROR(C41*D41,0) -> 1079.7
F42: =E41 -> 1079.7
A44: CUSTO TOTAL DE IMPOSTOS E MANUTENÇÃO | B44: R$/mês | F44: =F10+F28+F33+F42 -> 5113.0758

Sheet Composição de custos
A1: 7. Transporte Escolar - Planilha de composição de custos
A2: Descrição | B2: Custo (R$/mês) | C2: %
A3: 1. Mão-de-obra | B3: =SUM(B4:B9) -> 11369.731 | C3: =IFERROR(B3/$B$18,0) -> 0.55173867
A4: 1.1. Motorista dia | B4: ='Mão de obra_motorista'!F17 -> 8978.5772 | C4: =IFERROR(B4/$B$18,0) -> 0.43570321
A5: 1.1.2. Motorista noite | B5: ='Mão de obra_motorista'!F38 -> 0 | C5: =IFERROR(B5/$B$18,0) -> 0
A6: 1.2. Auxiliar/monitora | B6: ='Mão de obra_auxiliar'!F59 -> 2391.1537 | C6: =IFERROR(B6/$B$18,0) -> 0.11603546
A7: 1.3. Vale transporte | B7: ='Mão de obra_motorista'!F46 -> 0 | C7: =IFERROR(B7/$B$18,0) -> 0
A8: 1.4. Vale Refeição (diário) | B8: ='Mão de obra_motorista'!F51 -> 0 | C8: =IFERROR(B8/$B$18,0) -> 0
A9: 1.5. Auxílio alimentção (mensal) | B9: ='Mão de obra_motorista'!F56 -> 0 | C9: =IFERROR(B9/$B$18,0) -> 0
A10: 2. Veículos | B10: =SUM(B11:B16) -> 7181.3914 | C10: =IFERROR(B10/$B$18,0) -> 0.34849122
A11: 2.1. Depreciação | B11: ='Remuneração de capital'!F19 -> 722.5 | C11: =IFERROR(B11/$B$18,0) -> 0.035060741
A12: 2.2. Remuneração de capital | B12: ='Remuneração de capital'!F32 -> 1345.8156 | C12: =IFERROR(B12/$B$18,0) -> 0.065308364
A13: 2.3. Impostos e seguros | B13: ='Impostos e manutenção'!F10 -> 13.953033 | C13: =IFERROR(B13/$B$18,0) -> 0.00067709853
A14: 2.4. Consumos | B14: ='Impostos e manutenção'!F28 -> 2691.9228 | C14: =IFERROR(B14/$B$18,0) -> 0.13063088
A15: 2.5. Manutenção | B15: ='Impostos e manutenção'!F33 -> 1327.5 | C15: =IFERROR(B15/$B$18,0) -> 0.064419562
A16: 2.6. Pneus | B16: ='Impostos e manutenção'!F42 -> 1079.7 | C16: =IFERROR(B16/$B$18,0) -> 0.052394577
A17: 3. BDI | B17: =BDI!F22 -> 2055.9722 | C17: =IFERROR(B17/$B$18,0) -> 0.099770114
A18: PREÇO TOTAL MENSAL (1+2+3) | B18: =SUM(B3+B10+B17) -> 20607.094 | C18: =C3+C10+C17 -> 1
A21: Quilometragem total | B21: 2.950
A22: PREÇO POR KM RODADO | C22: =B18/B21 -> 6.9854558

Sheet oleos
C3: litros
A4: 10000 km | B4: óleo motor | C4: 4.2 | D4: 48.51 | E4: =D4*C4 -> 203.742 | F4: LUBRAX OFFROAD 5W30
A5: 10000 km | B5: óleo transmissão | C5: 8 | D5: 52.27 | E5: =D5*C5 -> 418.16 | F5: MULTI ATF
A6: 10000 km | B6: óleo hidráulica | C6: 1.5 | D6: 54.32 | E6: =D6*C6 -> 81.48 | F6: Óleo da Direção Hidráulica - Tutela ATF-GI-M-Tipo A-SAE 10W -1L
A7: 450 km | B7: graxa | C7: 1 | D7: 44.9 | E7: =D7*C7 -> 44.9 | F7: graxa patente
