Workbook

Sheet Custo por trabalhador
A1: PLANILHA DE CUSTOS E FORMAÇÃO DE PREÇOS
A2: MODELO DE FORMAÇÃO DE CUSTO MENSAL PARA UM EMPREGADO
A5: MÓDULO 1 - REMUNERAÇÃO
A6: * A remuneração é definida no art. 457 da Consolidação das Leis do Trabalho. * É composta por Salário Base, Adicionais (noturno, de insalubridade ou periculosidade) e gratificações, quando houver.
A8: SALÁRIO BASE
A9: * O Salário Base vem definido na Convenção Coletiva de Trabalho da categoria profissional a ser contratada para o objeto da prestação de serviço. * O contratante deverá observar se a CCT abrange o município de prestação de serviço e se está vigente.
A11: SALÁRIO BASE
A12: Profissional de Educação Física | B12: 1989.9
A13: Auxiliar (Acadêmico EF) | B13: 1102.95
A15: GRATIFICAÇÃO DE FUNÇÃO
A16: * Gratificação de função, quando houver, virá informada na Convenção Coletiva de Trabalho da categoria profissional a ser contratada.
A18: GRATIFICAÇÃO DE FUNÇÃO – NÃO SE APLICA
A19: Categoria | B19: Base de cálculo | C19: Percentual | D19: Valor da Gratificação
D20: =B20*C20 -> 0
D21: =B21*C21 -> 0
A23: ADICIONAIS (periculosidade ou insalubridade, se houver) – NÃO SE APLICA
A24: * Os adicionais de periculosidade ou insalubridade, em conformidade com os art. 192 e 193 da CLT, dependem da natureza do serviço a ser prestado. * O órgão contrantante deverá observar, além da existência de previsão em CLT, se há informações na Convenção Coletiva de Trabalho acerca dos adicionais, bem como seu percentual e a base de cálculo, devendo adaptar a planilha ao caso em concreto.
A26: ADICIONAL DE XXX
A27: Categoria | B27: Base de cálculo | C27: Percentual | D27: Valor
D28: =B28*C28 -> 0
C29: =C28 -> 0 | D29: =B29*C29 -> 0
C30: =C29 -> 0 | D30: =B30*C30 -> 0
C31: =C30 -> 0 | D31: =B31*C31 -> 0
C32: =C31 -> 0 | D32: =B32*C32 -> 0
A33: Cargo B (44h semanais) | C33: =C32 -> 0 | D33: =B33*C33 -> 0
A36: ADICIONAL NOTURNO – NÃO SE APLICA
A37: * O Adicional Noturno e a Hora Noturna Reduzida, conforme art. 73 da CLT, serão pagos entre 22h e 5h do dia seguinte, sem prorrogação quando da jornada 12x36h. * O órgão contrantante deverá observar, além da existência do previsto em CLT, se há informações na Convenção Coletiva de Trabalho acerca da existência do percentual de adicional noturno, bem como se haverá pagamento de hora noturna reduzida e adaptar a planilha ao caso em concreto.
A39: ADICIONAL NOTURNO
A40: Categoria | B40: Base de Cálculo | C40: Proporção | D40: Percentual | E40: Valor
B41: =B12+D29 -> 1989.9 | C41: =7/12 -> 0.58333333 | E41: =B41*C41*D41 -> 0
B42: =B13+D32 -> 1102.95 | C42: =7/12 -> 0.58333333 | D42: =D41 -> 0 | E42: =B42*C42*D42 -> 0
A43: HORA NOTURNA REDUZIDA
A44: Categoria | B44: Base de Cálculo | C44: Proporção | D44: Percentual | E44: Valor
B45: =B12+D29 -> 1989.9 | C45: =1/12 -> 0.083333333 | E45: =B45*C45*D45 -> 0
B46: =B13+D32 -> 1102.95 | C46: =1/12 -> 0.083333333 | E46: =B46*C46*D46 -> 0
A48: ADICIONAL POR TRABALHO NOTURNO
A49: Categoria | B49: Adicional Noturno | C49: Hora Noturna Reduzida | D49: Valor
B50: =E41 -> 0 | C50: =E45 -> 0 | D50: =SUM(B50:C50) -> 0
B51: =E42 -> 0 | C51: =E46 -> 0 | D51: =SUM(B51:C51) -> 0
A53: ADICIONAL DESCANSO SEMANAL REMUNERADO 1/6 (CCT, item 4.4) *
...

Sheet Planilha de Custos
A1: PLANILHA DE CUSTOS E FORMAÇÃO DE PREÇOS
A2: MODELO PARA A CONSOLIDAÇÃO E APRESENTAÇÃO DE PROPOSTAS
A6: Módulo 1 - Composição da Remuneração
A8: 1 | B8: Composição da Remuneração | C8: Valor (R$)
A9: A | B9: Salário-Base | C9: ='Custo por trabalhador'!B12 -> 1989.9
A10: B | B10: Adicional de Periculosidade
A11: C | B11: Adicional de Insalubridade
A12: D | B12: Adicional Noturno
A13: E | B13: Adicional de Hora Noturna Reduzida
A14: F | B14: Adicional DSR | C14: ='Custo por trabalhador'!D60 -> 331.65
A15: G | B15: Outros (especificar)
A16: Total | C16: ='Custo por trabalhador'!G72 -> 2321.55
A19: Módulo 2 - Encargos e Benefícios Anuais, Mensais e Diários
A21: Submódulo 2.1 - 13º (décimo terceiro) Salário, Férias e Adicional de Férias
A23: 2.1 | B23: 13º (décimo terceiro) Salário, Férias e Adicional de Férias | C23: Valor (R$)
A24: A | B24: 13º (décimo terceiro) Salário | C24: ='Custo por trabalhador'!B112 -> 193.4625
A25: B | B25: Férias e Adicional de Férias | C25: ='Custo por trabalhador'!C112+'Custo por trabalhador'!D112 -> 257.95
A26: Total | C26: ='Custo por trabalhador'!E112 -> 451.4125
A29: Submódulo 2.2 - Encargos Previdenciários (GPS), Fundo de Garantia por Tempo de Serviço (FGTS) e outras contribuições.
A31: 2.2 | B31: GPS, FGTS e outras contribuições | C31: Percentual (%) | D31: Valor (R$)
A32: A | B32: INSS | C32: 0.2
A33: B | B33: Salário Educação | C33: 0.025
A34: C | B34: SAT | C34: ='Custo por trabalhador'!B124 -> 0.02
A35: D | B35: SESC ou SESI | C35: 0.015
A36: E | B36: SENAI - SENAC | C36: 0.01
A37: F | B37: SEBRAE | C37: 0.006
A38: G | B38: INCRA | C38: 0.002
A39: H | B39: FGTS | C39: 0.08
A40: Total | D40: ='Custo por trabalhador'!D154+'Custo por trabalhador'!D157 -> 1542.9381
A43: Submódulo 2.3 - Benefícios Mensais e Diários.
A45: 2.3 | B45: Benefícios Mensais e Diários | C45: Valor (R$)
A46: A | B46: Transporte
A47: B | B47: Auxílio-Refeição/Alimentação
A48: C | B48: Benefício xxx
A49: D | B49: Outros (especificar)
A50: Total | C50: ='Custo por trabalhador'!F246+'Custo por trabalhador'!F249 -> 212.625
A53: Quadro-Resumo do Módulo 2 - Encargos e Benefícios anuais, mensais e diários
A55: 2 | B55: Encargos e Benefícios Anuais, Mensais e Diários | C55: Valor (R$)
A56: 2.1 | B56: 13º (décimo terceiro) Salário, Férias e Adicional de Férias
A57: 2.2 | B57: GPS, FGTS e outras contribuições
...
