Workbook

Sheet PREÇOS DOS PRODUTOS
A1: MUNICÍPIO DE CARLOS BARBOSA
A2: ESTADO DO RIO GRANDE DO SUL
A3: ORÇAMENTOS
A4: ITEM | B4: PRODUTO | I4: VALOR UNITÁRIO
A5: 1 | B5: Arroz branco, classe longo fino, tipo 1, constituído de grãos inteiros, isento de sujidades e materiais estranhos, embalado em pacotes de 05 kg. A embalagem deverá conter os dados de identificação e procedência, informações nutricionais, número de lote, data de validade. | I5: 22.4
A6: 2 | B6: Arroz branco, classe longo fino, tipo 1, constituído de grãos inteiros, isento de sujidades e materiais estranhos, embalado em pacotes de 02 kg. A embalagem deverá conter os dados de identificação e procedência, informações nutricionais, número de lote, data de validade. | I6: 8.25
A7: 3 | B7: Feijão Preto, tipo 01, novo, de boa qualidade, constituídos de grãos inteiros e sãos, livre de parasitas (carunchos), odores estranhos, substâncias nocivas, paus. Embalagem plástica de 01 kg. | I7: 6.12
A8: 4 | B8: Massa alimentícia com ovos, formatos variados. Embalagem resistente, com solda íntegra, de no mínimo 500 gr. A embalagem deverá conter os dados de identificação e procedência, informações nutricionais, número de lote, data de validade. | I8: 4.37
A9: 5 | B9: Farinha de trigo especial tipo 1, pacote de 05 kg. A embalagem deverá conter os dados de identificação e procedência, informações nutricionais, número de lote, data de validade. | I9: 19.28
A10: 6 | B10: Farinha de trigo especial tipo 1, pacote de 01 kg. A embalagem deverá conter os dados de identificação e procedência, informações nutricionais, número de lote, data de validade. | I10: 3.68
A11: 7 | B11: Farinha de milho, média. Composição de 100% milho, cor amarela, embalagem transparente e resistente contendo os dados do fabricante, data de fabricação e validade, com solda íntegra. Embalagem com 01kg. | I11: 4.65
A12: 8 | B12: Biscoito salgado tipo água e sal, embalagem com no mínimo 400gr. A embalagem deverá conter os dados de identificação e procedência, informações nutricionais, número de lote, data de validade. | I12: 4.48
A13: 9 | B13: Biscoito doce de leite, embalagem com no mínimo 350g. A embalagem deverá conter os dados de identificação e procedência, informações nutricionais, número de lote, data de validade. | I13: 5.87
A14: 10 | B14: Leite integral longa vida - UHT - caixa de 1 litro. A embalagem deverá conter os dados de identificação e procedência, informações nutricionais, número de lote, data de validade. | I14: 5.68
A15: 11 | B15: Café solúvel granulado. Embalagem com peso aproximado de 50g. De 1ª qualidade. A embalagem deverá conter os dados de identificação e procedência, informações nutricionais, número de lote, data de validade. | I15: 6.33
A16: 12 | B16: Óleo de soja vegetal, refinado, tipo 01. Embalagem plástica tipo Pet de 900ml, intacta, resistente, transparente, atóxica, sem amassamento e vazamento. A embalagem deverá conter os dados de identificação e procedência, informações nutricionais, número de lote, data de validade. | I16: 8.51
... A26: 22 | B26: Sabão em barra glicerinado, neutro, com no mínimo 180g. A embalagem deverá conter os dados de identificação, procedência, número de lote, data de validade. | I26: 2.56

Sheet CESTA TIPO 1
B1: MUNICÍPIO DE CARLOS BARBOSA
B2: ESTADO DO RIO GRANDE DO SUL
B3: COMPOSIÇÃO POR CESTA
B4: CESTA BÁSICA 01 (PARA ATÉ 02 PESSOAS)
B5: ITEM | C5: PRODUTO | D5: KG/L/G/ML MÍNIMO POR PRODUTO | E5: QUANTIDADE ESTIMADA DE CADA PRODUTO | F5: VALOR UNITÁRIO (R$) | G5: VALOR TOTAL (R$)
B6: 1 | C6: Arroz branco, classe longo fino, tipo 1, constituído de grãos inteiros, isento de sujidades e materiais estranhos, embalado em pacotes de 05 kg. A embalagem deverá conter os dados de identificação e procedência, informações nutricionais, número de lote, data de validade. | D6: 5KG | E6: 1 | F6: ='PREÇOS DOS PRODUTOS'!I5 -> 22.4 | G6: =F6*E6 -> 22.4
B7: 2 | C7: Feijão Preto, tipo 01, novo, de boa qualidade, constituídos de grãos inteiros e sãos, livre de parasitas (carunchos), odores estranhos, substâncias nocivas, paus. Embalagem plástica de 01 kg. | D7: 2KG | E7: 2 | F7: ='PREÇOS DOS PRODUTOS'!I7 -> 6.12 | G7: =F7*E7 -> 12.24
B8: 3 | C8: Massa alimentícia com ovos, formatos variados. Embalagem resistente, com solda íntegra, de no mínimo 500 gr. A embalagem deverá conter os dados de identificação e procedência, informações nutricionais, número de lote, data de validade. | D8: 2KG | E8: 4 | F8: ='PREÇOS DOS PRODUTOS'!I8 -> 4.37 | G8: =F8*E8 -> 17.48
B9: 4 | C9: Farinha de trigo especial tipo 1, pacote de 01 kg. A embalagem deverá conter os dados de identificação e procedência, informações nutricionais, número de lote, data de validade. | D9: 2KG | E9: 2 | F9: ='PREÇOS DOS PRODUTOS'!I10 -> 3.68 | G9: =F9*E9 -> 7.36
B10: 5 | C10: Farinha de milho, média. Composição de 100% milho, cor amarela, embalagem transparente e resistente contendo os dados do fabricante, data de fabricação e validade, com solda íntegra. Embalagem com 01kg. | D10: 1KG | E10: 1 | F10: ='PREÇOS DOS PRODUTOS'!I11 -> 4.65 | G10: =F10*E10 -> 4.65
B11: 6 | C11: Biscoito salgado tipo água e sal, embalagem com no mínimo 400gr. A embalagem deverá conter os dados de identificação e procedência, informações nutricionais, número de lote, data de validade. | D11: 400G | E11: 1 | F11: ='PREÇOS DOS PRODUTOS'!I12 -> 4.48 | G11: =F11*E11 -> 4.48
B12: 7 | C12: Biscoito doce de leite, embalagem com no mínimo 350g. A embalagem deverá conter os dados de identificação e procedência, informações nutricionais, número de lote, data de validade. | D12: 350G | E12: 1 | F12: ='PREÇOS DOS PRODUTOS'!I13 -> 5.87 | G12: =F12*E12 -> 5.87
B13: 8 | C13: Leite integral longa vida - UHT - caixa de 1 litro. A embalagem deverá conter os dados de identificação e procedência, informações nutricionais, número de lote, data de validade. | D13: 6L | E13: 6 | F13: ='PREÇOS DOS PRODUTOS'!I14 -> 5.68 | G13: =F13*E13 -> 34.08
B14: 9 | C14: Café solúvel granulado. Embalagem com peso aproximado de 50g. De 1ª qualidade. A embalagem deverá conter os dados de identificação e procedência, informações nutricionais, número de lote, data de validade. | D14: 100G | E14: 2 | F14: ='PREÇOS DOS PRODUTOS'!I15 -> 6.33 | G14: =F14*E14 -> 12.66
B15: 10 | C15: Óleo de soja vegetal, refinado, tipo 01. Embalagem plástica tipo Pet de 900ml, intacta, resistente, transparente, atóxica, sem amassamento e vazamento. A embalagem deverá conter os dados de identificação e procedência, informações nutricionais, número de lote, data de validade. | D15: 900ML | E15: 1 | F15: ='PREÇOS DOS PRODUTOS'!I16 -> 8.51 | G15: =F15*E15 -> 8.51
B16: 11 | C16: Açúcar cristal pacotes de 05 kg. Produto processado da cana de açúcar, não devendo estar empedrado, úmido, com sujidades, bolor. A embalagem deverá conter os dados de identificação e procedência, informações nutricionais, número de lote, data de validade. | D16: 5KG | E16: 1 | F16: ='PREÇOS DOS PRODUTOS'!I17 -> 22.15 | G16: =F16*E16 -> 22.15
B17: 12 | C17: Doce de leite cremoso. Embalagem de no mínimo 400g. A embalagem deverá conter os dados de identificação e procedência, informações nutricionais, número de lote, data de validade. | D17: 400G | E17: 1 | F17: ='PREÇOS DOS PRODUTOS'!I18 -> 10.96 | G17: =F17*E17 -> 10.96
B18: 13 | C18: Extrato de tomate. Sachê de no mínimo 340g. A embalagem deverá conter os dados de identificação e procedência, informações nutricionais, número de lote, data de validade. | D18: 340G | E18: 1 | F18: ='PREÇOS DOS PRODUTOS'!I19 -> 3.62 | G18: =F18*E18 -> 3.62
B19: 14 | C19: Lentilha tipo 1, nova, de 1ª qualidade, sem a presença de grãos mofados e/ou carunchados, isento de sujidades, em embalagem plástica resistente e transparente, de no mínimo 500g. A embalagem deverá conter os dados de identificação e procedência, informações nutricionais, número de lote, data de validade. | D19: 1KG | E19: 2 | F19: ='PREÇOS DOS PRODUTOS'!I20 -> 8.27 | G19: =F19*E19 -> 16.54
B20: 15 | C20: Fermento biológico seco, instantâneo, para pão, isento de mofo e substâncias nocivas. Embalagem com aproximadamente 10g em envelopes aluminizados. A embalagem deverá conter os dados de identificação e procedência, número de lote, data de validade. | D20: 20G | E20: 2 | F20: ='PREÇOS DOS PRODUTOS'!I21 -> 1.82 | G20: =F20*E20 -> 3.64
... B25: 20 | C25: Sabão em barra glicerinado, neutro, com no mínimo 180g. A embalagem deverá conter os dados de identificação, procedência, número de lote, data de validade. | D25: 180G | E25: 1 | F25: ='PREÇOS DOS PRODUTOS'!I26 -> 2.56 | G25: =F25*E25 -> 2.56
D26: VALOR TOTAL CESTA 01 | F26: 6.8 | G26: =SUM(G6:G25) -> 213.47

Sheet CESTA TIPO 2
B1: MUNICÍPIO DE CARLOS BARBOSA
B2: ESTADO DO RIO GRANDE DO SUL
B3: COMPOSIÇÃO POR CESTA
B4: CESTA BÁSICA 02 (PARA 03 A 04 PESSOAS)
B5: ITEM | C5: PRODUTO | D5: KG/L/G/ML MÍNIMO POR PRODUTO | E5: QUANTIDADE ESTIMADA DE CADA PRODUTO | F5: VALOR UNITÁRIO (R$) | G5: VALOR TOTAL (R$)
B6: 1 | C6: Arroz branco, classe longo fino, tipo 1, constituído de grãos inteiros, isento de sujidades e materiais estranhos, embalado em pacotes de 02 kg. A embalagem deverá conter os dados de identificação e procedência, informações nutricionais, número de lote, data de validade. | D6: 6KG | E6: 3 | F6: ='PREÇOS DOS PRODUTOS'!I6 -> 8.25 | G6: =F6*E6 -> 24.75
B7: 2 | C7: Feijão Preto, tipo 01, novo, de boa qualidade, constituídos de grãos inteiros e sãos, livre de parasitas (carunchos), odores estranhos, substâncias nocivas, paus. Embalagem plástica de 01 kg. | D7: 2KG | E7: 2 | F7: ='PREÇOS DOS PRODUTOS'!I7 -> 6.12 | G7: =F7*E7 -> 12.24
B8: 3 | C8: Massa alimentícia com ovos, formatos variados. Embalagem resistente, com solda íntegra, de no mínimo 500 gr. A embalagem deverá conter os dados de identificação e procedência, informações nutricionais, número de lote, data de validade. | D8: 2KG | E8: 4 | F8: ='PREÇOS DOS PRODUTOS'!I8 -> 4.37 | G8: =F8*E8 -> 17.48
B9: 4 | C9: Farinha de trigo especial tipo 1, pacote de 05 kg. A embalagem deverá conter os dados de identificação e procedência, informações nutricionais, número de lote, data de validade. | D9: 5KG | E9: 1 | F9: ='PREÇOS DOS PRODUTOS'!I9 -> 19.28 | G9: =F9*E9 -> 19.28
B10: 5 | C10: Farinha de milho, média. Composição de 100% milho, cor amarela, embalagem transparente e resistente contendo os dados do fabricante, data de fabricação e validade, com solda íntegra. Embalagem com 01kg. | D10: 2KG | E10: 2 | F10: ='PREÇOS DOS PRODUTOS'!I11 -> 4.65 | G10: =F10*E10 -> 9.3
B11: 6 | C11: Biscoito salgado tipo água e sal, embalagem com no mínimo 400gr. A embalagem deverá conter os dados de identificação e procedência, informações nutricionais, número de lote, data de validade. | D11: 400G | E11: 1 | F11: ='PREÇOS DOS PRODUTOS'!I12 -> 4.48 | G11: =F11*E11 -> 4.48
B12: 7 | C12: Biscoito doce de leite, embalagem com no mínimo 350g. A embalagem deverá conter os dados de identificação e procedência, informações nutricionais, número de lote, data de validade. | D12: 350G | E12: 1 | F12: ='PREÇOS DOS PRODUTOS'!I13 -> 5.87 | G12: =F12*E12 -> 5.87
B13: 8 | C13: Leite integral longa vida - UHT - caixa de 1 litro. A embalagem deverá conter os dados de identificação e procedência, informações nutricionais, número de lote, data de validade. | D13: 8L | E13: 8 | F13: ='PREÇOS DOS PRODUTOS'!I14 -> 5.68 | G13: =F13*E13 -> 45.44
B14: 9 | C14: Café solúvel granulado. Embalagem com peso aproximado de 50g. De 1ª qualidade. A embalagem deverá conter os dados de identificação e procedência, informações nutricionais, número de lote, data de validade. | D14: 200G | E14: 4 | F14: ='PREÇOS DOS PRODUTOS'!I15 -> 6.33 | G14: =F14*E14 -> 25.32
B15: 10 | C15: Óleo de soja vegetal, refinado, tipo 01. Embalagem plástica tipo Pet de 900ml, intacta, resistente, transparente, atóxica, sem amassamento e vazamento. A embalagem deverá conter os dados de identificação e procedência, informações nutricionais, número de lote, data de validade. | D15: 1800L | E15: 2 | F15: ='PREÇOS DOS PRODUTOS'!I16 -> 8.51 | G15: =F15*E15 -> 17.02
B16: 11 | C16: Açúcar cristal pacotes de 05 kg. Produto processado da cana de açúcar, não devendo estar empedrado, úmido, com sujidades, bolor. A embalagem deverá conter os dados de identificação e procedência, informações nutricionais, número de lote, data de validade. | D16: 5KG | E16: 1 | F16: ='PREÇOS DOS PRODUTOS'!I17 -> 22.15 | G16: =F16*E16 -> 22.15
B17: 12 | C17: Doce de leite cremoso. Embalagem de no mínimo 400g. A embalagem deverá conter os dados de identificação e procedência, informações nutricionais, número de lote, data de validade. | D17: 400G | E17: 1 | F17: ='PREÇOS DOS PRODUTOS'!I18 -> 10.96 | G17: =F17*E17 -> 10.96
B18: 13 | C18: Extrato de tomate. Sachê de no mínimo 340g. A embalagem deverá conter os dados de identificação e procedência, informações nutricionais, número de lote, data de validade. | D18: 340G | E18: 1 | F18: ='PREÇOS DOS PRODUTOS'!I19 -> 3.62 | G18: =F18*E18 -> 3.62
B19: 14 | C19: Lentilha tipo 1, nova, de 1ª qualidade, sem a presença de grãos mofados e/ou carunchados, isento de sujidades, em embalagem plástica resistente e transparente, de no mínimo 500g. A embalagem deverá conter os dados de identificação e procedência, informações nutricionais, número de lote, data de validade. | D19: 2KG | E19: 4 | F19: ='PREÇOS DOS PRODUTOS'!I20 -> 8.27 | G19: =F19*E19 -> 33.08
B20: 15 | C20: Fermento biológico seco, instantâneo, para pão, isento de mofo e substâncias nocivas. Embalagem com aproximadamente 10g em envelopes aluminizados. A embalagem deverá conter os dados de identificação e procedência, número de lote, data de validade. | D20: 20G | E20: 2 | F20: ='PREÇOS DOS PRODUTOS'!I21 -> 1.82 | G20: =F20*E20 -> 3.64
B21: 16 | C21: Fermento químico em pó. Embalagem com aproximadamente 11gr cada. A embalagem deverá conter os dados de identificação, procedência, número de lote, data de validade. | D21: 22G | E21: 2 | F21: ='PREÇOS DOS PRODUTOS'!I22 -> 0.81 | G21: =F21*E21 -> 1.62
... B25: 20 | C25: Sabão em barra glicerinado, neutro, com no mínimo 180g. A embalagem deverá conter os dados de identificação, procedência, número de lote, data de validade. | D25: 360G | E25: 2 | F25: ='PREÇOS DOS PRODUTOS'!I26 -> 2.56 | G25: =F25*E25 -> 5.12
D26: VALOR TOTAL CESTA 02 | G26: =SUM(G6:G25) -> 294.2

Sheet CESTA TIPO 3
B1: MUNICÍPIO DE CARLOS BARBOSA
B2: ESTADO DO RIO GRANDE DO SUL
B3: COMPOSIÇÃO POR CESTA
B4: CESTA BÁSICA 03 (PARA 05 A 06 PESSOAS)
B5: ITEM | C5: PRODUTO | D5: KG/L/G/ML MÍNIMO POR PRODUTO | E5: QUANTIDADE ESTIMADA DE CADA PRODUTO | F5: VALOR UNITÁRIO (R$) | G5: VALOR TOTAL (R$)
B6: 1 | C6: Arroz branco, classe longo fino, tipo 1, constituído de grãos inteiros, isento de sujidades e materiais estranhos, embalado em pacotes de 05 kg. A embalagem deverá conter os dados de identificação e procedência, informações nutricionais, número de lote, data de validade. | D6: 5KG | E6: 1 | F6: ='PREÇOS DOS PRODUTOS'!I5 -> 22.4 | G6: =F6*E6 -> 22.4
B7: 2 | C7: Arroz branco, classe longo fino, tipo 1, constituído de grãos inteiros, isento de sujidades e materiais estranhos, embalado em pacotes de 02 kg. A embalagem deverá conter os dados de identificação e procedência, informações nutricionais, número de lote, data de validade. | D7: 2KG | E7: 1 | F7: ='PREÇOS DOS PRODUTOS'!I6 -> 8.25 | G7: =F7*E7 -> 8.25
B8: 3 | C8: Feijão Preto, tipo 01, novo, de boa qualidade, constituídos de grãos inteiros e sãos, livre de parasitas (carunchos), odores estranhos, substâncias nocivas, paus. Embalagem plástica de 01 kg. | D8: 3KG | E8: 3 | F8: ='PREÇOS DOS PRODUTOS'!I7 -> 6.12 | G8: =F8*E8 -> 18.36
B9: 4 | C9: Massa alimentícia com ovos, formatos variados. Embalagem resistente, com solda íntegra, de no mínimo 500 gr. A embalagem deverá conter os dados de identificação e procedência, informações nutricionais, número de lote, data de validade. | D9: 3KG | E9: 6 | F9: ='PREÇOS DOS PRODUTOS'!I8 -> 4.37 | G9: =F9*E9 -> 26.22
B10: 5 | C10: Farinha de trigo especial tipo 1, pacote de 05 kg. A embalagem deverá conter os dados de identificação e procedência, informações nutricionais, número de lote, data de validade. | D10: 5KG | E10: 1 | F10: ='PREÇOS DOS PRODUTOS'!I9 -> 19.28 | G10: =F10*E10 -> 19.28
B11: 6 | C11: Farinha de milho, média. Composição de 100% milho, cor amarela, embalagem transparente e resistente contendo os dados do fabricante, data de fabricação e validade, com solda íntegra. Embalagem com 01kg. | D11: 3KG | E11: 3 | F11: ='PREÇOS DOS PRODUTOS'!I11 -> 4.65 | G11: =F11*E11 -> 13.95
B12: 7 | C12: Biscoito salgado tipo água e sal, embalagem com no mínimo 400gr. A embalagem deverá conter os dados de identificação e procedência, informações nutricionais, número de lote, data de validade. | D12: 800G | E12: 2 | F12: ='PREÇOS DOS PRODUTOS'!I12 -> 4.48 | G12: =F12*E12 -> 8.96
B13: 8 | C13: Biscoito doce de leite, embalagem com no mínimo 350g. A embalagem deverá conter os dados de identificação e procedência, informações nutricionais, número de lote, data de validade. | D13: 350G | E13: 1 | F13: ='PREÇOS DOS PRODUTOS'!I13 -> 5.87 | G13: =F13*E13 -> 5.87
B14: 9 | C14: Leite integral longa vida - UHT - caixa de 1 litro. A embalagem deverá conter os dados de identificação e procedência, informações nutricionais, número de lote, data de validade. | D14: 10L | E14: 10 | F14: ='PREÇOS DOS PRODUTOS'!I14 -> 5.68 | G14: =F14*E14 -> 56.8
B15: 10 | C15: Café solúvel granulado. Embalagem com peso aproximado de 50g. De 1ª qualidade. A embalagem deverá conter os dados de identificação e procedência, informações nutricionais, número de lote, data de validade. | D15: 400G | E15: 8 | F15: ='PREÇOS DOS PRODUTOS'!I15 -> 6.33 | G15: =F15*E15 -> 50.64
B16: 11 | C16: Óleo de soja vegetal, refinado, tipo 01. Embalagem plástica tipo Pet de 900ml, intacta, resistente, transparente, atóxica, sem amassamento e vazamento. A embalagem deverá conter os dados de identificação e procedência, informações nutricionais, número de lote, data de validade. | D16: 2700ML | E16: 3 | F16: ='PREÇOS DOS PRODUTOS'!I16 -> 8.51 | G16: =F16*E16 -> 25.53
B17: 12 | C17: Açúcar cristal pacotes de 05 kg. Produto processado da cana de açúcar, não devendo estar empedrado, úmido, com sujidades, bolor. A embalagem deverá conter os dados de identificação e procedência, informações nutricionais, número de lote, data de validade. | D17: 5KG | E17: 1 | F17: ='PREÇOS DOS PRODUTOS'!I17 -> 22.15 | G17: =F17*E17 -> 22.15
B18: 13 | C18: Doce de leite cremoso. Embalagem de no mínimo 400g. A embalagem deverá conter os dados de identificação e procedência, informações nutricionais, número de lote, data de validade. | D18: 800G | E18: 2 | F18: ='PREÇOS DOS PRODUTOS'!I18 -> 10.96 | G18: =F18*E18 -> 21.92
B19: 14 | C19: Extrato de tomate. Sachê de no mínimo 340g. A embalagem deverá conter os dados de identificação e procedência, informações nutricionais, número de lote, data de validade. | D19: 680G | E19: 2 | F19: ='PREÇOS DOS PRODUTOS'!I19 -> 3.62 | G19: =F19*E19 -> 7.24
B20: 15 | C20: Lentilha tipo 1, nova, de 1ª qualidade, sem a presença de grãos mofados e/ou carunchados, isento de sujidades, em embalagem plástica resistente e transparente, de no mínimo 500g. A embalagem deverá conter os dados de identificação e procedência, informações nutricionais, número de lote, data de validade. | D20: 3KG | E20: 6 | F20: ='PREÇOS DOS PRODUTOS'!I20 -> 8.27 | G20: =F20*E20 -> 49.62
B21: 16 | C21: Fermento biológico seco, instantâneo, para pão, isento de mofo e substâncias nocivas. Embalagem com aproximadamente 10g em envelopes aluminizados. A embalagem deverá conter os dados de identificação e procedência, número de lote, data de validade. | D21: 30G | E21: 3 | F21: ='PREÇOS DOS PRODUTOS'!I21 -> 1.82 | G21: =F21*E21 -> 5.46
B22: 17 | C22: Fermento químico em pó. Embalagem com aproximadamente 11gr cada. A embalagem deverá conter os dados de identificação, procedência, número de lote, data de validade. | D22: 33G | E22: 3 | F22: ='PREÇOS DOS PRODUTOS'!I22 -> 0.81 | G22: =F22*E22 -> 2.43
... B26: 21 | C26: Sabão em barra glicerinado, neutro, com no mínimo 180g. A embalagem deverá conter os dados de identificação, procedência, número de lote, data de validade. | D26: 540G | E26: 3 | F26: ='PREÇOS DOS PRODUTOS'!I26 -> 2.56 | G26: =F26*E26 -> 7.68
D27: VALOR TOTAL CESTA 03 | G27: =SUM(G6:G26) -> 420.6

Sheet CESTA TIPO 4
B1: MUNICÍPIO DE CARLOS BARBOSA
B2: ESTADO DO RIO GRANDE DO SUL
B3: COMPOSIÇÃO POR CESTA
B4: CESTA BÁSICA 04 (PARA 07 OU MAIS PESSOAS)
B5: ITEM | C5: PRODUTO | D5: KG/L/G/ML MÍNIMO POR PRODUTO | E5: QUANTIDADE ESTIMADA DE CADA PRODUTO | F5: VALOR UNITÁRIO (R$) | G5: VALOR TOTAL (R$)
B6: 1 | C6: Arroz branco, classe longo fino, tipo 1, constituído de grãos inteiros, isento de sujidades e materiais estranhos, embalado em pacotes de 05 kg. A embalagem deverá conter os dados de identificação e procedência, informações nutricionais, número de lote, data de validade. | D6: 5KG | E6: 1 | F6: ='PREÇOS DOS PRODUTOS'!I5 -> 22.4 | G6: =F6*E6 -> 22.4
B7: 2 | C7: Arroz branco, classe longo fino, tipo 1, constituído de grãos inteiros, isento de sujidades e materiais estranhos, embalado em pacotes de 02 kg. A embalagem deverá conter os dados de identificação e procedência, informações nutricionais, número de lote, data de validade. | D7: 2KG | E7: 1 | F7: ='PREÇOS DOS PRODUTOS'!I6 -> 8.25 | G7: =F7*E7 -> 8.25
B8: 3 | C8: Feijão Preto, tipo 01, novo, de boa qualidade, constituídos de grãos inteiros e sãos, livre de parasitas (carunchos), odores estranhos, substâncias nocivas, paus. Embalagem plástica de 01 kg. | D8: 3KG | E8: 3 | F8: ='PREÇOS DOS PRODUTOS'!I7 -> 6.12 | G8: =F8*E8 -> 18.36
B9: 4 | C9: Massa alimentícia com ovos, formatos variados. Embalagem resistente, com solda íntegra, de no mínimo 500 gr. A embalagem deverá conter os dados de identificação e procedência, informações nutricionais, número de lote, data de validade. | D9: 3KG | E9: 6 | F9: ='PREÇOS DOS PRODUTOS'!I8 -> 4.37 | G9: =F9*E9 -> 26.22
B10: 5 | C10: Farinha de trigo especial tipo 1, pacote de 05 kg. A embalagem deverá conter os dados de identificação e procedência, informações nutricionais, número de lote, data de validade. | D10: 5KG | E10: 1 | F10: ='PREÇOS DOS PRODUTOS'!I9 -> 19.28 | G10: =F10*E10 -> 19.28
B11: 6 | C11: Farinha de milho, média. Composição de 100% milho, cor amarela, embalagem transparente e resistente contendo os dados do fabricante, data de fabricação e validade, com solda íntegra. Embalagem com 01kg. | D11: 4KG | E11: 4 | F11: ='PREÇOS DOS PRODUTOS'!I11 -> 4.65 | G11: =F11*E11 -> 18.6
B12: 7 | C12: Biscoito salgado tipo água e sal, embalagem com no mínimo 400gr. A embalagem deverá conter os dados de identificação e procedência, informações nutricionais, número de lote, data de validade. | D12: 800G | E12: 2 | F12: ='PREÇOS DOS PRODUTOS'!I12 -> 4.48 | G12: =F12*E12 -> 8.96
B13: 8 | C13: Biscoito doce de leite, embalagem com no mínimo 350g. A embalagem deverá conter os dados de identificação e procedência, informações nutricionais, número de lote, data de validade. | D13: 700G | E13: 2 | F13: ='PREÇOS DOS PRODUTOS'!I13 -> 5.87 | G13: =F13*E13 -> 11.74
B14: 9 | C14: Leite integral longa vida - UHT - caixa de 1 litro. A embalagem deverá conter os dados de identificação e procedência, informações nutricionais, número de lote, data de validade. | D14: 12L | E14: 12 | F14: ='PREÇOS DOS PRODUTOS'!I14 -> 5.68 | G14: =F14*E14 -> 68.16
B15: 10 | C15: Café solúvel granulado. Embalagem com peso aproximado de 50g. De 1ª qualidade. A embalagem deverá conter os dados de identificação e procedência, informações nutricionais, número de lote, data de validade. | D15: 400G | E15: 8 | F15: ='PREÇOS DOS PRODUTOS'!I15 -> 6.33 | G15: =F15*E15 -> 50.64
B16: 11 | C16: Óleo de soja vegetal, refinado, tipo 01. Embalagem plástica tipo Pet de 900ml, intacta, resistente, transparente, atóxica, sem amassamento e vazamento. A embalagem deverá conter os dados de identificação e procedência, informações nutricionais, número de lote, data de validade. | D16: 3600ML | E16: 4 | F16: ='PREÇOS DOS PRODUTOS'!I16 -> 8.51 | G16: =F16*E16 -> 34.04
B17: 12 | C17: Açúcar cristal pacotes de 05 kg. Produto processado da cana de açúcar, não devendo estar empedrado, úmido, com sujidades, bolor. A embalagem deverá conter os dados de identificação e procedência, informações nutricionais, número de lote, data de validade. | D17: 5KG | E17: 1 | F17: ='PREÇOS DOS PRODUTOS'!I17 -> 22.15 | G17: =F17*E17 -> 22.15
B18: 13 | C18: Doce de leite cremoso. Embalagem de no mínimo 400g. A embalagem deverá conter os dados de identificação e procedência, informações nutricionais, número de lote, data de validade. | D18: 800G | E18: 2 | F18: ='PREÇOS DOS PRODUTOS'!I18 -> 10.96 | G18: =F18*E18 -> 21.92
B19: 14 | C19: Extrato de tomate. Sachê de no mínimo 340g. A embalagem deverá conter os dados de identificação e procedência, informações nutricionais, número de lote, data de validade. | D19: 1020G | E19: 3 | F19: ='PREÇOS DOS PRODUTOS'!I19 -> 3.62 | G19: =F19*E19 -> 10.86
B20: 15 | C20: Lentilha tipo 1, nova, de 1ª qualidade, sem a presença de grãos mofados e/ou carunchados, isento de sujidades, em embalagem plástica resistente e transparente, de no mínimo 500g. A embalagem deverá conter os dados de identificação e procedência, informações nutricionais, número de lote, data de validade. | D20: 3KG | E20: 6 | F20: ='PREÇOS DOS PRODUTOS'!I20 -> 8.27 | G20: =F20*E20 -> 49.62
B21: 16 | C21: Fermento biológico seco, instantâneo, para pão, isento de mofo e substâncias nocivas. Embalagem com aproximadamente 10g em envelopes aluminizados. A embalagem deverá conter os dados de identificação e procedência, número de lote, data de validade. | D21: 30G | E21: 3 | F21: ='PREÇOS DOS PRODUTOS'!I21 -> 1.82 | G21: =F21*E21 -> 5.46
B22: 17 | C22: Fermento químico em pó. Embalagem com aproximadamente 11gr cada. A embalagem deverá conter os dados de identificação, procedência, número de lote, data de validade. | D22: 33G | E22: 3 | F22: ='PREÇOS DOS PRODUTOS'!I22 -> 0.81 | G22: =F22*E22 -> 2.43
... B26: 21 | C26: Sabão em barra glicerinado, neutro, com no mínimo 180g. A embalagem deverá conter os dados de identificação, procedência, número de lote, data de validade. | D26: 720G | E26: 4 | F26: ='PREÇOS DOS PRODUTOS'!I26 -> 2.56 | G26: =F26*E26 -> 10.24
D27: VALOR TOTAL CESTA 04 | G27: =SUM(G6:G26) -> 462.52

Sheet TOTAL
B3: Cesta Básica | C3: Quantidade | D3: Preço Unit. | E3: Total
B4: Tipo 1 | C4: 400 | D4: ='CESTA TIPO 1'!G26 -> 213.47 | E4: =C4*D4 -> 85388
B5: Tipo 2 | C5: 450 | D5: ='CESTA TIPO 2'!G26 -> 294.2 | E5: =C5*D5 -> 132390
B6: Tipo 3 | C6: 250 | D6: ='CESTA TIPO 3'!G27 -> 420.6 | E6: =C6*D6 -> 105150
B7: Tipo 4 | C7: 60 | D7: ='CESTA TIPO 4'!G27 -> 462.52 | E7: =C7*D7 -> 27751.2
E8: =SUM(E4:E7) -> 350679.2
