Workbook
Name _____LO25: #REF!
Name _____LO25: #REF!
Name _____LO25: #REF!
Name ____LO25: #REF!
Name ____LO25: #REF!
Name ____LO25: #REF!
Name ___LO25: #REF!
Name ___LO25: #REF!
Name ___LO25: #REF!
Name __LO25: #REF!
Name __LO25: #REF!
Name __LO25: #REF!
Name __xlfn_IFERROR: #N/A
Name _LO25: #REF!
Name _LO25: #REF!
Name _LO25: #REF!
Name AbaDeprec: #REF!
Name AbaDeprec: #REF!
Name AbaDeprec: #REF!
Name AbaDeprec: #REF!
Name AbaDeprec: #REF!
Name AbaRemun: #REF!
Name AbaRemun: #REF!
Name AbaRemun: #REF!
Name AbaRemun: #REF!
Name AbaRemun: #REF!
Name Print_Titles_0: '1. Vigilante Noturno'!$1:$1
Name Print_Titles_0: '2. Vigilante Diurno'!$1:$1
Name Print_Titles_0: '3. Vigilante Diurno '!$1:$1
Name Print_Titles_0: '4. Vigilante Noturno '!$1:$1
Name Print_Titles_0_0: '1. Vigilante Noturno'!$1:$1
Name Print_Titles_0_0: '2. Vigilante Diurno'!$1:$1
Name Print_Titles_0_0: '3. Vigilante Diurno '!$1:$1
Name Print_Titles_0_0: '4. Vigilante Noturno '!$1:$1
Name sesi: #REF!
Name sesi: #REF!
Name sesi: #REF!
Name sesi: #REF!

Sheet Resumo 
A1: PREGÃO ELETRÔNICO /2025
A2: RESUMO
A3: Serviço de vigilante - São Marcos/RS
A4: Planilha de Composição de Custos
A6: Resumo
A7: Item | B7: Profissional | C7: Horas | D7: Postos de Trabalho | E7: Custo por Posto R$ | F7: Custo/hr | G7: Custo Mês R$ | H7: Valor ano R$
A8: 1 | B8: vigilante noturno Hrs mês | C8: ='1. Vigilante Noturno'!C47*180 -> 1800 | D8: ='1. Vigilante Noturno'!D114 -> 5 | E8: =G8/D8 -> 15360.972 | F8: ='1. Vigilante Noturno'!F118 -> 42.669367 | G8: ='1. Vigilante Noturno'!F112 -> 76804.86 | H8: =G8*12 -> 921658.32 | J8: 57365 | K8: =G8-J8 -> 19439.86
A9: 2 | B9: vigilante diurno Hrs mês | C9: ='2. Vigilante Diurno'!C47*180 -> 1800 | D9: ='2. Vigilante Diurno'!D113 -> 5 | E9: =G9/D9 -> 13935.013 | F9: ='2. Vigilante Diurno'!F117 -> 38.70837 | G9: ='2. Vigilante Diurno'!F111 -> 69675.066 | H9: =G9*12 -> 836100.8 | J9: 52037.68 | K9: =G9-J9 -> 17637.386
A10: 3 | B10: Hrs ano vigilante diurno (eventos) | C10: 5000 | F10: ='3. Vigilante Diurno '!F118 -> 42.933592 | G10: =H10/12 -> 17888.996 | H10: =C10*F10 -> 214667.96 | J10: 12293.55 | K10: =G10-J10 -> 5595.4465
A11: 4 | B11: Hrs ano vigilante noturno (eventos) | C11: 5000 | F11: ='4. Vigilante Noturno '!F119 -> 46.764363 | G11: =H11/12 -> 19485.151 | H11: =C11*F11 -> 233821.82 | J11: 13526.92 | K11: =G11-J11 -> 5958.2313
K12: =G12-J12 -> 0
A13: Total | G13: =SUM(G8:G12) -> 183854.07 | H13: =SUM(H8:H12) -> 2206248.9 | J13: =SUM(J8:J12) -> 135223.15 | K13: =G13-J13 -> 48630.925
A16: São Marcos, 25 de Junho de 2025

Sheet 1. Vigilante  Noturno
A1: PLANILHA DE CUSTOS - PREFEITURA MUNICIPAL DE SÃO MARCOS
A2: Item 1 - Contratação Serviços de Vigilante - Noturno
A4: Planilha de Composição de Custos
A6: Orçamento Sintético
A7: Descrição do Item | E7: Custo (R$/mês) | F7: %
A8: =A37 -> 1. Mão de obra | E8: =+F82 -> 61356.689 | F8: =IFERROR(E8/$E$18,0) -> 0.79886466
A9: =A38 -> 1.1. Categoria Profissional de Vigilantes (05 Postos de 12 horas noturnas 12/36) | E9: =F48 -> 55546.689 | F9: =IFERROR(E9/$E$18,0) -> 0.7232184
A10: =A50 -> 1.2. Encarregado/Supervisor | E10: =F57 -> 1449.2005 | F10: =IFERROR(E10/$E$18,0) -> 0.018868603
A11: =A59 -> 1.3. Auxílio Alimentação | E11: =F63 -> 4360.8 | F11: =IFERROR(E11/$E$18,0) -> 0.056777657
A12: =A65 -> 1.4. Vale Transporte | E12: =F70 -> 0 | F12: =IFERROR(E12/$E$18,0) -> 0
A13: =A72 -> 1.5. Plano de Benefício Social | E13: =F75 -> 0 | F13: =IFERROR(E13/$E$18,0) -> 0
A14: =A84 -> 2. Uniformes e Equipamentos de Proteção Individual | E14: =+F95 -> 528.75 | F14: =IFERROR(E14/$E$18,0) -> 0.0068843299
A15: =A85 -> 2.1. Uniformes e EPIs | E15: =F93 -> 528.75 | F15: =IFERROR(E15/$E$18,0) -> 0.0068843299
A16: =A97 -> 3. Veículo de apoio para deslocamento e materiais de consumo | E16: =F104 -> 740.83333 | F16: =IFERROR(E16/$E$18,0) -> 0.0096456569
A17: =A106 -> 4. Benefícios e Despesas Indiretas (BDI) | E17: =F110 -> 14178.588 | F17: =IFERROR(E17/$E$18,0) -> 0.18460535
A18: PREÇO TOTAL MENSAL | E18: =E8+E14+E17+E16 -> 76804.86 | F18: =F8+F14+F17+F16 -> 1
A21: Quantitativos
A22: Mão de obra | E22: Quantidade
A23: a) Categoria: Profissional de prestador de serviços de vigia CBO 5173
A24: Piso da categoria 220 horas mensais | E24: 2105.4
A25: Adicional noturno (das 22h às 05h) total de horas | E25: =9.14*15 -> 137.1
A26: Tempo trabalho por mês (Horas) | E26: 220
A27: =+A50 -> 1.2. Encarregado/Supervisor
A30: Total de mão de obra | E30: 10
A31: Memória de cálculo do adicional noturno por funcionário:
A32: > 15 dias/funcion/mês x 8hrs/dia (cada hora hora contada equivale somente a 52 minutos e 30 segundos) = 137,10 horas mês.
A33: Obs: como os funcionários trabalham 12/36 conta como horário noturno das 22 horas às 06 horas.
A35: Fator de utilização (FU) | B35: 1
A37: 1. Mão de obra
A38: 1.1. Categoria Profissional de Vigilantes (05 Postos de 12 horas noturnas 12/36)
A39: Discriminação | B39: Unidade | C39: Quantidade | D39: Custo unitário | E39: Subtotal | F39: Total (R$)
A40: Piso da categoria | B40: mês | C40: 1 | D40: =E24 -> 2105.4 | E40: =C40*D40 -> 2105.4
A41: Adicional de Periculosidade | B41: % | C41: 0.3 | D41: =E40 -> 2105.4 | E41: =D41*C41 -> 631.62
A42: Intervalo Intrajornada Cfe. Convenção (50% do valor) | B42: Hrs | C42: 15 | D42: 14.35 | E42: =C42*D42 -> 215.25
A43: Adicional noturno | B43: horas | C43: =E25*1 -> 137.1 | D43: =(E40/220*0.2)+0.57 -> 2.484 | E43: =C43*D43 -> 340.5564
A44: Soma | E44: =SUM(E40:E43) -> 3292.8264
A45: Encargos Sociais | B45: % | C45: ='5.Encargos Sociais'!$C$34*100 -> 68.69 | D45: =E44 -> 3292.8264 | E45: =D45*C45/100 -> 2261.8425
A46: Total por profissional | E46: =SUM(E44:E45) -> 5554.6689
A47: Total do Efetivo | B47: homem | C47: =E30 -> 10 | D47: =E46 -> 5554.6689 | E47: =C47*D47 -> 55546.689
D48: Fator de util. | E48: =$B$35 -> 1 | F48: =E47*E48 -> 55546.689
...

Sheet 2. Vigilante Diurno
A1: PLANILHA DE CUSTOS - PREFEITURA MUNICIPAL DE SÃO MARCOS
A2: Item 2 - Contratação Serviços de Vigilante - Diurno
A4: Planilha de Composição de Custos
A6: Orçamento Sintético
A7: Descrição do Item | E7: Custo (R$/mês) | F7: %
A8: =A37 -> 1. Mão de obra | E8: =+F82 -> 55611.843 | F8: =IFERROR(E8/$E$18,0) -> 0.79815989
A9: =A38 -> 1.1. Categoria Profissional de Vigilante (05 Postos de 12 horas diurnas 12/36) | E9: =F48 -> 49801.843 | F9: =IFERROR(E9/$E$18,0) -> 0.71477281
A10: =A50 -> 1.2. Encarregado/Supervisor | E10: =F57 -> 1449.2005 | F10: =IFERROR(E10/$E$18,0) -> 0.020799413
A11: =A59 -> 1.3. Auxílio Alimentação | E11: =F63 -> 4360.8 | F11: =IFERROR(E11/$E$18,0) -> 0.062587669
A12: =A65 -> 1.4. Vale Transporte | E12: =F70 -> 0 | F12: =IFERROR(E12/$E$18,0) -> 0
A13: =A72 -> 1.5. Plano de Benefício Social | E13: =F75 -> 0 | F13: =IFERROR(E13/$E$18,0) -> 0
A14: =A84 -> 2. Uniformes e Equipamentos de Proteção Individual | E14: =+F95 -> 528.75 | F14: =IFERROR(E14/$E$18,0) -> 0.0075887979
A15: =A85 -> 2.1. Uniformes e EPIs | E15: =F93 -> 528.75 | F15: =IFERROR(E15/$E$18,0) -> 0.0075887979
A16: =A97 -> 3. Veículo de apoio para deslocamento e materiais de consumo | E16: =F103 -> 672.08333 | F16: =IFERROR(E16/$E$18,0) -> 0.0096459662
A17: =A105 -> 4. Benefícios e Despesas Indiretas (BDI) | E17: =F109 -> 12862.39 | F17: =IFERROR(E17/$E$18,0) -> 0.18460535
A18: PREÇO TOTAL MENSAL | E18: =E8+E14+E17+E16 -> 69675.066 | F18: =F8+F14+F17+F16 -> 1
A21: Quantitativos
A22: Mão de obra | E22: Quantidade
A23: a) Categoria: Profissional de prestador de serviços de vigilante CBO 5173
A24: Piso da categoria 220 horas mensais | E24: 2105.4
A25: Adicional noturno (das 22h às 05h) total de horas | E25: 0
A26: Tempo trabalho por mês (Horas) | E26: 220
A27: =+A50 -> 1.2. Encarregado/Supervisor
A30: Total de mão de obra | E30: 10
A35: Fator de utilização (FU) | B35: 1
A37: 1. Mão de obra
A38: 1.1. Categoria Profissional de Vigilante (05 Postos de 12 horas diurnas 12/36)
A39: Discriminação | B39: Unidade | C39: Quantidade | D39: Custo unitário | E39: Subtotal | F39: Total (R$)
A40: Piso da categoria | B40: mês | C40: 1 | D40: =E24 -> 2105.4 | E40: =C40*D40 -> 2105.4
A41: Adicional de Periculosidade | B41: % | C41: 0.3 | D41: =E40 -> 2105.4 | E41: =D41*C41 -> 631.62
A42: Intervalo Intrajornada Cfe. Convenção (50% do valor) | B42: Hrs | C42: 15 | D42: 14.35 | E42: =C42*D42 -> 215.25
A43: Adicional noturno | B43: horas | C43: 0 | D43: =E40/220*0.2 -> 1.914 | E43: =C43*D43 -> 0
A44: Soma | E44: =SUM(E40:E43) -> 2952.27
A45: Encargos Sociais | B45: % | C45: ='5.Encargos Sociais'!$C$34*100 -> 68.69 | D45: =E44 -> 2952.27 | E45: =D45*C45/100 -> 2027.9143
A46: Total por profissional | E46: =SUM(E44:E45) -> 4980.1843
A47: Total do Efetivo | B47: homem | C47: =E30 -> 10 | D47: =E46 -> 4980.1843 | E47: =C47*D47 -> 49801.843
D48: Fator de util. | E48: =$B$35 -> 1 | F48: =E47*E48 -> 49801.843
A50: 1.2. Encarregado/Supervisor
A51: Discriminação | B51: Unidade | C51: Quantidade | D51: Custo unitário | E51: Subtotal | F51: Total (R$)
A52: Piso da categoria | B52: mês | C52: 1 | D52: 2700 | E52: =C52*D52 -> 2700
...

Sheet 3. Vigilante Diurno 
A1: PLANILHA DE CUSTOS - PREFEITURA MUNICIPAL DE SÃO MARCOS
A2: Item 3 - Contratação Serviços de Vigilante - Diurno (Eventos municipais)
A4: Planilha de Composição de Custos
A6: Orçamento Sintético
A7: Descrição do Item | E7: Custo (R$/mês) | F7: %
A8: =A37 -> 1. Mão de obra | E8: =+F83 -> 12752.512 | F8: =IFERROR(E8/$E$18,0) -> 0.78862782
A9: =A38 -> 1.1. Categoria Profissional de vigilante (02 Postos de 8:48 horas diurnas) | E9: =F49 -> 10654.798 | F9: =IFERROR(E9/$E$18,0) -> 0.6589031
A10: =A51 -> 1.2. Encarregado/Supervisor | E10: =F58 -> 828.11455 | F10: =IFERROR(E10/$E$18,0) -> 0.051211412
A11: =A60 -> 1.3. Auxílio Alimentação | E11: =F64 -> 1269.6 | F11: =IFERROR(E11/$E$18,0) -> 0.078513304
A12: =A66 -> 1.4. Vale Transporte | E12: =F71 -> 0 | F12: =IFERROR(E12/$E$18,0) -> 0
A13: =A73 -> 1.5. Plano de Benefício Social | E13: =F76 -> 0 | F13: =IFERROR(E13/$E$18,0) -> 0
A14: =A85 -> 2. Uniformes e Equipamentos de Proteção Individual | E14: =+F96 -> 105.75 | F14: =IFERROR(E14/$E$18,0) -> 0.0065396833
A15: =A86 -> 2.1. Uniformes e EPIs | E15: =F94 -> 105.75 | F15: =IFERROR(E15/$E$18,0) -> 0.0065396833
A16: =A98 -> 3. Veículo de apoio para deslocamento e materiais de consumo | E16: =F104 -> 327.08333 | F16: =IFERROR(E16/$E$18,0) -> 0.020227153
A17: =A106 -> 4. Benefícios e Despesas Indiretas (BDI) | E17: =F110 -> 2985.1623 | F17: =IFERROR(E17/$E$18,0) -> 0.18460535
A18: PREÇO TOTAL MENSAL | E18: =E8+E14+E17+E16 -> 16170.508 | F18: =F8+F14+F17+F16 -> 1
A21: Quantitativos
A22: Mão de obra | E22: Quantidade
A23: a) Categoria: Profissional de prestador de serviços de vigilante CBO 5173
A24: Piso da categoria 220 horas mensais | E24: 2105.4
A25: Adicional noturno (das 22h às 05h) total de horas | E25: 0
A26: Tempo trabalho por mês (Horas) | E26: 220
A27: =+A51 -> 1.2. Encarregado/Supervisor
A30: Total de mão de obra | E30: 2
A35: Fator de utilização (FU) | B35: 1
A37: 1. Mão de obra
A38: 1.1. Categoria Profissional de vigilante (02 Postos de 8:48 horas diurnas)
A39: Discriminação | B39: Unidade | C39: Quantidade | D39: Custo unitário | E39: Subtotal | F39: Total (R$)
A40: Piso da categoria | B40: mês | C40: 1 | D40: =E24 -> 2105.4 | E40: =C40*D40 -> 2105.4
A41: Adicional de Periculosidade | B41: % | C41: 0.3 | D41: =E40 -> 2105.4 | E41: =D41*C41 -> 631.62
A42: Intervalo Intrajornada Cfe. Convenção (50% do valor) | B42: Hrs | C42: 0 | D42: 14.35 | E42: =C42*D42 -> 0
A43: Adicional por serviço em eventos | B43: % | C43: 0.2 | D43: =D40 -> 2105.4 | E43: =D43*C43 -> 421.08
A44: Adicional noturno | B44: horas | C44: 0 | D44: =E40/220*0.2 -> 1.914 | E44: =C44*D44 -> 0
A45: Soma | E45: =SUM(E40:E44) -> 3158.1
A46: Encargos Sociais | B46: % | C46: ='5.Encargos Sociais'!$C$34*100 -> 68.69 | D46: =E45 -> 3158.1 | E46: =D46*C46/100 -> 2169.2989
A47: Total por profissional | E47: =SUM(E45:E46) -> 5327.3989
A48: Total do Efetivo | B48: homem | C48: =E30 -> 2 | D48: =E47 -> 5327.3989 | E48: =C48*D48 -> 10654.798
D49: Fator de util. | E49: =$B$35 -> 1 | F49: =E48*E49 -> 10654.798
A51: 1.2. Encarregado/Supervisor
A52: Discriminação | B52: Unidade | C52: Quantidade | D52: Custo unitário | E52: Subtotal | F52: Total (R$)
...

Sheet 4. Vigilante  Noturno 
A1: PLANILHA DE CUSTOS - PREFEITURA MUNICIPAL DE SÃO MARCOS
A2: Item 4 - Contratação Serviços de Vigilante - Noturno (Eventos Municipais)
A4: Planilha de Composição de Custos
A6: Orçamento Sintético
A7: Descrição do Item | E7: Custo (R$/mês) | F7: %
A8: =A37 -> 1. Mão de obra | E8: =+F83 -> 13901.482 | F8: =IFERROR(E8/$E$18,0) -> 0.78925914
A9: =A38 -> 1.1. Categoria Profissional de Vigilante (02 Postos de 8:48 horas noturnas) | E9: =F49 -> 11803.767 | F9: =IFERROR(E9/$E$18,0) -> 0.67016102
A10: =A51 -> 1.2. Encarregado/Supervisor | E10: =F58 -> 828.11455 | F10: =IFERROR(E10/$E$18,0) -> 0.047016354
A11: =A60 -> 1.3. Auxílio Alimentação | E11: =F64 -> 1269.6 | F11: =IFERROR(E11/$E$18,0) -> 0.072081771
A12: =A66 -> 1.4. Vale Transporte | E12: =F71 -> 0 | F12: =IFERROR(E12/$E$18,0) -> 0
A13: =A73 -> 1.5. Plano de Benefício Social | E13: =F76 -> 0 | F13: =IFERROR(E13/$E$18,0) -> 0
A14: =A85 -> 2. Uniformes e Equipamentos de Proteção Individual | E14: =+F96 -> 105.75 | F14: =IFERROR(E14/$E$18,0) -> 0.0060039755
A15: =A86 -> 2.1. Uniformes e EPIs | E15: =F94 -> 105.75 | F15: =IFERROR(E15/$E$18,0) -> 0.0060039755
A16: =A98 -> 3. Veículo de apoio para deslocamento e materiais de consumo | E16: =F105 -> 354.58333 | F16: =IFERROR(E16/$E$18,0) -> 0.020131533
A17: =A107 -> 4. Benefícios e Despesas Indiretas (BDI) | E17: =F111 -> 3251.5149 | F17: =IFERROR(E17/$E$18,0) -> 0.18460535
A18: PREÇO TOTAL MENSAL | E18: =E8+E14+E17+E16 -> 17613.33 | F18: =F8+F14+F17+F16 -> 1
A21: Quantitativos
A22: Mão de obra | E22: Quantidade
A23: a) Categoria: Profissional de prestador de serviços de vigilante CBO 5173
A24: Piso da categoria 220 horas mensais | E24: 2105.4
A25: Adicional noturno (das 22h às 05h) total de horas | E25: =9.14*15 -> 137.1
A26: Tempo trabalho por mês (Horas) | E26: 220
A27: =+A51 -> 1.2. Encarregado/Supervisor
A30: Total de mão de obra | E30: 2
A31: Memória de cálculo do adicional noturno por funcionário:
A32: > 15 dias/funcion/mês x 8hrs/dia (cada hora hora contada equivale somente a 52 minutos e 30 segundos) = 137,10 horas mês.
A33: Obs: como os funcionários podem trabalhar 12/36 conta como horário noturno das 22 horas às 06 horas.
A35: Fator de utilização (FU) | B35: 1
A37: 1. Mão de obra
A38: 1.1. Categoria Profissional de Vigilante (02 Postos de 8:48 horas noturnas)
A39: Discriminação | B39: Unidade | C39: Quantidade | D39: Custo unitário | E39: Subtotal | F39: Total (R$)
A40: Piso da categoria | B40: mês | C40: 1 | D40: =E24 -> 2105.4 | E40: =C40*D40 -> 2105.4
A41: Adicional de Periculosidade | B41: % | C41: 0.3 | D41: =E40 -> 2105.4 | E41: =D41*C41 -> 631.62
A42: Intervalo Intrajornada Cfe. Convenção (50% do valor) | B42: Hrs | C42: 0 | D42: 14.35 | E42: =C42*D42 -> 0
A43: Adicional por serviço em eventos | B43: % | C43: 0.2 | D43: =D40 -> 2105.4 | E43: =D43*C43 -> 421.08
A44: Adicional noturno | B44: horas | C44: =E25*1 -> 137.1 | D44: =(E40/220*0.2)+0.57 -> 2.484 | E44: =C44*D44 -> 340.5564
A45: Soma | E45: =SUM(E40:E44) -> 3498.6564
A46: Encargos Sociais | B46: % | C46: ='5.Encargos Sociais'!$C$34*100 -> 68.69 | D46: =E45 -> 3498.6564 | E46: =D46*C46/100 -> 2403.2271
A47: Total por profissional | E47: =SUM(E45:E46) -> 5901.8835
A48: Total do Efetivo | B48: homem | C48: =E30 -> 2 | D48: =E47 -> 5901.8835 | E48: =C48*D48 -> 11803.767
...

Sheet 5.Encargos Sociais
A1: Orientações para preenchimento:
A2: 1. Preencha previamente os dados de entrada na planilha 3.CAGED
A4: Composição dos Encargos Sociais
A5: Código | B5: Descrição | C5: Valor
A6: A1 | B6: INSS | C6: 0.2
A7: A2 | B7: SESI | C7: 0.015
A8: A3 | B8: SENAI | C8: 0.01
A9: A4 | B9: INCRA | C9: 0.002
A10: A5 | B10: SEBRAE | C10: 0.006
A11: A6 | B11: Salário educação | C11: 0.025
A12: A7 | B12: Seguro contra acidentes de trabalho | C12: 0.03
A13: A8 | B13: FGTS | C13: 0.08
A14: A | B14: SOMA GRUPO A | C14: =SUM(C6:C13) -> 0.368
A16: B1 | B16: Férias gozadas | C16: 0.0518
A17: B2 | B17: 13º salário | C17: 0.0833
A18: B3 | B18: Licença Paternidade | C18: 0.0006
A19: B4 | B19: Faltas justificadas | C19: 0.0082
A20: B5 | B20: Auxilio acidente de trabalho | C20: 0.0031
A21: B6 | B21: Auxilio doença | C21: 0.014
A22: B | B22: SOMA GRUPO B | C22: =SUM(C16:C21) -> 0.161
A24: C1 | B24: Aviso prévio indenizado | C24: 0.015
A25: C2 | B25: Férias indenizadas | C25: 0.0593
A26: C3 | B26: Férias indenizadas s/ aviso previo inden. | C26: 0.0023
A27: C4 | B27: Depósito rescisão sem justa causa | C27: 0.015
A28: C5 | B28: Indenização adicional | C28: 0.0016
A29: C | B29: SOMA GRUPO C | C29: =SUM(C24:C28) -> 0.0932
A31: D1 | B31: Reincidência de Grupo A sobre Grupo B | C31: =ROUND(C14*C22,4) -> 0.0592
A32: D2 | B32: Reincidência de Grupo A sobre aviso prévio indenizado | C32: =ROUND((C24*C14),4) -> 0.0055
A33: D | B33: SOMA GRUPO D | C33: =SUM(C31:C32) -> 0.0647
B34: SOMA (A+B+C+D) | C34: =C33+C29+C22+C14 -> 0.6869

Sheet 6.BDI
A1: Orientações para preenchimento:
A2: 1. Esta planilha é somente um modelo-base e deve ser ajustada conforme cada caso concreto.
A3: 2. Preencher somente células em amarelo
A6: 3. Composição do BDI - Benefícios e Despesas Indiretas
D8: Referência estudo
D9: 1° Quartil | E9: Médio
A10: Administração Central | B10: AC | C10: 0.04 | D10: 0.0297 | E10: 0.0508
A11: Seguros/Riscos/Garantias | B11: SRG | C11: 0.0086 | D11: 0.0086 | E11: =0.48%+0.85% -> 0.0133
A12: Lucro | B12: L | C12: 0.09 | D12: 0.05 | E12: 0.1058
A13: Despesas Financeiras | B13: DF | C13: =E13/72 -> 0.0016666667 | D13: SELIC | E13: 0.12
A14: Tributos - ISS | B14: T | C14: 0.03 | D14: DU | E14: 5
A15: Tributos - PIS/COFINS | C15: 0.0365 | E15: 0.0365
A16: Fórmula para o cálculo do BDI:
A17: {[(1+AC+SRG) x (1+L) x (1+DF)] / (1-T)} -1
A18: Resultado do cálculo do BDI: | C18: =ROUND((((1+C10+C11)*(1+C12)*(1+C13))/(1-(C14+C15))-1),4) -> 0.2264
D25: 4.6
