Workbook
Name F_10: #REF!
Name F_105: #REF!
Name F_107: #REF!
Name F_11: #REF!
Name F_112: #REF!
Name F_113: #REF!
Name F_117: #REF!
Name F_12: #REF!
Name F_120: #REF!
Name F_122: #REF!
Name F_127: #REF!
Name F_13: #REF!
Name F_14: #REF!
Name F_140: #REF!
Name F_15: #REF!
Name F_150: #REF!
Name F_16: #REF!
Name F_160: #REF!
Name F_17: #REF!
Name F_185: #REF!
Name F_2: #REF!
Name F_205: #REF!
Name F_215: #REF!
Name F_245: #REF!
Name F_250: #REF!
Name F_255: #REF!
Name F_260: #REF!
Name F_270: #REF!
Name F_285: #REF!
Name F_29: #REF!
Name F_290: #REF!
Name F_295: #REF!
Name F_3: #REF!
Name F_30: #REF!
Name F_31: #REF!
Name F_320: #REF!
Name F_33: #REF!
Name F_34: #REF!
Name F_345: #REF!
Name F_35: #REF!
Name F_350: #REF!
Name F_360: #REF!
Name F_37: #REF!
Name F_380: #REF!
Name F_390: #REF!
Name F_395: #REF!
Name F_397: #REF!
Name F_400: #REF!
Name F_405: #REF!
Name F_410: #REF!
Name F_42: #REF!
Name F_420: #REF!
Name F_428: #REF!
Name F_435: #REF!
Name F_440: #REF!
Name F_445: #REF!
Name F_45: #REF!
Name F_450: #REF!
Name F_452: #REF!
Name F_460: #REF!

Sheet Identificação
A1: IDENTIFICAÇÃO
A2: Modalidade* | B2: Concorrência Lei 14.133/21 Eletrônica | D2: N° * | F2: Ano * | G2: 2026
A3: Descrição do Objeto | B3: Registro de preços para futura e eventual contratação de projetos de arquitetura/engenharia
A4: Órgão | B4: Prefeitura Municipal de São Marcos | F4: CNPJ *
A5: Tipo de Objeto* | B5: Obras e Serviços de Engenharia | C5: N° CENTRAL DE COMPRAS
A6: Preço Total Estimado | B6: ='Orçamento-base'!C6 -> 1306228.4
A7: Preço Total Proposto | B7: =Proposta!C6 -> 0
A8: Qtd. Itens Orçamento | B8: =COUNT('Orçamento-base'!B12:B39907) -> 22
A9: Atenção! Para incluir mais de 50 lotes, selecione as células A62 a G62 e arraste as fórmulas para baixo, de acordo com o número de lotes necessário.
A10: *Campos de preenchimento obrigatório | C10: **Campos de preenchimento obrigatório para licitação composta por lotes
A11: Nº do lote** | B11: Descrição do Lote** | C11: Estimativa | G11: Proposta
C12: Valor do lote (R$) | G12: Valor do lote (R$)
A13: 1 | B13: Elaboração de projeto executivo de obra de pavimentação asfáltica, incluindo drenagem e sinalização viária | C13: =SUMIF('Orçamento-base'!$A$12:$A$39909,Identificação!$A13,'Orçamento-base'!$K$12:$K$39909) -> 175770.84 | G13: =SUMIF(Proposta!$A$12:$A$39946,Identificação!$A13,Proposta!$H$12:$H$39946) -> 0
A14: 2 | B14: Elaboração de PPCI ou PrPCI para edificações | C14: =SUMIF('Orçamento-base'!$A$12:$A$39909,Identificação!$A14,'Orçamento-base'!$K$12:$K$39909) -> 209309.7 | G14: =SUMIF(Proposta!$A$12:$A$39946,Identificação!$A14,Proposta!$H$12:$H$39946) -> 0
A15: 3 | B15: Elaboração de projeto executivo de instalações elétricas em edificações | C15: =SUMIF('Orçamento-base'!$A$12:$A$39909,Identificação!$A15,'Orçamento-base'!$K$12:$K$39909) -> 207320.36 | G15: =SUMIF(Proposta!$A$12:$A$39946,Identificação!$A15,Proposta!$H$12:$H$39946) -> 0
A16: 4 | B16: Elaboração de projeto executivo de instalações elétricas de iluminação pública | C16: =SUMIF('Orçamento-base'!$A$12:$A$39909,Identificação!$A16,'Orçamento-base'!$K$12:$K$39909) -> 52035.65 | G16: =SUMIF(Proposta!$A$12:$A$39946,Identificação!$A16,Proposta!$H$12:$H$39946) -> 0
A17: 5 | B17: Elaboração de projeto executivo de obra de reforma, construção ou ampliação de edificações | C17: =SUMIF('Orçamento-base'!$A$12:$A$39909,Identificação!$A17,'Orçamento-base'!$K$12:$K$39909) -> 374695.32 | G17: =SUMIF(Proposta!$A$12:$A$39946,Identificação!$A17,Proposta!$H$12:$H$39946) -> 0
A18: 6 | B18: Elaboração de projeto executivo estrutural de edificação | C18: =SUMIF('Orçamento-base'!$A$12:$A$39909,Identificação!$A18,'Orçamento-base'!$K$12:$K$39909) -> 104509.08 | G18: =SUMIF(Proposta!$A$12:$A$39946,Identificação!$A18,Proposta!$H$12:$H$39946) -> 0
A19: 7 | B19: Elaboração de projeto executivo de drenagem | C19: =SUMIF('Orçamento-base'!$A$12:$A$39909,Identificação!$A19,'Orçamento-base'!$K$12:$K$39909) -> 37310.97 | G19: =SUMIF(Proposta!$A$12:$A$39946,Identificação!$A19,Proposta!$H$12:$H$39946) -> 0
A20: 8 | B20: Elaboração de projeto executivo de abertura de ruas até 2 km | C20: =SUMIF('Orçamento-base'!$A$12:$A$39909,Identificação!$A20,'Orçamento-base'!$K$12:$K$39909) -> 47847.12 | G20: =SUMIF(Proposta!$A$12:$A$39946,Identificação!$A20,Proposta!$H$12:$H$39946) -> 0
A21: 9 | B21: Elaboração de estudo para lagoa de detenção e drenagem | C21: =SUMIF('Orçamento-base'!$A$12:$A$39909,Identificação!$A21,'Orçamento-base'!$K$12:$K$39909) -> 46806.24 | G21: =SUMIF(Proposta!$A$12:$A$39946,Identificação!$A21,Proposta!$H$12:$H$39946) -> 0
A22: 10 | B22: Elaboração de projeto executivo de lagoa de detenção e drenagem | C22: =SUMIF('Orçamento-base'!$A$12:$A$39909,Identificação!$A22,'Orçamento-base'!$K$12:$K$39909) -> 50623.12 | G22: =SUMIF(Proposta!$A$12:$A$39946,Identificação!$A22,Proposta!$H$12:$H$39946) -> 0
C23: =SUMIF('Orçamento-base'!$A$12:$A$39909,Identificação!$A23,'Orçamento-base'!$K$12:$K$39909) -> 0 | G23: =SUMIF(Proposta!$A$12:$A$39946,Identificação!$A23,Proposta!$H$12:$H$39946) -> 0
C24: =SUMIF('Orçamento-base'!$A$12:$A$39909,Identificação!$A24,'Orçamento-base'!$K$12:$K$39909) -> 0 | G24: =SUMIF(Proposta!$A$12:$A$39946,Identificação!$A24,Proposta!$H$12:$H$39946) -> 0
C25: =SUMIF('Orçamento-base'!$A$12:$A$39909,Identificação!$A25,'Orçamento-base'!$K$12:$K$39909) -> 0 | G25: =SUMIF(Proposta!$A$12:$A$39946,Identificação!$A25,Proposta!$H$12:$H$39946) -> 0
C26: =SUMIF('Orçamento-base'!$A$12:$A$39909,Identificação!$A26,'Orçamento-base'!$K$12:$K$39909) -> 0 | G26: =SUMIF(Proposta!$A$12:$A$39946,Identificação!$A26,Proposta!$H$12:$H$39946) -> 0
C27: =SUMIF('Orçamento-base'!$A$12:$A$39909,Identificação!$A27,'Orçamento-base'!$K$12:$K$39909) -> 0 | G27: =SUMIF(Proposta!$A$12:$A$39946,Identificação!$A27,Proposta!$H$12:$H$39946) -> 0
C28: =SUMIF('Orçamento-base'!$A$12:$A$39909,Identificação!$A28,'Orçamento-base'!$K$12:$K$39909) -> 0 | G28: =SUMIF(Proposta!$A$12:$A$39946,Identificação!$A28,Proposta!$H$12:$H$39946) -> 0
C29: =SUMIF('Orçamento-base'!$A$12:$A$39909,Identificação!$A29,'Orçamento-base'!$K$12:$K$39909) -> 0 | G29: =SUMIF(Proposta!$A$12:$A$39946,Identificação!$A29,Proposta!$H$12:$H$39946) -> 0
C30: =SUMIF('Orçamento-base'!$A$12:$A$39909,Identificação!$A30,'Orçamento-base'!$K$12:$K$39909) -> 0 | G30: =SUMIF(Proposta!$A$12:$A$39946,Identificação!$A30,Proposta!$H$12:$H$39946) -> 0
C31: =SUMIF('Orçamento-base'!$A$12:$A$39909,Identificação!$A31,'Orçamento-base'!$K$12:$K$39909) -> 0 | G31: =SUMIF(Proposta!$A$12:$A$39946,Identificação!$A31,Proposta!$H$12:$H$39946) -> 0
C32: =SUMIF('Orçamento-base'!$A$12:$A$39909,Identificação!$A32,'Orçamento-base'!$K$12:$K$39909) -> 0 | G32: =SUMIF(Proposta!$A$12:$A$39946,Identificação!$A32,Proposta!$H$12:$H$39946) -> 0
C33: =SUMIF('Orçamento-base'!$A$12:$A$39909,Identificação!$A33,'Orçamento-base'!$K$12:$K$39909) -> 0 | G33: =SUMIF(Proposta!$A$12:$A$39946,Identificação!$A33,Proposta!$H$12:$H$39946) -> 0
C34: =SUMIF('Orçamento-base'!$A$12:$A$39909,Identificação!$A34,'Orçamento-base'!$K$12:$K$39909) -> 0 | G34: =SUMIF(Proposta!$A$12:$A$39946,Identificação!$A34,Proposta!$H$12:$H$39946) -> 0
... C60: =SUMIF('Orçamento-base'!$A$12:$A$39909,Identificação!$A60,'Orçamento-base'!$K$12:$K$39909) -> 0 | G60: =SUMIF(Proposta!$A$12:$A$39946,Identificação!$A60,Proposta!$H$12:$H$39946) -> 0

Sheet Orçamento-base
A1: ORÇAMENTO
A2: Modalidade | C2: =IF(Identificação!B2=0,"",Identificação!B2) -> Concorrência Lei 14.133/21 Eletrônica | H2: N° | I2: =IF(Identificação!E2=0,"",Identificação!E2) | J2: Ano | K2: =IF(Identificação!G2=0,"",Identificação!G2) -> 2026
A3: Descrição do Objeto | C3: =IF(Identificação!B3=0,"",Identificação!B3) -> Registro de preços para futura e eventual contratação de projetos de arquitetura/engenharia
A4: Órgão | C4: =IF(Identificação!B4=0,"",Identificação!B4) -> Prefeitura Municipal de São Marcos | J4: CNPJ | K4: =IF(Identificação!G4=0,"",Identificação!G4)
A5: Tipo de Objeto | C5: =IF(Identificação!B5=0,"",Identificação!B5) -> Obras e Serviços de Engenharia
A6: Preço T. Estimado | C6: =SUMIFS(K12:K39909,B12:B39909,">0",K12:K39909,"<>0") -> 1306228.4
A8: Atenção! Para incluir mais de 100 linhas de itens, selecione as células A113 a R113 e arraste as fórmulas para baixo, de acordo com o número de itens necessário.
A9: *Preenchimento obrigatório | F9: **Obrigatório só para Obras e Serviços de Engenharia | H9: ***Obrigatório só para licitação composta por Lotes
A10: Nº do Lote*** | B10: N° Ordem | C10: Nº Item* | D10: Fonte de Referência** | E10: Código de Referência** | F10: Data de Referência** | G10: Descrição do item* | H10: Estimativa | N10: Família | P10: Subfamília | R10: Tipo de Orçamento
H11: Qtd.* | I11: Unid.* | J11: Preço unitário (R$)* | K11: Preço Total (R$) | L11: % BDI** | M11: % Encargos Sociais** | N11: Código | O11: Descrição | P11: Código | Q11: Descrição
A12: 1 | B12: =IF(AND(G12<>"",H12>0,I12<>"",J12<>0,K12<>0),COUNT($B$11:B11)+1,"") -> 1 | C12: 1 | D12: COMPOSICAO_PROPRIA | E12: A | F12: 45901 | G12: Serviço de elaboração de projeto executivo de obra de pavimentação asfáltica, incluindo drenagem e sinalização viária – Vias de até 1km | H12: 2 | I12: un | J12: =Composições!H21 -> 12733.78 | K12: =IFERROR(IF(H12*J12<>0,ROUND(ROUND(H12,4)*ROUND(J12,4),2),""),"") -> 25467.56 | L12: 0.2478 | M12: 1.1284 | O12: =IF(N12="","", INDIRECT("base!"&ADDRESS(MATCH(N12,#REF!:#REF!,0)+1,4,4))) | Q12: =IF(P12="","", INDIRECT("base!"&ADDRESS(MATCH(CONCATENATE(N12,"|",P12),#REF!:#REF!,0)+1,6,4))) | R12: Mão-de-obra e material
A13: 1 | B13: =IF(AND(G13<>"",H13>0,I13<>"",J13<>0,K13<>0),COUNT($B$11:B12)+1,"") -> 2 | C13: 2 | D13: COMPOSICAO_PROPRIA | E13: B | F13: 45901 | G13: Serviço de elaboração de projeto executivo de obra de pavimentação asfáltica, incluindo drenagem e sinalização viária – Vias entre 1 e 4km | H13: 8 | I13: un | J13: =Composições!H31 -> 18787.91 | K13: =IFERROR(IF(H13*J13<>0,ROUND(ROUND(H13,4)*ROUND(J13,4),2),""),"") -> 150303.28 | L13: 0.2478 | M13: 1.1284 | O13: =IF(N13="","", INDIRECT("base!"&ADDRESS(MATCH(N13,#REF!:#REF!,0)+1,4,4))) | Q13: =IF(P13="","", INDIRECT("base!"&ADDRESS(MATCH(CONCATENATE(N13,"|",P13),#REF!:#REF!,0)+1,6,4))) | R13: Mão-de-obra e material
A14: 2 | B14: =IF(AND(G14<>"",H14>0,I14<>"",J14<>0,K14<>0),COUNT($B$11:B13)+1,"") -> 3 | C14: 1 | D14: COMPOSICAO_PROPRIA | E14: C | F14: 45901 | G14: Serviço de elaboração de projeto executivo de PPCI ou PrPCI para edificações de até 2.000m² | H14: 6 | I14: un | J14: =Composições!H41 -> 7142.45 | K14: =IFERROR(IF(H14*J14<>0,ROUND(ROUND(H14,4)*ROUND(J14,4),2),""),"") -> 42854.7 | L14: 0.2478 | M14: 1.1284 | O14: =IF(N14="","", INDIRECT("base!"&ADDRESS(MATCH(N14,#REF!:#REF!,0)+1,4,4))) | Q14: =IF(P14="","", INDIRECT("base!"&ADDRESS(MATCH(CONCATENATE(N14,"|",P14),#REF!:#REF!,0)+1,6,4))) | R14: Mão-de-obra e material
A15: 2 | B15: =IF(AND(G15<>"",H15>0,I15<>"",J15<>0,K15<>0),COUNT($B$11:B14)+1,"") -> 4 | C15: 2 | D15: COMPOSICAO_PROPRIA | E15: D | F15: 45901 | G15: Serviço de elaboração de projeto executivo de PPCI ou PrPCI para edificações de até 5.000m² | H15: 12 | I15: un | J15: =Composições!H51 -> 13871.25 | K15: =IFERROR(IF(H15*J15<>0,ROUND(ROUND(H15,4)*ROUND(J15,4),2),""),"") -> 166455 | L15: 0.2478 | M15: 1.1284 | O15: =IF(N15="","", INDIRECT("base!"&ADDRESS(MATCH(N15,#REF!:#REF!,0)+1,4,4))) | Q15: =IF(P15="","", INDIRECT("base!"&ADDRESS(MATCH(CONCATENATE(N15,"|",P15),#REF!:#REF!,0)+1,6,4))) | R15: Mão-de-obra e material
A16: 3 | B16: =IF(AND(G16<>"",H16>0,I16<>"",J16<>0,K16<>0),COUNT($B$11:B15)+1,"") -> 5 | C16: 1 | D16: COMPOSICAO_PROPRIA | E16: E | F16: 45901 | G16: Serviço de elaboração de projeto executivo de instalações elétricas em edificações de até 500m² | H16: 4 | I16: un | J16: =Composições!H61 -> 7080.13 | K16: =IFERROR(IF(H16*J16<>0,ROUND(ROUND(H16,4)*ROUND(J16,4),2),""),"") -> 28320.52 | L16: 0.2478 | M16: 1.1284 | O16: =IF(N16="","", INDIRECT("base!"&ADDRESS(MATCH(N16,#REF!:#REF!,0)+1,4,4))) | Q16: =IF(P16="","", INDIRECT("base!"&ADDRESS(MATCH(CONCATENATE(N16,"|",P16),#REF!:#REF!,0)+1,6,4))) | R16: Mão-de-obra e material
A17: 3 | B17: =IF(AND(G17<>"",H17>0,I17<>"",J17<>0,K17<>0),COUNT($B$11:B16)+1,"") -> 6 | C17: 2 | D17: COMPOSICAO_PROPRIA | E17: F | F17: 45901 | G17: Serviço de elaboração de projeto executivo de instalações elétricas em edificações de até 1500m² | H17: 4 | I17: un | J17: =Composições!H71 -> 15823.86 | K17: =IFERROR(IF(H17*J17<>0,ROUND(ROUND(H17,4)*ROUND(J17,4),2),""),"") -> 63295.44 | L17: 0.2478 | M17: 1.1284 | O17: =IF(N17="","", INDIRECT("base!"&ADDRESS(MATCH(N17,#REF!:#REF!,0)+1,4,4))) | Q17: =IF(P17="","", INDIRECT("base!"&ADDRESS(MATCH(CONCATENATE(N17,"|",P17),#REF!:#REF!,0)+1,6,4))) | R17: Mão-de-obra e material
A18: 3 | B18: =IF(AND(G18<>"",H18>0,I18<>"",J18<>0,K18<>0),COUNT($B$11:B17)+1,"") -> 7 | C18: 1 | D18: COMPOSICAO_PROPRIA | E18: G | F18: 45901 | G18: Serviço de elaboração de projeto executivo de instalações elétricas em edificações de até 3000m² | H18: 4 | I18: un | J18: =Composições!H81 -> 28926.1 | K18: =IFERROR(IF(H18*J18<>0,ROUND(ROUND(H18,4)*ROUND(J18,4),2),""),"") -> 115704.4 | L18: 0.2478 | M18: 1.1284 | O18: =IF(N18="","", INDIRECT("base!"&ADDRESS(MATCH(N18,#REF!:#REF!,0)+1,4,4))) | Q18: =IF(P18="","", INDIRECT("base!"&ADDRESS(MATCH(CONCATENATE(N18,"|",P18),#REF!:#REF!,0)+1,6,4))) | R18: Mão-de-obra e material
A19: 4 | B19: =IF(AND(G19<>"",H19>0,I19<>"",J19<>0,K19<>0),COUNT($B$11:B18)+1,"") -> 8 | C19: 2 | D19: COMPOSICAO_PROPRIA | E19: H | F19: 45901 | G19: Serviço de elaboração de projeto executivo de iluminação pública em vias de até 1,5Km | H19: 3 | I19: un | J19: =Composições!H91 -> 8948.01 | K19: =IFERROR(IF(H19*J19<>0,ROUND(ROUND(H19,4)*ROUND(J19,4),2),""),"") -> 26844.03 | L19: 0.2478 | M19: 1.1284 | O19: =IF(N19="","", INDIRECT("base!"&ADDRESS(MATCH(N19,#REF!:#REF!,0)+1,4,4))) | Q19: =IF(P19="","", INDIRECT("base!"&ADDRESS(MATCH(CONCATENATE(N19,"|",P19),#REF!:#REF!,0)+1,6,4))) | R19: Mão-de-obra e material
A20: 4 | B20: =IF(AND(G20<>"",H20>0,I20<>"",J20<>0,K20<>0),COUNT($B$11:B19)+1,"") -> 9 | C20: 3 | D20: COMPOSICAO_PROPRIA | E20: I | F20: 45901 | G20: Serviço de elaboração de projeto executivo de iluminação pública em vias de até 3Km | H20: 2 | I20: un | J20: =Composições!H101 -> 12595.81 | K20: =IFERROR(IF(H20*J20<>0,ROUND(ROUND(H20,4)*ROUND(J20,4),2),""),"") -> 25191.62 | L20: 0.2478 | M20: 1.1284 | O20: =IF(N20="","", INDIRECT("base!"&ADDRESS(MATCH(N20,#REF!:#REF!,0)+1,4,4))) | Q20: =IF(P20="","", INDIRECT("base!"&ADDRESS(MATCH(CONCATENATE(N20,"|",P20),#REF!:#REF!,0)+1,6,4))) | R20: Mão-de-obra e material
A21: 5 | B21: =IF(AND(G21<>"",H21>0,I21<>"",J21<>0,K21<>0),COUNT($B$11:B20)+1,"") -> 10 | C21: 1 | D21: COMPOSICAO_PROPRIA | E21: J | F21: 45901 | G21: Serviço de elaboração de projeto executivo de obra de reforma de edificações de até 500m² | H21: 3 | I21: un | J21: =Composições!H111 -> 12026.52 | K21: =IFERROR(IF(H21*J21<>0,ROUND(ROUND(H21,4)*ROUND(J21,4),2),""),"") -> 36079.56 | L21: 0.2478 | M21: 1.1284 | O21: =IF(N21="","", INDIRECT("base!"&ADDRESS(MATCH(N21,#REF!:#REF!,0)+1,4,4))) | Q21: =IF(P21="","", INDIRECT("base!"&ADDRESS(MATCH(CONCATENATE(N21,"|",P21),#REF!:#REF!,0)+1,6,4))) | R21: Mão-de-obra e material
A22: 5 | B22: =IF(AND(G22<>"",H22>0,I22<>"",J22<>0,K22<>0),COUNT($B$11:B21)+1,"") -> 11 | C22: 2 | D22: COMPOSICAO_PROPRIA | E22: K | F22: 45901 | G22: Serviço de elaboração de projeto executivo de obra de reforma de edificações de até 1.200m² | H22: 3 | I22: un | J22: =Composições!H121 -> 24965.77 | K22: =IFERROR(IF(H22*J22<>0,ROUND(ROUND(H22,4)*ROUND(J22,4),2),""),"") -> 74897.31 | L22: 0.2478 | M22: 1.1284 | O22: =IF(N22="","", INDIRECT("base!"&ADDRESS(MATCH(N22,#REF!:#REF!,0)+1,4,4))) | Q22: =IF(P22="","", INDIRECT("base!"&ADDRESS(MATCH(CONCATENATE(N22,"|",P22),#REF!:#REF!,0)+1,6,4))) | R22: Mão-de-obra e material
A23: 5 | B23: =IF(AND(G23<>"",H23>0,I23<>"",J23<>0,K23<>0),COUNT($B$11:B22)+1,"") -> 12 | C23: 3 | D23: COMPOSICAO_PROPRIA | E23: L | F23: 45901 | G23: Serviço de elaboração de projeto executivo de obra de reforma de edificações de até 2.500m² | H23: 3 | I23: un | J23: =Composições!H131 -> 36026.57 | K23: =IFERROR(IF(H23*J23<>0,ROUND(ROUND(H23,4)*ROUND(J23,4),2),""),"") -> 108079.71 | L23: 0.2478 | M23: 1.1284 | O23: =IF(N23="","", INDIRECT("base!"&ADDRESS(MATCH(N23,#REF!:#REF!,0)+1,4,4))) | Q23: =IF(P23="","", INDIRECT("base!"&ADDRESS(MATCH(CONCATENATE(N23,"|",P23),#REF!:#REF!,0)+1,6,4))) | R23: Mão-de-obra e material
A24: 5 | B24: =IF(AND(G24<>"",H24>0,I24<>"",J24<>0,K24<>0),COUNT($B$11:B23)+1,"") -> 13 | C24: 4 | D24: COMPOSICAO_PROPRIA | E24: M | F24: 45901 | G24: Serviço de elaboração de projeto executivo de obra de construção ou ampliação de edificações de até 500m² | H24: 3 | I24: un | J24: =Composições!H141 -> 17453.71 | K24: =IFERROR(IF(H24*J24<>0,ROUND(ROUND(H24,4)*ROUND(J24,4),2),""),"") -> 52361.13 | L24: 0.2478 | M24: 1.1284 | O24: =IF(N24="","", INDIRECT("base!"&ADDRESS(MATCH(N24,#REF!:#REF!,0)+1,4,4))) | Q24: =IF(P24="","", INDIRECT("base!"&ADDRESS(MATCH(CONCATENATE(N24,"|",P24),#REF!:#REF!,0)+1,6,4))) | R24: Mão-de-obra e material
A25: 5 | B25: =IF(AND(G25<>"",H25>0,I25<>"",J25<>0,K25<>0),COUNT($B$11:B24)+1,"") -> 14 | C25: 5 | D25: COMPOSICAO_PROPRIA | E25: N | F25: 45901 | G25: Serviço de elaboração de projeto executivo de obra de construção ou ampliação de edificações de até 1200m² | H25: 3 | I25: un | J25: =Composições!H151 -> 34425.87 | K25: =IFERROR(IF(H25*J25<>0,ROUND(ROUND(H25,4)*ROUND(J25,4),2),""),"") -> 103277.61 | L25: 0.2478 | M25: 1.1284 | O25: =IF(N25="","", INDIRECT("base!"&ADDRESS(MATCH(N25,#REF!:#REF!,0)+1,4,4))) | Q25: =IF(P25="","", INDIRECT("base!"&ADDRESS(MATCH(CONCATENATE(N25,"|",P25),#REF!:#REF!,0)+1,6,4))) | R25: Mão-de-obra e material
A26: 6 | B26: =IF(AND(G26<>"",H26>0,I26<>"",J26<>0,K26<>0),COUNT($B$11:B25)+1,"") -> 15 | C26: 1 | D26: COMPOSICAO_PROPRIA | E26: O | F26: 45901 | G26: Serviço de elaboração de projeto executivo estrutural de edificação com até 500m² | H26: 2 | I26: un | J26: =Composições!H161 -> 8948.01 | K26: =IFERROR(IF(H26*J26<>0,ROUND(ROUND(H26,4)*ROUND(J26,4),2),""),"") -> 17896.02 | L26: 0.2478 | M26: 1.1284 | O26: =IF(N26="","", INDIRECT("base!"&ADDRESS(MATCH(N26,#REF!:#REF!,0)+1,4,4))) | Q26: =IF(P26="","", INDIRECT("base!"&ADDRESS(MATCH(CONCATENATE(N26,"|",P26),#REF!:#REF!,0)+1,6,4))) | R26: Mão-de-obra e material
A27: 6 | B27: =IF(AND(G27<>"",H27>0,I27<>"",J27<>0,K27<>0),COUNT($B$11:B26)+1,"") -> 16 | C27: 2 | D27: COMPOSICAO_PROPRIA | E27: P | F27: 45901 | G27: Serviço de elaboração de projeto executivo estrutural de edificação com até 1500m² | H27: 2 | I27: un | J27: =Composições!H171 -> 17359.87 | K27: =IFERROR(IF(H27*J27<>0,ROUND(ROUND(H27,4)*ROUND(J27,4),2),""),"") -> 34719.74 | L27: 0.2478 | M27: 1.1284 | O27: =IF(N27="","", INDIRECT("base!"&ADDRESS(MATCH(N27,#REF!:#REF!,0)+1,4,4))) | Q27: =IF(P27="","", INDIRECT("base!"&ADDRESS(MATCH(CONCATENATE(N27,"|",P27),#REF!:#REF!,0)+1,6,4))) | R27: Mão-de-obra e material
A28: 6 | B28: =IF(AND(G28<>"",H28>0,I28<>"",J28<>0,K28<>0),COUNT($B$11:B27)+1,"") -> 17 | C28: 3 | D28: COMPOSICAO_PROPRIA | E28: Q | F28: 45901 | G28: Serviço de elaboração de projeto executivo estrutural de edificação com até 2500m² | H28: 2 | I28: un | J28: =Composições!H181 -> 25946.66 | K28: =IFERROR(IF(H28*J28<>0,ROUND(ROUND(H28,4)*ROUND(J28,4),2),""),"") -> 51893.32 | L28: 0.2478 | M28: 1.1284 | O28: =IF(N28="","", INDIRECT("base!"&ADDRESS(MATCH(N28,#REF!:#REF!,0)+1,4,4))) | Q28: =IF(P28="","", INDIRECT("base!"&ADDRESS(MATCH(CONCATENATE(N28,"|",P28),#REF!:#REF!,0)+1,6,4))) | R28: Mão-de-obra e material
A29: 7 | B29: =IF(AND(G29<>"",H29>0,I29<>"",J29<>0,K29<>0),COUNT($B$11:B28)+1,"") -> 18 | C29: 1 | D29: COMPOSICAO_PROPRIA | E29: R | F29: 45901 | G29: Serviço de elaboração de projeto executivo de drenagem de vias até 1Km | H29: 3 | I29: un | J29: =Composições!H191 -> 4507.48 | K29: =IFERROR(IF(H29*J29<>0,ROUND(ROUND(H29,4)*ROUND(J29,4),2),""),"") -> 13522.44 | L29: 0.2478 | M29: 1.1284 | O29: =IF(N29="","", INDIRECT("base!"&ADDRESS(MATCH(N29,#REF!:#REF!,0)+1,4,4))) | Q29: =IF(P29="","", INDIRECT("base!"&ADDRESS(MATCH(CONCATENATE(N29,"|",P29),#REF!:#REF!,0)+1,6,4))) | R29: Mão-de-obra e material
A30: 7 | B30: =IF(AND(G30<>"",H30>0,I30<>"",J30<>0,K30<>0),COUNT($B$11:B29)+1,"") -> 19 | C30: 2 | D30: COMPOSICAO_PROPRIA | E30: S | F30: 45901 | G30: Serviço de elaboração de projeto executivo de drenagem de vias entre 1 e 3km | H30: 3 | I30: un | J30: =Composições!H201 -> 7929.51 | K30: =IFERROR(IF(H30*J30<>0,ROUND(ROUND(H30,4)*ROUND(J30,4),2),""),"") -> 23788.53 | L30: 0.2478 | M30: 1.1284 | O30: =IF(N30="","", INDIRECT("base!"&ADDRESS(MATCH(N30,#REF!:#REF!,0)+1,4,4))) | Q30: =IF(P30="","", INDIRECT("base!"&ADDRESS(MATCH(CONCATENATE(N30,"|",P30),#REF!:#REF!,0)+1,6,4))) | R30: Mão-de-obra e material
A31: 8 | B31: =IF(AND(G31<>"",H31>0,I31<>"",J31<>0,K31<>0),COUNT($B$11:B30)+1,"") -> 20 | C31: 1 | D31: COMPOSICAO_PROPRIA | E31: T | F31: 45901 | G31: Elaboração de projeto executivo de abertura de ruas até 2 km | H31: 2 | I31: un | J31: =Composições!H211 -> 23923.56 | K31: =IFERROR(IF(H31*J31<>0,ROUND(ROUND(H31,4)*ROUND(J31,4),2),""),"") -> 47847.12 | L31: 0.2478 | M31: 1.1284 | O31: =IF(N31="","", INDIRECT("base!"&ADDRESS(MATCH(N31,#REF!:#REF!,0)+1,4,4))) | Q31: =IF(P31="","", INDIRECT("base!"&ADDRESS(MATCH(CONCATENATE(N31,"|",P31),#REF!:#REF!,0)+1,6,4))) | R31: Mão-de-obra e material
A32: 9 | B32: =IF(AND(G32<>"",H32>0,I32<>"",J32<>0,K32<>0),COUNT($B$11:B31)+1,"") -> 21 | C32: 1 | D32: COMPOSICAO_PROPRIA | E32: U | F32: 45901 | G32: Elaboração de estudo de lagoa de detenção e drenagem | H32: 4 | I32: un | J32: =Composições!H221 -> 11701.56 | K32: =IFERROR(IF(H32*J32<>0,ROUND(ROUND(H32,4)*ROUND(J32,4),2),""),"") -> 46806.24 | L32: 0.2478 | M32: 1.1284 | O32: =IF(N32="","", INDIRECT("base!"&ADDRESS(MATCH(N32,#REF!:#REF!,0)+1,4,4))) | Q32: =IF(P32="","", INDIRECT("base!"&ADDRESS(MATCH(CONCATENATE(N32,"|",P32),#REF!:#REF!,0)+1,6,4))) | R32: Mão-de-obra e material
A33: 10 | B33: =IF(AND(G33<>"",H33>0,I33<>"",J33<>0,K33<>0),COUNT($B$11:B32)+1,"") -> 22 | C33: 1 | D33: COMPOSICAO_PROPRIA | E33: V | F33: 45901 | G33: Elaboração de estudo e projeto executivo de lagoa de detenção e drenagem | H33: 2 | I33: un | J33: =Composições!H231 -> 25311.56 | K33: =IFERROR(IF(H33*J33<>0,ROUND(ROUND(H33,4)*ROUND(J33,4),2),""),"") -> 50623.12 | L33: 0.2478 | M33: 1.1284 | O33: =IF(N33="","", INDIRECT("base!"&ADDRESS(MATCH(N33,#REF!:#REF!,0)+1,4,4))) | Q33: =IF(P33="","", INDIRECT("base!"&ADDRESS(MATCH(CONCATENATE(N33,"|",P33),#REF!:#REF!,0)+1,6,4))) | R33: Mão-de-obra e material
B34: =IF(AND(G34<>"",H34>0,I34<>"",J34<>0,K34<>0),COUNT($B$11:B33)+1,"") | K34: =IFERROR(IF(H34*J34<>0,ROUND(ROUND(H34,4)*ROUND(J34,4),2),""),"") | O34: =IF(N34="","", INDIRECT("base!"&ADDRESS(MATCH(N34,#REF!:#REF!,0)+1,4,4))) | Q34: =IF(P34="","", INDIRECT("base!"&ADDRESS(MATCH(CONCATENATE(N34,"|",P34),#REF!:#REF!,0)+1,6,4)))
B35: =IF(AND(G35<>"",H35>0,I35<>"",J35<>0,K35<>0),COUNT($B$11:B34)+1,"") | K35: =IFERROR(IF(H35*J35<>0,ROUND(ROUND(H35,4)*ROUND(J35,4),2),""),"") | O35: =IF(N35="","", INDIRECT("base!"&ADDRESS(MATCH(N35,#REF!:#REF!,0)+1,4,4))) | Q35: =IF(P35="","", INDIRECT("base!"&ADDRESS(MATCH(CONCATENATE(N35,"|",P35),#REF!:#REF!,0)+1,6,4)))
B36: =IF(AND(G36<>"",H36>0,I36<>"",J36<>0,K36<>0),COUNT($B$11:B35)+1,"") | K36: =IFERROR(IF(H36*J36<>0,ROUND(ROUND(H36,4)*ROUND(J36,4),2),""),"") | O36: =IF(N36="","", INDIRECT("base!"&ADDRESS(MATCH(N36,#REF!:#REF!,0)+1,4,4))) | Q36: =IF(P36="","", INDIRECT("base!"&ADDRESS(MATCH(CONCATENATE(N36,"|",P36),#REF!:#REF!,0)+1,6,4)))
B37: =IF(AND(G37<>"",H37>0,I37<>"",J37<>0,K37<>0),COUNT($B$11:B36)+1,"") | K37: =IFERROR(IF(H37*J37<>0,ROUND(ROUND(H37,4)*ROUND(J37,4),2),""),"") | O37: =IF(N37="","", INDIRECT("base!"&ADDRESS(MATCH(N37,#REF!:#REF!,0)+1,4,4))) | Q37: =IF(P37="","", INDIRECT("base!"&ADDRESS(MATCH(CONCATENATE(N37,"|",P37),#REF!:#REF!,0)+1,6,4)))
B38: =IF(AND(G38<>"",H38>0,I38<>"",J38<>0,K38<>0),COUNT($B$11:B37)+1,"") | K38: =IFERROR(IF(H38*J38<>0,ROUND(ROUND(H38,4)*ROUND(J38,4),2),""),"") | O38: =IF(N38="","", INDIRECT("base!"&ADDRESS(MATCH(N38,#REF!:#REF!,0)+1,4,4))) | Q38: =IF(P38="","", INDIRECT("base!"&ADDRESS(MATCH(CONCATENATE(N38,"|",P38),#REF!:#REF!,0)+1,6,4)))
B39: =IF(AND(G39<>"",H39>0,I39<>"",J39<>0,K39<>0),COUNT($B$11:B38)+1,"") | K39: =IFERROR(IF(H39*J39<>0,ROUND(ROUND(H39,4)*ROUND(J39,4),2),""),"") | O39: =IF(N39="","", INDIRECT("base!"&ADDRESS(MATCH(N39,#REF!:#REF!,0)+1,4,4))) | Q39: =IF(P39="","", INDIRECT("base!"&ADDRESS(MATCH(CONCATENATE(N39,"|",P39),#REF!:#REF!,0)+1,6,4)))
B40: =IF(AND(G40<>"",H40>0,I40<>"",J40<>0,K40<>0),COUNT($B$11:B39)+1,"") | K40: =IFERROR(IF(H40*J40<>0,ROUND(ROUND(H40,4)*ROUND(J40,4),2),""),"") | O40: =IF(N40="","", INDIRECT("base!"&ADDRESS(MATCH(N40,#REF!:#REF!,0)+1,4,4))) | Q40: =IF(P40="","", INDIRECT("base!"&ADDRESS(MATCH(CONCATENATE(N40,"|",P40),#REF!:#REF!,0)+1,6,4)))
B41: =IF(AND(G41<>"",H41>0,I41<>"",J41<>0,K41<>0),COUNT($B$11:B40)+1,"") | K41: =IFERROR(IF(H41*J41<>0,ROUND(ROUND(H41,4)*ROUND(J41,4),2),""),"") | O41: =IF(N41="","", INDIRECT("base!"&ADDRESS(MATCH(N41,#REF!:#REF!,0)+1,4,4))) | Q41: =IF(P41="","", INDIRECT("base!"&ADDRESS(MATCH(CONCATENATE(N41,"|",P41),#REF!:#REF!,0)+1,6,4)))
...

Sheet Plan1
A1: Nº do Lote | B1: Nº Item | C1: Código de Referência | D1: Unid. | E1: Qtd. | F1: Pedido Mín. | G1: Descrição do item | H1: Qtd. | I1: Unid. | J1: Valor Unit. Referência | K1: Valor Total de Referência | L1: Exclusividade ME/EPP
A2: 1 | B2: 1 | C2: A | D2: un | E2: ='Orçamento-base'!H12 -> 2 | F2: 1 | G2: Serviço de elaboração de projeto executivo de obra de pavimentação asfáltica, incluindo drenagem e sinalização viária – Vias de até 1km | H2: 16 | I2: un | J2: =Composições!H21 -> 12733.78 | K2: 102038.08 | L2: Não
B3: 2 | C3: B | D3: un | E3: ='Orçamento-base'!H13 -> 8 | F3: 1 | G3: Serviço de elaboração de projeto executivo de obra de pavimentação asfáltica, incluindo drenagem e sinalização viária – Vias entre 1 e 4km | H3: 16 | I3: un | J3: 9473.62 | K3: 151577.92
A4: 2 | B4: 1 | C4: E | D4: un | E4: ='Orçamento-base'!H14 -> 6 | F4: 1 | G4: Serviço de elaboração de projeto executivo de PPCI ou PrPCI para edificações de até 2.000m² | H4: 5 | I4: un | J4: 6315.39 | K4: 31576.95
B5: 2 | C5: F | D5: un | E5: ='Orçamento-base'!H15 -> 12 | F5: 1 | G5: Serviço de elaboração de projeto executivo de PPCI ou PrPCI para edificações de até 5.000m² | H5: 5 | I5: un | J5: 11845.53 | K5: 59227.65
A6: 3 | B6: 1 | C6: G | D6: un | E6: ='Orçamento-base'!H16 -> 4 | F6: 1 | G6: Serviço de elaboração de projeto executivo de instalações elétricas em edificações de até 500m² | H6: 5 | I6: un | J6: 6480.94 | K6: 32404.7 | L6: Não
B7: 2 | C7: H | D7: un | E7: ='Orçamento-base'!H17 -> 4 | F7: 1 | G7: Serviço de elaboração de projeto executivo de instalações elétricas em edificações de até 1500m² | H7: 5 | I7: un | J7: 14249.19 | K7: 71245.95
B8: 3 | C8: I | D8: un | E8: ='Orçamento-base'!H18 -> 4 | F8: 1 | G8: Serviço de elaboração de projeto executivo de instalações elétricas em edificações de até 3000m² | H8: 5 | I8: un | J8: 25476.14 | K8: 127380.7
A9: 4 | B9: 1 | C9: M | D9: un | E9: ='Orçamento-base'!H19 -> 3 | F9: 1 | G9: Serviço de elaboração de projeto executivo de iluminação pública em vias de até 1,5Km | H9: 10 | I9: un | J9: 8726.33 | K9: 87263.3
B10: 2 | C10: N | D10: un | E10: ='Orçamento-base'!H20 -> 2 | F10: 1 | G10: Serviço de elaboração de projeto executivo de iluminação pública em vias de até 3Km | H10: 10 | I10: un | J10: 12185.03 | K10: 121850.3
A11: 5 | B11: 1 | C11: O | D11: un | E11: ='Orçamento-base'!H21 -> 3 | F11: 1 | G11: Serviço de elaboração de projeto executivo de obra de reforma de edificações de até 500m² | H11: 6 | I11: un | J11: 11845.53 | K11: 71073.18 | L11: Não
B12: 2 | C12: P | D12: un | E12: ='Orçamento-base'!H22 -> 3 | F12: 1 | G12: Serviço de elaboração de projeto executivo de obra de reforma de edificações de até 1.200m² | H12: 6 | I12: un | J12: 24719.16 | K12: 148314.96
B13: 3 | C13: Q | D13: un | E13: ='Orçamento-base'!H23 -> 3 | F13: 1 | G13: Serviço de elaboração de projeto executivo de obra de reforma de edificações de até 2.500m² | H13: 6 | I13: un | J13: 35689.35 | K13: 214136.1
B14: 4 | C14: R | D14: un | E14: ='Orçamento-base'!H24 -> 3 | F14: 1 | G14: Serviço de elaboração de projeto executivo de obra de construção ou ampliação de edificações de até 500m² | H14: 5 | I14: un | J14: 17345.43 | K14: 86727.15
B15: 5 | C15: S | D15: un | E15: ='Orçamento-base'!H25 -> 3 | F15: 1 | G15: Serviço de elaboração de projeto executivo de obra de construção ou ampliação de edificações de até 1200m² | H15: 5 | I15: un | J15: 34638.93 | K15: 173194.65
A16: 6 | B16: 1 | C16: V | D16: un | E16: ='Orçamento-base'!H26 -> 2 | F16: 1 | G16: Serviço de elaboração de projeto executivo estrutural de edificação com até 500m² | H16: 5 | I16: un | J16: 8726.33 | K16: 43631.65 | L16: Não
B17: 2 | C17: X | D17: un | E17: ='Orçamento-base'!H27 -> 2 | F17: 1 | G17: Serviço de elaboração de projeto executivo estrutural de edificação com até 1500m² | H17: 5 | I17: un | J17: 17345.43 | K17: 86727.15
B18: 3 | C18: Y | D18: un | E18: ='Orçamento-base'!H28 -> 2 | F18: 1 | G18: Serviço de elaboração de projeto executivo estrutural de edificação com até 2500m² | H18: 5 | I18: un | J18: 25476.14 | K18: 127380.7
A19: 7 | B19: 1 | C19: Z | D19: un | E19: ='Orçamento-base'!H29 -> 3 | F19: 1 | G19: Serviço de elaboração de projeto executivo de drenagem de vias até 1Km | H19: 10 | I19: un | J19: 4416.78 | K19: 44167.8 | L19: Não
B20: 2 | C20: AA | D20: un | E20: ='Orçamento-base'!H30 -> 3 | F20: 1 | G20: Serviço de elaboração de projeto executivo de drenagem de vias entre 1 e 3km | H20: 6 | I20: un | J20: 7694.25 | K20: 46165.5
A21: 8 | B21: 1 | C21: AB | D21: un | E21: ='Orçamento-base'!H31 -> 2 | F21: 1 | G21: Elaboração de projeto executivo de abertura de ruas até 2 km | H21: 5 | I21: un | J21: 23663.84 | K21: 118319.2 | L21: Não
A22: 9 | B22: 1 | C22: AB | D22: un | E22: ='Orçamento-base'!H32 -> 4 | F22: 1 | G22: Elaboração de estudo para lagoa de detenção e drenagem | H22: 6 | I22: un | J22: 23663.84 | K22: 118319.2 | L22: Não
A23: 10 | B23: 1 | C23: AB | D23: un | E23: ='Orçamento-base'!H33 -> 2 | F23: 1 | G23: Elaboração de estudo e projeto executivo de lagoa de detenção e drenagem | H23: 7 | I23: un | J23: 23663.84 | K23: 118319.2 | L23: Não

Sheet BDI
B2: BDI 1 - Planilha de Cálculo
B4: Objeto: | E4: Registro de preços para futura e eventual contratação de projetos de arquitetura/engenharia
B5: Tomador: | E5: Prefeitura Municipal de São Marcos
B6: Município: | E6: São Marcos - RS
B8: Em atenção ao estabelecido pelo Acórdão 2622/2013 – TCU – Plenário reformamos a orientação e indicamos a utilização dos seguintes parâmetros para taxas de BDI:
B10: Tipo de obra: | F10: Construção de edifícios | I10: Obras que se enquadram no tipo escolhido: | Q10: Selecione o CPRB
I11: =IF(F10=S16,S23,IF(F10=S17,S24,IF(F10=S18,S25,IF(F10=S19,S26,IF(F10=S20,S27,IF(F10=S21,S28,"")))))) -> Para o tipo de obra “Construção de Edifícios” enquadram-se: a construção e reforma de: edifícios, unidades habitacionais, escolas, hospitais, hotéis, restaurantes, armazéns e depósitos, edifícios para uso agropecuário, estações para trens e metropolitanos, estádios esportivos e quadras cobertas, instalações para embarque e desembarque de passageiros (em aeroportos, rodoviárias, portos, etc.), penitenciárias e presídios, a construção de edifícios industriais (fábricas, oficinas, galpões industriais, etc.), conforme classificação 4120-4 do CNAE 2.0. Também enquadram-se pórticos, mirantes e outros edifícios de finalidade turística. | Q11: Desonerado
Q12: Onerado | S12: Escolha o tipo de obra
B13: Alternativa mais vantajosa para a Administração Pública: | F13: Onerado | S13: Construção de edifícios
S14: Construção de edifícios
S15: Escolha o tipo de obra
S16: Construção de edifícios
B17: =IF(F17="OK","BDI ABAIXO PODE SER ACEITO","") -> BDI ABAIXO PODE SER ACEITO | F17: =IF(AD32=FALSE,"",IF(G33="FORA DO LIMITE","VERIFICAR ITENS",IF(G35="FORA DO LIMITE","VERIFICAR ITENS",IF(G37="FORA DO LIMITE","VERIFICAR ITENS",IF(G39="FORA DO LIMITE","VERIFICAR ITENS",IF(G41="FORA DO LIMITE","VERIFICAR ITENS",IF(Z31<W31,"FORA DA FAIXA",IF(Z31>X31,"FORA DA FAIXA","OK")))))))) -> OK | S17: Construção de Rodovias e Ferrovias
S18: Construção de Redes de Abastecimento de Água, Coleta de Esgoto e Construções Correlatas
S19: Construção e Manutenção de Estações e Redes de Distribuição de Energia Elétrica
S20: Obras Portuárias, Marítimas e Fluviais
S21: Fornecimento de Materiais e Equipamentos | X21: Obras que se enquadram no tipo escolhido:
B23: =IF(Z32=FALSE,IF(F10="Escolha o tipo de obra","Escolha o tipo de obra",IF(F13="ONERADO",Z31,IF(F13="DESONERADO",AB31,"Escolha o regime de contribuição"))),"PREENCHER TODOS OS COMPONENTES DO BDI") -> 0.2478 | S23: Para o tipo de obra “Construção de Edifícios” enquadram-se: a construção e reforma de: edifícios, unidades habitacionais, escolas, hospitais, hotéis, restaurantes, armazéns e depósitos, edifícios para uso agropecuário, estações para trens e metropolitanos, estádios esportivos e quadras cobertas, instalações para embarque e desembarque de passageiros (em aeroportos, rodoviárias, portos, etc.), penitenciárias e presídios, a construção de edifícios industriais (fábricas, oficinas, galpões industriais, etc.), conforme classificação 4120-4 do CNAE 2.0. Também enquadram-se pórticos, mirantes e outros edifícios de finalidade turística.
S24: Para o tipo de obra “Construção de Rodovias e Ferrovias” enquadram-se: a construção e recuperação de: auto-estradas, rodovias e outras vias não-urbanas para passagem de veículos, vias férreas de superfície ou subterrâneas (inclusive para metropolitanos), pistas de aeroportos. Esta classe compreende também: a pavimentação de auto-estradas, rodovias e outras vias não-urbanas; construção de pontes, viadutos e túneis; a instalação de barreiras acústicas; a construção de praças de pedágio; a sinalização com pintura em rodovias e aeroportos; a instalação de placas de sinalização de tráfego e semelhantes, conforme classificação 4211-1 do CNAE 2.0. Também enquadram-se a construção, pavimentação e sinalização de vias urbanas, ruas e locais para estacionamento de veículos; a construção de praças e calçadas para pedestres; elevados, passarelas e ciclovias; metrô e VLT.
S25: Para o tipo de obra “Construção de Redes de Abastecimento de Água, Coleta de Esgoto e Construções Correlatas” enquadram-se: a construção de sistemas para o abastecimento de água tratada: reservatórios de distribuição, estações elevatórias de bombeamento, linhas principais de adução de longa e média distância e redes de distribuição de água; a construção de redes de coleta de esgoto, inclusive de interceptores, estações de tratamento de esgoto (ETE), estações de bombeamento de esgoto (EBE); a construção de galerias pluviais (obras de micro e macro drenagem). Esta classe compreende também: as obras de irrigação (canais); a manutenção de redes de abastecimento de água tratada; a manutenção de redes de coleta e de sistemas de tratamento de esgoto, conforme classificação 4222-7 do CNAE 2.0. Enquadra-se ainda a construção de estações de tratamento de água (ETA).
S26: Para o tipo de obra “Construção e Manutenção de Estações e Redes de Distribuição de Energia Elétrica” enquadram-se: a construção de usinas, estações e subestações hidrelétricas, eólicas, nucleares, termoelétricas; a construção de redes de transmissão e distribuição de energia elétrica, inclusive o serviço de eletrificação rural. Esta subclasse compreende também: a construção de redes de eletrificação para ferrovias e metropolitano, conforme classificação 4221-9/02 do CNAE 2.0. Compreende ainda: a manutenção de redes de distribuição de energia elétrica, quando executada por empresa não-produtora ou distribuidora de energia elétrica, conforme classificação 4221-9/03 do CNAE 2.0. Enquadram-se também obras de iluminação pública e a construção de barragens e represas para geração de energia elétrica.
S27: Para o tipo de obra “Portuárias, Marítimas e Fluviais” enquadram-se: as obras marítimas e fluviais, tais como, construção de instalações portuárias; construção de portos e marinas; construção de eclusas e canais de navegação (vias navegáveis); enrocamentos; obras de dragagem; aterro hidráulico; barragens, represas e diques, exceto para energia elétrica; a construção de emissários submarinos; a instalação de cabos submarinos, conforme classificação 4291-0 do CNAE 2.0. Enquadram-se também a construção de piers e outras obras com influência direta de cursos d’água.
S28: Enquadram-se como “Fornecimento de Materiais e Equipamentos”, conforme tabela apresentada no item 1 desta CE, especificamente o fornecimento de materiais e equipamentos relevantes de natureza específica, como é o caso de: - materiais betuminosos para obras rodoviárias; - tubos de ferro fundido ou PVC para obras de abastecimento de água; - elevadores e escadas rolantes para obras aeroportuárias. Comprovada a inviabilidade técnico-econômica de parcelamento do objeto da licitação, os itens de fornecimento de materiais e equipamentos relevantes de natureza específica, que possam ser fornecidos por empresas com especialidades próprias e diversas e que representem percentual significativo do preço global da obra devem apresentar incidência de taxa de BDI reduzida em relação à taxa aplicável aos demais itens da obra.
I30: OBSERVAÇÕES | S30: Escolha o regime de contribuição | W30: Mín | X30: Máx | Z30: Cálculo s/ os 2% | AB30: Cálculo c/ os desonerado
I31: Os percentuais de Impostos a serem adotados devem ser indicados pelo Tomador, conforme legislação vigente. Apresentar declaração informando o percentual de ISS incidente sobre esta obra, considerando a base de cálculo prevista na legislação municipal. | S31: SEM DESONERAÇÃO | W31: =IF($F$10=$S$16,T33,IF($F$10=$S$17,X33,IF($F$10=$S$18,AB33,IF($F$10=$S$19,T39,IF($F$10=$S$20,X39,IF($F$10=$S$21,AB39)))))) -> 0.2034 | X31: =IF($F$10=$S$16,U33,IF($F$10=$S$17,Y33,IF($F$10=$S$18,AC33,IF($F$10=$S$19,U39,IF($F$10=$S$20,Y39,IF($F$10=$S$21,AC39)))))) -> 0.25 | Y31: =IF(F13="DESONERADO",AB31,IF(F13="SEM DESONERAÇÃO",Z31,"")) | Z31: =TRUNC(ROUND(((1+F33+F35+F37)*(1+F39)*(1+F41))/(1-(F43+F44+F45))-1,4),4) -> 0.2478 | AB31: =TRUNC(ROUND(((1+F33+F35+F37)*(1+F39)*(1+F41))/(1-(F43+F44+F45+F46))-1,4),4) -> 0.2478
B32: Parâmetro | F32: % | G32: Verificação | S32: DESONERADO | W32: Falta preencher algum item do BDI: | Z32: =IF(F13="DESONERADO",OR(F33="",F35="",F37="",F39="",F41="",F43="",F44="",F45="",F46=""),OR(F33="",F35="",F37="",F39="",F41="",F43="",F44="",F45="")) -> FALSE | AA32: =IF(F13="SEM DESONERAÇÃO",AND(F33="",F35="",F37="",F39="",F41="",F43="",F44="",F45="")) -> FALSE | AC32: =IF(F13="SEM DESONERAÇÃO",AND(F33="",F35="",F37="",F39="",F41="",F43="",F44="",F45=""),IF(F13="DESONERADO",AND(F33="",F35="",F37="",F39="",F41="",F43="",F44="",F45="",F46=""),"NULO")) -> NULO | AD32: =OR(B23=Z31,B23=AB31) -> TRUE
B33: Administração Central | F33: 0.045 | G33: =IF(F10="Escolha o tipo de obra","",IF(F33="","",IF(F33<C34,"FORA DO LIMITE",IF(F33>E34,"FORA DO LIMITE","OK")))) -> OK | S33: Edifícios | T33: 0.2034 | U33: 0.25 | W33: Rodovias | X33: 0.196 | Y33: 0.2423 | AA33: Redes | AB33: 0.2076 | AC33: 0.2644
B34: Mín: | C34: =IF($F$10=$S$16,S34,IF($F$10=$S$17,W34,IF($F$10=$S$18,AA34,IF($F$10=$S$19,S40,IF($F$10=$S$20,W40,IF($F$10=$S$21,AA40,"")))))) -> 0.03 | D34: Máx: | E34: =IF($F$10=$S$16,T34,IF($F$10=$S$17,X34,IF($F$10=$S$18,AB34,IF($F$10=$S$19,T40,IF($F$10=$S$20,X40,IF($F$10=$S$21,AB40,"")))))) -> 0.055 | Q34: =IF(E6="","",E6) -> São Marcos - RS | S34: 0.03 | T34: 0.055 | W34: 0.038 | X34: 0.0467 | AA34: 0.0343 | AB34: 0.0671 | AH34: 0.2034 | AI34: 0.25
B35: Seguros e Garantias | F35: 0.008 | G35: =IF(F10="Escolha o tipo de obra","",IF(F35="","",IF(F35<C36,"FORA DO LIMITE",IF(F35>E36,"FORA DO LIMITE","OK")))) -> OK | Q35: =TODAY() -> 46041 | S35: 0.008 | T35: 0.01 | W35: 0.0032 | X35: 0.0074 | AA35: 0.0028 | AB35: 0.0075 | AH35: 0.196 | AI35: 0.2423
B36: Mín: | C36: =IF($F$10=$S$16,S35,IF($F$10=$S$17,W35,IF($F$10=$S$18,AA35,IF($F$10=$S$19,S41,IF($F$10=$S$20,W41,IF($F$10=$S$21,AA41,"")))))) -> 0.008 | D36: Máx: | E36: =IF($F$10=$S$16,T35,IF($F$10=$S$17,X35,IF($F$10=$S$18,AB35,IF($F$10=$S$19,T41,IF($F$10=$S$20,X41,IF($F$10=$S$21,AB41,"")))))) -> 0.01 | S36: 0.0097 | T36: 0.0127 | W36: 0.005 | X36: 0.0097 | AA36: 0.01 | AB36: 0.0174 | AH36: 0.2076 | AI36: 0.2644
B37: Riscos | F37: 0.0127 | G37: =IF(F10="Escolha o tipo de obra","",IF(F37="","",IF(F37<C38,"FORA DO LIMITE",IF(F37>E38,"FORA DO LIMITE","OK")))) -> OK | I37: As tabelas que apresentam os limites foram construídas sem considerar a desoneração sobre a folha de pagamento prevista na Lei n° 12.844/2013. Caso o CNAE da empresa indique que a mesma deve considerar a contribuição previdenciária sobre a receita bruta, será somada a alíquota de 2% no item impostos. | S37: 0.0059 | T37: 0.0139 | W37: 0.0102 | X37: 0.0121 | AA37: 0.0094 | AB37: 0.0117 | AH37: 0.24 | AI37: 0.2786
B38: Mín: | C38: =IF($F$10=$S$16,S36,IF($F$10=$S$17,W36,IF($F$10=$S$18,AA36,IF($F$10=$S$19,S42,IF($F$10=$S$20,W42,IF($F$10=$S$21,AA42,"")))))) -> 0.0097 | D38: Máx: | E38: =IF($F$10=$S$16,T36,IF($F$10=$S$17,X36,IF($F$10=$S$18,AB36,IF($F$10=$S$19,T42,IF($F$10=$S$20,X42,IF($F$10=$S$21,AB42,"")))))) -> 0.0127 | S38: 0.0616 | T38: 0.0896 | W38: 0.0664 | X38: 0.0869 | AA38: 0.0674 | AB38: 0.094 | AH38: 0.228 | AI38: 0.3095
B39: Despesas Financeiras | F39: 0.0139 | G39: =IF(F10="Escolha o tipo de obra","",IF(F39="","",IF(F39<C40,"FORA DO LIMITE",IF(F39>E40,"FORA DO LIMITE","OK")))) -> OK | S39: Elétrica | T39: 0.24 | U39: 0.2786 | W39: Portos | X39: 0.228 | Y39: 0.3095 | AA39: Equipamentos | AB39: 0.111 | AC39: 0.168 | AH39: 0.111 | AI39: 0.168
B40: Mín: | C40: =IF($F$10=$S$16,S37,IF($F$10=$S$17,W37,IF($F$10=$S$18,AA37,IF($F$10=$S$19,S43,IF($F$10=$S$20,W43,IF($F$10=$S$21,AA43,"")))))) -> 0.0059 | D40: Máx: | E40: =IF($F$10=$S$16,T37,IF($F$10=$S$17,X37,IF($F$10=$S$18,AB37,IF($F$10=$S$19,T43,IF($F$10=$S$20,X43,IF($F$10=$S$21,AB43,"")))))) -> 0.0139 | S40: 0.0529 | T40: 0.0793 | W40: 0.04 | X40: 0.0785 | AA40: 0.015 | AB40: 0.0449
B41: Lucro | F41: 0.0896 | G41: =IF(F10="Escolha o tipo de obra","",IF(F41="","",IF(F41<C42,"FORA DO LIMITE",IF(F41>E42,"FORA DO LIMITE","OK")))) -> OK | S41: 0.0025 | T41: 0.0056 | W41: 0.0081 | X41: 0.0199 | AA41: 0.003 | AB41: 0.0082
B42: Mín: | C42: =IF($F$10=$S$16,S38,IF($F$10=$S$17,W38,IF($F$10=$S$18,AA38,IF($F$10=$S$19,S44,IF($F$10=$S$20,W44,IF($F$10=$S$21,AA44,"")))))) -> 0.0616 | D42: Máx: | E42: =IF($F$10=$S$16,T38,IF($F$10=$S$17,X38,IF($F$10=$S$18,AB38,IF($F$10=$S$19,T44,IF($F$10=$S$20,X44,IF($F$10=$S$21,AB44,"")))))) -> 0.0896 | S42: 0.01 | T42: 0.0197 | W42: 0.0146 | X42: 0.0316 | AA42: 0.0056 | AB42: 0.0089
B43: Impostos: PIS | F43: 0.0065 | G43: =IF(F10="Escolha o tipo de obra","",IF(F43="","",IF(F43<>0.0065,"Em geral deve ser 0,65%","OK"))) -> OK | S43: 0.0101 | T43: 0.0111 | W43: 0.0094 | X43: 0.0133 | AA43: 0.0085 | AB43: 0.0111
B44: Impostos: COFINS | F44: 0.03 | G44: =IF(F10="Escolha o tipo de obra","",IF(F44="","",IF(F44<>0.03,"Em geral deve ser 3,00%","OK"))) -> OK | S44: 0.08 | T44: 0.0951 | W44: 0.0714 | X44: 0.1043 | AA44: 0.035 | AB44: 0.0622
B45: Impostos: ISS (mun.) | F45: 0.02 | G45: =IF(F10="Escolha o tipo de obra","",IF(F45="","",IF(F45>0.05,"FORA DO LIMITE","OK"))) -> OK
B46: Regime de desoneração (4,5%) | F46: =IF(F13="ONERADO",0,IF(F13="DESONERADO",0.045,"")) -> 0 | G46: =IF(F13="Escolha o regime de contribuição","",IF(F13="DESONERADO","OK",IF(F13="ONERADO","OK"))) -> OK
...

Sheet Composições
A2: COMPOSIÇÕES
A3: Estado do Rio Grande do Sul
A4: Prefeitura Municipal de São Marcos
A5: Secretaria Municipal de Planejamento
A6: Núcleo de Engenharia
A8: =[1]Identificação!A3 -> Descrição do Objeto | B8: =[1]Identificação!B3 -> Contratação de projetos de engenharia/arquitetura
A10: Referência de custo: | B10: Sinapi não Desonerado 09/2025 e Sicro 01/2025 - BDI 24,78%
B11: =[2]Planilha!C11 -> #REF!
A13: COMP. A - Serviço de elaboração de projeto executivo de obra de pavimentação asfáltica, incluindo drenagem e sinalização viária – Vias de até 1km
A14: Referência | C14: Descrição dos Serviços | D14: Unid. | E14: Quant. | F14: Valor unit | G14: Valor Unit com BDI | H14: Valor total
A16: SINAPI | B16: 90777 | C16: ENGENHEIRO CIVIL COM ENCARGOS COMPLEMENTARES - LEVANTAMENTO DE CAMPO | D16: h | E16: 4 | F16: 128.96 | G16: =TRUNC(F16*1.2478,2) -> 160.91 | H16: =(E16*G16) -> 643.64
A17: SINAPI | B17: 90777 | C17: ENGENHEIRO CIVIL COM ENCARGOS COMPLEMENTARES - PROJETO, PLANILHAS E MEMORIAIS | D17: h | E17: 70 | F17: 128.96 | G17: =TRUNC(F17*1.2478,2) -> 160.91 | H17: =(E17*G17) -> 11263.7 | J17: =7*10 -> 70 | K17: Considerando 7h diárias e 10 dias de trabalho
A18: SINAPI | B18: 90772 | C18: AUXILIAR DE ESCRITORIO COM ENCARGOS COMPLEMENTARES - LEVANTAMENTO DE CAMPO E GRAFICAÇÃO | D18: h | E18: 14 | F18: 23.84 | G18: =TRUNC(F18*1.2478,2) -> 29.74 | H18: =(E18*G18) -> 416.36 | K18: Considerando 7h diárias e 2 dias de trabalho
A19: SICRO | B19: E9093 | C19: Veículo leve - 53 kW - CP | D19: h | E19: 6 | F19: 37.61 | G19: =TRUNC(F19*1.2478,2) -> 46.92 | H19: =(E19*G19) -> 281.52
A20: CREA RS | B20: 2025 | C20: ANOTAÇÃO DE RESPONSABILIDADE TÉCNICA | D20: unid. | E20: 1 | F20: 103.03 | G20: =TRUNC(F20*1.2478,2) -> 128.56 | H20: =(E20*G20) -> 128.56
H21: =TRUNC(SUM(H16:H20),2) -> 12733.78
A23: COMP. B - Serviço de elaboração de projeto executivo de obra de pavimentação asfáltica, incluindo drenagem e sinalização viária – Vias entre 1 e 4km
A24: Referência | C24: Descrição dos Serviços | D24: Unid. | E24: Quant. | F24: Valor unit | G24: Valor Unit com BDI | H24: Valor total
A26: SINAPI | B26: 90777 | C26: ENGENHEIRO CIVIL COM ENCARGOS COMPLEMENTARES - LEVANTAMENTO DE CAMPO | D26: h | E26: 4 | F26: 128.96 | G26: =TRUNC(F26*1.2478,2) -> 160.91 | H26: =(E26*G26) -> 643.64
A27: SINAPI | B27: 90777 | C27: ENGENHEIRO CIVIL COM ENCARGOS COMPLEMENTARES - PROJETO, PLANILHAS E MEMORIAIS | D27: h | E27: 105 | F27: 128.96 | G27: =TRUNC(F27*1.2478,2) -> 160.91 | H27: =(E27*G27) -> 16895.55 | J27: =7*15 -> 105 | K27: Considerando 7h diárias e 15 dias de trabalho
A28: SINAPI | B28: 90772 | C28: AUXILIAR DE ESCRITORIO COM ENCARGOS COMPLEMENTARES - LEVANTAMENTO DE CAMPO E GRAFICAÇÃO | D28: h | E28: 14 | F28: 23.84 | G28: =TRUNC(F28*1.2478,2) -> 29.74 | H28: =(E28*G28) -> 416.36 | K28: Considerando 7h diárias e 2 dias de trabalho
A29: SICRO | B29: E9093 | C29: Veículo leve - 53 kW - CP | D29: h | E29: 15 | F29: 37.61 | G29: =TRUNC(F29*1.2478,2) -> 46.92 | H29: =(E29*G29) -> 703.8
A30: CREA RS | B30: 2025 | C30: ANOTAÇÃO DE RESPONSABILIDADE TÉCNICA | D30: unid. | E30: 1 | F30: 103.03 | G30: =TRUNC(F30*1.2478,2) -> 128.56 | H30: =(E30*G30) -> 128.56
H31: =TRUNC(SUM(H26:H30),2) -> 18787.91
A33: COMP. C - Serviço de elaboração de projeto executivo de PPCI ou PrPCI para edificações de até 2.000m²
A34: Referência | C34: Descrição dos Serviços | D34: Unid. | E34: Quant. | F34: Valor unit | G34: Valor Unit com BDI | H34: Valor total
A36: SINAPI | B36: 90768 | C36: ARQUITETO COM ENCARGOS COMPLEMENTARES - LEVANTAMENTO DE CAMPO | D36: h | E36: 4 | F36: 125.81 | G36: =TRUNC(F36*1.2478,2) -> 156.98 | H36: =(E36*G36) -> 627.92
A37: SINAPI | B37: 90768 | C37: ARQUITETO COM ENCARGOS COMPLEMENTARES - PROJETO, PLANILHAS E MEMORIAIS | D37: h | E37: 35 | F37: 125.81 | G37: =TRUNC(F37*1.2478,2) -> 156.98 | H37: =(E37*G37) -> 5494.3 | K37: Considerando 7h diárias e 5 dias de trabalho
A38: SINAPI | B38: 90772 | C38: AUXILIAR DE ESCRITORIO COM ENCARGOS COMPLEMENTARES - LEVANTAMENTO DE CAMPO E GRAFICAÇÃO | D38: h | E38: 18 | F38: 23.84 | G38: =TRUNC(F38*1.2478,2) -> 29.74 | H38: =(E38*G38) -> 535.32 | K38: Considerando 7h diárias e 2 dias de trabalho + 4h de levantamento de campo
A39: SICRO | B39: E9093 | C39: Veículo leve - 53 kW - CP | D39: h | E39: 7 | F39: 37.61 | G39: =TRUNC(F39*1.2478,2) -> 46.92 | H39: =(E39*G39) -> 328.44
A40: CAU RS | B40: 2025 | C40: REGISTRO DE RESPONSABILIDADE TÉCNICA | D40: unid. | E40: 1 | F40: 125.4 | G40: =TRUNC(F40*1.2478,2) -> 156.47 | H40: =(E40*G40) -> 156.47
H41: =TRUNC(SUM(H36:H40),2) -> 7142.45
A43: COMP. D - Serviço de elaboração de projeto executivo de PPCI ou PrPCI para edificações de até 5.000m²
A44: Referência | C44: Descrição dos Serviços | D44: Unid. | E44: Quant. | F44: Valor unit | G44: Valor Unit com BDI | H44: Valor total
A46: SINAPI | B46: 90768 | C46: ARQUITETO COM ENCARGOS COMPLEMENTARES - LEVANTAMENTO DE CAMPO | D46: h | E46: 4 | F46: 125.81 | G46: =TRUNC(F46*1.2478,2) -> 156.98 | H46: =(E46*G46) -> 627.92
A47: SINAPI | B47: 90768 | C47: ARQUITETO COM ENCARGOS COMPLEMENTARES - PROJETO, PLANILHAS E MEMORIAIS | D47: h | E47: 70 | F47: 125.81 | G47: =TRUNC(F47*1.2478,2) -> 156.98 | H47: =(E47*G47) -> 10988.6 | K47: Considerando 7h diárias e 10 dias de trabalho
A48: SINAPI | B48: 90772 | C48: AUXILIAR DE ESCRITORIO COM ENCARGOS COMPLEMENTARES - LEVANTAMENTO DE CAMPO E GRAFICAÇÃO | D48: h | E48: 39 | F48: 23.84 | G48: =TRUNC(F48*1.2478,2) -> 29.74 | H48: =(E48*G48) -> 1159.86 | K48: Considerando 7h diárias e 5 dias de trabalho + 4h de levantamento de campo
A49: SICRO | B49: E9093 | C49: Veículo leve - 53 kW - CP | D49: h | E49: 20 | F49: 37.61 | G49: =TRUNC(F49*1.2478,2) -> 46.92 | H49: =(E49*G49) -> 938.4
A50: CAU RS | B50: 2025 | C50: REGISTRO DE RESPONSABILIDADE TÉCNICA | D50: unid. | E50: 1 | F50: 125.4 | G50: =TRUNC(F50*1.2478,2) -> 156.47 | H50: =(E50*G50) -> 156.47
H51: =TRUNC(SUM(H46:H50),2) -> 13871.25
...

Sheet Proposta
A1: PROPOSTA
A2: Modalidade | C2: =IF(Identificação!B2=0,"",Identificação!B2) -> Concorrência Lei 14.133/21 Eletrônica | E2: N° | F2: =IF(Identificação!E2=0,"",Identificação!E2) | G2: Ano | H2: =IF(Identificação!G2=0,"",Identificação!G2) -> 2026
A3: Descrição do Objeto | C3: =IF(Identificação!B3=0,"",Identificação!B3) -> Registro de preços para futura e eventual contratação de projetos de arquitetura/engenharia
A4: Licitante | G4: CNPJ*
A5: Tipo de Objeto | C5: =IF(Identificação!B5=0,"",Identificação!B5) -> Obras e Serviços de Engenharia
A6: Preço Total Proposto | C6: =SUMIFS(H12:H39946,B12:B39946,">0",H12:H39946,"<>0") -> 0
A7: Atenção! Se existirem itens sem preço proposto, deixe a célula do preço unitário proposto em branco.
A8: Para incluir itens da proposta, selecione as células A13 a K13 e arraste para baixo, de acordo com o número de itens cadastrado na planilha Orçamento-base.
A9: *Campos de preenchimento obrigatório | F9: **Obrigatório só para Obras e Serviços de Engenharia
A10: Nº do lote | B10: Nº Ordem | C10: Nº Item | D10: Descrição do item | E10: Proposta
E11: Qtd. | F11: Unid. | G11: Preço unitário (R$)* | H11: Preço Total (R$) | I11: % BDI** | J11: % Encargos Sociais** | K11: Percentual de Desconto
A12: =IF('Orçamento-base'!A12>0,'Orçamento-base'!A12,"") -> 1 | B12: ='Orçamento-base'!B12 -> 1 | C12: =IF('Orçamento-base'!C12>0,'Orçamento-base'!C12,"") -> 1 | D12: =IF('Orçamento-base'!G12>0,'Orçamento-base'!G12,"") -> Serviço de elaboração de projeto executivo de obra de pavimentação asfáltica, incluindo drenagem e sinalização viária – Vias de até 1km | E12: =IF('Orçamento-base'!H12>0,'Orçamento-base'!H12,"") -> 2 | F12: =IF('Orçamento-base'!I12>0,'Orçamento-base'!I12,"") -> un | H12: =IFERROR(IF(E12*G12<>0,ROUND(ROUND(E12,4)*ROUND(G12,4),2),""),"")
A13: =IF('Orçamento-base'!A13>0,'Orçamento-base'!A13,"") -> 1 | B13: ='Orçamento-base'!B13 -> 2 | C13: =IF('Orçamento-base'!C13>0,'Orçamento-base'!C13,"") -> 2 | D13: =IF('Orçamento-base'!G13>0,'Orçamento-base'!G13,"") -> Serviço de elaboração de projeto executivo de obra de pavimentação asfáltica, incluindo drenagem e sinalização viária – Vias entre 1 e 4km | E13: =IF('Orçamento-base'!H13>0,'Orçamento-base'!H13,"") -> 8 | F13: =IF('Orçamento-base'!I13>0,'Orçamento-base'!I13,"") -> un | H13: =IFERROR(IF(E13*G13<>0,ROUND(ROUND(E13,4)*ROUND(G13,4),2),""),"")
A14: =IF('Orçamento-base'!A14>0,'Orçamento-base'!A14,"") -> 2 | B14: ='Orçamento-base'!B14 -> 3 | C14: =IF('Orçamento-base'!C14>0,'Orçamento-base'!C14,"") -> 1 | D14: =IF('Orçamento-base'!G14>0,'Orçamento-base'!G14,"") -> Serviço de elaboração de projeto executivo de PPCI ou PrPCI para edificações de até 2.000m² | E14: =IF('Orçamento-base'!H14>0,'Orçamento-base'!H14,"") -> 6 | F14: =IF('Orçamento-base'!I14>0,'Orçamento-base'!I14,"") -> un | H14: =IFERROR(IF(E14*G14<>0,ROUND(ROUND(E14,4)*ROUND(G14,4),2),""),"")
A15: =IF('Orçamento-base'!A15>0,'Orçamento-base'!A15,"") -> 2 | B15: ='Orçamento-base'!B15 -> 4 | C15: =IF('Orçamento-base'!C15>0,'Orçamento-base'!C15,"") -> 2 | D15: =IF('Orçamento-base'!G15>0,'Orçamento-base'!G15,"") -> Serviço de elaboração de projeto executivo de PPCI ou PrPCI para edificações de até 5.000m² | E15: =IF('Orçamento-base'!H15>0,'Orçamento-base'!H15,"") -> 12 | F15: =IF('Orçamento-base'!I15>0,'Orçamento-base'!I15,"") -> un | H15: =IFERROR(IF(E15*G15<>0,ROUND(ROUND(E15,4)*ROUND(G15,4),2),""),"")
A16: =IF('Orçamento-base'!A16>0,'Orçamento-base'!A16,"") -> 3 | B16: ='Orçamento-base'!B16 -> 5 | C16: =IF('Orçamento-base'!C16>0,'Orçamento-base'!C16,"") -> 1 | D16: =IF('Orçamento-base'!G16>0,'Orçamento-base'!G16,"") -> Serviço de elaboração de projeto executivo de instalações elétricas em edificações de até 500m² | E16: =IF('Orçamento-base'!H16>0,'Orçamento-base'!H16,"") -> 4 | F16: =IF('Orçamento-base'!I16>0,'Orçamento-base'!I16,"") -> un | H16: =IFERROR(IF(E16*G16<>0,ROUND(ROUND(E16,4)*ROUND(G16,4),2),""),"")
A17: =IF('Orçamento-base'!A17>0,'Orçamento-base'!A17,"") -> 3 | B17: ='Orçamento-base'!B17 -> 6 | C17: =IF('Orçamento-base'!C17>0,'Orçamento-base'!C17,"") -> 2 | D17: =IF('Orçamento-base'!G17>0,'Orçamento-base'!G17,"") -> Serviço de elaboração de projeto executivo de instalações elétricas em edificações de até 1500m² | E17: =IF('Orçamento-base'!H17>0,'Orçamento-base'!H17,"") -> 4 | F17: =IF('Orçamento-base'!I17>0,'Orçamento-base'!I17,"") -> un | H17: =IFERROR(IF(E17*G17<>0,ROUND(ROUND(E17,4)*ROUND(G17,4),2),""),"")
A18: =IF('Orçamento-base'!A18>0,'Orçamento-base'!A18,"") -> 3 | B18: ='Orçamento-base'!B18 -> 7 | C18: =IF('Orçamento-base'!C18>0,'Orçamento-base'!C18,"") -> 1 | D18: =IF('Orçamento-base'!G18>0,'Orçamento-base'!G18,"") -> Serviço de elaboração de projeto executivo de instalações elétricas em edificações de até 3000m² | E18: =IF('Orçamento-base'!H18>0,'Orçamento-base'!H18,"") -> 4 | F18: =IF('Orçamento-base'!I18>0,'Orçamento-base'!I18,"") -> un | H18: =IFERROR(IF(E18*G18<>0,ROUND(ROUND(E18,4)*ROUND(G18,4),2),""),"")
A19: =IF('Orçamento-base'!A19>0,'Orçamento-base'!A19,"") -> 4 | B19: ='Orçamento-base'!B19 -> 8 | C19: =IF('Orçamento-base'!C19>0,'Orçamento-base'!C19,"") -> 2 | D19: =IF('Orçamento-base'!G19>0,'Orçamento-base'!G19,"") -> Serviço de elaboração de projeto executivo de iluminação pública em vias de até 1,5Km | E19: =IF('Orçamento-base'!H19>0,'Orçamento-base'!H19,"") -> 3 | F19: =IF('Orçamento-base'!I19>0,'Orçamento-base'!I19,"") -> un | H19: =IFERROR(IF(E19*G19<>0,ROUND(ROUND(E19,4)*ROUND(G19,4),2),""),"")
A20: =IF('Orçamento-base'!A20>0,'Orçamento-base'!A20,"") -> 4 | B20: ='Orçamento-base'!B20 -> 9 | C20: =IF('Orçamento-base'!C20>0,'Orçamento-base'!C20,"") -> 3 | D20: =IF('Orçamento-base'!G20>0,'Orçamento-base'!G20,"") -> Serviço de elaboração de projeto executivo de iluminação pública em vias de até 3Km | E20: =IF('Orçamento-base'!H20>0,'Orçamento-base'!H20,"") -> 2 | F20: =IF('Orçamento-base'!I20>0,'Orçamento-base'!I20,"") -> un | H20: =IFERROR(IF(E20*G20<>0,ROUND(ROUND(E20,4)*ROUND(G20,4),2),""),"")
A21: =IF('Orçamento-base'!A21>0,'Orçamento-base'!A21,"") -> 5 | B21: ='Orçamento-base'!B21 -> 10 | C21: =IF('Orçamento-base'!C21>0,'Orçamento-base'!C21,"") -> 1 | D21: =IF('Orçamento-base'!G21>0,'Orçamento-base'!G21,"") -> Serviço de elaboração de projeto executivo de obra de reforma de edificações de até 500m² | E21: =IF('Orçamento-base'!H21>0,'Orçamento-base'!H21,"") -> 3 | F21: =IF('Orçamento-base'!I21>0,'Orçamento-base'!I21,"") -> un | H21: =IFERROR(IF(E21*G21<>0,ROUND(ROUND(E21,4)*ROUND(G21,4),2),""),"")
A22: =IF('Orçamento-base'!A22>0,'Orçamento-base'!A22,"") -> 5 | B22: ='Orçamento-base'!B22 -> 11 | C22: =IF('Orçamento-base'!C22>0,'Orçamento-base'!C22,"") -> 2 | D22: =IF('Orçamento-base'!G22>0,'Orçamento-base'!G22,"") -> Serviço de elaboração de projeto executivo de obra de reforma de edificações de até 1.200m² | E22: =IF('Orçamento-base'!H22>0,'Orçamento-base'!H22,"") -> 3 | F22: =IF('Orçamento-base'!I22>0,'Orçamento-base'!I22,"") -> un | H22: =IFERROR(IF(E22*G22<>0,ROUND(ROUND(E22,4)*ROUND(G22,4),2),""),"")
A23: =IF('Orçamento-base'!A23>0,'Orçamento-base'!A23,"") -> 5 | B23: ='Orçamento-base'!B23 -> 12 | C23: =IF('Orçamento-base'!C23>0,'Orçamento-base'!C23,"") -> 3 | D23: =IF('Orçamento-base'!G23>0,'Orçamento-base'!G23,"") -> Serviço de elaboração de projeto executivo de obra de reforma de edificações de até 2.500m² | E23: =IF('Orçamento-base'!H23>0,'Orçamento-base'!H23,"") -> 3 | F23: =IF('Orçamento-base'!I23>0,'Orçamento-base'!I23,"") -> un | H23: =IFERROR(IF(E23*G23<>0,ROUND(ROUND(E23,4)*ROUND(G23,4),2),""),"")
... A33: =IF('Orçamento-base'!A33>0,'Orçamento-base'!A33,"") -> 10 | B33: ='Orçamento-base'!B33 -> 22 | C33: =IF('Orçamento-base'!C33>0,'Orçamento-base'!C33,"") -> 1 | D33: =IF('Orçamento-base'!G33>0,'Orçamento-base'!G33,"") -> Elaboração de estudo e projeto executivo de lagoa de detenção e drenagem | E33: =IF('Orçamento-base'!H33>0,'Orçamento-base'!H33,"") -> 2 | F33: =IF('Orçamento-base'!I33>0,'Orçamento-base'!I33,"") -> un | H33: =IFERROR(IF(E33*G33<>0,ROUND(ROUND(E33,4)*ROUND(G33,4),2),""),"")

Sheet Obras
A1: ESTRADAS DO INTERIOR
B2: LOCALIZAÇÃO | C2: EXTENSÃO / ÁREA | D2: ANO
A3: 1. | B3: ASFALTAR ESTRADA 200 - ROSITA ATÉ A EMPRESA DE ÁGUA MINERAL (ÁGUA SERRA MAIOR) - 1150M | C3: 1150 METROS | D3: 2026 | E3: ( ) SIM
A4: 2. | B4: ASFALTAR ESTRADA 720 - SÃO ROQUE ATÉ A EMPRESA NELSON METALS - 2100M | C4: 2100 METROS | D4: 2026 | E4: ( ) SIM
A5: 3. | B5: ASFALTAR ESTRADA 405 - DOS POGGERE ATÉ A SANTANA - 3600M | C5: 3600 METROS | D5: 2026 | E5: ( ) SIM
A6: 4. | B6: ASFALTAR NA BR 116 EM PEDRAS BRANCAS (ACESSO A PEDREIRA) - 500M | C6: 500 METROS | D6: 2026 | E6: ( ) SIM
A7: REFORMAS E AMPLIÇÕES
A8: 5. | B8: REFORMA DA ESCOLA JOÃO POLLO | C8: 640,00 METROS QUADRADOS | D8: 2026 | E8: ( ) SIM
A9: 6. | B9: AMPLIAÇÃO DO CENTRO DE SAÚDE | C9: 1600,00 METROS QUADRADOS | D9: 2026 | E9: ( ) SIM
A10: RUAS DA CIDADE
A11: 7. | B11: ASFALTAR NA BR 116 PELA CARLOS GOMES ATÉ VRS 815 (CENTRO OCUPACIONAL) | C11: 2520 METROS | D11: 2026 | E11: ( ) SIM
A12: 8. | B12: ASFALTAR RUA PADRE FEIJÓ | C12: 2100 METROS | D12: 2026 | E12: ( ) SIM
A13: 9. | B13: ASFALTAR RUA LEDA RECH STÉDILE A DIAMANTINO MICHELON ATÉ RUA SÃO LUIS | C13: 1000 METROS | D13: 2026 | E13: ( ) SIM
A14: 10. | B14: ASFALTAR RUA AVENIDA TIRADENTES ATÉ RUA MARINGÁ | C14: 1400 METROS | D14: 2026 | E14: ( ) SIM
A15: 11. | B15: ASFALTAR RUA RAFAEL RUARO A BENJAMIN MICHELIN, RICIERI CHEMELLO, JOÃO SOGARI, BONFILHO NICOLETTI E AUGUSTO CATAFESTA | C15: 1555 METROS | D15: 2026 | E15: ( ) SIM
A16: 12. | B16: ASFALTAR RUA JOSÉ POLO A JOAQUIM CHINELATO, JACOB STUDULKI, FIDÉLIS CAPELETTI, ARY MARTININGHI E GIÁCOMO RIZZON | C16: 1900 METROS | D16: 2026 | E16: ( ) SIM
A17: ABERTURA DE RUAS
A18: 13. | B18: PROLONGAMENTO DA RUA GIÁCOMO SANDRI | C18: 480 METROS | D18: 2026 | E18: ( ) SIM
A19: 15. | B19: PROLONGAMENTO DA RUA OSVALDO ARANHA ATÉ A RUA ISIDORO FOCHESATO (ATÉ A EMPRESA FADO) | C19: 1460 METROS | D19: 2026 | E19: ( ) SIM
A20: PROJETOS DE DRENAGEM
A21: 16. | B21: DRENAGEM RUA ANGELO SIOTA | C21: 1000 METROS | D21: 2026 | E21: ( ) SIM
A22: 17. | B22: LAGOA DE DETENÇÃO 1 | C22: - | D22: 2026 | E22: ( ) SIM
A23: 18. | B23: LAGOA DE DETENÇÃO 2 | C23: - | D23: 2026 | E23: ( ) SIM

Sheet Encargos Sociais
A1: Estado do Rio Grande do Sul
A2: Prefeitura Municipal de São Marcos
A3: Secretaria Municipal de Planejamento
A4: Núcleo de Engenharia
A6: Objeto: Contratação de projetos de engenharia e arquitetura
A7: Local: SÃO MARCOS/RS
