Workbook
Name _____LO25: #REF!
Name ____LO25: #REF!
Name ___LO25: #REF!
Name __LO25: #REF!
Name __xlfn_IFERROR: #N/A
Name _LO25: #REF!
Name AbaDeprec: #REF!
Name AbaDeprec: #REF!
Name AbaDeprec: #REF!
Name AbaRemun: #REF!
Name AbaRemun: #REF!
Name AbaRemun: #REF!
Name AbaRemun: #REF!
Name sesi: #REF!
Name sesi: #REF!

Sheet Resumo 
A1: PROCESSO LICITATÓRIO /2026
A2: RESUMO
A3: Serviço de Horas Médicas - São Marcos/RS
A4: Planilha de Composição de Custos
A6: Resumo
A7: Item | B7: Profissional | C7: Qdte Func. | D7: Hrs Base Func/Mês | E7: Hrs Base Mês | F7: Custo Mês | G7: Custo Hora | H7: Hrs Ano | I7: Valor Ano R$
A8: 1 | B8: Clínico Geral | C8: ='1. Clínico Geral'!F19 -> 2 | D8: =Horários!X11 -> 95.999972 | E8: ='1. Clínico Geral'!C55 -> 191.99994 | F8: ='1. Clínico Geral'!F53 -> 31941.709 | G8: =F8/E8 -> 166.36312 | H8: =E8*12 -> 2303.9993 | I8: =H8*G8 -> 383300.51 | K8: 5.51 | L8: =G8-K8 -> 160.85312 | M8: =L8/K8 -> 29.192944 | N8: 74 | O8: =#REF!-N8 -> #REF! | P8: =N8*G8*20 -> 246217.42 | Q8: =N8*K8*20 -> 8154.8 | R8: =F8-Q8 -> 23786.909
R9: =F9-Q9 -> 0
A10: Total | F10: =SUM(F8:F9) -> 31941.709 | H10: =SUM(H8:H9) -> 2303.9993 | I10: =SUM(I8:I8) -> 383300.51 | N10: =SUM(N8:N9) -> 74 | P10: =SUM(P8:P9) -> 246217.42 | Q10: =SUM(Q8:Q9) -> 8154.8 | R10: =F10-Q10 -> 23786.909
A13: São Marcos, 18 de março de 2026
A22: ECZ, Assessoria, Consultoria e Treinamento Ltda

Sheet 1. Clínico Geral
A1: Item 1 - Serviços Ambulatórios Médico de Clínico Geral
A2: Planilha de Composição de Custos
A4: Descrição | B4: Valor Mensal R$ | C4: Total Horas/mês | D4: Custo/R$/hora Base
A5: Obs: Base salário mensal médico (Base Mercado) | B5: =9911.79/24*44 -> 18171.615 | C5: 220 | D5: =B5/C5 -> 82.59825
B6: Total de Unid. | C6: Total de horas | D6: Valor mensal R$
A7: Tempo utilizado c/descanso semanal | B7: 200 | C7: 200 | D7: =C7*D5 -> 16519.65
A9: Orçamento Sintético
A10: Descrição do Item | E10: Custo (R$/mês) | F10: %
A11: =A25 -> 1. Mão-de-obra | E11: =+F37 -> 23919.829 | F11: =IFERROR(E11/$E$15,0) -> 0.74885875
A12: =A26 -> 1.1. Médico Clínico Geral | E12: =F34 -> 23919.829 | F12: =IFERROR(E12/$E$15,0) -> 0.74885875
A13: =A39 -> 2. Administração Local | E13: =F42 -> 240 | F13: =IFERROR(E13/$E$15,0) -> 0.0075136868
A14: =A46 -> 3. Benefícios e Despesas Indiretas | E14: =+F51 -> 7781.8808 | F14: =IFERROR(E14/$E$15,0) -> 0.24362756
A15: PREÇO TOTAL MENSAL | E15: =SUM(E12:E14) -> 31941.709 | F15: =SUM(F12:F14) -> 1
A17: Quantitativos
A18: Mão-de-obra | F18: Quantidade
A19: =+A26 -> 1.1. Médico Clínico Geral | F19: 2
A21: Total de mão-de-obra (posto de trabalho) | F21: =SUM(F19:F20) -> 2
A23: Fator de utilização (FU) | B23: =Horários!F18 -> 0.50977045
A25: 1. Mão-de-obra
A26: 1.1. Médico Clínico Geral
A27: Discriminação | B27: Unidade | C27: Quantidade | D27: Custo unitário | E27: Subtotal | F27: Total (R$)
A28: Piso da categoria | B28: mês | C28: 1 | D28: =B5 -> 18171.615 | E28: =C28*D28 -> 18171.615
A29: Insalubridade | B29: % | D29: 0 | E29: =D29*C29/100 -> 0
A30: Soma | E30: =SUM(E28:E29) -> 18171.615
A31: Encargos Sociais | B31: % | C31: ='Encargos Sociais'!$C$34*100 -> 29.11 | D31: =E30 -> 18171.615 | E31: =D31*C31/100 -> 5289.7571
A32: Total | E32: =E30+E31 -> 23461.372
A33: Total do Efetivo | B33: homem | C33: =F19 -> 2 | D33: =E32 -> 23461.372 | E33: =C33*D33 -> 46922.744
D34: Fator de util. | E34: =B23 -> 0.50977045 | F34: =(E33*E34)+((E29*0.6)*1.2911) -> 23919.829
A37: 1. Custo Mensal com Mão-de-obra | F37: =F34 -> 23919.829
A39: 2. Administração Local
A40: Discriminação | B40: Unidade | C40: Quantidade | D40: Custo unitário | E40: Subtotal | F40: Total (R$)
A41: Deslocamento (custos veículo de apoio) | B41: km | C41: 100 | D41: 2.4 | E41: =C41*D41 -> 240
D42: Fator de util. | E42: 1 | F42: =SUM(E41:E41)*E42 -> 240
A44: CUSTO TOTAL MENSAL COM DESPESAS OPERACIONAIS | F44: =F37+F42 -> 24159.829
A46: 3. Benefícios e Despesas Indiretas
A47: Discriminação | B47: Unidade | C47: Quantidade | D47: Custo unitário | E47: Subtotal | F47: Total (R$)
A48: Benefícios e despesas indiretas | B48: % | C48: =BDI!C16*100 -> 32.21 | D48: =+F44 -> 24159.829 | E48: =C48*D48/100 -> 7781.8808
F49: =+E48 -> 7781.8808
A51: CUSTO MENSAL | F51: =F49 -> 7781.8808
A53: PREÇO MENSAL TOTAL | F53: =F44+F51 -> 31941.709
...

Sheet Horários
A1: Prefeitura Municipal de São Marcos
A2: Planilha com os horários Clínico Geral
M3: 7 | N3: 6 | O3: =M3*N3 -> 42 | Q3: 7 | R3: 6 | S3: =Q3*R3 -> 42
A4: Nr. Func. | B4: Dias | C4: Cargo | D4: Entrada | E4: Saída | F4: Horas/dia | G4: Hrs/semana | T4: Hrs/Veíc
A5: 2 | B5: Quarta e Quinta | C5: Clínico geral | F5: 0.46736111 | G5: 0 | I5: 15 | J5: 12 | L5: 12 | M5: 5 | N5: 3 | O5: =M5*N5 -> 15 | Q5: 5 | R5: 3 | S5: =Q5*R5 -> 15 | T5: =7*3 -> 21
O6: =#REF!/#REF! -> #REF! | S6: =#REF!/#REF! -> #REF! | U6: 44 | V6: =#REF!/U6 -> #REF!
A8: Cargo: Diversos
A9: Total de horas | F9: 11.21495
A10: Total de dias por semana | F10: 2
A11: Total de horas por semana | F11: =F9*F10 -> 22.4299 | X11: =F11*4.28 -> 95.999972 | Y11: =X11*2 -> 191.99994
A12: Dias úteis semana | F12: 6
A13: Total de dias com (DSR) Descanso Sem. Remun. | F13: 7
A14: Total de horas/dia com (DSR) | F14: =F11/F12 -> 3.7383167
A15: Total de dias no mês (30 dias) | F15: 30
A16: Total geral de horas mês com (DSR) | F16: =F14*F15 -> 112.1495
A17: Total geral de horas base mês com (DSR) | F17: 220
A18: Fator de utilização | F18: =F16/F17 -> 0.50977045

Sheet Encargos Sociais
A1: Orientações para preenchimento:
A2: Planilha de Composição de Custos
A4: Composição dos Encargos Sociais
A5: Código | B5: Descrição | C5: Valor
A6: A1 | B6: INSS | C6: 0
A7: A2 | B7: SESI | C7: 0
A8: A3 | B8: SENAI | C8: 0
A9: A4 | B9: INCRA | C9: 0
A10: A5 | B10: SEBRAE | C10: 0
A11: A6 | B11: Salário educação | C11: 0
A12: A7 | B12: Seguro contra acidentes de trabalho | C12: 0
A13: A8 | B13: FGTS | C13: 0.08
A14: A | B14: SOMA GRUPO A | C14: =SUM(C6:C13) -> 0.08
A16: B1 | B16: Férias gozadas | C16: 0.0833
A17: B2 | B17: 13º salário | C17: 0.0833
A18: B3 | B18: Licença Paternidade | C18: 0
A19: B4 | B19: Faltas justificadas | C19: 0
A20: B5 | B20: Auxilio acidente de trabalho | C20: 0
A21: B6 | B21: Auxilio doença | C21: 0.001
A22: B | B22: SOMA GRUPO B | C22: =SUM(C16:C21) -> 0.1676
A24: C1 | B24: Aviso prévio indenizado | C24: 0.001
A25: C2 | B25: Férias indenizadas | C25: 0.0278
A26: C3 | B26: Férias indenizadas s/ aviso previo inden. | C26: 0.0012
A27: C4 | B27: Depósito rescisão sem justa causa | C27: 0
A28: C5 | B28: Indenização adicional | C28: 0
A29: C | B29: SOMA GRUPO C | C29: =SUM(C24:C28) -> 0.03
A31: D1 | B31: Reincidência de Grupo A sobre Grupo B | C31: =ROUND(C14*C22,4) -> 0.0134
A32: D2 | B32: Reincidência de Grupo A sobre aviso prévio indenizado | C32: =ROUND((C24*C14),4) -> 0.0001
A33: D | B33: SOMA GRUPO D | C33: =SUM(C31:C32) -> 0.0135
B34: SOMA (A+B+C+D) | C34: =C33+C29+C22+C14 -> 0.2911

Sheet BDI
A1: Orientações para preenchimento:
A2: 1. Esta planilha é somente um modelo-base e deve ser ajustada conforme cada caso concreto.
A3: 2. Preencher somente células em amarelo
A6: Composição do BDI - Benefícios e Despesas Indiretas
A8: Administração Central | B8: AC | C8: 0.05
A9: Seguros/Riscos/Garantias | B9: SRG | C9: 0
A10: Lucro | B10: L | C10: 0.09
A11: Despesas Financeiras | B11: DF | C11: 0
A12: Tributos - ISS | B12: T | C12: 0.03
A13: Tributos - PIS/COFINS (3,65%) (CSLL 2,8%) (IR) e CPP se houver | C13: 0.1043
A14: Fórmula para o cálculo do BDI:
A15: {[(1+AC+SRG) x (1+L) x (1+DF)] / (1-T)} -1
A16: Resultado do cálculo do BDI: | C16: =ROUND((((1+C8+C9)*(1+C10)*(1+C11))/(1-(C12+C13))-1),4) -> 0.3221
