Workbook
Name AbaDeprec: '5. Depreciação'!$A$1
Name AbaRemun: #REF!
Name AbaRemun: #REF!
Name AbaRemun: #REF!
Name AbaRemun: #REF!

Sheet 1. Resumo
A1: PREFEITURA MUNICIPAL DE SÃO MARCOS
A2: Resumo custo edital dos serviços de coleta de serviços de saúde
A3: Ordem | B3: Descrição | C3: PO R$
A4: 1 | B4: Coleta, transporte e destino final de Resíduos de Saúde | C4: ='2. Coleta Resíduos Saúde'!F234 -> 3111.6834
A6: Total Geral | C6: =SUM(C4:C5) -> 3111.6834
A8: São Marcos, 26 de fevereiro de 2026
A16: ECZ, Assessoria, Consultoria e Treinamento Ltda

Sheet 2. Coleta Resíduos Saúde
A1: Orientações para preenchimento:
A2: 1. Esta planilha é somente um modelo-base, devendo ser adaptada para cada caso concreto.
A3: Qualquer custo previsto no edital e não contemplado nesta planilha deverá ser devidamente incluído.
A4: 2. Antes de preenchê-la, leia a Orientação Técnica - Serviço de coleta de resíduos sólidos domiciliares
A5: 3. Preencher somente células em amarelo
A6: 4. As células azuis deverão ter seus valores preenchidos em outra planilha do arquivo.
A8: O TCE/RS não se responsabiliza pelo uso incorreto desta planilha.
A9: O orçamento deve ser realizado por responsável técnico habilitado e é de responsabilidade do seu autor.
A11: Prefeitura Municipal de São Marcos - RS
A12: 1. Coleta de Resíduos de Serviços de Saúde
A13: Planilha de Composição de Custos
A15: Orçamento Sintético
A16: Descrição do Item | E16: Custo (R$/mês) | F16: %
A17: =A39 -> 1. Mão-de-obra | E17: =+F89 -> 578.08598 | F17: =IFERROR(E17/$E$35,0) -> 0.18577918
A18: =A40 -> 1.1. Coletor Turno Dia | E18: =F51 -> 229.02005 | F18: =IFERROR(E18/$E$35,0) -> 0.07360005
A19: =A53 -> 1.2. Motorista Turno do Dia | E19: =F66 -> 245.41948 | F19: =IFERROR(E19/$E$35,0) -> 0.078870324
A20: =A68 -> 1.3. Vale Transporte | E20: =F74 -> 18.563446 | F20: =IFERROR(E20/$E$35,0) -> 0.0059657245
A21: =A76 -> 1.4. Vale-refeição (diário) | E21: =F81 -> 74.383 | F21: =IFERROR(E21/$E$35,0) -> 0.023904424
A22: =A83 -> 1.5. Abono, Auxílio Alimentação (mensal) | E22: =F87 -> 10.7 | F22: =IFERROR(E22/$E$35,0) -> 0.0034386531
A23: =A91 -> 2. Uniformes e Equipamentos de Proteção Individual | E23: =+F123 -> 19.787879 | F23: =IFERROR(E23/$E$35,0) -> 0.0063592198
A24: =A125 -> 3. Veículos e Equipamentos | E24: =+F199 -> 822.56503 | F24: =IFERROR(E24/$E$35,0) -> 0.26434728
A25: =A126 -> 3.1. Veículo Coletor | E25: =SUM(E26:E31) -> 822.56503 | F25: =IFERROR(E25/$E$35,0) -> 0.26434728
A26: =A127 -> 3.1.1. Depreciação | E26: =F141 -> 69.130303 | F26: =IFERROR(E26/$E$35,0) -> 0.022216368
A27: =A143 -> 3.1.2. Remuneração do Capital | E27: =F157 -> 104.93276 | F27: =IFERROR(E27/$E$35,0) -> 0.033722183
A28: =A159 -> 3.1.3. Impostos e Seguros | E28: =F165 -> 23.141174 | F28: =IFERROR(E28/$E$35,0) -> 0.0074368665
A29: =A167 -> 3.1.4. Consumos | E29: =F183 -> 387.8858 | F29: =IFERROR(E29/$E$35,0) -> 0.12465465
A30: =A185 -> 3.1.5. Manutenção | E30: =F188 -> 170.2 | F30: =IFERROR(E30/$E$35,0) -> 0.054697081
A31: =A190 -> 3.1.6. Pneus | E31: =F197 -> 67.275 | F31: =IFERROR(E31/$E$35,0) -> 0.02162013
A32: =A201 -> 4. Custo dos resíduos de saúde | E32: =+F211 -> 1120.0001 | F32: =IFERROR(E32/$E$35,0) -> 0.35993381
A33: =A213 -> 5. Monitoramento da frota | E33: =+F222 -> 6.3636364 | F33: =IFERROR(E33/$E$35,0) -> 0.0020450783
A34: =A226 -> 6. Benefícios e Despesas Indiretas - BDI | E34: =+F232 -> 564.88082 | F34: =IFERROR(E34/$E$35,0) -> 0.18153544
A35: PREÇO TOTAL MENSAL COM A COLETA | E35: =E17+E23+E24+E32+E33+E34 -> 3111.6834 | F35: =F17+F23+F24+F32+F33+F34 -> 1
A37: Fator de utilização (FU) | B37: =Horários!F16/Horários!F17 -> 0.045454545
A39: 1. Mão-de-obra
A40: 1.1. Coletor Turno Dia
A41: Discriminação | B41: Unidade | C41: Quantidade | D41: Custo unitário | E41: Subtotal | F41: Total (R$)
A42: Piso da categoria | B42: mês | C42: 1 | D42: 2082.32 | E42: =C42*D42 -> 2082.32
A43: Horas Extras (100%) | B43: hora | D43: =D42/220*2 -> 18.930182 | E43: =C43*D43 -> 0 | G43: Excluir esta linha caso a contratação não tenha previsão de horas extras 100% explícita no edital
A44: Horas Extras (50%) | B44: hora | D44: =D42/220*1.5 -> 14.197636 | E44: =C44*D44 -> 0 | G44: Excluir esta linha caso a contratação não tenha previsão de horas extras 50% explícita no edital
A45: Descanso Semanal Remunerado (DSR) - hora extra | B45: R$ | D45: =63/302*(SUM(E43:E44)) -> 0 | E45: =D45 -> 0 | G45: Excluir esta linha caso a contratação não tenha previsão de horas extras explícita no edital
...

Sheet 3.Encargos Sociais
A1: Orientações para preenchimento:
A3: O TCE/RS não se responsabiliza pelo uso incorreto desta planilha.
A4: O orçamento deve ser realizado por responsável técnico habilitado e
A5: é de responsabilidade do seu autor.
A7: Composição dos Encargos Sociais
A8: Código | B8: Descrição | C8: Valor
A9: A1 | B9: INSS | C9: 0.2
A10: A2 | B10: SESI | C10: 0.015
A11: A3 | B11: SENAI | C11: 0.01
A12: A4 | B12: INCRA | C12: 0.002
A13: A5 | B13: SEBRAE | C13: 0.006
A14: A6 | B14: Salário educação | C14: 0.025
A15: A7 | B15: Seguro contra acidentes de trabalho | C15: 0.03
A16: A8 | B16: FGTS | C16: 0.08
A17: A | B17: SOMA GRUPO A | C17: =SUM(C9:C16) -> 0.368
A19: B1 | B19: Férias gozadas | C19: 0.0833
A20: B2 | B20: 13º salário | C20: 0.0833
A21: B3 | B21: Licença Paternidade | C21: 0.0006
A22: B4 | B22: Faltas justificadas | C22: 0.0082
A23: B5 | B23: Auxilio acidente de trabalho | C23: 0.0031
A24: B6 | B24: Auxilio doença | C24: 0.0166
A25: B | B25: SOMA GRUPO B | C25: =SUM(C19:C24) -> 0.1951
A27: C1 | B27: Aviso prévio indenizado | C27: 0.029
A28: C2 | B28: Férias indenizadas | C28: 0.0278
A29: C3 | B29: Férias indenizadas s/ aviso previo inden. | C29: =C27*C28 -> 0.0008062
A30: C4 | B30: Depósito rescisão sem justa causa | C30: 0.0315
A31: C5 | B31: Indenização adicional | C31: 0.002
A32: C | B32: SOMA GRUPO C | C32: =SUM(C27:C31) -> 0.0911062
A34: D1 | B34: Reincidência de Grupo A sobre Grupo B | C34: =ROUND(C17*C25,4) -> 0.0718
A35: D2 | B35: Reincidência de FGTS sobre aviso prévio indenizado | C35: =ROUND((C27*C16),4) -> 0.0023
A36: D | B36: SOMA GRUPO D | C36: =SUM(C34:C35) -> 0.0741
B37: SOMA (A+B+C+D) | C37: =C36+C32+C25+C17 -> 0.7283062

Sheet 4.BDI
A1: Orientações para preenchimento:
A2: 1. Esta planilha é somente um modelo-base e deve ser ajustada conforme cada caso concreto.
A3: 2. Preencher somente células em amarelo
A5: O TCE/RS não se responsabiliza pelo uso incorreto desta planilha.
A6: O orçamento deve ser realizado por responsável técnico habilitado e é
A7: de responsabilidade do seu autor.
A9: 5. Composição do BDI - Benefícios e Despesas Indiretas
D11: Referência estudo TCE
D12: 1° Quartil | E12: Médio | F12: 3° Quartil
A13: Administração Central | B13: AC | C13: 0.04 | D13: 0.0297 | E13: 0.0508 | F13: 0.0627
A14: Seguros/Riscos/Garantias | B14: SRG | C14: 0.0133 | D14: =0.3%+0.56% -> 0.0086 | E14: =0.48%+0.85% -> 0.0133 | F14: =0.82%+0.89% -> 0.0171
A15: Lucro | B15: L | C15: 0.08 | D15: 0.0778 | E15: 0.1085 | F15: 0.1355
A16: Despesas Financeiras | B16: DF | C16: =(1+E16)^(E17/252)-1 -> 0.0026031494 | D16: i | E16: 0.14
A17: Tributos - ISS | B17: T | C17: 0.03 | D17: DU | E17: 5
A18: Tributos - PIS/COFINS/ e CPP se houver | C18: 0.0365
A19: Fórmula para o cálculo do BDI:
A20: {[(1+AC+SRG) x (1+L) x (1+DF)] / (1-T)} -1
A21: Resultado do cálculo do BDI: | C21: =ROUND((((1+C13+C14)*(1+C15)*(1+C16))/(1-(C17+C18))-1),4) -> 0.2218 | D21: 0.2143 | E21: 0.2717 | F21: 0.3362

Sheet 5. Depreciação
A1: 6. Depreciação Referencial TCE/RS (%)
A2: Idade do veículo (ano) | B2: Depreciação Média
A3: 1 | B3: 33.63
A4: 2 | B4: 43.13
A5: 3 | B5: 48.68
A6: 4 | B6: 52.62
A7: 5 | B7: 55.68
A8: 6 | B8: 58.18
A9: 7 | B9: 60.29
A10: 8 | B10: 62.12
A11: 9 | B11: 63.73
A12: 10 | B12: 65.18
A13: 11 | B13: 66.48
A14: 12 | B14: 67.67
... A17: 15 | B17: 70.73

Sheet Litros
A1: Prefeitura Municipal de São Marcos
A2: Litros de coleta de serviços de resíduos de saúde
A3: Período: Estimativa 2026
A5: Previsão litros coletadas e enviadas ao destino final
A6: Ordem | B6: Tipo de resíduos | C6: Litros/dia | D6: Litros/Mês
A7: 1 | B7: Grupo A e E | C7: 93.33334 | D7: =C7*30 -> 2800.0002
A8: 2 | B8: Grupo B | C8: 13.333334 | D8: =C8*30 -> 400.00002
A10: Total Geral litros mês | D10: =SUM(D7:D9) -> 3200.0002
A12: Total Geral litros ano | D12: =D10*12 -> 38400.003

Sheet Horários
A1: Prefeitura Municipal de São Marcos
A2: Planilha com os horários dos funcionários de coleta de resíduos de serviços de saúde
A3: Periodicidade: Quinzenal
A4: Nr. Func. | B4: Cargo | C4: Dias | D4: Entrada | E4: Saída | F4: Total Horas
A5: 1 | B5: Coletor resíduos | C5: a definir | D5: 0.29166667 | E5: 0.45833333 | F5: 0.16666667
A6: 1 | B6: Motorista | C6: a definir | D6: 0.29166667 | E6: 0.45833333 | F6: 0.16666667
A8: Cargo: Coletor e motorista
A9: Total de horas por coletor e motorista | F9: 4
A10: Total de dias por semana | F10: 0.5
A11: Total de horas por semana | F11: =F9*F10 -> 2
A12: Dias úteis semana | F12: 6
A13: Total de dias com (DSR) Descanso Semanal Remunerado | F13: 7
A14: Total de horas/dia com (DSR) | F14: =F11/F12 -> 0.33333333
A15: Total de dias no mês (30 dias) | F15: 30
A16: Total geral de horas mês com (DSR) | F16: =F14*F15 -> 10
A17: Total geral de horas base mês com (DSR) | F17: 220
A18: Fator de utilização | F18: =F16/F17 -> 0.045454545

Sheet Roteiros
A1: Prefeitura Municipal de São Marcos
A2: Rota de Coleta de Resíduos de Serviços de Saúde
A3: Rota 1 - Coleta de Resíduos de Saúde
A4: Locais de coleta: Secretaria de Saúde
A5: Trecho | B5: Descrição | C5: Ponto a Ponto | D5: Distância | E5: Unid
A6: Trecho 01 | B6: Coleta interna (Postos x UBS) | C6: 1 | D6: 15 | E6: km
A7: Trecho 02 | B7: Destino Final x Centro de Saúde (ida e volta) | C7: 2 | D7: 100 | E7: km
A9: Distância total do percurso (02 vezes mês) | D9: =SUM(D6:D8)*2 -> 230 | E9: km
A11: Probabilidade de coleta nos municípios na mesma viagem | B11: Municípios | E11: Mun.
A13: Rateio proporcional nos municípios | D13: =(D6+D7)/D11 -> #DIV/0! | E13: km
A14: Distância total mensal (02 vezes mês) | D14: =SUM(D13)*2 -> #DIV/0! | E14: km
