Workbook

Sheet CAGED
B1: 1. CAGED
B2: Rio Grande do Sul - Transporte de passageiros - CNAE: 4923-0/02
B3: Admissões | C3: 808
B4: Desligamentos | C4: 765
B5: Dispensados com justa causa | C5: 2
B6: Dispensados sem justa causa | C6: 504
B7: Espontâneos | C7: 130
B8: Fim de contrato por prazo determinado | C8: 6
B9: Término de contrato | C9: 116
B10: Aposentados | C10: 1
B11: Mortos | C11: 3
B12: Transferência de saída | C12: 0
B13: Acordo | C13: 0
B14: Indicadores
B15: Estoque recuperado início do Período 01-12-2018 | C15: 0
B16: Estoque recuperado final do Período 30-11-2019 | C16: 43
B17: Variação Emprego Absoluta de 01-12-2018 a 30-11-2019 | C17: =C3-C4 -> 43
B19: Estoque Médio | C19: =MEDIAN(C15,C16) -> 21.5
B20: % Demitidos s/ Justa Causa em relação ao Estoque Médio | C20: =C6/C19 -> 23.44186
B21: Taxa de Rotatividade | C21: =MEDIAN(C3,C4)/C19 -> 36.581395
B22: Rotatividade temporal (meses) | C22: =12/C21 -> 0.3280356
B23: Dias ano | C23: 360
B24: 1/3 de férias (dias) | C24: 10
B25: Férias (dias) | C25: 30
B26: 13º Salário (dias) | C26: 30
B27: Dias de Aviso prévio | C27: 36
B28: FGTS | C28: 0.08
B29: Multa FGTS | C29: 0.5

Sheet Encargos
A1: 2. Composição dos Encargos Sociais
A2: Código | B2: Descrição | C2: Valor
A3: A1 | B3: INSS | C3: 0.2
A4: A2 | B4: SESI | C4: 0
A5: A3 | B5: SENAI | C5: 0
A6: A4 | B6: INCRA | C6: 0
A7: A5 | B7: SEBRAE | C7: 0
A8: A6 | B8: Salário educação | C8: 0
A9: A7 | B9: Seguro contra acidentes de trabalho | C9: 0.03
A10: A8 | B10: FGTS | C10: 0.08
A11: A | B11: SOMA GRUPO A | C11: =SUM(C3:C10) -> 0.31
A13: B1 | B13: Férias gozadas | C13: 0
A14: B2 | B14: 13º salário | C14: =[1]Encargos!C14 -> 0.0833
A15: B3 | B15: Licença Paternidade | C15: =[1]Encargos!C15 -> 0.0006
A16: B4 | B16: Faltas justificadas | C16: =[1]Encargos!C16 -> 0.0082
A17: B5 | B17: Auxilio acidente de trabalho | C17: =[1]Encargos!C17 -> 0.0001
A18: B6 | B18: Auxilio doença | C18: 0
A19: B | B19: SOMA GRUPO B | C19: =SUM(C13:C18) -> 0.0922
A21: C1 | B21: Aviso prévio indenizado | C21: 0
A22: C2 | B22: Férias indenizadas | C22: 0
A23: C3 | B23: Férias indenizadas s/ aviso previo inden. | C23: 0
A24: C4 | B24: Depósito rescisão sem justa causa | C24: 0
A25: C5 | B25: Indenização adicional | C25: 0
A26: C | B26: SOMA GRUPO C | C26: =SUM(C21:C25) -> 0
A28: D1 | B28: Reincidência de Grupo A sobre Grupo B | C28: =ROUND(C11*C19,4) -> 0.0286
A29: D2 | B29: Reincidência de FGTS sobre aviso prévio indenizado | C29: =ROUND((C21*C10),4) -> 0
A30: D | B30: SOMA GRUPO D | C30: =SUM(C28:C29) -> 0.0286
B31: SOMA (A+B+C+D) | C31: =C30+C26+C19+C11 -> 0.4308

Sheet Mão de obra
A1: Fator de utilização (FU) | B1: 1
A3: 3. Composição da mão-de-obra
A4: 3.1. Motorista Turno do Dia
A5: Discriminação | B5: Unidade | C5: Quantidade | D5: Custo unitário | E5: Subtotal | F5: Total (R$)
A6: Piso da categoria (2) | B6: mês | C6: 1 | E6: =C6*D6 -> 0
A7: Salário mínimo nacional (1) | B7: mês | C7: 1
A8: Horas Extras (100%) | B8: hora | C8: 0 | E8: =C8*D8 -> 0
A9: Horas Extras (50%) | B9: hora | C9: 0 | D9: =D6/220*1.5 -> 0 | E9: =C9*D9 -> 0
A10: Descanso Semanal Remunerado (DSR) - hora extra | B10: R$ | D10: =63/302*(SUM(E8:E9)) -> 0 | E10: =D10 -> 0
A11: Base de cálculo da Insalubridade | C11: 2373
A12: Adicional de Insalubridade | B12: % | C12: 0 | D12: =IF(C11=2,SUM(E6:E10),IF(C11=1,(SUM(E6:E10))*D7/D6,0)) -> 0 | E12: =C12*D12/100 -> 0
A13: Soma | E13: =SUM(E6:E12) -> 0
A14: Encargos Sociais | B14: % | C14: =Encargos!$C$31*100 -> 43.08 | D14: =E13 -> 0 | E14: =D14*C14/100 -> 0
A15: Total por Motorista | E15: =E13+E14 -> 0
A16: Total do Efetivo | B16: homem | C16: 1 | D16: =E15 -> 0 | E16: =C16*D16 -> 0
D17: Fator de utilização | E17: =$B$1 -> 1 | F17: =E16*E17 -> 0
A19: 3.2. Motorista Turno Noite
A20: Discriminação | B20: Unidade | C20: Quantidade | D20: Custo unitário | E20: Subtotal | F20: Total (R$)
A21: Piso da categoria (2) | B21: mês | C21: 1 | D21: =D6 -> 0 | E21: =C21*D21 -> 0
A22: Salário mínimo nacional (1) | B22: mês | C22: 1 | D22: =D7 -> 0
A23: Adicional Noturno | B23: horas trabalhadas | C23: 0
B24: hora contabilizada | C24: =C23*8/7 -> 0 | D24: =D21/220*0.2 -> 0 | E24: =C23*D24 -> 0
A25: Horas Extras (100%) | B25: hora | C25: 0 | D25: =D21/220*2 -> 0 | E25: =C25*D25 -> 0
A26: Horas Extras Noturnas (100%) | B26: horas trabalhadas | C26: 0
B27: hora contabilizada | C27: =C26*8/7 -> 0 | D27: =D21/220*2*1.2 -> 0 | E27: =C27*D27 -> 0
A28: Horas Extras (50%) | B28: hora | C28: 0 | D28: =D21/220*1.5 -> 0 | E28: =C28*D28 -> 0
A29: Horas Extras Noturnas (50%) | B29: horas trabalhadas | C29: 0
B30: hora contabilizada | C30: =C29*8/7 -> 0 | D30: =D21/220*1.5*1.2 -> 0 | E30: =C30*D30 -> 0
A31: Descanso Semanal Remunerado (DSR) - hora extra | B31: R$ | D31: =63/302*(SUM(E25:E30)) -> 0 | E31: =D31 -> 0
A32: Base de cálculo da Insalubridade | C32: 0
A33: Adicional de Insalubridade | B33: % | C33: =+C12 -> 0 | D33: =IF(C32=2,SUM(E21:E31),IF(C32=1,SUM(E21:E31)*D22/D21,0)) -> 0 | E33: =C33*D33/100 -> 0
A34: Soma | E34: =SUM(E21:E33) -> 0
A35: Encargos Sociais | B35: % | C35: =Encargos!$C$31*100 -> 43.08 | D35: =E34 -> 0 | E35: =D35*C35/100 -> 0
A36: Total por Motorista | E36: =E34+E35 -> 0
A37: Total do Efetivo | B37: homem | C37: 0 | D37: =E36 -> 0 | E37: =C37*D37 -> 0
D38: Fator de utilização | E38: =$B$1 -> 1 | F38: =E37*E38 -> 0
A41: 3.3. Vale Transporte
A42: Discriminação | B42: Unidade | C42: Quantidade | D42: Custo unitário | E42: Subtotal | F42: Total (R$)
A43: Vale Transporte | B43: R$ | C43: 0
A44: Dias Trabalhados por mês | B44: dia
...

Sheet Remuneração de capital
A1: Dados de Depreciação
A2: Valor do inicial veículo | B2: R$
A3: Vida útil estimada | B3: anos
A4: % de depreciação | B4: % | C4: =100/C3 -> #DIV/0!
A5: Valor residual | B5: R$
A6: Vida útil utilizada (idade do veículo) | B6: anos | C6: 0
A7: Depreciação acumulada | B7: R$ | C7: =((C2-C5)*(C4%*C6)) -> #DIV/0!
A8: Fator de utilização (FU) | C8: ='Mão de obra'!B1 -> 1
A9: 4. Depreciação e Remuneração de Capital
A10: 4.1. Depreciação
A11: Discriminação | B11: Unidade | C11: Quantidade | D11: Custo unitário | E11: Subtotal | F11: Total (R$)
A12: Custo de aquisição (valor inicial) | B12: unidade | C12: 1 | D12: =C2 -> 0 | E12: =C12*D12 -> 0
A13: Vida útil | B13: anos | C13: =C3 -> 0
A14: Idade do veículo | B14: anos | C14: =C6 -> 0
A15: Depreciação do chassis | B15: % | C15: 100 | D15: =E12 -> 0 | E15: =C15*(D15-C5)/100 -> 0
A16: Depreciação mensal veículos | B16: mês | C16: =C13*12 -> 0 | D16: =IF(C14<=C13,E15,0) -> 0 | E16: =IFERROR(D16/C16,0) -> 0
A17: Total por veículo | E17: =E16 -> 0
A18: Total da frota | B18: unidade | C18: 1 | D18: =E17 -> 0 | E18: =C18*D18 -> 0
D19: Fator de utilização | E19: =C8 -> 1 | F19: =E18*E19 -> 0
A23: 4.2. Remuneração do Capital
A24: Discriminação | B24: Unidade | C24: Quantidade | D24: Custo unitário | E24: Subtotal | F24: Total (R$)
A25: Custo do chassis | B25: unidade | C25: 1 | D25: =C2 -> 0 | E25: =C25*D25 -> 0
A26: Taxa de juros anual nominal | B26: % | C26: 6.5
A27: Valor do veículo proposto (V0)* | B27: R$ | C27: =C2-C5-C7 -> #DIV/0!
A28: Investimento médio | B28: R$ | C28: =((C2-C7)-(C5))*((C3+1)/(2*C3))+(C5) -> #DIV/0!
A29: Remuneração mensal de capital do chassis | B29: R$ | D29: =C26*C28/12/100 -> #DIV/0! | E29: =D29 -> #DIV/0!
A30: Total por veículo | E30: =E29 -> #DIV/0!
A31: Total da frota | B31: unidade | C31: 1 | D31: =E30 -> #DIV/0! | E31: =C31*D31 -> #DIV/0!
D32: Fator de utilização | E32: =C8 -> 1 | F32: =E31*E32 -> #DIV/0!

Sheet Impostos e manutenção
A1: Fator de utilização (FU) | B1: ='Mão de obra'!B1 -> 1
A3: 5. Impostos e manutenção
A4: 5.1. Impostos e Seguros
A5: Discriminação | B5: Unidade | C5: Quantidade | D5: Custo unitário | E5: Subtotal | F5: Total (R$)
A6: IPVA | B6: unidade | C6: ='Remuneração de capital'!C31 -> 1 | D6: 0 | E6: =C6*D6 -> 0 | F6: =E6*E10 -> 0
A7: Licenciamento e Seguro obrigatório | B7: unidade | C7: ='Remuneração de capital'!C31 -> 1 | D7: 104.36 | E7: =C7*D7 -> 104.36 | F7: =E7*E10 -> 104.36
A8: Seguro contra terceiros | B8: unidade | C8: ='Remuneração de capital'!C31 -> 1 | D8: 6590 | E8: =C8*D8 -> 6590 | F8: =E8*E10 -> 6590
A9: Impostos e seguros mensais | B9: mês | C9: 12 | D9: =SUM(E6:E8) -> 6694.36 | E9: =D9/C9 -> 557.86333
D10: Fator de utilização | E10: =B1 -> 1 | F10: =E9*E10 -> 557.86333
A12: 5.2. Consumos
A14: Quilometragem mensal | B14: 2640
A16: Discriminação | B16: Unidade | C16: Consumo | D16: Custo unitário | E16: Subtotal | F16: Total (R$)
A17: Custo de óleo diesel / km rodado | B17: km/l | E17: 0
A18: Custo mensal com óleo diesel | B18: km | C18: =B14 -> 2640 | D18: =IFERROR(+D17/C17,"-") -> - | E18: =IFERROR(C18*D18,"-") -> -
A19: Custo de óleo do motor /1.000 km rodados | B19: l/1.000 km
A20: Custo mensal com óleo do motor | B20: km | C20: =C18 -> 2640 | D20: 0.007 | E20: =C20*D20 -> 18.48
A21: Custo de óleo da transmissão /1.000 km | B21: l/1.000 km
A22: Custo mensal com óleo da transmissão | B22: km | C22: =C18 -> 2640 | D22: =+C21*D21/1000 -> 0 | E22: =C22*D22 -> 0
A23: Custo de óleo hidráulico / 1.000 km | B23: l/1.000 km
A24: Custo mensal com óleo hidráulico | B24: km | C24: 2640 | D24: =+C23*D23/1000 -> 0 | E24: =C24*D24 -> 0
A25: Custo de graxa /1.000 km rodados | B25: kg/1.000 km
A26: Custo mensal com graxa | B26: km | C26: =C18 -> 2640 | D26: =+C25*D25/1000 -> 0 | E26: =C26*D26 -> 0
A27: Custo com consumos/km rodado | B27: R$/km rodado | D27: =IFERROR(D18+D20+D22+D24+D26,0) -> 0
F28: =SUM(E17:E26) -> 18.48
A30: 5.3. Manutenção preventiva e corretiva
A31: Discriminação | B31: Unidade | C31: Quantidade | D31: Custo unitário | E31: Subtotal | F31: Total (R$)
A32: Custo de manutenção | B32: R$/km rodado | C32: 2640 | E32: =C32*D32 -> 0
F33: =E32 -> 0
A35: 5.4. Pneus
A36: Discriminação | B36: Unidade | C36: Quantidade | D36: Custo unitário | E36: Subtotal | F36: Total (R$)
A37: Custo do jogo de pneus xxx/xx Rxx | B37: unidade | E37: =C37*D37 -> 0
A38: Número de recapagens por pneu | B38: unidade | C38: 0
A39: Custo de recapagem | B39: unidade | C39: =C37*C38 -> 0 | D39: 0 | E39: =C39*D39 -> 0
A40: Custo jg. compl. + X recap./ km rodado | B40: km/jogo | D40: =E37+E39 -> 0 | E40: =IFERROR(D40/C40,"-") -> -
A41: Custo mensal com pneus | B41: km | C41: 2640 | D41: =E40 -> - | E41: =IFERROR(C41*D41,0) -> 0
F42: =E41 -> 0
A44: CUSTO TOTAL DE IMPOSTOS E MANUTENÇÃO | B44: R$/mês | F44: =F10+F28+F33+F42 -> 576.34333

Sheet BDI
A2: 6. Composição do BDI - Benefícios e Despesas Indiretas
A3: Administração Central | B3: AC | C3: 0.0069
A4: Seguros/Riscos/Garantias | B4: SRG | C4: 0.0454
A5: Lucro | B5: L | C5: 0.381
A6: Despesas Financeiras | B6: DF | C6: 0.0665 | D6: i | E6: 0.1375
A7: Tributos - ISS | B7: T | C7: 0.03 | D7: DU | E7: 15
A8: Tributos - PIS/COFINS | C8: 0.0365
A9: Fórmula para o cálculo do BDI: | C9: %
A10: {[(1+AC+SRG) x (1+L) x (1+DF)] / (1-T)} -1
A11: Resultado do cálculo do BDI: | C11: =ROUND((((1+C3+C4)*(1+C5)*(1+C6))/(1-(C7+C8))-1),4) -> 0.6603
A15: CUSTO TOTAL MENSAL COM DESPESAS OPERACIONAIS | B15: R$/mês | F15: ='Mão de obra'!F59+'Impostos e manutenção'!F44 -> 576.34333
A17: 6.1. Benefícios e Despesas Indiretas - BDI
A18: Discriminação | B18: Unidade | C18: Quantidade | D18: Custo unitário | E18: Subtotal | F18: Total (R$)
A19: Benefícios e despesas indiretas | B19: % | C19: =C11*100 -> 66.03 | D19: =+F15 -> 576.34333 | E19: =C19*D19/100 -> 380.5595
F20: =+E19 -> 380.5595
A22: CUSTO MENSAL COM BDI (R$/mês) | F22: =F20 -> 380.5595

Sheet Composição de custos
A1: 7. Transporte Escolar - Planilha de composição de custos
A2: Descrição | B2: Custo (R$/mês) | C2: %
A3: 1. Mão-de-obra | B3: =SUM(B4:B8) -> 0 | C3: =IFERROR(B3/$B$17,0) -> 0
A4: 1.1. Motorista dia | B4: ='Mão de obra'!F17 -> 0 | C4: =IFERROR(B4/$B$17,0) -> 0
A5: 1.2. Motorista noite | B5: ='Mão de obra'!F38 -> 0 | C5: =IFERROR(B5/$B$17,0) -> 0
A6: 1.3. Vale transporte | B6: ='Mão de obra'!F46 -> 0 | C6: =IFERROR(B6/$B$17,0) -> 0
A7: 1.4. Vale Refeição (diário) | B7: ='Mão de obra'!F51 -> 0 | C7: =IFERROR(B7/$B$17,0) -> 0
A8: 1.5. Auxílio alimentção (mensal) | B8: ='Mão de obra'!F56 -> 0 | C8: =IFERROR(B8/$B$17,0) -> 0
A9: 2. Veículos | B9: =SUM(B10:B15) -> #DIV/0! | C9: =IFERROR(B9/$B$17,0) -> 0
A10: 2.1. Depreciação | B10: ='Remuneração de capital'!F19 -> 0 | C10: =IFERROR(B10/$B$17,0) -> 0
A11: 2.2. Remuneração de capital | B11: ='Remuneração de capital'!F32 -> #DIV/0! | C11: =IFERROR(B11/$B$17,0) -> 0
A12: 2.3. Impostos e seguros | B12: ='Impostos e manutenção'!F10 -> 557.86333 | C12: =IFERROR(B12/$B$17,0) -> 0
A13: 2.4. Consumos | B13: ='Impostos e manutenção'!F28 -> 18.48 | C13: =IFERROR(B13/$B$17,0) -> 0
A14: 2.5. Manutenção | B14: ='Impostos e manutenção'!F33 -> 0 | C14: =IFERROR(B14/$B$17,0) -> 0
A15: 2.6. Pneus | B15: ='Impostos e manutenção'!F42 -> 0 | C15: =IFERROR(B15/$B$17,0) -> 0
A16: 3. BDI | B16: =BDI!F22 -> 380.5595 | C16: =IFERROR(B16/$B$17,0) -> 0
A17: PREÇO TOTAL MENSAL (1+2+3) | B17: =SUM(B3+B9+B16) -> #DIV/0! | C17: =C3+C9+C16 -> 0
A20: Quilometragem total
A21: PREÇO POR KM RODADO | C21: =B17/B20 -> #DIV/0!
