Workbook

Sheet Custo Transporte
A1: Custo Transporte de Resíduos Sólidos
A2: Planilha de Composição de Custos
A4: Orçamento Sintético
A5: Descrição do Item | E5: Custo (R$/mês) | F5: %
A6: =A35 -> 1. Mão-de-obra | E6: =+F85 -> 23751.053 | F6: =IFERROR(E6/$E$20,0) -> 0.16259696
A7: =A25 -> 1.1 Motorista Turno Dia | E7: =F49 -> 13896.999 | F7: =IFERROR(E7/$E$20,0) -> 0.095137246
A8: =A51 -> 1.2. Motorista Turno Noite | E8: =F70 -> 7180.1345 | F8: =IFERROR(E8/$E$20,0) -> 0.04915437
A9: =A72 -> 1.3. Vale Transporte | E9: =F77 -> 202.62 | F9: =IFERROR(E9/$E$20,0) -> 0.0013871131
A10: =A79 -> 1.4. Vale-refeição (diário) | E10: =F83 -> 2471.3 | F10: =IFERROR(E10/$E$20,0) -> 0.016918234
A11: =A87 -> 2. Uniformes e Equipamentos de Proteção Individual | E11: =+F103 -> 491.875 | F11: =IFERROR(E11/$E$20,0) -> 0.0033673193
A12: =A105 -> 3. Veículos e Equipamentos | E12: =F184 -> 121830.24 | F12: =IFERROR(E12/$E$20,0) -> 0.83403572
A13: =A107 -> 3.1. Veículo Caminhão Trucado 6x2 + Equipamento Roll On Roll Off | E13: =SUM(E14:E19) -> 121830.24 | F13: =IFERROR(E13/$E$20,0) -> 0.83403572
A14: =A109 -> 3.1.1. Depreciação | E14: =F123 -> 21611.264 | F14: =IFERROR(E14/$E$20,0) -> 0.14794821
A15: =A125 -> 3.1.2. Remuneração do Capital | E15: =F139 -> 22249.51 | F15: =IFERROR(E15/$E$20,0) -> 0.15231757
A16: =A141 -> 3.1.3. Impostos e Seguros | E16: =F147 -> 2561.4417 | F16: =IFERROR(E16/$E$20,0) -> 0.017535333
A17: =A149 -> 3.1.4. Consumos | E17: =F167 -> 48791.914 | F17: =IFERROR(E17/$E$20,0) -> 0.33402379
A18: =A170 -> 3.1.5. Pneus | E18: =F177 -> 14447.641 | F18: =IFERROR(E18/$E$20,0) -> 0.098906881
A19: =A179 -> 3.1.6. Manutenção | E19: =F182 -> 12168.468 | F19: =IFERROR(E19/$E$20,0) -> 0.083303924
A20: PREÇO TOTAL MENSAL COM A COLETA | E20: =E6+E11+E12 -> 146073.17 | F20: =F6+F11+F12 -> 1
A23: Quantitativos
A24: Mão-de-obra | E24: Quantidade
A25: 1.1 Motorista Turno Dia | E25: 2
A26: 1.2. Motorista Turno da Noite | E26: 1
A27: Total de mão-de-obra (postos de trabalho) | E27: =E25+E26 -> 3
A29: Veículos e Equipamentos | E29: Quantidade
A30: =+A107 -> 3.1. Veículo Caminhão Trucado 6x2 + Equipamento Roll On Roll Off | E30: 2
A33: Fator de utilização (FU) | B33: 1
A35: 1. Mão-de-obra
A36: 1.1 Motorista Turno Dia
A37: Discriminação | B37: Unidade | C37: Quantidade | D37: Custo unitário | E37: Subtotal | F37: Total (R$)
A38: Piso da categoria (2) | B38: mês | C38: 1 | D38: 3121 | E38: =C38*D38 -> 3121
A39: Salário mínimo nacional (1) | B39: mês | C39: 1 | D39: 1621
A40: Horas Extras (100%) | B40: hora | C40: 7.33 | D40: =D38/220*2 -> 28.372727 | E40: =C40*D40 -> 207.97209
A41: Horas Extras (50%) | B41: hora | D41: =D38/220*1.5 -> 21.279545 | E41: =C41*D41 -> 0
A42: Descanso Semanal Remunerado (DSR) - hora extra | B42: R$ | D42: =63/302*(SUM(E40:E41)) -> 43.384906 | E42: =D42 -> 43.384906
A43: Base de cálculo da Insalubridade | C43: 1
A44: Adicional de Insalubridade | B44: % | C44: 40 | D44: =IF(C43=2,SUM(E38:E42),IF(C43=1,(SUM(E38:E42))*D39/D38,0)) -> 1751.551 | E44: =C44*D44/100 -> 700.6204
A45: Soma | E45: =SUM(E38:E44) -> 4072.9774
A46: Encargos Sociais | B46: % | C46: 70.6 | D46: =E45 -> 4072.9774 | E46: =D46*C46/100 -> 2875.522
A47: Total por Motorista | E47: =E45+E46 -> 6948.4994
...

Sheet 1. Planilha Transporte
A2: 1. Transporte
A3: Planilha de Composição de Custos
A5: Orçamento Sintético
A6: Descrição do Item | E6: Custo (R$/mês) | F6: %
A7: 1. Custo Transporte | E7: =C26 -> 146073.17 | F7: =IFERROR(E7/$E$15,0) -> 0.73509978
A8: =A29 -> 2. Pedágio | E8: =C34 -> 9687.6 | F8: =IFERROR(E8/$E$15,0) -> 0.048751956
A9: =A36 -> 3. Contêiner (caixa 30m³) | E9: =E10+E11 -> 3390.132 | F9: =IFERROR(E9/$E$15,0) -> 0.017060527
A10: =A37 -> 3.1. Depreciação | E10: =F45 -> 1670.4 | F10: =IFERROR(E10/$E$15,0) -> 0.0084061343
A11: =A47 -> 3.2. Remuneração de capital | E11: =F55 -> 1719.732 | F11: =IFERROR(E11/$E$15,0) -> 0.0086543931
A12: =A58 -> 4. Ferramentas e Materiais de Consumo | E12: =F69 -> 278.39167 | F12: =IFERROR(E12/$E$15,0) -> 0.0014009805
A13: =A71 -> 5. Monitoramento da Frota | E13: =F80 -> 127.5 | F13: =IFERROR(E13/$E$15,0) -> 0.00064163202
A14: =A84 -> 6. BDI | E14: =+F89 -> 39155.237 | F14: =IFERROR(E14/$E$15,0) -> 0.19704513
A15: PREÇO TOTAL MENSAL COM A COLETA | E15: =E7+E8+E9+E12+E13+E14 -> 198712.03 | F15: =F7+F8+F9+F12+F13+F14 -> 1
A18: =A7 -> 1. Custo Transporte
A19: Discriminação | B19: Unidade | C19: Custo
A20: Trajeto | B20: Km | C20: 96.3
A21: Número de eixos | B21: Unidade | C21: 6
A22: Ida + volta | B22: Km | C22: =C20*2 -> 192.6
A23: Custo Km/eixo | B23: R$ | C23: ='Custo Transporte'!E199 -> 1.6205719
A24: Total/viagens | B24: R$ | C24: =C21*C22*C23 -> 1872.7329
A25: Média de viagens por mês | B25: Unidade | C25: 78
A26: Total mês | C26: =C24*C25 -> 146073.17
A29: 2. Pedágio
A30: Discriminação | B30: Unidade | C30: Custo
A31: Campo Bom | B31: R$ | C31: 19.5
A32: Três Coroas | B32: R$ | C32: 42.6
A33: Total/viagem | B33: R$ | C33: =(C31+C32)*2 -> 124.2
A34: Total mês | C34: =C33*C25 -> 9687.6
A36: 3. Contêiner (caixa 30m³)
A37: 3.1. Depreciação
A38: Discriminação | B38: Unidade | C38: Quantidade | D38: Custo unitário | E38: Subtotal | F38: Total (R$)
A39: Custo de aquisição da caixa 30m³ | B39: unidade | C39: 1 | D39: 30000 | E39: =C39*D39 -> 30000
A40: Vida útil da caixa 30m³ | B40: anos | C40: 5
A41: Idade da caixa 30m³ | B41: anos | C41: 0
A42: Depreciação da caixa 30m³ | B42: % | C42: 55.68 | D42: =E39 -> 30000 | E42: =C42*D42/100 -> 16704
A43: Depreciação mensal caixa 30m³ | B43: mês | C43: =C40*12 -> 60 | D43: =E42 -> 16704 | E43: =IFERROR(D43/C43,0) -> 278.4
A44: Total das caixas | B44: unidade | C44: 6 | D44: =E43 -> 278.4 | E44: =C44*D44 -> 1670.4
D45: Fator de utilização | E45: 1 | F45: =E44*E45 -> 1670.4
A47: 3.2. Remuneração de capital
A48: Discriminação | B48: Unidade | C48: Quantidade | D48: Custo unitário | E48: Subtotal | F48: Total (R$)
...

Sheet 2.Encargos Sociais
B1: ENCARGOS SOCIAIS
A2: (cfe. "Orientação técnica serviços coleta resíduos sólidos domiciliares" publicada pelo TCE/RS)
A4: Composição dos Encargos Sociais
A5: Código | B5: Descrição | C5: Valor
A6: A1 | B6: INSS | C6: 0.2
A7: A2 | B7: SESI | C7: 0.015
A8: A3 | B8: SENAI | C8: 0.01
A9: A4 | B9: INCRA | C9: 0.002
A10: A5 | B10: SEBRAE | C10: 0.006
A11: A6 | B11: Salário educação | C11: 0.025
A12: A7 | B12: Seguro contra acidentes de trabalho | C12: 0.03
A13: A8 | B13: FGTS | C13: 0.08
A14: A | B14: SOMA GRUPO A | C14: =SUM(C6:C13) -> 0.368
A16: B1 | B16: Férias gozadas | C16: =ROUND(IF('3.CAGED'!C39>24,(1-12/'3.CAGED'!C39)*0.1111,0.1111-C25),4) -> 0.0619
A17: B2 | B17: 13º salário | C17: =ROUND('3.CAGED'!C33/'3.CAGED'!C30,4) -> 0.0833
A18: B3 | B18: Licença Paternidade | C18: 0.0006
A19: B4 | B19: Faltas justificadas | C19: 0.0082
A20: B5 | B20: Auxilio acidente de trabalho | C20: 0.0031
A21: B6 | B21: Auxilio doença | C21: 0.0166
A22: B | B22: SOMA GRUPO B | C22: =SUM(C16:C21) -> 0.1737
A24: C1 | B24: Aviso prévio indenizado | C24: =ROUND(('3.CAGED'!C38) *'3.CAGED'!C29/'3.CAGED'!C30,4) -> 0.0256
A25: C2 | B25: Férias indenizadas | C25: =ROUND(IF('3.CAGED'!C39>12,12/'3.CAGED'!C39*0.1111,0.1111),4) -> 0.0492
A26: C3 | B26: Férias indenizadas s/ aviso previo inden. | C26: =C24*C25 -> 0.00125952
A27: C4 | B27: Depósito rescisão sem justa causa | C27: =ROUND(('3.CAGED'!C30+'3.CAGED'!C31+'3.CAGED'!C33)/'3.CAGED'!C28*'3.CAGED'!C35*'3.CAGED'!C36*'3.CAGED'!C29/'3.CAGED'!C30,4) -> 0.0205
A28: C5 | B28: Indenização adicional | C28: =ROUND(('3.CAGED'!C32/'3.CAGED'!C30)*'3.CAGED'!C29/12,4) -> 0.0018
A29: C | B29: SOMA GRUPO C | C29: =SUM(C24:C28) -> 0.09835952
A31: D1 | B31: Reincidência de Grupo A sobre Grupo B | C31: =ROUND(C14*C22,4) -> 0.0639
A32: D2 | B32: Reincidência de Grupo A sobre aviso prévio indenizado | C32: =ROUND((C24*C13),4) -> 0.002
A33: D | B33: SOMA GRUPO D | C33: =SUM(C31:C32) -> 0.0659
B34: SOMA (A+B+C+D) | C34: =C33+C29+C22+C14 -> 0.70595952

Sheet 4.BDI
A1: Orientações para preenchimento:
A2: 1. Esta planilha é somente um modelo-base e deve ser ajustada conforme cada caso concreto.
A3: 2. Preencher somente células em amarelo
A6: Composição do BDI - Benefícios e Despesas Indiretas
A7: (cfe. "Orientação técnica serviços coleta resíduos sólidos domiciliares" publicada pelo TCE/RS)
D8: Referência estudo TCE
D9: 1° Quartil | E9: Médio | F9: 3° Quartil
A10: Administração Central | B10: AC | C10: 0.0297 | D10: 0.0297 | E10: 0.0508 | F10: 0.0627
A11: Seguros/Riscos/Garantias | B11: SRG | C11: 0.0133 | D11: =0.003+0.0056 -> 0.0086 | E11: =0.0048+0.0085 -> 0.0133 | F11: =0.0082+0.0089 -> 0.0171
A12: Lucro | B12: L | C12: =E12 -> 0.1085 | D12: 0.0778 | E12: 0.1085 | F12: 0.1355
A13: Despesas Financeiras | B13: DF | C13: =(1+E13)^(E14/252)-1 -> 0.005561517 | D13: i | E13: 0.15
A14: Tributos - ISS | B14: T | C14: 0.03 | D14: DU | E14: 10
A15: Tributos - PIS/COFINS | C15: 0.0365
A16: Fórmula para o cálculo do BDI:
A17: {[(1+AC+SRG) x (1+L) x (1+DF)] / (1-T)} -1
A18: Resultado do cálculo do BDI: | C18: =ROUND((((1+C10+C11)*(1+C12)*(1+C13))/(1-(C14+C15))-1),4) -> 0.2454 | D18: 0.2143 | E18: 0.2717 | F18: 0.3362

Sheet 3.CAGED
A1: CÁLCULO DAS VERBAS INDENIZATÓRIAS DOS EMPREGADOS NO SETOR DE COLETA DE RSU
A3: Para preencher esta planilha siga os passos 1 a 5:
A4: 1. Acesse o Portal do CAGED no link http://bi.mte.gov.br/cagedestabelecimento/pages/consulta.xhtml
A5: 2. Na Especificação da Consulta, selecione "Demonstrativo por período" e informe as competências relativas ao período Inicial e Final (últimos 12 meses)
A6: 3. Nível Geográfico: selecione "Unidade da Federação" e marque a opção "Rio Grande do Sul"
A7: 4. Nível Setorial: selecione "Classe de atividade econômica segundo a classificação CNAE – versão 2.0 (669 categorias)" e marque a opção "38114 – Coleta de Resíduos Não-Perigosos"
A8: 5. Clique em Gerar Relatório
A9: 6. Preencha as células em amarelo
B11: CAGED
B12: Rio Grande do Sul - Coleta de Resíduos Não-Perigosos - CNAE 38114
B13: Admissões | C13: 2100
B14: Desligamentos | C14: 2031
B15: Dispensados com justa causa | C15: 44
B16: Dispensados sem justa causa | C16: 1192
B17: Espontâneos | C17: 372
B18: Fim de contrato por prazo determinado | C18: 22
B19: Término de contrato | C19: 350
B20: Aposentados | C20: 1
B21: Mortos | C21: 30
B22: Transferência de saída | C22: 0
B23: Indicadores
B24: Estoque recuperado início do Período 01-08-2017 | C24: 4625
B25: Estoque recuperado final do Período 31-07-2018 | C25: 4694
B26: Variação Emprego Absoluta de 01-08-2017 a 31-07-2018 | C26: 69
B28: Rotatividade | C28: =MEDIAN(C13,C14)/MEDIAN(C24,C25) -> 0.44328791 | G28: =12/C28 -> 27.070443
B29: Demitidos s/ Justa Causa em relação ao Estoque Médio | C29: =C16/MEDIAN(C24,C25) -> 0.25582144
B30: Dias ano | C30: 360
B31: 1/3 de férias (dias) | C31: 10
B32: Férias (dias) | C32: 30 | G32: =TRUNC(G37) -> 3
B33: 13º Salário (dias) | C33: 30
B34: Estoque Médio | C34: =MEDIAN(C24,C25) -> 4659.5
B35: FGTS | C35: 0.08 | K35: =IF(C39>12,C39-12,C39) -> 15.070443
B36: Multa FGTS | C36: 0.4 | K36: =IF(#REF!>12,#REF!-12,#REF!,TRUE())) -> #VALUE!
B37: Fração de tempo para gozo férias | C37: =((1/C28)-TRUNC(E37)) -> 0.25587025 | D37: =TRUNC(E37) -> 2 | E37: =1/C28 -> 2.2558702 | F37: =((1/C28)-TRUNC(E37)) -> 0.25587025 | G37: =12*F37 -> 3.070443 | K37: =IF(#REF!>12,#REF!-12,#REF!,TRUE())) -> #VALUE!
B38: Dias de Aviso prévio | C38: =30+D38 -> 36 | D38: =3*D37 -> 6 | G38: =G37/12*40/360 -> 0.028430028 | K38: =IF(#REF!>12,#REF!-12,#REF!,TRUE())) -> #VALUE!
B39: Rotatividade temporal (meses) | C39: =12/C28 -> 27.070443 | K39: =IF(#REF!>12,#REF!-12,#REF!,TRUE())) -> #VALUE!
K40: =IF(K39>12,K39-12,K39) -> #VALUE!
K41: =IF(K40>12,K40-12,K40) -> #VALUE!

Sheet 5. Depreciação
A1: 5. Depreciação Referencial TCE/RS (%)
A2: Idade do veículo (ano) | B2: Depreciação Média
A3: 1 | B3: 33.63
A4: 2 | B4: 43.13
A5: 3 | B5: 48.68
A6: 4 | B6: 52.62
A7: 5 | B7: 55.68
A8: 6 | B8: 58.18
A9: 7 | B9: 60.29
A10: 8 | B10: 62.12
A11: 9 | B11: 63.73
A12: 10 | B12: 65.18
A13: 11 | B13: 66.48
A14: 12 | B14: 67.67
... A17: 15 | B17: 70.73

Sheet 6.Remuneração de capital
A1: 6. Remuneração de Capital
A3: Fórmula de cálculo da remuneração de capital:
A12: Jm = remuneração de capital mensal
A13: i = taxa de juros do mercado (sugere-se adotar a taxa SELIC)
A14: Im = investimento médio
A15: V0 = valor inicial do bem
A16: Vr = valor residual do bem
A17: n = vida útil do bem em anos

Sheet 7. Dimensionamento
A1: Orientações para preenchimento:
A2: 1. Esta planilha é somente um modelo de cálculo expedito e deve ser ajustada conforme cada caso concreto.
A3: 2. Dimensionar separadamente setores atendidos por veículos de capacidade de carga diferentes.
A4: 3. Preencher somente células em amarelo
A6: 7. Dimensionamento da frota
A8: Indicador | B8: Unid | C8: Valor
A9: População (H) | B9: hab | C9: 35000
A10: Geração per capita (G) | B10: Kg/hab.dia | C10: 1.35
A11: Geração total diária (Qd) | B11: ton/dia | C11: =C9*C10/1000 -> 47.25
A12: Geração Mensal | B12: ton | C12: 1500
A13: Número de dias de coleta por semana (Dc) | B13: dia | C13: 7
A14: Quantitativo diário de coleta (Qc) | B14: ton/dia | C14: =C11*7/C13 -> 47.25
A15: Densidade RSU compactado | B15: Kg/m³ | C15: 500
A16: Tipo de Veículo (1 = toco, 2 = truck) | C16: 1
A17: Capacidade do Compactador | B17: m³ | C17: 12
A18: Capacidade nominal de carga (Cc) | B18: ton | C18: =IF(AND(C17>=15,C16=1),5.8,C17/2) -> 6
A19: Número de Cargas por dia (Nc) | C19: =C14/C18 -> 7.875
A20: Número total de percursos de coleta por veículo, por dia (Np) | C20: 2
A21: Número de veículos da Frota (F)
