Workbook
Name Excel_BuiltIn_Print_Area_1: #REF!

Sheet PROG NECESSIDADES
B1: CÂMARA MUNICIPAL DE PORTO ALEGRE
B2: SEÇÃO DE OBRAS E MANUTENÇÃO
B3: INSTALAÇÃO DE ESTAÇÃO ELEVATÓRIA DE ESGOTO SANITÁRIO
B4: PROGRAMA DE NECESSIDADES
B5: ITEM | C5: SERVIÇOS
B6: 1. | C6: SERVIÇOS PRELIMINARES
C7: INSTALAÇÃO DE CONTÊINER METÁLICO - ESCRITÓRIO
B9: 2. | C9: ESCAVAÇÕES E DEMOLIÇÕES
C10: LIMPEZA DE VEGETAÇÃO E ESCAVAÇÃO DE MATERIAL DE 1ª CATEGORIA
C11: DEMOLIÇÃO DE PISO DE CONCRETO SIMPLES COM MARTELETE SEM REAPROVEITAMENTO
C12: REMOÇÃO DE GUIAS DE MEIO-FIO COM REAPROVEITAMENTO
C13: ESCAVAÇÃO DE VALA PARA TUBULAÇÃO
C14: ESCAVAÇÃO, ESCORAMENTO DE VALA E REBAIXAMENTO DE LENÇOL FREÁTICO
C15: PREPARO DE FUNDO DAS VALAS COM LASTRO DE BRITA E AREIA, NO CASO DA VALA DA TUBULAÇÃO
B17: 3. | C17: INSTALAÇÃO DO EQUIPAMENTO/TUBULAÇÃO E REATERRO
C18: INSTALAÇÃO DA ESTAÇÃO ELEVATÓRIA
C19: CONCRETAGEM EXTERNA DA BASE DA ELEVATÓRIA, PARA FIXAÇÃO DESTA NA VALA
C20: INSTALAÇÃO DAS TUBULAÇÕES DE ENTRADA PARA A ELEVATÓRIA E DE SAÍDA PARA A REDE PÚBLICA
C21: INSTALAÇÕES ELÉTRICAS NECESSÁRIAS PARA O FUNCIONAMENTO DA BOMBA
C22: ATERRO COM AREIA PARA PROTEÇÃO DA TUBULAÇÃO E DOS ANEIS DE CONCRETO
C23: REATERRO FINAL E COMPACTAÇÃO DAS VALAS COM SOLO
B25: 4. | C25: PAVIMENTAÇÃO E RECONDICIONAMENTO DO PASSEIO
C26: PAVIMENTAÇÃO DO TRECHO DE ASFALTO DEMOLIDO PARA A INSTALAÇÃO DA TUBULAÇÃO
C27: RECONDICIONAMENTO DO PASSEIO QUE FOI DEMOLIDO PARA A INSTALAÇÃO DA TUBULAÇÃO (CONCRETAGEM/INSTALAÇÃO DE PISO DE BASALTO)
C28: REINSTALAÇÃO DO MEIO-FIO QUE FOI RETIRADO PARA A INSTALAÇÃO DA TUBULAÇÃO
C29: PLANTIO DE GRAMA PARA RECONDICIONAMENTO DO PAISAGISMO DO LOCAL DE INTERFERÊNCIA

Sheet MEMÓRIA CÁLCULO
B2: CÂMARA MUNICIPAL DE PORTO ALEGRE
B3: SEÇÃO DE OBRAS E MANUTENÇÃO
B4: INSTALAÇÃO DE ESTAÇÃO ELEVATÓRIA DE ESGOTO SANITÁRIO
B5: MEMÓRIA DE CÁLCULO
B6: SERVIÇO | D6: MEDIDAS | H6: UNIDADE
B7: 1 | C7: SERVIÇOS PRELIMINARES | D7: Largura/Descrição | E7: Altura | F7: Comprimento | G7: Valor Total
B8: 1.1 | C8: LOCACAO DE CONTAINER 2,30 X 6,00 M, ALT. 2,50 M, PARA ESCRITORIO, SEM DIVISORIAS INTERNAS E SEM SANITARIO | D8: Locação pelo período da obra | G8: 1 | H8: mês
B9: 1.2 | C9: ENGENHEIRO CIVIL DE OBRA PLENO COM ENCARGOS COMPLEMENTARES | D9: Total de 60h de trabalho | G9: 60 | H9: h
B10: 1.3 | C10: ENCARREGADO GERAL DE OBRAS COM ENCARGOS COMPLEMENTARES | D10: Pelo período da obra | G10: 1 | H10: mês
B11: 2 | C11: ESCAVAÇÕES E DEMOLIÇÕES | D11: Largura (m) | E11: Altura (m) | F11: Comprimento (m) | G11: Valor Total
B12: 2.1 | C12: ESCAVAÇÃO MECANIZADA DE VALA COM PROFUNDIDADE ATÉ 1,5 M, LARGURA MENOR QUE 0,8M, EM SOLO DE 1A CATEGORIA, EM LOCAIS COM ALTO NÍVEL DE INTERFERÊNCIA | D12: 0.4 | E12: 0.5 | F12: 90 | G12: =D12*E12*F12 -> 18 | H12: m³
B13: 2.2 | C13: PREPARO DE FUNDO DE VALA COM LARGURA MENOR QUE 1,5 M, COM CAMADA DE BRITA, LANÇAMENTO MANUAL | D13: 0.4 | E13: 0.1 | F13: 90 | G13: =D13*E13*F13 -> 3.6 | H13: m³
B14: 2.3 | C14: ESCAVAÇÃO MECANIZADA DE VALA COM PROF. MAIOR QUE 1,5 M ATÉ 3,0 M (MÉDIA MONTANTE E JUSANTE/UMA COMPOSIÇÃO POR TRECHO),COM ESCAVADEIRA (1,2 M3),LARG. DE 1,5 M A 2,5 M, EM SOLO DE 1A CATEGORIA, LOCAIS COM BAIXO NÍVEL DE INTERFERÊNCIA. | D14: 3 | E14: 3 | F14: 3 | G14: =D14*E14*F14*1.3 -> 35.1 | H14: m³
B15: 2.4 | C15: ESCORAMENTO DE VALA, TIPO CONTÍNUO, COM PROFUNDIDADE DE 1,5 A 3,0 M, LARGURA MAIOR OU IGUAL A 1,5 M E MENOR QUE 2,5 M. | D15: 3 | E15: 3 | F15: - | G15: =D15*E15*4 -> 36 | H15: m²
B16: 2.5 | C16: REBAIXAMENTO DE LENÇOL FREÁTICO | D16: Realizada composição unitária para todo o processo | G16: 1 | H16: un
B17: 2.6 | C17: PREPARO DE FUNDO DE VALA COM LARGURA MAIOR OU IGUAL A 1,5 M E MENOR QUE 2,5 M, COM CAMADA DE BRITA, LANÇAMENTO MECANIZADO. | D17: 3 | E17: 0.1 | F17: 3 | G17: =D17*E17*F17 -> 0.9 | H17: m³
B18: 2.7 | C18: DEMOLIÇÃO DE PISO DE CONCRETO SIMPLES, DE FORMA MECANIZADA COM MARTELETE, SEM REAPROVEITAMENTO. | D18: 2 | E18: 0.1 | F18: 0.4 | G18: =D18*E18*F18*6 -> 0.48 | H18: m³
B19: 2.8 | C19: DEMOLIÇÃO DE GUIAS, SARJETAS OU SARJETÕES, DE FORMA MECANIZADA, SEM REAPROVEITAMENTO. | D19: Dez pontos onde a vala passa por uma guia | G19: 10 | H19: m
B20: 2.9 | C20: DEMOLIÇÃO PARCIAL DE PAVIMENTO ASFÁLTICO, DE FORMA MECANIZADA, SEM REAPROVEITAMENTO. | D20: 0.5 | E20: - | F20: 6 | G20: =D20*F20 -> 3 | H20: m²
B21: 3 | C21: INSTALAÇÃO DO EQUIPAMENTO/TUBULAÇÃO E REATERRO | D21: Largura (m)/Diâmetro(m)/Descrição | E21: Altura (m) | F21: Comprimento(m)/Diâmetro(m) | G21: Valor Total
B22: 3.1 | C22: LASTRO DE CONCRETO MAGRO, APLICADO EM BLOCOS DE COROAMENTO OU SAPATAS | D22: 1.9 | E22: 0.4 | F22: 1.9 | G22: =(D22*F22-PI()*0.625^2)*E22 -> 0.95312615 | H22: m³
B23: 3.2 | C23: CAIXA ENTERRADA HIDRÁULICA RETANGULAR, EM CONCRETO PRÉ-MOLDADO, DIMENSÕES INTERNAS: 0,6X0,6X0,5 M. | D23: Duas caixas que levam o esgoto do Bloco de Utilidades e do Centro de Convivência para a Elevatória | G23: 2 | H23: un
B24: 3.3 | C24: TUBO PEAD LISO PARA REDE DE ÁGUA OU ESGOTO, DIÂMETRO DE 160 MM, JUNTA SOLDADA (NÃO INCLUI A EXECUÇÃO DE SOLDA) - FORNECIMENTO E ASSENTAMENTO | D24: Saindo da Elevatória e indo até o PV que receberá o efluente | G24: 65 | H24: m
B25: 3.4 | C25: TUBO DE PVC PARA REDE COLETORA DE ESGOTO DE PAREDE MACIÇA, DN 150 MM, JUNTA ELÁSTICA - FORNECIMENTO E ASSENTAMENTO. | D25: Tubulação que liga dois PVs à Elevatória | G25: 25 | H25: m
B26: 3.5 | C26: VÁLVULA DE RETENÇÃO HORIZONTAL, DE BRONZE, ROSCÁVEL, 3" - FORNECIMENTO E INSTALAÇÃO. | D26: Duas unidades, conforme configuração do equipamento | G26: 2 | H26: un
B27: 3.6 | C27: REGISTRO DE GAVETA BRUTO, LATÃO, ROSCÁVEL, 3" - FORNECIMENTO E INSTALAÇÃO. | G27: 2 | H27: un
B28: 3.7 | C28: CAIXA ENTERRADA HIDRÁULICA RETANGULAR EM ALVENARIA COM TIJOLOS CERÂMICOS MACIÇOS, DIMENSÕES INTERNAS: 1X1X0,6 M PARA REDE DE DRENAGEM. | D28: Caixa para apoio e proteção do barrilete | G28: 1 | H28: un
B29: 3.8 | C29: REATERRO MECANIZADO DE VALA COM RETROESCAVADEIRA, LARGURA ATÉ 0,8 M, PROFUNDIDADE ATÉ 1,5 M, COM SOLO (SEM SUBSTITUIÇÃO) DE 1ª CATEGORIA, COM COMPACTADOR DE SOLOS DE PERCUSSÃO. | D29: 0.5 | E29: 0.2 | F29: 90 | G29: =D29*E29*F29 -> 9 | H29: m³
B30: 3.9 | C30: ATERRO MECANIZADO DE VALA COM MINICARREGADEIRA, COM AREIA PARA ATERRO. | D30: Para a Elevatória, calculada a área da base descontada a área do anel de concreto, multiplicada por uma camada de 2,00m de areia. Para as demais valas, mesmas dimensões de largura e comprimento, com camada de 20cm | G30: =(3*3-PI()*1^2)*2.5+90*0.2*0.5 -> 23.646018 | H30: m³
B31: 3.10 | C31: REATERRO MECANIZADO DE VALA COM ESCAVADEIRA HIDRÁULICA, LARGURA DE 1,5 A 2,5 M, PROFUNDIDADE DE 1,5 A 3,0 M, COM SOLO (SEM SUBSTITUIÇÃO) DE 1ª CATEGORIA, COM COMPACTADOR DE SOLOS DE PERCUSSÃO. | D31: Composição referente à vala da Elevatória. Mesma área da base apresentada em 3.9, multiplicada por 0,5m de altura (camada de solo) | G31: =(3*3-PI()*1^2)*0.5 -> 2.9292037 | H31: m³
B32: 4 | C32: REATERRO, PAVIMENTAÇÃO E RECONDICIONAMENTO DO PASSEIO
B33: 4.1 | C33: EXECUÇÃO DE LAJE SOBRE SOLO, ESPESSURA DE 15 CM, FCK = 30 MPA, COM USO DE FORMAS EM MADEIRA SERRADA. | D33: 2.5 | F33: 2.5 | G33: =D33*F33 -> 6.25 | H33: m²
B34: 4.2 | C34: ASSENTAMENTO DE GUIA DE CONCRETO PRÉ-FABRICADO, REAPROVEITADA, EM TRECHO RETO | D34: Reinstalação dos meios-fios removidos | G34: 10 | H34: m
B35: 4.3 | C35: EXECUÇÃO DE PASSEIO (CALÇADA) OU PISO DE CONCRETO COM CONCRETO MOLDADO IN LOCO, FEITO EM OBRA, ACABAMENTO CONVENCIONAL, ESPESSURA 6 CM, ARMADO. | D35: 2 | E35: - | F35: 0.4 | G35: =D35*F35*5 -> 4 | H35: m²
B36: 4.4 | C36: PISO EM PEDRA ASSENTADO SOBRE ARGAMASSA 1:3 (CIMENTO E AREIA). | D36: 2 | E36: - | F36: 0.4 | G36: =D36*F36 -> 0.8 | H36: m²
B37: 4.5 | C37: PLANTIO DE GRAMA BATATAIS EM PLACAS | D37: 0.4 | F37: 90 | G37: =D37*F37-2*0.4*6-0.5*3 -> 29.7 | H37: m²

Sheet ORÇAMENTO - DESONERADO
B2: CÂMARA MUNICIPAL DE PORTO ALEGRE
B3: SEÇÃO DE OBRAS E MANUTENÇÃO
B4: INSTALAÇÃO DE ESTAÇÃO ELEVATÓRIA DE ESGOTO SANITÁRIO
B5: PLANILHA ORÇAMENTÁRIA - SINAPI DESONERADO
B6: ITEM | C6: SERVIÇOS | D6: UN | E6: QTD | F6: VL UN | G6: BDI (28,21%) | H6: VL TOTAL | I6: COD SINAPI
B7: 1 | C7: SERVIÇOS PRELIMINARES
B8: 1.1 | C8: LOCACAO DE CONTAINER 2,30 X 6,00 M, ALT. 2,50 M, PARA ESCRITORIO, SEM DIVISORIAS INTERNAS E SEM SANITARIO | D8: mês | E8: ='MEMÓRIA CÁLCULO'!G8 -> 1 | F8: 781.25 | G8: =ROUND(F8*1.2821,2) -> 1001.64 | H8: =ROUND(G8*E8,2) -> 1001.64 | I8: I-10776
B9: 1.2 | C9: ENGENHEIRO CIVIL DE OBRA PLENO COM ENCARGOS COMPLEMENTARES | D9: h | E9: ='MEMÓRIA CÁLCULO'!G9 -> 60 | F9: 109.26 | G9: =ROUND(F9*1.2821,2) -> 140.08 | H9: =ROUND(G9*E9,2) -> 8404.8 | I9: 90778
B10: 1.3 | C10: ENCARREGADO GERAL DE OBRAS COM ENCARGOS COMPLEMENTARES | D10: mês | E10: ='MEMÓRIA CÁLCULO'!G10 -> 1 | F10: 9811.28 | G10: =ROUND(F10*1.2821,2) -> 12579.04 | H10: =ROUND(G10*E10,2) -> 12579.04 | I10: 93572
C11: TOTAL DE SERVIÇOS PRELIMINARES | H11: =SUM(H8:H10) -> 21985.48
B13: 2 | C13: ESCAVAÇÕES E DEMOLIÇÕES
B14: 2.1 | C14: ESCAVAÇÃO MECANIZADA DE VALA COM PROFUNDIDADE ATÉ 1,5 M, LARGURA MENOR QUE 0,8M, EM SOLO DE 1A CATEGORIA, EM LOCAIS COM ALTO NÍVEL DE INTERFERÊNCIA | D14: m³ | E14: ='MEMÓRIA CÁLCULO'!G12 -> 18 | F14: 15.12 | G14: =ROUND(F14*1.2821,2) -> 19.39 | H14: =ROUND(G14*E14,2) -> 349.02 | I14: 90099
B15: 2.2 | C15: PREPARO DE FUNDO DE VALA COM LARGURA MENOR QUE 1,5 M, COM CAMADA DE BRITA, LANÇAMENTO MANUAL | D15: m³ | E15: =ROUNDUP('MEMÓRIA CÁLCULO'!G13,0) -> 4 | F15: 258.44 | G15: =ROUND(F15*1.2821,2) -> 331.35 | H15: =ROUND(G15*E15,2) -> 1325.4 | I15: 101619
B16: 2.3 | C16: ESCAVAÇÃO VERTICAL PARA INFRAESTRUTURA, COM CARGA, DESCARGA E TRANSPORTE DE SOLO DE 1ª CATEGORIA, COM ESCAVADEIRA HIDRÁULICA (CAÇAMBA: 0,8 M³ / 111HP), FROTA DE 3 CAMINHÕES BASCULANTES DE 10 M³, DMT ATÉ 1 KM E VELOCIDADE MÉDIA14 KM/H. AF_05/2020 | D16: m³ | E16: =ROUNDUP('MEMÓRIA CÁLCULO'!G14,0) -> 36 | F16: 11.8 | G16: =ROUND(F16*1.2821,2) -> 15.13 | H16: =ROUND(G16*E16,2) -> 544.68 | I16: 101266
B17: 2.4 | C17: ESCORAMENTO DE VALA, TIPO CONTÍNUO, COM PROFUNDIDADE DE 1,5 A 3,0 M, LARGURA MAIOR OU IGUAL A 1,5 M E MENOR QUE 2,5 M. | D17: m² | E17: ='MEMÓRIA CÁLCULO'!G15 -> 36 | F17: 57.81 | G17: =ROUND(F17*1.2821,2) -> 74.12 | H17: =ROUND(G17*E17,2) -> 2668.32 | I17: 101585
B18: 2.5 | C18: REBAIXAMENTO DE LENÇOL FREÁTICO | D18: un | E18: ='MEMÓRIA CÁLCULO'!G16 -> 1 | F18: ='COMPOSIÇÕES - DESONERADO'!G18 -> 10225.619 | G18: =ROUND(F18*1.2821,2) -> 13110.27 | H18: =ROUND(G18*E18,2) -> 13110.27 | I18: COMP 1
B19: 2.6 | C19: PREPARO DE FUNDO DE VALA COM LARGURA MAIOR OU IGUAL A 1,5 M E MENOR QUE 2,5 M, COM CAMADA DE BRITA, LANÇAMENTO MECANIZADO. | D19: m³ | E19: =ROUNDUP('MEMÓRIA CÁLCULO'!G17,0) -> 1 | F19: 185.86 | G19: =ROUND(F19*1.2821,2) -> 238.29 | H19: =ROUND(G19*E19,2) -> 238.29 | I19: 101624
B20: 2.7 | C20: DEMOLIÇÃO DE PISO DE CONCRETO SIMPLES, DE FORMA MECANIZADA COM MARTELETE, SEM REAPROVEITAMENTO. | D20: m³ | E20: =ROUNDUP('MEMÓRIA CÁLCULO'!G18,1) -> 0.5 | F20: 122.09 | G20: =ROUND(F20*1.2821,2) -> 156.53 | H20: =ROUND(G20*E20,2) -> 78.27 | I20: 104790
B21: 2.8 | C21: REMOÇAO DE GUIAS PRÉ-FABRICADAS DE CONCRETO, DE FORMA MECANIZADA, COM REAPROVEITAMENTO. | D21: m | E21: ='MEMÓRIA CÁLCULO'!G19 -> 10 | F21: 18.15 | G21: =ROUND(F21*1.2821,2) -> 23.27 | H21: =ROUND(G21*E21,2) -> 232.7 | I21: 104797
B22: 2.9 | C22: DEMOLIÇÃO PARCIAL DE PAVIMENTO ASFÁLTICO, DE FORMA MECANIZADA, SEM REAPROVEITAMENTO. | D22: m² | E22: ='MEMÓRIA CÁLCULO'!G20 -> 3 | F22: 23.08 | G22: =ROUND(F22*1.2821,2) -> 29.59 | H22: =ROUND(G22*E22,2) -> 88.77 | I22: 97636
C23: TOTAL DE ESCAVAÇÕES E DEMOLIÇÕES | H23: =SUM(H14:H22) -> 18635.72
B25: 3 | C25: INSTALAÇÃO DO EQUIPAMENTO/TUBULAÇÃO E REATERRO
B26: 3.1 | C26: LASTRO DE CONCRETO MAGRO, APLICADO EM BLOCOS DE COROAMENTO OU SAPATAS | D26: m³ | E26: =ROUNDUP('MEMÓRIA CÁLCULO'!G22,0) -> 1 | F26: 776.16 | G26: =ROUND(F26*1.2821,2) -> 995.11 | H26: =ROUND(G26*E26,2) -> 995.11 | I26: 96616
B27: 3.2 | C27: CAIXA ENTERRADA HIDRÁULICA RETANGULAR, EM CONCRETO PRÉ-MOLDADO, DIMENSÕES INTERNAS: 0,6X0,6X0,5 M | D27: un | E27: =ROUNDUP('MEMÓRIA CÁLCULO'!G23,0) -> 2 | F27: 442.2 | G27: =ROUND(F27*1.2821,2) -> 566.94 | H27: =ROUND(G27*E27,2) -> 1133.88 | I27: 97897
B28: 3.3 | C28: TUBO PEAD LISO PARA REDE DE ÁGUA OU ESGOTO, DIÂMETRO DE 110 MM, JUNTA SOLDADA (NÃO INCLUI A EXECUÇÃO DE SOLDA) - FORNECIMENTO E ASSENTAMENTO | D28: m | E28: =ROUNDUP('MEMÓRIA CÁLCULO'!G24,0) -> 65 | F28: 122.73 | G28: =ROUND(F28*1.2821,2) -> 157.35 | H28: =ROUND(G28*E28,2) -> 10227.75 | I28: 103376
B29: 3.4 | C29: TUBO DE PVC PARA REDE COLETORA DE ESGOTO DE PAREDE MACIÇA, DN 100 MM, JUNTA ELÁSTICA - FORNECIMENTO E ASSENTAMENTO. | D29: m | E29: =ROUNDUP('MEMÓRIA CÁLCULO'!G25,0) -> 25 | F29: 47.77 | G29: =ROUND(F29*1.2821,2) -> 61.25 | H29: =ROUND(G29*E29,2) -> 1531.25 | I29: 90694
B30: 3.5 | C30: VÁLVULA DE RETENÇÃO HORIZONTAL, DE BRONZE, ROSCÁVEL, 3" - FORNECIMENTO E INSTALAÇÃO. | D30: un | E30: =ROUNDUP('MEMÓRIA CÁLCULO'!G26,0) -> 2 | F30: 744.15 | G30: =ROUND(F30*1.2821,2) -> 954.07 | H30: =ROUND(G30*E30,2) -> 1908.14 | I30: 99625
B31: 3.6 | C31: REGISTRO DE GAVETA BRUTO, LATÃO, ROSCÁVEL, 3" - FORNECIMENTO E INSTALAÇÃO. | D31: un | E31: =ROUNDUP('MEMÓRIA CÁLCULO'!G27,0) -> 2 | F31: 417.77 | G31: =ROUND(F31*1.2821,2) -> 535.62 | H31: =ROUND(G31*E31,2) -> 1071.24 | I31: 94500
B32: 3.7 | C32: CAIXA ENTERRADA HIDRÁULICA RETANGULAR EM ALVENARIA COM TIJOLOS CERÂMICOS MACIÇOS, DIMENSÕES INTERNAS: 1X1X0,6 M PARA REDE DE DRENAGEM. | D32: un | E32: =ROUNDUP('MEMÓRIA CÁLCULO'!G28,0) -> 1 | F32: 880.56 | G32: =ROUND(F32*1.2821,2) -> 1128.97 | H32: =ROUND(G32*E32,2) -> 1128.97 | I32: 99257
B33: 3.8 | C33: REATERRO MECANIZADO DE VALA COM RETROESCAVADEIRA, LARGURA ATÉ 0,8 M, PROFUNDIDADE ATÉ 1,5 M, COM SOLO (SEM SUBSTITUIÇÃO) DE 1ª CATEGORIA, COM COMPACTADOR DE SOLOS DE PERCUSSÃO. | D33: m³ | E33: =ROUNDUP('MEMÓRIA CÁLCULO'!G29,0) -> 9 | F33: 24.82 | G33: =ROUND(F33*1.2821,2) -> 31.82 | H33: =ROUND(G33*E33,2) -> 286.38 | I33: 93378
B34: 3.9 | C34: ATERRO MECANIZADO DE VALA COM MINICARREGADEIRA, COM AREIA PARA ATERRO. | D34: m³ | E34: =ROUNDUP('MEMÓRIA CÁLCULO'!G30,0) -> 24 | F34: 93.76 | G34: =ROUND(F34*1.2821,2) -> 120.21 | H34: =ROUND(G34*E34,2) -> 2885.04 | I34: 104739
B35: 3.10 | C35: REATERRO MECANIZADO DE VALA COM ESCAVADEIRA HIDRÁULICA, LARGURA DE 1,5 A 2,5 M, PROFUNDIDADE DE 1,5 A 3,0 M, COM SOLO (SEM SUBSTITUIÇÃO) DE 1ª CATEGORIA, COM COMPACTADOR DE SOLOS DE PERCUSSÃO. | D35: m³ | E35: =ROUNDUP('MEMÓRIA CÁLCULO'!G31,0) -> 3 | F35: 18.31 | G35: =ROUND(F35*1.2821,2) -> 23.48 | H35: =ROUND(G35*E35,2) -> 70.44 | I35: 93369
C36: TOTAL DE INSTALAÇÃO DO EQUIPAMENTO/TUBULAÇÃO E REATERRO | H36: =SUM(H26:H35) -> 21238.2
B38: 4 | C38: PAVIMENTAÇÃO E RECONDICIONAMENTO DO PASSEIO
B39: 4.1 | C39: EXECUÇÃO DE LAJE SOBRE SOLO, ESPESSURA DE 15 CM, FCK = 30 MPA, COM USO DE FORMAS EM MADEIRA SERRADA. | D39: m² | E39: ='MEMÓRIA CÁLCULO'!G33 -> 6.25 | F39: 193.49 | G39: =ROUND(F39*1.2821,2) -> 248.07 | H39: =ROUND(G39*E39,2) -> 1550.44 | I39: 103077
B40: 4.2 | C40: ASSENTAMENTO DE GUIA DE CONCRETO PRÉ-FABRICADO, REAPROVEITADA, EM TRECHO RETO | D40: m | E40: ='MEMÓRIA CÁLCULO'!G34 -> 10 | F40: ='COMPOSIÇÕES - DESONERADO'!G43 -> 12.319306 | G40: =ROUND(F40*1.2821,2) -> 15.79 | H40: =ROUND(G40*E40,2) -> 157.9 | I40: COMP 4
B41: 4.3 | C41: EXECUÇÃO DE PASSEIO (CALÇADA) OU PISO DE CONCRETO COM CONCRETO MOLDADO IN LOCO, FEITO EM OBRA, ACABAMENTO CONVENCIONAL, ESPESSURA 8 CM, ARMADO. | D41: m² | E41: ='MEMÓRIA CÁLCULO'!G35 -> 4 | F41: 95.76 | G41: =ROUND(F41*1.2821,2) -> 122.77 | H41: =ROUND(G41*E41,2) -> 491.08 | I41: 94994
B42: 4.4 | C42: PISO EM PEDRA ASSENTADO SOBRE ARGAMASSA 1:3 (CIMENTO E AREIA). | D42: m² | E42: =ROUNDUP('MEMÓRIA CÁLCULO'!G36,0) -> 1 | F42: 343.66 | G42: =ROUND(F42*1.2821,2) -> 440.61 | H42: =ROUND(G42*E42,2) -> 440.61 | I42: 101731
B43: 4.5 | C43: PLANTIO DE GRAMA ESMERALDA EM PLACAS | D43: m² | E43: =ROUNDUP('MEMÓRIA CÁLCULO'!G37,0) -> 30 | F43: 29.4 | G43: =ROUND(F43*1.2821,2) -> 37.69 | H43: =ROUND(G43*E43,2) -> 1130.7 | I43: 103946
C44: TOTAL DE REATERRO, PAVIMENTAÇÃO E RECONDICIONAMENTO DO PASSEIO | H44: =SUM(H39:H43) -> 3770.73
...

Sheet COMPOSIÇÕES - DESONERADO
B2: CÂMARA MUNICIPAL DE PORTO ALEGRE
B3: SEÇÃO DE OBRAS E MANUTENÇÃO
B4: INSTALAÇÃO DE ESTAÇÃO ELEVATÓRIA DE ESGOTO SANITÁRIO
B5: COMPOSIÇÕES ESPECÍFICAS - SINAPI DESONERADO
B6: COMP 1 | C6: REBAIXAMENTO DE LENÇOL FREÁTICO | D6: un
B7: CÓDIGO | C7: DESCRIÇÃO | D7: UNIDADE | E7: PREÇO UNIT | F7: ÍNDICE | G7: TOTAL UNITÁRIO
B8: I-9875 | C8: TUBO PVC, SOLDAVEL, DE 50 MM, AGUA FRIA (NBR-5648) | D8: un | E8: 15.83 | F8: 15 | G8: =E8*F8 -> 237.45
B9: I-1959 | C9: CURVA DE PVC 90 GRAUS, SOLDAVEL, 50 MM, COR MARROM, PARA AGUA FRIA PREDIAL | D9: un | E9: 13.38 | F9: 3 | G9: =E9*F9 -> 40.14
B10: I-7142 | C10: TE SOLDAVEL, PVC, 90 GRAUS,50 MM, PARA AGUA FRIA PREDIAL (NBR 5648) | D10: un | E10: 9.89 | F10: 1 | G10: =E10*F10 -> 9.89
B11: I-11677 | C11: REGISTRO DE ESFERA, PVC, COM VOLANTE, VS, SOLDAVEL, DN 50 MM, COM CORPO DIVIDIDO | D11: un | E11: 78.3 | F11: 1 | G11: =E11*F11 -> 78.3
B12: COMP 2 | C12: KIT PONTEIRA FILTRANTE | D12: un | E12: =G26 -> 113.854 | F12: 25 | G12: =E12*F12 -> 2846.35
B13: COMP 3 | C13: PERFURAÇÃO PONTEIRAS DN 50 MM | D13: m | E13: =G35 -> 19.675594 | F13: 125 | G13: =E13*F13 -> 2459.4493
B14: 90650 | C14: BOMBA CENTRÍFUGA MONOESTÁGIO COM MOTOR ELÉTRICO MONOFÁSICO, POTÊNCIA 15 HP, DIÂMETRO DO ROTOR 173 MM, HM/Q = 30 MCA / 90 M3/H A 45 MCA / 55 M3/H - CHP DIURNO. | D14: CHP | E14: 11.05 | F14: 240 | G14: =E14*F14 -> 2652
B15: 104185 | C15: INSTALAÇÃO E DESINSTALAÇÃO DE CONJUNTO DE BOMBAS, À VÁCUO E CENTRÍFUGA, PARA SISTEMA DE REBAIXAMENTO DE LENÇOL FREÁTICO POR PONTEIRAS FILTRANTES | D15: un | E15: 23.24 | F15: 1 | G15: =E15*F15 -> 23.24
B16: 88267 | C16: ENCANADOR OU BOMBEIRO HIDRÁULICO COM ENCARGOS COMPLEMENTARES | D16: H | E16: 25.81 | F16: 40 | G16: =E16*F16 -> 1032.4
B17: 88248 | C17: AUXILIAR DE ENCANADOR OU BOMBEIRO HIDRÁULICO COM ENCARGOS COMPLEMENTARES | D17: H | E17: 21.16 | F17: 40 | G17: =E17*F17 -> 846.4
B18: CUSTO TOTAL | G18: =SUM(G8:G17) -> 10225.619
B20: COMP 2 | C20: KIT PONTEIRA FILTRANTE | D20: un
B21: CÓDIGO | C21: DESCRIÇÃO | D21: UNIDADE | E21: PREÇO UNIT | F21: ÍNDICE | G21: TOTAL UNITÁRIO
B22: I-9875 | C22: TUBO PVC, SOLDAVEL, DE 50 MM, AGUA FRIA (NBR-5648) | D22: m | E22: 15.83 | F22: 6 | G22: =E22*F22 -> 94.98
B23: I-4030 | C23: VEU DE POLIESTER PARA IMPERMEABILIZACAO | D23: m² | E23: 8.52 | F23: 0.2 | G23: =E23*F23 -> 1.704
B24: I-1194 | C24: CAP PVC, SOLDAVEL, 50 MM, PARA AGUA FRIA PREDIAL | D24: un | E24: 7.28 | F24: 1 | G24: =E24*F24 -> 7.28
B25: I-7142 | C25: TE SOLDAVEL, PVC, 90 GRAUS,50 MM, PARA AGUA FRIA PREDIAL (NBR 5648) | D25: un | E25: 9.89 | F25: 1 | G25: =E25*F25 -> 9.89
B26: CUSTO TOTAL | G26: =SUM(G22:G25) -> 113.854
B28: COMP 3 | C28: PERFURAÇÃO PONTEIRAS DN 50 MM | D28: m
B29: CÓDIGO | C29: DESCRIÇÃO | D29: UNIDADE | E29: PREÇO UNIT | F29: ÍNDICE | G29: TOTAL UNITÁRIO
B30: 90625 | C30: PERFURATRIZ MANUAL, TORQUE MÁXIMO 83 N.M, POTÊNCIA 5 CV, COM DIÂMETRO MÁXIMO 4" - CHP DIURNO. | D30: CHP | E30: 9.12 | F30: 0.0791 | G30: =E30*F30 -> 0.721392
B31: 90626 | C31: PERFURATRIZ MANUAL, TORQUE MÁXIMO 83 N.M, POTÊNCIA 5 CV, COM DIÂMETRO MÁXIMO 4" - CHI DIURNO. | D31: CHI | E31: 3.1 | F31: 0.0564 | G31: =E31*F31 -> 0.17484
B32: 90776 | C32: ENCARREGADO GERAL COM ENCARGOS COMPLEMENTARES | D32: H | E32: 56.06 | F32: 0.1356 | G32: =E32*F32 -> 7.601736
B33: 88316 | C33: SERVENTE COM ENCARGOS COMPLEMENTARES | D33: H | E33: 20.66 | F33: 0.4067 | G33: =E33*F33 -> 8.402422
B34: 90778 | C34: ENGENHEIRO CIVIL DE OBRA PLENO COM ENCARGOS COMPLEMENTARES | D34: H | E34: 109.26 | F34: 0.0254 | G34: =E34*F34 -> 2.775204
B35: CUSTO TOTAL | G35: =SUM(G30:G34) -> 19.675594
B37: COMP 4 | C37: ASSENTAMENTO DE GUIA DE CONCRETO PRÉ-FABRICADO, REAPROVEITADA, EM TRECHO RETO | D37: m
B38: CÓDIGO | C38: DESCRIÇÃO | D38: UNIDADE | E38: PREÇO UNIT | F38: ÍNDICE | G38: TOTAL UNITÁRIO
B39: I-370 | C39: AREIA MEDIA - POSTO JAZIDA/FORNECEDOR (RETIRADO NA JAZIDA, SEM TRANSPORTE) | D39: m³ | E39: 93 | F39: 0.0066 | G39: =E39*F39 -> 0.6138
B40: 88629 | C40: ARGAMASSA TRAÇO 1:3 (EM VOLUME DE CIMENTO E AREIA MÉDIA ÚMIDA), PREPARO MANUAL | D40: m³ | E40: 696.73 | F40: 0.0018 | G40: =E40*F40 -> 1.254114
B41: 88309 | C41: PEDREIRO COM ENCARGOS COMPLEMENTARES | D41: H | E41: 24.86 | F41: 0.2296 | G41: =E41*F41 -> 5.707856
B42: 88316 | C42: SERVENTE COM ENCARGOS COMPLEMENTARES | D42: H | E42: 20.66 | F42: 0.2296 | G42: =E42*F42 -> 4.743536
B43: CUSTO TOTAL | G43: =SUM(G39:G42) -> 12.319306

Sheet ORÇAMENTO - NÃO DESONERADO
B2: CÂMARA MUNICIPAL DE PORTO ALEGRE
B3: SEÇÃO DE OBRAS E MANUTENÇÃO
B4: INSTALAÇÃO DE ESTAÇÃO ELEVATÓRIA DE ESGOTO SANITÁRIO
B5: PLANILHA ORÇAMENTÁRIA - SINAPI NÃO DESONERADO
B6: ITEM | C6: SERVIÇOS | D6: UN | E6: QTD | F6: VL UN | G6: BDI (22,15%) | H6: VL TOTAL | I6: COD SINAPI
B7: 1 | C7: SERVIÇOS PRELIMINARES
B8: 1.1 | C8: LOCACAO DE CONTAINER 2,30 X 6,00 M, ALT. 2,50 M, PARA ESCRITORIO, SEM DIVISORIAS INTERNAS E SEM SANITARIO | D8: mês | E8: ='MEMÓRIA CÁLCULO'!G8 -> 1 | F8: 781.25 | G8: =ROUND(F8*1.2215,2) -> 954.3 | H8: =ROUND(G8*E8,2) -> 954.3 | I8: I-10776
B9: 1.2 | C9: ENGENHEIRO CIVIL DE OBRA PLENO COM ENCARGOS COMPLEMENTARES | D9: h | E9: ='MEMÓRIA CÁLCULO'!G9 -> 60 | F9: 126.58 | G9: =ROUND(F9*1.2215,2) -> 154.62 | H9: =ROUND(G9*E9,2) -> 9277.2 | I9: 90778
B10: 1.3 | C10: ENCARREGADO GERAL DE OBRAS COM ENCARGOS COMPLEMENTARES | D10: mês | E10: ='MEMÓRIA CÁLCULO'!G10 -> 1 | F10: 11320.26 | G10: =ROUND(F10*1.2215,2) -> 13827.7 | H10: =ROUND(G10*E10,2) -> 13827.7 | I10: 93572
C11: TOTAL DE SERVIÇOS PRELIMINARES | H11: =SUM(H8:H10) -> 24059.2
B13: 2 | C13: ESCAVAÇÕES E DEMOLIÇÕES
B14: 2.1 | C14: ESCAVAÇÃO MECANIZADA DE VALA COM PROFUNDIDADE ATÉ 1,5 M, LARGURA MENOR QUE 0,8M, EM SOLO DE 1A CATEGORIA, EM LOCAIS COM ALTO NÍVEL DE INTERFERÊNCIA | D14: m³ | E14: ='MEMÓRIA CÁLCULO'!G12 -> 18 | F14: 15.97 | G14: =ROUND(F14*1.2215,2) -> 19.51 | H14: =ROUND(G14*E14,2) -> 351.18 | I14: 90099
B15: 2.2 | C15: PREPARO DE FUNDO DE VALA COM LARGURA MENOR QUE 1,5 M, COM CAMADA DE BRITA, LANÇAMENTO MANUAL | D15: m³ | E15: =ROUNDUP('MEMÓRIA CÁLCULO'!G13,0) -> 4 | F15: 275.83 | G15: =ROUND(F15*1.2215,2) -> 336.93 | H15: =ROUND(G15*E15,2) -> 1347.72 | I15: 101619
B16: 2.3 | C16: ESCAVAÇÃO VERTICAL PARA INFRAESTRUTURA, COM CARGA, DESCARGA E TRANSPORTE DE SOLO DE 1ª CATEGORIA, COM ESCAVADEIRA HIDRÁULICA (CAÇAMBA: 0,8 M³ / 111HP), FROTA DE 3 CAMINHÕES BASCULANTES DE 10 M³, DMT ATÉ 1 KM E VELOCIDADE MÉDIA14 KM/H. AF_05/2020 | D16: m³ | E16: =ROUNDUP('MEMÓRIA CÁLCULO'!G14,0) -> 36 | F16: 12.04 | G16: =ROUND(F16*1.2215,2) -> 14.71 | H16: =ROUND(G16*E16,2) -> 529.56 | I16: 101266
B17: 2.4 | C17: ESCORAMENTO DE VALA, TIPO CONTÍNUO, COM PROFUNDIDADE DE 1,5 A 3,0 M, LARGURA MAIOR OU IGUAL A 1,5 M E MENOR QUE 2,5 M. | D17: m² | E17: ='MEMÓRIA CÁLCULO'!G15 -> 36 | F17: 62.51 | G17: =ROUND(F17*1.2215,2) -> 76.36 | H17: =ROUND(G17*E17,2) -> 2748.96 | I17: 101585
B18: 2.5 | C18: REBAIXAMENTO DE LENÇOL FREÁTICO | D18: un | E18: ='MEMÓRIA CÁLCULO'!G16 -> 1 | F18: ='COMPOSIÇÕES - NÃO DESONERADO'!G18 -> 10790.086 | G18: =ROUND(F18*1.2215,2) -> 13180.09 | H18: =ROUND(G18*E18,2) -> 13180.09 | I18: COMP 1
B19: 2.6 | C19: PREPARO DE FUNDO DE VALA COM LARGURA MAIOR OU IGUAL A 1,5 M E MENOR QUE 2,5 M, COM CAMADA DE BRITA, LANÇAMENTO MECANIZADO. | D19: m³ | E19: =ROUNDUP('MEMÓRIA CÁLCULO'!G17,0) -> 1 | F19: 192.18 | G19: =ROUND(F19*1.2215,2) -> 234.75 | H19: =ROUND(G19*E19,2) -> 234.75 | I19: 101624
B20: 2.7 | C20: DEMOLIÇÃO DE PISO DE CONCRETO SIMPLES, DE FORMA MECANIZADA COM MARTELETE, SEM REAPROVEITAMENTO. | D20: m³ | E20: =ROUNDUP('MEMÓRIA CÁLCULO'!G18,1) -> 0.5 | F20: 131.44 | G20: =ROUND(F20*1.2215,2) -> 160.55 | H20: =ROUND(G20*E20,2) -> 80.28 | I20: 104790
B21: 2.8 | C21: REMOÇAO DE GUIAS PRÉ-FABRICADAS DE CONCRETO, DE FORMA MECANIZADA, COM REAPROVEITAMENTO. | D21: m | E21: ='MEMÓRIA CÁLCULO'!G19 -> 10 | F21: 19.84 | G21: =ROUND(F21*1.2215,2) -> 24.23 | H21: =ROUND(G21*E21,2) -> 242.3 | I21: 104797
B22: 2.9 | C22: DEMOLIÇÃO PARCIAL DE PAVIMENTO ASFÁLTICO, DE FORMA MECANIZADA, SEM REAPROVEITAMENTO. | D22: m² | E22: ='MEMÓRIA CÁLCULO'!G20 -> 3 | F22: 24.38 | G22: =ROUND(F22*1.2215,2) -> 29.78 | H22: =ROUND(G22*E22,2) -> 89.34 | I22: 97636
C23: TOTAL DE ESCAVAÇÕES E DEMOLIÇÕES | H23: =SUM(H14:H22) -> 18804.18
B25: 3 | C25: INSTALAÇÃO DO EQUIPAMENTO/TUBULAÇÃO E REATERRO
B26: 3.1 | C26: LASTRO DE CONCRETO MAGRO, APLICADO EM BLOCOS DE COROAMENTO OU SAPATAS | D26: m³ | E26: =ROUNDUP('MEMÓRIA CÁLCULO'!G22,0) -> 1 | F26: 817.56 | G26: =ROUND(F26*1.2215,2) -> 998.65 | H26: =ROUND(G26*E26,2) -> 998.65 | I26: 96616
B27: 3.2 | C27: CAIXA ENTERRADA HIDRÁULICA RETANGULAR, EM CONCRETO PRÉ-MOLDADO, DIMENSÕES INTERNAS: 0,6X0,6X0,5 M | D27: un | E27: =ROUNDUP('MEMÓRIA CÁLCULO'!G23,0) -> 2 | F27: 443.8 | G27: =ROUND(F27*1.2215,2) -> 542.1 | H27: =ROUND(G27*E27,2) -> 1084.2 | I27: 97897
B28: 3.3 | C28: TUBO PEAD LISO PARA REDE DE ÁGUA OU ESGOTO, DIÂMETRO DE 110 MM, JUNTA SOLDADA (NÃO INCLUI A EXECUÇÃO DE SOLDA) - FORNECIMENTO E ASSENTAMENTO | D28: m | E28: =ROUNDUP('MEMÓRIA CÁLCULO'!G24,0) -> 65 | F28: 122.86 | G28: =ROUND(F28*1.2215,2) -> 150.07 | H28: =ROUND(G28*E28,2) -> 9754.55 | I28: 103376
B29: 3.4 | C29: TUBO DE PVC PARA REDE COLETORA DE ESGOTO DE PAREDE MACIÇA, DN 100 MM, JUNTA ELÁSTICA - FORNECIMENTO E ASSENTAMENTO. | D29: m | E29: =ROUNDUP('MEMÓRIA CÁLCULO'!G25,0) -> 25 | F29: 48.12 | G29: =ROUND(F29*1.2215,2) -> 58.78 | H29: =ROUND(G29*E29,2) -> 1469.5 | I29: 90694
B30: 3.5 | C30: VÁLVULA DE RETENÇÃO HORIZONTAL, DE BRONZE, ROSCÁVEL, 3" - FORNECIMENTO E INSTALAÇÃO. | D30: un | E30: =ROUNDUP('MEMÓRIA CÁLCULO'!G26,0) -> 2 | F30: 747.53 | G30: =ROUND(F30*1.2215,2) -> 913.11 | H30: =ROUND(G30*E30,2) -> 1826.22 | I30: 99625
B31: 3.6 | C31: REGISTRO DE GAVETA BRUTO, LATÃO, ROSCÁVEL, 3" - FORNECIMENTO E INSTALAÇÃO. | D31: un | E31: =ROUNDUP('MEMÓRIA CÁLCULO'!G27,0) -> 2 | F31: 421.15 | G31: =ROUND(F31*1.2215,2) -> 514.43 | H31: =ROUND(G31*E31,2) -> 1028.86 | I31: 94500
B32: 3.7 | C32: CAIXA ENTERRADA HIDRÁULICA RETANGULAR EM ALVENARIA COM TIJOLOS CERÂMICOS MACIÇOS, DIMENSÕES INTERNAS: 1X1X0,6 M PARA REDE DE DRENAGEM. | D32: un | E32: =ROUNDUP('MEMÓRIA CÁLCULO'!G28,0) -> 1 | F32: 935.72 | G32: =ROUND(F32*1.2215,2) -> 1142.98 | H32: =ROUND(G32*E32,2) -> 1142.98 | I32: 99257
B33: 3.8 | C33: REATERRO MECANIZADO DE VALA COM RETROESCAVADEIRA, LARGURA ATÉ 0,8 M, PROFUNDIDADE ATÉ 1,5 M, COM SOLO (SEM SUBSTITUIÇÃO) DE 1ª CATEGORIA, COM COMPACTADOR DE SOLOS DE PERCUSSÃO. | D33: m³ | E33: =ROUNDUP('MEMÓRIA CÁLCULO'!G29,0) -> 9 | F33: 26.58 | G33: =ROUND(F33*1.2215,2) -> 32.47 | H33: =ROUND(G33*E33,2) -> 292.23 | I33: 93378
B34: 3.9 | C34: ATERRO MECANIZADO DE VALA COM MINICARREGADEIRA, COM AREIA PARA ATERRO. | D34: m³ | E34: =ROUNDUP('MEMÓRIA CÁLCULO'!G30,0) -> 24 | F34: 95.88 | G34: =ROUND(F34*1.2215,2) -> 117.12 | H34: =ROUND(G34*E34,2) -> 2810.88 | I34: 104739
B35: 3.10 | C35: REATERRO MECANIZADO DE VALA COM ESCAVADEIRA HIDRÁULICA, LARGURA DE 1,5 A 2,5 M, PROFUNDIDADE DE 1,5 A 3,0 M, COM SOLO (SEM SUBSTITUIÇÃO) DE 1ª CATEGORIA, COM COMPACTADOR DE SOLOS DE PERCUSSÃO. | D35: m³ | E35: =ROUNDUP('MEMÓRIA CÁLCULO'!G31,0) -> 3 | F35: 19.35 | G35: =ROUND(F35*1.2215,2) -> 23.64 | H35: =ROUND(G35*E35,2) -> 70.92 | I35: 93369
C36: TOTAL DE INSTALAÇÃO DO EQUIPAMENTO/TUBULAÇÃO E REATERRO | H36: =SUM(H26:H35) -> 20478.99
B38: 4 | C38: PAVIMENTAÇÃO E RECONDICIONAMENTO DO PASSEIO
B39: 4.1 | C39: EXECUÇÃO DE LAJE SOBRE SOLO, ESPESSURA DE 15 CM, FCK = 30 MPA, COM USO DE FORMAS EM MADEIRA SERRADA. | D39: m² | E39: ='MEMÓRIA CÁLCULO'!G33 -> 6.25 | F39: 196.51 | G39: =ROUND(F39*1.2215,2) -> 240.04 | H39: =ROUND(G39*E39,2) -> 1500.25 | I39: 103077
B40: 4.2 | C40: ASSENTAMENTO DE GUIA DE CONCRETO PRÉ-FABRICADO, REAPROVEITADA, EM TRECHO RETO | D40: m | E40: ='MEMÓRIA CÁLCULO'!G34 -> 10 | F40: ='COMPOSIÇÕES - NÃO DESONERADO'!G43 -> 13.617142 | G40: =ROUND(F40*1.2215,2) -> 16.63 | H40: =ROUND(G40*E40,2) -> 166.3 | I40: COMP 4
B41: 4.3 | C41: EXECUÇÃO DE PASSEIO (CALÇADA) OU PISO DE CONCRETO COM CONCRETO MOLDADO IN LOCO, FEITO EM OBRA, ACABAMENTO CONVENCIONAL, ESPESSURA 8 CM, ARMADO. | D41: m² | E41: ='MEMÓRIA CÁLCULO'!G35 -> 4 | F41: 98.76 | G41: =ROUND(F41*1.2215,2) -> 120.64 | H41: =ROUND(G41*E41,2) -> 482.56 | I41: 94994
B42: 4.4 | C42: PISO EM PEDRA ASSENTADO SOBRE ARGAMASSA 1:3 (CIMENTO E AREIA). | D42: m² | E42: =ROUNDUP('MEMÓRIA CÁLCULO'!G36,0) -> 1 | F42: 349.71 | G42: =ROUND(F42*1.2215,2) -> 427.17 | H42: =ROUND(G42*E42,2) -> 427.17 | I42: 101731
B43: 4.5 | C43: PLANTIO DE GRAMA ESMERALDA EM PLACAS | D43: m² | E43: =ROUNDUP('MEMÓRIA CÁLCULO'!G37,0) -> 30 | F43: 29.8 | G43: =ROUND(F43*1.2215,2) -> 36.4 | H43: =ROUND(G43*E43,2) -> 1092 | I43: 103946
C44: TOTAL DE REATERRO, PAVIMENTAÇÃO E RECONDICIONAMENTO DO PASSEIO | H44: =SUM(H39:H43) -> 3668.28
...

Sheet COMPOSIÇÕES - NÃO DESONERADO
B2: CÂMARA MUNICIPAL DE PORTO ALEGRE
B3: SEÇÃO DE OBRAS E MANUTENÇÃO
B4: INSTALAÇÃO DE ESTAÇÃO ELEVATÓRIA DE ESGOTO SANITÁRIO
B5: COMPOSIÇÕES ESPECÍFICAS - SINAPI NÃO DESONERADO
B6: COMP 1 | C6: REBAIXAMENTO DE LENÇOL FREÁTICO | D6: un
B7: CÓDIGO | C7: DESCRIÇÃO | D7: UNIDADE | E7: PREÇO UNIT | F7: ÍNDICE | G7: TOTAL UNITÁRIO
B8: I-9875 | C8: TUBO PVC, SOLDAVEL, DE 50 MM, AGUA FRIA (NBR-5648) | D8: un | E8: 15.83 | F8: 15 | G8: =E8*F8 -> 237.45
B9: I-1959 | C9: CURVA DE PVC 90 GRAUS, SOLDAVEL, 50 MM, COR MARROM, PARA AGUA FRIA PREDIAL | D9: un | E9: 13.38 | F9: 3 | G9: =E9*F9 -> 40.14
B10: I-7142 | C10: TE SOLDAVEL, PVC, 90 GRAUS,50 MM, PARA AGUA FRIA PREDIAL (NBR 5648) | D10: un | E10: 9.89 | F10: 1 | G10: =E10*F10 -> 9.89
B11: I-11677 | C11: REGISTRO DE ESFERA, PVC, COM VOLANTE, VS, SOLDAVEL, DN 50 MM, COM CORPO DIVIDIDO | D11: un | E11: 78.3 | F11: 1 | G11: =E11*F11 -> 78.3
B12: COMP 2 | C12: KIT PONTEIRA FILTRANTE | D12: un | E12: =G26 -> 113.854 | F12: 25 | G12: =E12*F12 -> 2846.35
B13: COMP 3 | C13: PERFURAÇÃO PONTEIRAS DN 50 MM | D13: m | E13: =G35 -> 22.267252 | F13: 125 | G13: =E13*F13 -> 2783.4065
B14: 90650 | C14: BOMBA CENTRÍFUGA MONOESTÁGIO COM MOTOR ELÉTRICO MONOFÁSICO, POTÊNCIA 15 HP, DIÂMETRO DO ROTOR 173 MM, HM/Q = 30 MCA / 90 M3/H A 45 MCA / 55 M3/H - CHP DIURNO. | D14: CHP | E14: 11.05 | F14: 240 | G14: =E14*F14 -> 2652
B15: 104185 | C15: INSTALAÇÃO E DESINSTALAÇÃO DE CONJUNTO DE BOMBAS, À VÁCUO E CENTRÍFUGA, PARA SISTEMA DE REBAIXAMENTO DE LENÇOL FREÁTICO POR PONTEIRAS FILTRANTES | D15: un | E15: 26.15 | F15: 1 | G15: =E15*F15 -> 26.15
B16: 88267 | C16: ENCANADOR OU BOMBEIRO HIDRÁULICO COM ENCARGOS COMPLEMENTARES | D16: H | E16: 29.16 | F16: 40 | G16: =E16*F16 -> 1166.4
B17: 88248 | C17: AUXILIAR DE ENCANADOR OU BOMBEIRO HIDRÁULICO COM ENCARGOS COMPLEMENTARES | D17: H | E17: 23.75 | F17: 40 | G17: =E17*F17 -> 950
B18: CUSTO TOTAL | G18: =SUM(G8:G17) -> 10790.086
B20: COMP 2 | C20: KIT PONTEIRA FILTRANTE | D20: un
B21: CÓDIGO | C21: DESCRIÇÃO | D21: UNIDADE | E21: PREÇO UNIT | F21: ÍNDICE | G21: TOTAL UNITÁRIO
B22: I-9875 | C22: TUBO PVC, SOLDAVEL, DE 50 MM, AGUA FRIA (NBR-5648) | D22: m | E22: 15.83 | F22: 6 | G22: =E22*F22 -> 94.98
B23: I-4030 | C23: VEU DE POLIESTER PARA IMPERMEABILIZACAO | D23: m² | E23: 8.52 | F23: 0.2 | G23: =E23*F23 -> 1.704
B24: I-1194 | C24: CAP PVC, SOLDAVEL, 50 MM, PARA AGUA FRIA PREDIAL | D24: un | E24: 7.28 | F24: 1 | G24: =E24*F24 -> 7.28
B25: I-7142 | C25: TE SOLDAVEL, PVC, 90 GRAUS,50 MM, PARA AGUA FRIA PREDIAL (NBR 5648) | D25: un | E25: 9.89 | F25: 1 | G25: =E25*F25 -> 9.89
B26: CUSTO TOTAL | G26: =SUM(G22:G25) -> 113.854
B28: COMP 3 | C28: PERFURAÇÃO PONTEIRAS DN 50 MM | D28: m
B29: CÓDIGO | C29: DESCRIÇÃO | D29: UNIDADE | E29: PREÇO UNIT | F29: ÍNDICE | G29: TOTAL UNITÁRIO
B30: 90625 | C30: PERFURATRIZ MANUAL, TORQUE MÁXIMO 83 N.M, POTÊNCIA 5 CV, COM DIÂMETRO MÁXIMO 4" - CHP DIURNO. | D30: CHP | E30: 9.12 | F30: 0.0791 | G30: =E30*F30 -> 0.721392
B31: 90626 | C31: PERFURATRIZ MANUAL, TORQUE MÁXIMO 83 N.M, POTÊNCIA 5 CV, COM DIÂMETRO MÁXIMO 4" - CHI DIURNO. | D31: CHI | E31: 3.1 | F31: 0.0564 | G31: =E31*F31 -> 0.17484
B32: 90776 | C32: ENCARREGADO GERAL COM ENCARGOS COMPLEMENTARES | D32: H | E32: 64.67 | F32: 0.1356 | G32: =E32*F32 -> 8.769252
B33: 88316 | C33: SERVENTE COM ENCARGOS COMPLEMENTARES | D33: H | E33: 23.08 | F33: 0.4067 | G33: =E33*F33 -> 9.386636
B34: 90778 | C34: ENGENHEIRO CIVIL DE OBRA PLENO COM ENCARGOS COMPLEMENTARES | D34: H | E34: 126.58 | F34: 0.0254 | G34: =E34*F34 -> 3.215132
B35: CUSTO TOTAL | G35: =SUM(G30:G34) -> 22.267252
B37: COMP 4 | C37: ASSENTAMENTO DE GUIA DE CONCRETO PRÉ-FABRICADO, REAPROVEITADA, EM TRECHO RETO | D37: m
B38: CÓDIGO | C38: DESCRIÇÃO | D38: UNIDADE | E38: PREÇO UNIT | F38: ÍNDICE | G38: TOTAL UNITÁRIO
B39: I-370 | C39: AREIA MEDIA - POSTO JAZIDA/FORNECEDOR (RETIRADO NA JAZIDA, SEM TRANSPORTE) | D39: m³ | E39: 93 | F39: 0.0066 | G39: =E39*F39 -> 0.6138
B40: 88629 | C40: ARGAMASSA TRAÇO 1:3 (EM VOLUME DE CIMENTO E AREIA MÉDIA ÚMIDA), PREPARO MANUAL | D40: m³ | E40: 717.47 | F40: 0.0018 | G40: =E40*F40 -> 1.291446
B41: 88309 | C41: PEDREIRO COM ENCARGOS COMPLEMENTARES | D41: H | E41: 27.93 | F41: 0.2296 | G41: =E41*F41 -> 6.412728
B42: 88316 | C42: SERVENTE COM ENCARGOS COMPLEMENTARES | D42: H | E42: 23.08 | F42: 0.2296 | G42: =E42*F42 -> 5.299168
B43: CUSTO TOTAL | G43: =SUM(G39:G42) -> 13.617142

Sheet COMPARATIVO
B2: CÂMARA MUNICIPAL DE PORTO ALEGRE
B3: SEÇÃO DE OBRAS E MANUTENÇÃO
B4: INSTALAÇÃO DE ESTAÇÃO ELEVATÓRIA DE ESGOTO SANITÁRIO
B5: COMPARATIVO DE ORÇAMENTOS
B6: Tipo de Orçamento | D6: Valor | E6: Orçamento Adotado
B7: Não Desonerado | D7: ='ORÇAMENTO - NÃO DESONERADO'!H45 -> 67010.65 | E7: DESONERADO
B8: Desonerado | D8: ='ORÇAMENTO - DESONERADO'!H45 -> 65630.13 | E8: Valor | F8: =MIN(D8,D7) -> 65630.13

Sheet BDI
B2: CÂMARA MUNICIPAL DE PORTO ALEGRE
B3: SEÇÃO DE OBRAS E MANUTENÇÃO
B4: INSTALAÇÃO DE ESTAÇÃO ELEVATÓRIA DE ESGOTO SANITÁRIO
B5: COMPOSIÇÃO DO BDI
B6: TIPO DE OBRA | C6: BDI para contratação de obras e serviços | E6: BDI Diferenciado para fornecimento de materiais e equipamentos
C7: EDIFICAÇÕES residenciais, comerciais e mistas e seus respectivos serviços de conservação e manutenção | D7: INFRAESTRUTURA, incluindo pavimentação, iluminação pública, praças, saneamento, sistemas de água, esgoto cloacal e pluvial e seus respectivos serviços de conservação e manutenção | E7: EDIFICAÇÕES residenciais, comerciais e mistas e seus respectivos serviços de conservação e manutenção | F7: INFRAESTRUTURA, incluindo pavimentação, iluminação pública, praças, saneamento, sistemas de água, esgoto cloacal e pluvial e seus respectivos serviços de conservação e manutenção
B8: Parcelas
B9: (AC) - Administração Central | C9: 0.0403 | D9: 0.0403 | E9: 0.01 | F9: 0.01
B10: (S) + (G) - Seguro e Garantia | C10: 0.0065 | D10: 0.0065 | E10: 0 | F10: 0
B11: (R) - Risco | C11: 0.0133 | D11: 0.0133 | E11: 0.005 | F11: 0.005
B12: (DF) - Despesas Financeiras | C12: 0.0152 | D12: 0.0152 | E12: 0.0152 | F12: 0.0152
B13: (L) - Lucro | C13: 0.08 | D13: 0.08 | E13: 0.05 | F13: 0.05
B14: Impostos (I= I1+I2+I3+I4):
B15: (I1) - PIS | C15: 0.0065 | D15: 0.0065 | E15: 0.0065 | F15: 0.0065
B16: (I2 ) - COFINS | C16: 0.03 | D16: 0.03 | E16: 0.03 | F16: 0.03
B17: (I3 ) - ISSQN | C17: 0.016 | D17: 0.012 | E17: 0.016 | F17: 0.012
B18: (I4 ) - Contribuição Previdenciária (CPRB) | C18: 0.045 | D18: 0.045 | E18: 0.045 | F18: 0.045
B19: BDI com Desoneração (incluindo I4) | C19: =ROUND(((((1+C9+C10+C11)*(1+C12)*(1+C13))/(1-(C15+C16+C17+C18)))-1)-0.0001,4) -> 0.2878 | D19: =ROUND(((((1+D9+D10+D11)*(1+D12)*(1+D13))/(1-(D15+D16+D17+D18)))-1)-0.0001,4) -> 0.2821 | E19: =ROUND(((((1+E9+E10+E11)*(1+E12)*(1+E13))/(1-(E15+E16+E17+E18)))-1),4) -> 0.1988 | F19: =ROUND(((((1+F9+F10+F11)*(1+F12)*(1+F13))/(1-(F15+F16+F17+F18)))-1),4) -> 0.1935
B20: BDI sem Desoneração (desconsiderando I4) | C20: =ROUND(((((1+C9+C10+C11)*(1+C12)*(1+C13))/(1-(C15+C16+C17)))-1),4) -> 0.2267 | D20: =ROUND(((((1+D9+D10+D11)*(1+D12)*(1+D13))/(1-(D15+D16+D17)))-1)-0.0001,4) -> 0.2215 | E20: =ROUND(((((1+E9+E10+E11)*(1+E12)*(1+E13))/(1-(E15+E16+E17)))-1)-0.0001,4) -> 0.1418 | F20: =ROUND(((((1+F9+F10+F11)*(1+F12)*(1+F13))/(1-(F15+F16+F17)))-1)-0.0001,4) -> 0.137
B21: Observação: composição de acordo com o Decreto Municipal nº 19.224/2015.
B23: CÂMARA MUNICIPAL DE PORTO ALEGRE
B24: SEÇÃO DE OBRAS E MANUTENÇÃO
B25: INSTALAÇÃO DE ESTAÇÃO ELEVATÓRIA DE ESGOTO SANITÁRIO
B26: COMPOSIÇÃO DO BDI
B27: TIPO DE OBRA | C27: BDI para Projetos e Serviços Técnicos de Engenharia relativos às atividades 7.03, 7.19 e 7.20 (Decreto 16.869/2010) | E27: BDI para Consultorias e Serviços de Apoio Técnico relativos às atividades 7.01, 17.01, 17.03, 17.09 e 17.16 (Decreto 15.416/2006)
B29: Parcelas
B30: (AC) - Administração Central | C30: 0.01 | E30: 0.01
B31: (S) + (G) - Seguro e Garantia | C31: 0.0028 | E31: 0.0028
B32: (R) - Risco | C32: 0 | E32: 0
B33: (DF) - Despesas Financeiras | C33: 0.0125 | E33: 0.0125
B34: (L) - Lucro | C34: 0.0616 | E34: 0.0616
B35: Impostos (I= I1+I2+I3):
B36: (I1) - PIS | C36: 0.0065 | E36: 0.0065
B37: (I2 ) - COFINS | C37: 0.03 | E37: 0.03
B38: (I3 ) - ISSQN | C38: 0.02 | E38: 0.05
B39: BDI | C39: =ROUND(((((1+C30+C31+C32)*(1+C33)*(1+C34))/(1-(C36+C37+C38)))-1),4) -> 0.1538 | D39: =((((1+D28+D29+D30)*(1+D31)*(1+D32))/(1-(D34+D35+D36)))-1) -> 0 | E39: =ROUND(((((1+E30+E31+E32)*(1+E33)*(1+E34))/(1-(E36+E37+E38)))-1),4) -> 0.1917 | F39: =((((1+F28+F29+F30)*(1+F31)*(1+F32))/(1-(F34+F35+F36)))-1) -> 0
B40: Observação: composição de acordo com o Decreto Municipal nº 19.224/2015.

Sheet ENCARGOS
B3: CÂMARA MUNICIPAL DE PORTO ALEGRE
B4: SEÇÃO DE OBRAS E MANUTENÇÃO
B5: INSTALAÇÃO DE ESTAÇÃO ELEVATÓRIA DE ESGOTO SANITÁRIO
B6: COMPOSIÇÃO DOS ENCARGOS SOCIAIS SOBRE A MÃO DE OBRA
B7: CÓDIGO | C7: DESCRIÇÃO | D7: COM DESONERAÇÃO | F7: SEM DESONERAÇÃO
D8: HORISTA % | E8: MENSALISTA % | F8: HORISTA % | G8: MENSALISTA %
B9: GRUPO A
B10: A1 | C10: INSS | D10: 0 | E10: 0 | F10: 0.2 | G10: 0.2
B11: A2 | C11: SESI | D11: 0.015 | E11: 0.015 | F11: 0.015 | G11: 0.015
B12: A3 | C12: SENAI | D12: 0.01 | E12: 0.01 | F12: 0.01 | G12: 0.01
B13: A4 | C13: INCRA | D13: 0.002 | E13: 0.002 | F13: 0.002 | G13: 0.002
B14: A5 | C14: SEBRAE | D14: 0.006 | E14: 0.006 | F14: 0.006 | G14: 0.006
B15: A6 | C15: Salário Educação | D15: 0.025 | E15: 0.025 | F15: 0.025 | G15: 0.025
B16: A7 | C16: Seguro Contra Acidentes de Trabalho | D16: 0.03 | E16: 0.03 | F16: 0.03 | G16: 0.03
B17: A8 | C17: FGTS | D17: 0.08 | E17: 0.08 | F17: 0.08 | G17: 0.08
B18: A9 | C18: SECONCI | D18: 0 | E18: 0 | F18: 0 | G18: 0
B19: A | C19: Total | D19: =SUM(D10:D18) -> 0.168 | E19: =SUM(E10:E18) -> 0.168 | F19: =SUM(F10:F18) -> 0.368 | G19: =SUM(G10:G18) -> 0.368
B20: GRUPO B
B21: B1 | C21: Repouso Semanal Remunerado | D21: 0.1793 | E21: 0 | F21: 0.1793 | G21: 0
B22: B2 | C22: Feriados | D22: 0.0424 | E22: 0 | F22: 0.0424 | G22: 0
B23: B3 | C23: Auxílio - Enfermidade | D23: 0.0085 | E23: 0.0064 | F23: 0.0085 | G23: 0.0064
B24: B4 | C24: 13º Salário | D24: 0.1102 | E24: 0.0833 | F24: 0.1102 | G24: 0.0833
B25: B5 | C25: Licença Paternidade | D25: 0.0006 | E25: 0.0004 | F25: 0.0006 | G25: 0.0004
B26: B6 | C26: Faltas Justificadas | D26: 0.0073 | E26: 0.0056 | F26: 0.0073 | G26: 0.0056
B27: B7 | C27: Dias de Chuvas | D27: 0.0155 | E27: 0 | F27: 0.0155 | G27: 0
B28: B8 | C28: Auxílio Acidente de Trabalho | D28: 0.001 | E28: 0.0008 | F28: 0.001 | G28: 0.0008
B29: B9 | C29: Férias Gozadas | D29: 0.1156 | E29: 0.0874 | F29: 0.1156 | G29: 0.0874
B30: B10 | C30: Salário Maternidade | D30: 0.0004 | E30: 0.0003 | F30: 0.0004 | G30: 0.0003
B31: B | C31: Total | D31: =SUM(D21:D30) -> 0.4808 | E31: =SUM(E21:E30) -> 0.1842 | F31: =SUM(F21:F30) -> 0.4808 | G31: =SUM(G21:G30) -> 0.1842
B32: GRUPO C
B33: C1 | C33: Aviso Prévio Indenizado | D33: 0.0459 | E33: 0.0347 | F33: 0.0459 | G33: 0.0347
B34: C2 | C34: Aviso Prévio Trabalhado | D34: 0.0011 | E34: 0.0008 | F34: 0.0011 | G34: 0.0008
B35: C3 | C35: Férias Indenizadas | D35: 0.0226 | E35: 0.0171 | F35: 0.0226 | G35: 0.0171
B36: C4 | C36: Depósito Rescisão Sem Justa Causa | D36: 0.0255 | E36: 0.0193 | F36: 0.0255 | G36: 0.0193
B37: C5 | C37: Indenização Adicional | D37: 0.0039 | E37: 0.0029 | F37: 0.0039 | G37: 0.0029
B38: C | C38: Total | D38: =SUM(D33:D37) -> 0.099 | E38: =SUM(E33:E37) -> 0.0748 | F38: =SUM(F33:F37) -> 0.099 | G38: =SUM(G33:G37) -> 0.0748
B39: GRUPO D
B40: D1 | C40: Reincidência de Grupo A sobre Grupo B | D40: =ROUND(D19*D31,4) -> 0.0808 | E40: =ROUND(E19*E31,4) -> 0.0309 | F40: =ROUND(F19*F31,4) -> 0.1769 | G40: =ROUND(G19*G31,4) -> 0.0678
B41: D2 | C41: Reincidência de Grupo A sobre Aviso Prévio Trabalhado e Reincidência do FGTS sobre Aviso Prévio Indenizado | D41: =ROUND((D19*D34)+(D17*D33),4) -> 0.0039 | E41: =ROUND((E19*E34)+(E17*E33),4) -> 0.0029 | F41: =ROUND((F19*F34)+(F17*F33),4) -> 0.0041 | G41: =ROUND((G19*G34)+(G17*G33),4) -> 0.0031
B42: D | C42: Total | D42: =SUM(D40:D41) -> 0.0847 | E42: =SUM(E40:E41) -> 0.0338 | F42: =SUM(F40:F41) -> 0.181 | G42: =SUM(G40:G41) -> 0.0709
...

Sheet CRONOGRAMA
B2: CÂMARA MUNICIPAL DE PORTO ALEGRE
B3: SEÇÃO DE OBRAS E MANUTENÇÃO
B4: INSTALAÇÃO DE ESTAÇÃO ELEVATÓRIA DE ESGOTO SANITÁRIO
B5: CRONOGRAMA FÍSICO FINANCEIRO
B6: ITEM | C6: ESPECIFICAÇÃO | D6: SEMANA 1 | F6: SEMANA 2 | H6: SEMANA 3 | J6: SEMANA 4 | L6: SOMA SERVIÇOS
D7: VALOR | E7: % | F7: VALOR | G7: % | H7: VALOR | I7: % | J7: VALOR | K7: % | L7: VALOR | M7: %
B8: 1 | C8: ='ORÇAMENTO - DESONERADO'!C7 -> SERVIÇOS PRELIMINARES | D8: ='ORÇAMENTO - DESONERADO'!$H$11*E8 -> 6595.644 | E8: 0.3 | F8: ='ORÇAMENTO - DESONERADO'!$H$11*G8 -> 6595.644 | G8: 0.3 | H8: ='ORÇAMENTO - DESONERADO'!$H$11*I8 -> 4397.096 | I8: 0.2 | J8: ='ORÇAMENTO - DESONERADO'!$H$11*K8 -> 4397.096 | K8: 0.2 | L8: =D8+F8+H8+J8 -> 21985.48 | M8: =E8+G8+I8+K8 -> 1
B9: 2 | C9: ='ORÇAMENTO - DESONERADO'!C13 -> ESCAVAÇÕES E DEMOLIÇÕES | D9: ='ORÇAMENTO - DESONERADO'!$H$23*E9 -> 13045.004 | E9: 0.7 | F9: ='ORÇAMENTO - DESONERADO'!$H$23*G9 -> 5590.716 | G9: 0.3 | L9: =D9+F9+H9+J9 -> 18635.72 | M9: =E9+G9+I9+K9 -> 1
B10: 3 | C10: ='ORÇAMENTO - DESONERADO'!C25 -> INSTALAÇÃO DO EQUIPAMENTO/TUBULAÇÃO E REATERRO | F10: ='ORÇAMENTO - DESONERADO'!$H$36*G10 -> 10619.1 | G10: 0.5 | H10: ='ORÇAMENTO - DESONERADO'!$H$36*I10 -> 10619.1 | I10: 0.5 | L10: =D10+F10+H10+J10 -> 21238.2 | M10: =E10+G10+I10+K10 -> 1
B11: 4 | C11: ='ORÇAMENTO - DESONERADO'!C38 -> PAVIMENTAÇÃO E RECONDICIONAMENTO DO PASSEIO | H11: ='ORÇAMENTO - DESONERADO'!$H$44*I11 -> 2262.438 | I11: 0.6 | J11: ='ORÇAMENTO - DESONERADO'!$H$44*K11 -> 1508.292 | K11: 0.4 | L11: =D11+F11+H11+J11 -> 3770.73 | M11: =E11+G11+I11+K11 -> 1
C12: SOMA | D12: =SUM(D8:D11) -> 19640.648 | F12: =SUM(F8:F11) -> 22805.46 | H12: =SUM(H8:H11) -> 17278.634 | J12: =SUM(J8:J11) -> 5905.388 | L12: =SUM(L8:L11) -> 65630.13
C13: ACUMULADO | D13: =D12 -> 19640.648 | F13: =F12+D13 -> 42446.108 | H13: =H12+F13 -> 59724.742 | J13: =J12+H13 -> 65630.13
B14: Porto Alegre, 29 de novembro de 2024.
B18: ENG. CIVIL ARTHUR RODRIGUES DE FREITAS LIMA
B19: CREA RS255877
