Workbook
Name Área_Médico_Hospitalar: #REF!
Name CPT: #REF!
Name Esquadrias_Externas: #REF!
Name Externa: #REF!
Name Fachada_Envidraçada: #REF!
Name Interna: #REF!
Name Percentuais: #REF!
Name Regime: #REF!
Name Tarefas: #REF!

Sheet QUADRO DE PROFISSIONAIS
C2: Nr | D2: Postos | E2: Profissional | F2: ATUAL | AD2: Profissional | AE2: Postos | AF2: Profissional | AG2: PROPOSTO | BF2: NR | BG2: PLANILHA | BH2: VIGILANTE | BI2: Intervalo Intrajornada | BJ2: NOTURNO HORAS | BK2: ADICIONAL
F3: 7 | G3: 8 | H3: 9 | I3: 10 | J3: 11 | K3: 12 | L3: 13 | M3: 14 | N3: 15 | O3: 16 | P3: 17 | Q3: 18 | R3: 19 | S3: 20 | T3: 21 | U3: 22 | V3: 23 | W3: 24 | X3: 1 | Y3: 2 | Z3: 3 | AA3: 4 | AB3: 5 | AC3: 6 | AG3: 7 | AH3: 8 | AI3: 9 | AJ3: 10 | AK3: 11 | AL3: 12 | AM3: 13 | AN3: 14 | AO3: 15 | AP3: 16 | AQ3: 17 | AR3: 18 | AS3: 19 | AT3: 20 | AU3: 21 | AV3: 22 | AW3: 23 | AX3: 24 | AY3: 1 | AZ3: 2 | BA3: 3 | BB3: 4 | BC3: 5 | BD3: 6
C4: 1 | D4: Posto de vigilância controle de vias e acessos - (Pórtico) | E4: 8 | F4: 07 às 19:00hs 12x36 (44hs) | AD4: 8 | AE4: Posto de vigilância controle de vias e acessos - (Pórtico) | AF4: 8 | AG4: 07 às 19:00hs 12x36 (44hs) | BF4: 6 | BG4: GERAL-12D | BH4: 07 às 19:00hs 12x36 (44hs) | BI4: NÃO | BJ4: 0 | BK4: 0
F5: 07 às 19:00hs 12x36 (44hs) | AG5: 07 às 19:00hs 12x36 (44hs) | BF5: 4 | BG5: GERAL-12N | BH5: 19:00 às 07:00hs 12x36 (44hs) | BI5: NÃO | BJ5: 7 | BK5: 0
F6: 07 às 19:00hs 12x36 (44hs) | AG6: 07 às 19:00hs 12x36 (44hs) | BF6: 2 | BG6: LÍDER-12D | BH6: 07 às 19:30hs 12x36 (44hs) | BI6: SIM | BJ6: 0 | BK6: 0.2
F7: 07 às 19:00hs 12x36 (44hs) | AG7: 07 às 19:00hs 12x36 (44hs) | BF7: 2 | BG7: MONITOR-12D | BH7: 07 às 19:30hs 12x36 (44hs) | BI7: SIM | BJ7: 0 | BK7: 0
R8: 19:00 às 07:00hs 12x36 (44hs) | AS8: 19:00 às 07:00hs 12x36 (44hs) | BF8: 2 | BG8: MONITOR-12N | BH8: 19:00 às 07:00hs 12x36 (44hs) | BI8: NÃO | BJ8: 7 | BK8: 0
R9: 19:00 às 07:00hs 12x36 (44hs) | AS9: 19:00 às 07:00hs 12x36 (44hs) | BF9: 1 | BG9: MONITOR-11D | BH9: 08:00hs às 20:00hs 11hs (55hs) | BI9: SIM | BJ9: 0 | BK9: 0
R10: 19:00 às 07:00hs 12x36 (44hs) | AS10: 19:00 às 07:00hs 12x36 (44hs) | BF10: 3 | BG10: GERAL-11D | BH10: 08:00hs às 20:00hs 11hs (55hs) 11:00hs às 23:00hs 11hs (55hs) | BI10: SIM | BJ10: 0 | BK10: 0
R11: 19:00 às 07:00hs 12x36 (44hs) | AS11: 19:00 às 07:00hs 12x36 (44hs) | BF11: =SUM(BF4:BF10) -> 20
C14: 2 | D14: Posto de vigilância controle de vias e acessos – (estacionamentos) | E14: 6 | F14: 07:00 às 13:00 (30hs) | AD14: 6 | AE14: Posto de vigilância controle de vias e acessos (estacionamentos) | AF14: 1 | AH14: 08:00hs às 20:00hs 11hs (55hs)
F15: 07:00 às 13:00 (30hs)
F16: 07:00 às 13:00 (30hs)
L17: 13:00 às 19:00 (30hs)
L18: 13:00 às 19:00 (30hs)
L19: 13:00 às 19:00 (30hs)
C21: 3 | D21: Posto de vigilância Central de Monitoramento | E21: 4 | F21: 07:00 às 13:00 (30hs) | AD21: 4 | AE21: Posto de vigilância Central de Monitoramento | AF21: 5 | AG21: 07 às 19:00hs 12x36 (44hs)
L22: 13:00 às 19:00 (30hs) | AG22: 07 às 19:00hs 12x36 (44hs)
G23: 08:00 às 14:00 (30hs) | AS23: 19:00 às 07:00hs 12x36 (44hs)
M24: 14:00 às 20:00 (30hs) | AS24: 19:00 às 07:00hs 12x36 (44hs)
AH25: 08:00hs às 20:00hs 11hs (55hs)
C27: 4 | D27: Posto de Supervisor – vigilante líder | E27: 2 | F27: 07:00 às 13:00 (30hs) | AD27: 2 | AE27: Posto de Supervisor – vigilante líder | AF27: 2 | AG27: 07 às 19:30hs 12x36 (44hs)
L28: 13:00 às 19:00 (30hs) | AG28: 07 às 19:00hs 12x36 (44hs)
C30: 5 | D30: Posto de vigilância Portaria Norte Térreo | E30: 2 | G30: 07:30 às 17:08 (44hs) | AD30: 2 | AE30: Posto de vigilância Portaria Norte Térreo | AF30: 2 | AG30: 07 às 19:00hs 12x36 (44hs)
P31: 17:00 às 23:00 (30hs) | AG31: 07 às 19:00hs 12x36 (44hs)
C33: 6 | D33: Posto de vigilância Portaria S | E33: 2 | F33: 07:00 às 13:00 (30hs) | AD33: 2 | AE33: Posto de vigilância Portaria S | AF33: 1 | AK33: 11:00hs às 23:00hs 11hs (55hs)
L34: 13:00 às 19:00 (30hs)
C36: 7 | D36: Posto de vigilância Portaria N 2ºA | E36: 2 | F36: 07:00 às 13:00 (30hs) | AD36: 2 | AE36: Posto de vigilância Portaria N 2ºA | AF36: 1 | AH36: 08:00hs às 20:00hs 11hs (55hs)
L37: 13:00 às 19:00 (30hs)
C39: 8 | D39: Posto de vigilância Loureiro da Silva | E39: 2 | G39: 08:00 às 17:48hs (44 hs) | AD39: 2 | AE39: Posto de vigilância Loureiro da Silva | AF39: 0
P40: 17:00 às 23:00 (30hs)
C41: Nr | D41: Postos | F41: 7 | G41: 8 | H41: 9 | I41: 10 | J41: 11 | K41: 12 | L41: 13 | M41: 14 | N41: 15 | O41: 16 | P41: 17 | Q41: 18 | R41: 19 | S41: 20 | T41: 21 | U41: 22 | V41: 23 | W41: 24 | X41: 1 | Y41: 2 | Z41: 3 | AA41: 4 | AB41: 5 | AC41: 6 | AE41: Postos | AG41: 7 | AH41: 8 | AI41: 9 | AJ41: 10 | AK41: 11 | AL41: 12 | AM41: 13 | AN41: 14 | AO41: 15 | AP41: 16 | AQ41: 17 | AR41: 18 | AS41: 19 | AT41: 20 | AU41: 21 | AV41: 22 | AW41: 23 | AX41: 24 | AY41: 1 | AZ41: 2 | BA41: 3 | BB41: 4 | BC41: 5 | BD41: 6
C42: Total por horário | F42: 9 | G42: 12 | R42: 5 | S42: 4 | V42: 2 | AG42: 5 | AH42: 8 | AK42: 9 | AS42: 4 | AV42: 3
E43: =SUM(E4:E42) -> 28 | AD43: =SUM(AD4:AD42) -> 28 | AF43: =SUM(AF4:AF42) -> 20
D46: Pontos críticos

Sheet GERAL-12D
A1: PROPOSTA_SPAC_VIGIL01
A2: OBJETO DA LICITAÇÃO: | C2: GERAL 12D | D2: COMENTÁRIO
A3: Horário de trabalho | C3: DIURNO
A4: Escala | C4: 12x36
A5: Qtd de dias de trabalho na semana | C5: 3.5
A6: Média de dias trabalhados por empregado no mês | C6: 15
A7: Quantidade horas noturnas diárias | C7: 0 | D7: O artigo 73 da CLT, para o trabalho executado entre as 22 horas de um dia e as 5 horas do dia seguinte conf. §2°
A8: Quantidade horas diurnas | C8: 12
A9: Quantidade horas diárias do posto | C9: 12
A10: Quantidade horas extras mensais | C10: 0
A11: Limite de horas mensais com RSR (Repouso Salarial Remunerado)* | C11: 220 | D11: CLÁUSULA TERCEIRA - SALÁRIOS PROFISSIONAIS
A12: Horas de trabalho no mês com RSR | C12: 220
A13: POSTO | C13: Vigia Diurno
A14: Intervalo Intrajornada (Será concedido? sim/não) | C14: 196.05 | D14: CCT - Valor da hora intervalar de R$ 13,07 x 15 = 196,05 Cobrir 1 hora diária por plantão durante o horário do almoço, sem abandono do posto.
A15: Número de meses da execucao contratual | C15: 60
A16: Categoria Profissional | C16: SINDVIGILANTES
A17: CBO * | C17: 5173-30 | D17: Agente monitoramento, Operador de Vídeo
A18: Registro da CCT no MTE: * | C18: RS000776/2026 | D18: CCT
A19: Data base da categoria * | C19: 01/02 | D19: 01º de fevereiro de 2026 a 31 de janeiro de 2027
A20: Valor do salário normativo * | C20: 2211 | D20: CLÁUSULA TERCEIRA - SALÁRIOS PROFISSIONAIS
A21: Base de Cálculo para Insalubridade | C21: -
A22: Custo Unitário Transporte | C22: 5.3
A23: Custo Unitário Transporte | C23: 0.06 | D23: LEI No 7.418, DE 16 DE DEZEMBRO DE 1985 Art. 4 Parágrafo único
A24: Quantidade de vale transporte mês | C24: =C6*2 -> 30
A25: Custo Unitário Alimentação/Lanche CCT * | C25: 33 | D25: CLÁUSULA DÉCIMA QUINTA - AUXÍLIO ALIMENTAÇÃO
A26: % Descontado do empregado alimentação CCT * | C26: 0.2
A27: Quantidade de vale alimentação mês | C27: =C6 -> 15
A28: 2.3. Custo Unitário Assistencia médica * | C28: 0
A29: 2.4. Custo Unitário PLANO DE BENEFÍCIO FAMILIAR * | C29: 0
A30: 2.5. Custo Unitário Exames médicos/laudos segurança do trabalho | C30: 0
A31: 1.2. Hora extra | C31: 0.5
A32: 1.3. Adicional Noturno | C32: 0.2
A33: 1.5. Adicional Insalubridade | C33: 0
A34: 1.6. Adicional Periculosidade | C34: 0.3 | D34: Tribunal Regional do Trabalho da 1ª Região TRT-1 - RECURSO ORDINÁRIO: RO XXXXX20155010030 RJ ADICIONAL DE PERICULOSIDADE. VIGILANTE. ATIVIDADE COMPREENDIDA NO ART. 193, II, DA CLT. Fazem jus ao adicional de periculosidade equivalente a 30% do efetivo salário os trabalhadores em atividades profissionais de segurança pessoal ou patrimonial, em razão da exposição a risco de roubos ou outras espécies de violência …
A35: 1.7. Gratificação de Função | C35: 0
A36: 1.9. Adicional de troca de uniforme | C36: 1.67
A37: 1.91. Prêmio assiduidade | C37: 80 | D37: Valores referentes a Cláusula 14º da CCT. Não fará jus ao prêmio assiduidade quem apresentar falta, atraso, saída antes do fim de jornada, ausência (ainda que justificada ou abonada), punição disciplinar, atestado médico ou declaração de comparecimento
A38: 1.92. Reciclagem/formação continuada (Lei 14.967/24) | C38: 75.41 | D38: Valor Cláusula Décima Sexta - Treinamento
A39: 1.93. Custeio da Aprendizagem | C39: 96.61 | D39: Valores referentes a Cláusula 26º da CCT. §10.
A40: 3.1.6. RAT Ajustado (RAT x FAP ) | C40: 0.018
...

Sheet GERAL-12N
A1: ='GERAL-12D'!A1 -> PROPOSTA_SPAC_VIGIL01
A2: OBJETO DA LICITAÇÃO: | C2: GERAL 12N | D2: COMENTÁRIO
A3: Horário de trabalho | C3: DIURNO
A4: Escala | C4: 12x36
A5: Qtd de dias de trabalho na semana | C5: 3.5
A6: Média de dias trabalhados por empregado no mês | C6: 15
A7: Quantidade horas noturnas diárias | C7: 7 | D7: O artigo 73 da CLT, para o trabalho executado entre as 22 horas de um dia e as 5 horas do dia seguinte conf. §2°
A8: Quantidade horas diurnas | C8: 12
A9: Quantidade horas diárias do posto | C9: 12
A10: Quantidade horas extras mensais | C10: 0
A11: Limite de horas mensais com RSR (Repouso Salarial Remunerado)* | C11: 220 | D11: CLÁUSULA TERCEIRA - SALÁRIOS PROFISSIONAIS
A12: Horas de trabalho no mês com RSR | C12: 220
A13: POSTO | C13: Vigia Noturno
A14: Intervalo Intrajornada (Será concedido? sim/não) | C14: 235.2 | D14: CCT - Valor da hora intervalar de R$ 15,68 x 15 = 235,20 Cobrir 1 hora diária por plantão durante o horário do almoço, sem abandono do posto.
A15: Número de meses da execucao contratual | C15: 60
A16: Categoria Profissional | C16: SINDVIGILANTES
A17: CBO * | C17: 5173-30 | D17: Agente monitoramento, Operador de Vídeo
A18: Registro da CCT no MTE: * | C18: RS000776/2026 | D18: CCT
A19: Data base da categoria * | C19: 01/02 | D19: 01º de fevereiro de 2026 a 31 de janeiro de 2027
A20: Valor do salário normativo * | C20: 2211 | D20: CLÁUSULA TERCEIRA - SALÁRIOS PROFISSIONAIS
A21: Base de Cálculo para Insalubridade | C21: -
A22: Custo Unitário Transporte | C22: 5.3
A23: Custo Unitário Transporte | C23: 0.06 | D23: LEI No 7.418, DE 16 DE DEZEMBRO DE 1985 Art. 4 Parágrafo único
A24: Quantidade de vale transporte mês | C24: =C6*2 -> 30
A25: Custo Unitário Alimentação/Lanche CCT * | C25: 33 | D25: CLÁUSULA DÉCIMA QUINTA - AUXÍLIO ALIMENTAÇÃO
A26: % Descontado do empregado alimentação CCT * | C26: 0.2
A27: Quantidade de vale alimentação mês | C27: =C6 -> 15
A28: 2.3. Custo Unitário Assistencia médica * | C28: 0
A29: 2.4. Custo Unitário PLANO DE BENEFÍCIO FAMILIAR * | C29: 0
A30: 2.5. Custo Unitário Exames médicos/laudos segurança do trabalho | C30: 0
A31: 1.2. Hora extra | C31: 0.5
A32: 1.3. Adicional Noturno | C32: 0.2
A33: 1.5. Adicional Insalubridade | C33: 0
A34: 1.6. Adicional Periculosidade | C34: 0.3 | D34: Tribunal Regional do Trabalho da 1ª Região TRT-1 - RECURSO ORDINÁRIO: RO XXXXX20155010030 RJ ADICIONAL DE PERICULOSIDADE. VIGILANTE. ATIVIDADE COMPREENDIDA NO ART. 193, II, DA CLT. Fazem jus ao adicional de periculosidade equivalente a 30% do efetivo salário os trabalhadores em atividades profissionais de segurança pessoal ou patrimonial, em razão da exposição a risco de roubos ou outras espécies de violência …
A35: 1.7. Gratificação de Função | C35: 0
A36: 1.9. Adicional de troca de uniforme | C36: 1.67
A37: 1.91. Prêmio assiduidade | C37: 80 | D37: Valores referentes a Cláusula 14º da CCT. Não fará jus ao prêmio assiduidade quem apresentar falta, atraso, saída antes do fim de jornada, ausência (ainda que justificada ou abonada), punição disciplinar, atestado médico ou declaração de comparecimento
A38: 1.92. Reciclagem/formação continuada (Lei 14.967/24) | C38: 75.41 | D38: Valor Cláusula Décima Sexta - Treinamento
A39: 1.93. Custeio da Aprendizagem | C39: 96.61 | D39: Valores referentes a Cláusula 26º da CCT. §10.
A40: 3.1.6. RAT Ajustado (RAT x FAP ) | C40: 0.018
...

Sheet LÍDER-12D
A1: ='GERAL-12D'!A1 -> PROPOSTA_SPAC_VIGIL01
A2: OBJETO DA LICITAÇÃO: | C2: LIDER 12D | D2: COMENTÁRIO
A3: Horário de trabalho | C3: DIURNO
A4: Escala | C4: 12x36
A5: Qtd de dias de trabalho na semana | C5: 3.5
A6: Média de dias trabalhados por empregado no mês | C6: 15
A7: Quantidade horas noturnas diárias | C7: 0 | D7: O artigo 73 da CLT, para o trabalho executado entre as 22 horas de um dia e as 5 horas do dia seguinte conf. §2°
A8: Quantidade horas diurnas | C8: 12
A9: Quantidade horas diárias do posto | C9: 12
A10: Quantidade horas extras mensais | C10: 0
A11: Limite de horas mensais com RSR (Repouso Salarial Remunerado)* | C11: 220 | D11: CLÁUSULA TERCEIRA - SALÁRIOS PROFISSIONAIS
A12: Horas de trabalho no mês com RSR | C12: 220
A13: POSTO | C13: LÍDER Diurno
A14: Intervalo Intrajornada (Será concedido? sim/não) | C14: Sim
A15: Número de meses da execucao contratual | C15: 60
A16: Categoria Profissional | C16: SINDVIGILANTES
A17: CBO * | C17: 5173-30 | D17: Agente monitoramento, Operador de Vídeo
A18: Registro da CCT no MTE: * | C18: RS000776/2026 | D18: CCT
A19: Data base da categoria * | C19: 01/02 | D19: 01º de fevereiro de 2026 a 31 de janeiro de 2027
A20: Valor do salário normativo * | C20: 2211 | D20: CLÁUSULA TERCEIRA - SALÁRIOS PROFISSIONAIS
A21: Base de Cálculo para Insalubridade | C21: -
A22: Custo Unitário Transporte | C22: 5.3
A23: Custo Unitário Transporte | C23: 0.06 | D23: LEI No 7.418, DE 16 DE DEZEMBRO DE 1985 Art. 4 Parágrafo único
A24: Quantidade de vale transporte mês | C24: =C6*2 -> 30
A25: Custo Unitário Alimentação/Lanche CCT * | C25: 33 | D25: CLÁUSULA DÉCIMA QUINTA - AUXÍLIO ALIMENTAÇÃO
A26: % Descontado do empregado alimentação CCT * | C26: 0.2
A27: Quantidade de vale alimentação mês | C27: =C6 -> 15
A28: 2.3. Custo Unitário Assistencia médica * | C28: 0
A29: 2.4. Custo Unitário PLANO DE BENEFÍCIO FAMILIAR * | C29: 0
A30: 2.5. Custo Unitário Exames médicos/laudos segurança do trabalho | C30: 0
A31: 1.2. Hora extra | C31: 0.5
A32: 1.3. Adicional Noturno | C32: 0.2
A33: 1.5. Adicional Insalubridade | C33: 0
A34: 1.6. Adicional Periculosidade | C34: 0.3 | D34: Tribunal Regional do Trabalho da 1ª Região TRT-1 - RECURSO ORDINÁRIO: RO XXXXX20155010030 RJ ADICIONAL DE PERICULOSIDADE. VIGILANTE. ATIVIDADE COMPREENDIDA NO ART. 193, II, DA CLT. Fazem jus ao adicional de periculosidade equivalente a 30% do efetivo salário os trabalhadores em atividades profissionais de segurança pessoal ou patrimonial, em razão da exposição a risco de roubos ou outras espécies de violência …
A35: 1.7. Gratificação de Função | C35: 0.2
A36: 1.9. Adicional de troca de uniforme | C36: 1.67
A37: 1.91. Prêmio assiduidade | C37: 80 | D37: Valores referentes a Cláusula 14º da CCT. Não fará jus ao prêmio assiduidade quem apresentar falta, atraso, saída antes do fim de jornada, ausência (ainda que justificada ou abonada), punição disciplinar, atestado médico ou declaração de comparecimento
A38: 1.92. Reciclagem/formação continuada (Lei 14.967/24) | C38: 75.41 | D38: Valor Cláusula Décima Sexta - Treinamento
A39: 1.93. Custeio da Aprendizagem | C39: 96.61 | D39: Valores referentes a Cláusula 26º da CCT. §10.
A40: 3.1.6. RAT Ajustado (RAT x FAP ) | C40: 0.018
...

Sheet MONITOR-12D
A1: ='GERAL-12D'!A1 -> PROPOSTA_SPAC_VIGIL01
A2: OBJETO DA LICITAÇÃO: | C2: MONITOR 12D | D2: COMENTÁRIO
A3: Horário de trabalho | C3: DIURNO
A4: Escala | C4: 12x36
A5: Qtd de dias de trabalho na semana | C5: 3.5
A6: Média de dias trabalhados por empregado no mês | C6: 15
A7: Quantidade horas noturnas diárias | C7: 0 | D7: O artigo 73 da CLT, para o trabalho executado entre as 22 horas de um dia e as 5 horas do dia seguinte conf. §2°
A8: Quantidade horas diurnas | C8: 12
A9: Quantidade horas diárias do posto | C9: 12
A10: Quantidade horas extras mensais | C10: 0
A11: Limite de horas mensais com RSR (Repouso Salarial Remunerado)* | C11: 220 | D11: CLÁUSULA TERCEIRA - SALÁRIOS PROFISSIONAIS
A12: Horas de trabalho no mês com RSR | C12: 220
A13: POSTO | C13: Monitor Diurno
A14: Intervalo Intrajornada (Será concedido? sim/não) | C14: Sim
A15: Número de meses da execucao contratual | C15: 60
A16: Categoria Profissional | C16: SINDVIGILANTES
A17: CBO * | C17: 5174-20 | D17: Agente monitoramento, Operador de Vídeo
A18: Registro da CCT no MTE: * | C18: RS000776/2026 | D18: CCT
A19: Data base da categoria * | C19: 01/02 | D19: 01º de fevereiro de 2026 a 31 de janeiro de 2027
A20: Valor do salário normativo * | C20: 1938.2 | D20: CLÁUSULA TERCEIRA - SALÁRIOS PROFISSIONAIS
A21: Base de Cálculo para Insalubridade | C21: -
A22: Custo Unitário Transporte | C22: 5.3
A23: Custo Unitário Transporte | C23: 0.06 | D23: LEI No 7.418, DE 16 DE DEZEMBRO DE 1985 Art. 4 Parágrafo único
A24: Quantidade de vale transporte mês | C24: =C6*2 -> 30
A25: Custo Unitário Alimentação/Lanche CCT * | C25: 33 | D25: CLÁUSULA DÉCIMA QUINTA - AUXÍLIO ALIMENTAÇÃO
A26: % Descontado do empregado alimentação CCT * | C26: 0.2
A27: Quantidade de vale alimentação mês | C27: =C6 -> 15
A28: 2.3. Custo Unitário Assistencia médica * | C28: 0
A29: 2.4. Custo Unitário PLANO DE BENEFÍCIO FAMILIAR * | C29: 0
A30: 2.5. Custo Unitário Exames médicos/laudos segurança do trabalho | C30: 0
A31: 1.2. Hora extra | C31: 0.5
A32: 1.3. Adicional Noturno | C32: 0.2
A33: 1.5. Adicional Insalubridade | C33: 0
A34: 1.6. Adicional Periculosidade | C34: 0.3 | D34: Tribunal Regional do Trabalho da 1ª Região TRT-1 - RECURSO ORDINÁRIO: RO XXXXX20155010030 RJ ADICIONAL DE PERICULOSIDADE. VIGILANTE. ATIVIDADE COMPREENDIDA NO ART. 193, II, DA CLT. Fazem jus ao adicional de periculosidade equivalente a 30% do efetivo salário os trabalhadores em atividades profissionais de segurança pessoal ou patrimonial, em razão da exposição a risco de roubos ou outras espécies de violência …
A35: 1.7. Gratificação de Função | C35: 0
A36: 1.9. Adicional de troca de uniforme | C36: 0
A37: 1.91. Prêmio assiduidade | C37: 80 | D37: Valores referentes a Cláusula 14º da CCT. Não fará jus ao prêmio assiduidade quem apresentar falta, atraso, saída antes do fim de jornada, ausência (ainda que justificada ou abonada), punição disciplinar, atestado médico ou declaração de comparecimento
A38: 1.92. Reciclagem/formação continuada (Lei 14.967/24) | C38: 75.41 | D38: Valor Cláusula Décima Sexta - Treinamento
A39: 1.93. Custeio da Aprendizagem | C39: 96.61 | D39: Valores referentes a Cláusula 26º da CCT. §10.
A40: 3.1.6. RAT Ajustado (RAT x FAP ) | C40: 0.018
...

Sheet MONITOR-12N
A1: ='GERAL-12D'!A1 -> PROPOSTA_SPAC_VIGIL01
A2: OBJETO DA LICITAÇÃO: | C2: MONITOR 12N | D2: COMENTÁRIO
A3: Horário de trabalho | C3: DIURNO
A4: Escala | C4: 12x36
A5: Qtd de dias de trabalho na semana | C5: 3.5
A6: Média de dias trabalhados por empregado no mês | C6: 15
A7: Quantidade horas noturnas diárias | C7: 7 | D7: O artigo 73 da CLT, para o trabalho executado entre as 22 horas de um dia e as 5 horas do dia seguinte conf. §2°
A8: Quantidade horas diurnas | C8: 12
A9: Quantidade horas diárias do posto | C9: 12
A10: Quantidade horas extras mensais | C10: 0
A11: Limite de horas mensais com RSR (Repouso Salarial Remunerado)* | C11: 220 | D11: CLÁUSULA TERCEIRA - SALÁRIOS PROFISSIONAIS
A12: Horas de trabalho no mês com RSR | C12: 220
A13: POSTO | C13: Monitor Noturno
A14: Intervalo Intrajornada (Será concedido? sim/não) | C14: 206.1 | D14: CCT - Valor da hora intervalar de R$ 13,74 x 15 = 206,10 Cobrir 1 hora diária por plantão durante o horário do almoço, sem abandono do posto.
A15: Número de meses da execucao contratual | C15: 60
A16: Categoria Profissional | C16: SINDVIGILANTES
A17: CBO * | C17: 5174-20 | D17: Agente monitoramento, Operador de Vídeo
A18: Registro da CCT no MTE: * | C18: RS000776/2026 | D18: CCT
A19: Data base da categoria * | C19: 01/02 | D19: 01º de fevereiro de 2026 a 31 de janeiro de 2027
A20: Valor do salário normativo * | C20: 1938.2 | D20: CLÁUSULA TERCEIRA - SALÁRIOS PROFISSIONAIS
A21: Base de Cálculo para Insalubridade | C21: -
A22: Custo Unitário Transporte | C22: 5.3
A23: Custo Unitário Transporte | C23: 0.06 | D23: LEI No 7.418, DE 16 DE DEZEMBRO DE 1985 Art. 4 Parágrafo único
A24: Quantidade de vale transporte mês | C24: =C6*2 -> 30
A25: Custo Unitário Alimentação/Lanche CCT * | C25: 33 | D25: CLÁUSULA DÉCIMA QUINTA - AUXÍLIO ALIMENTAÇÃO
A26: % Descontado do empregado alimentação CCT * | C26: 0.2
A27: Quantidade de vale alimentação mês | C27: =C6 -> 15
A28: 2.3. Custo Unitário Assistencia médica * | C28: 0
A29: 2.4. Custo Unitário PLANO DE BENEFÍCIO FAMILIAR * | C29: 0
A30: 2.5. Custo Unitário Exames médicos/laudos segurança do trabalho | C30: 0
A31: 1.2. Hora extra | C31: 0.5
A32: 1.3. Adicional Noturno | C32: 0.2
A33: 1.5. Adicional Insalubridade | C33: 0
A34: 1.6. Adicional Periculosidade | C34: 0.3 | D34: Tribunal Regional do Trabalho da 1ª Região TRT-1 - RECURSO ORDINÁRIO: RO XXXXX20155010030 RJ ADICIONAL DE PERICULOSIDADE. VIGILANTE. ATIVIDADE COMPREENDIDA NO ART. 193, II, DA CLT. Fazem jus ao adicional de periculosidade equivalente a 30% do efetivo salário os trabalhadores em atividades profissionais de segurança pessoal ou patrimonial, em razão da exposição a risco de roubos ou outras espécies de violência …
A35: 1.7. Gratificação de Função | C35: 0
A36: 1.9. Adicional de troca de uniforme | C36: 0
A37: 1.91. Prêmio assiduidade | C37: 80 | D37: Valores referentes a Cláusula 14º da CCT. Não fará jus ao prêmio assiduidade quem apresentar falta, atraso, saída antes do fim de jornada, ausência (ainda que justificada ou abonada), punição disciplinar, atestado médico ou declaração de comparecimento
A38: 1.92. Reciclagem/formação continuada (Lei 14.967/24) | C38: 75.41 | D38: Valor Cláusula Décima Sexta - Treinamento
A39: 1.93. Custeio da Aprendizagem | C39: 96.61 | D39: Valores referentes a Cláusula 26º da CCT. §10.
A40: 3.1.6. RAT Ajustado (RAT x FAP ) | C40: 0.018
...

Sheet MONITOR-11D
A1: ='GERAL-12D'!A1 -> PROPOSTA_SPAC_VIGIL01
A2: OBJETO DA LICITAÇÃO: | C2: MONITOR 11D | D2: COMENTÁRIO
A3: Horário de trabalho | C3: DIURNO
A4: Escala | C4: 11hs (5x2)
A5: Qtd de dias de trabalho na semana | C5: 5
A6: Média de dias trabalhados por empregado no mês | C6: 22
A7: Quantidade horas noturnas diárias | C7: 0 | D7: O artigo 73 da CLT, para o trabalho executado entre as 22 horas de um dia e as 5 horas do dia seguinte conf. §2°
A8: Quantidade horas diurnas | C8: 11
A9: Quantidade horas diárias do posto | C9: 11
A10: Quantidade horas extras mensais | C10: 55 | D10: 275horas/mensais - 220horas/mensais = 55 horas/mensais
A11: Limite de horas mensais com RSR (Repouso Salarial Remunerado)* | C11: 220 | D11: CLÁUSULA TERCEIRA - SALÁRIOS PROFISSIONAIS
A12: Horas de trabalho no mês com RSR | C12: 220
A13: POSTO | C13: Monitor Diurno
A14: Intervalo Intrajornada (Será concedido? sim/não) | C14: Sim
A15: Número de meses da execucao contratual | C15: 60
A16: Categoria Profissional | C16: SINDVIGILANTES
A17: CBO * | C17: 5174-20 | D17: Agente monitoramento, Operador de Vídeo
A18: Registro da CCT no MTE: * | C18: RS000776/2026 | D18: CCT
A19: Data base da categoria * | C19: 01/02 | D19: 01º de fevereiro de 2026 a 31 de janeiro de 2027
A20: Valor do salário normativo * | C20: 1938.2 | D20: CLÁUSULA TERCEIRA - SALÁRIOS PROFISSIONAIS
A21: Base de Cálculo para Insalubridade | C21: -
A22: Custo Unitário Transporte | C22: 5.3
A23: Custo Unitário Transporte | C23: 0.06 | D23: LEI No 7.418, DE 16 DE DEZEMBRO DE 1985 Art. 4 Parágrafo único
A24: Quantidade de vale transporte mês | C24: =C6*2 -> 44
A25: Custo Unitário Alimentação/Lanche CCT * | C25: 33 | D25: CLÁUSULA DÉCIMA QUINTA - AUXÍLIO ALIMENTAÇÃO
A26: % Descontado do empregado alimentação CCT * | C26: 0.2
A27: Quantidade de vale alimentação mês | C27: =C6 -> 22
A28: 2.3. Custo Unitário Assistencia médica * | C28: 0
A29: 2.4. Custo Unitário PLANO DE BENEFÍCIO FAMILIAR * | C29: 0
A30: 2.5. Custo Unitário Exames médicos/laudos segurança do trabalho | C30: 0
A31: 1.2. Hora extra | C31: 0.5
A32: 1.3. Adicional Noturno | C32: 0.2
A33: 1.5. Adicional Insalubridade | C33: 0
A34: 1.6. Adicional Periculosidade | C34: 0.3 | D34: Tribunal Regional do Trabalho da 1ª Região TRT-1 - RECURSO ORDINÁRIO: RO XXXXX20155010030 RJ ADICIONAL DE PERICULOSIDADE. VIGILANTE. ATIVIDADE COMPREENDIDA NO ART. 193, II, DA CLT. Fazem jus ao adicional de periculosidade equivalente a 30% do efetivo salário os trabalhadores em atividades profissionais de segurança pessoal ou patrimonial, em razão da exposição a risco de roubos ou outras espécies de violência …
A35: 1.7. Gratificação de Função | C35: 0
A36: 1.9. Adicional de troca de uniforme | C36: 0
A37: 1.91. Prêmio assiduidade | C37: 80 | D37: Valores referentes a Cláusula 14º da CCT. Não fará jus ao prêmio assiduidade quem apresentar falta, atraso, saída antes do fim de jornada, ausência (ainda que justificada ou abonada), punição disciplinar, atestado médico ou declaração de comparecimento
A38: 1.92. Reciclagem/formação continuada (Lei 14.967/24) | C38: 75.41 | D38: Valor Cláusula Décima Sexta - Treinamento
A39: 1.93. Custeio da Aprendizagem | C39: 96.61 | D39: Valores referentes a Cláusula 26º da CCT. §10.
A40: 3.1.6. RAT Ajustado (RAT x FAP ) | C40: 0.018
...

Sheet GERAL-11D
A1: ='GERAL-12D'!A1 -> PROPOSTA_SPAC_VIGIL01
A2: OBJETO DA LICITAÇÃO: | C2: GERAL 11D | D2: COMENTÁRIO
A3: Horário de trabalho | C3: DIURNO
A4: Escala | C4: 11hs (5x2)
A5: Qtd de dias de trabalho na semana | C5: 5
A6: Média de dias trabalhados por empregado no mês | C6: 22
A7: Quantidade horas noturnas diárias | C7: 0 | D7: O artigo 73 da CLT, para o trabalho executado entre as 22 horas de um dia e as 5 horas do dia seguinte conf. §2°
A8: Quantidade horas diurnas | C8: 11
A9: Quantidade horas diárias do posto | C9: 11
A10: Quantidade horas extras mensais | C10: 55
A11: Limite de horas mensais com RSR (Repouso Salarial Remunerado)* | C11: 220 | D11: CLÁUSULA TERCEIRA - SALÁRIOS PROFISSIONAIS
A12: Horas de trabalho no mês com RSR | C12: 220
A13: POSTO | C13: Vigilante Diurno
A14: Intervalo Intrajornada (Será concedido? sim/não) | C14: Sim
A15: Número de meses da execucao contratual | C15: 60
A16: Categoria Profissional | C16: SINDVIGILANTES
A17: CBO * | C17: 5173-30 | D17: Agente monitoramento, Operador de Vídeo
A18: Registro da CCT no MTE: * | C18: RS000776/2026 | D18: CCT
A19: Data base da categoria * | C19: 01/02 | D19: 01º de fevereiro de 2026 a 31 de janeiro de 2027
A20: Valor do salário normativo * | C20: 2211 | D20: CLÁUSULA TERCEIRA - SALÁRIOS PROFISSIONAIS
A21: Base de Cálculo para Insalubridade | C21: -
A22: Custo Unitário Transporte | C22: 5.3
A23: Custo Unitário Transporte | C23: 0.06 | D23: LEI No 7.418, DE 16 DE DEZEMBRO DE 1985 Art. 4 Parágrafo único
A24: Quantidade de vale transporte mês | C24: =C6*2 -> 44
A25: Custo Unitário Alimentação/Lanche CCT * | C25: 33 | D25: CLÁUSULA DÉCIMA QUINTA - AUXÍLIO ALIMENTAÇÃO
A26: % Descontado do empregado alimentação CCT * | C26: 0.2
A27: Quantidade de vale alimentação mês | C27: =C6 -> 22
A28: 2.3. Custo Unitário Assistencia médica * | C28: 0
A29: 2.4. Custo Unitário PLANO DE BENEFÍCIO FAMILIAR * | C29: 0
A30: 2.5. Custo Unitário Exames médicos/laudos segurança do trabalho | C30: 0
A31: 1.2. Hora extra | C31: 0.5
A32: 1.3. Adicional Noturno | C32: 0.2
A33: 1.5. Adicional Insalubridade | C33: 0
A34: 1.6. Adicional Periculosidade | C34: 0.3 | D34: Tribunal Regional do Trabalho da 1ª Região TRT-1 - RECURSO ORDINÁRIO: RO XXXXX20155010030 RJ ADICIONAL DE PERICULOSIDADE. VIGILANTE. ATIVIDADE COMPREENDIDA NO ART. 193, II, DA CLT. Fazem jus ao adicional de periculosidade equivalente a 30% do efetivo salário os trabalhadores em atividades profissionais de segurança pessoal ou patrimonial, em razão da exposição a risco de roubos ou outras espécies de violência …
A35: 1.7. Gratificação de Função | C35: 0
A36: 1.9. Adicional de troca de uniforme | C36: 1.67
A37: 1.91. Prêmio assiduidade | C37: 80 | D37: Valores referentes a Cláusula 14º da CCT. Não fará jus ao prêmio assiduidade quem apresentar falta, atraso, saída antes do fim de jornada, ausência (ainda que justificada ou abonada), punição disciplinar, atestado médico ou declaração de comparecimento
A38: 1.92. Reciclagem/formação continuada (Lei 14.967/24) | C38: 75.41 | D38: Valor Cláusula Décima Sexta - Treinamento
A39: 1.93. Custeio da Aprendizagem | C39: 96.61 | D39: Valores referentes a Cláusula 26º da CCT. §10.
A40: 3.1.6. RAT Ajustado (RAT x FAP ) | C40: 0.018
...

Sheet MATERIAIS
A1: Item | B1: Prazo De Substituição | C1: Número de peças por vigia | D1: Valor Unitário da peça R$ | E1: Valor total por vigia mensal R$ | F1: LINK | H1: Veículo para monitoramento | I1: Valor | J1: Valor Anual | K1: Valor Mensal
A2: Calça Tipo Rip Stop, com 6 bolsos (2 frente, 2 atrás e 2 laterais) | B2: 12 | C2: 2 | D2: 142.12 | E2: =C2*TRUNC(ROUND(D2/B2,2),2) -> 23.68 | F2: Link
A3: Camisa manga longa, com abotoamento frontal, com logomarca e nas cores da empresa | B3: 12 | C3: 2 | D3: 147.6 | E3: =C3*TRUNC(ROUND(D3/B3,2),2) -> 24.6 | H3: Valor estimado | I3: =J15 -> 9604
A4: Camisa manga curta, com abotoamento frontal, com logomarca e nas cores da empresa | B4: 12 | C4: 2 | D4: 138.51 | E4: =C4*TRUNC(ROUND(D4/B4,2),2) -> 23.08 | H4: Amortização anual | I4: 0.2 | J4: =I4*I3 -> 1920.8 | K4: =ROUND(J4/12,2) -> 160.07
A5: Jaqueta de frio, japona ou parka, de náilon, com logotipo e nas cores da empresa | B5: 24 | C5: 1 | D5: 251.09 | E5: =C5*TRUNC(ROUND(D5/B5,2),2) -> 10.46 | H5: Custo de Oportunidade | I5: 0.15 | J5: =I3*I5 -> 1440.6 | K5: =ROUND(J5/12,2) -> 120.05
A6: Capa de chuva, confeccionada em náilon emborrachado, com capuz e punhos ajustáveis, com fita reflexiva na frente e nas costas, com logomarca e nas cores da empresa | B6: 24 | C6: 1 | D6: 157.28 | E6: =C6*TRUNC(ROUND(D6/B6,2),2) -> 6.55 | H6: Valor total | J6: =SUM(J4:J5) -> 3361.4 | K6: =ROUND(SUM(K2:K5),2) -> 280.12
A7: Coturno (par) | B7: 12 | C7: 1 | D7: 224.28 | E7: =C7*TRUNC(ROUND(D7/B7,2),2) -> 18.69
A8: Meia cano alto | B8: 12 | C8: 3 | D8: 15.11 | E8: =C8*TRUNC(ROUND(D8/B8,2),2) -> 3.78
A9: Cinto de guarnição tático completo | B9: 12 | C9: 1 | D9: 167.42 | E9: =C9*TRUNC(ROUND(D9/B9,2),2) -> 13.95 | H9: Veículo | J9: Valor | K9: Link | L9: Data | M9: Local
A10: Boné no modelo, logotipo e cores da empresa | B10: 12 | C10: 1 | D10: 35.31 | E10: =C10*TRUNC(ROUND(D10/B10,2),2) -> 2.94 | H10: SCOOTER ELÉTRICA 1000W | J10: 10100 | K10: Link | L10: 45776 | M10: Prefeitura Municipal de Santana da Vargem
A11: Gravata nas cores da empresa | B11: 12 | C11: 2 | D11: 42.41 | E11: =C11*TRUNC(ROUND(D11/B11,2),2) -> 7.06 | H11: SCOOTER ELÉTRICA, Motor com potência mínima de 1000w; | J11: 8950 | K11: Link | L11: 46149 | M11: Prefeitura Municipal de Alegrete
C12: TOTAL PARCIAL ROUPAS POR VIGIA | E12: =SUM(E2:E11) -> 134.79 | H12: Scooter Elétrica X11 | J12: 9990 | K12: Link | L12: 46197 | M12: Ecomotors Brasil
H13: Scooter Elétrica X12 | J13: 9990 | K13: Link | L13: 46197 | M13: Motochefe
A14: Item | B14: Prazo De Substituição | C14: Número de peças por vigia | D14: Valor Unitário R$ | E14: Valor Unitário mensal R$ | H14: Scooter MC SOMA | J14: 8990 | K14: Link | L14: 46197 | M14: Motochefe
A15: Equipamento profissional de Rádio Comunicação, em VHF, com bateria e carregador. | B15: 36 | C15: 0.5 | D15: 2339.55 | E15: =C15*ROUND(D15/B15,2) -> 32.495 | H15: Média de valores | J15: =AVERAGE(J10:J14) -> 9604
A16: Bateria | B16: 36 | C16: 0.5 | D16: 261.33 | E16: =ROUND(D16/B16*C16,2) -> 3.63
A17: Bastão PR24 | B17: 36 | C17: 1 | D17: 29.85 | E17: =TRUNC(ROUND(C17*D17/B17,2),2) -> 0.83
A18: Porta-bastão | B18: 36 | C18: 1 | D18: 34.08 | E18: =TRUNC(ROUND(C18*D18/B18,2),2) -> 0.95 | H18: Exemplos de Veículo Elétrico
A19: Fone de ouvido | B19: 6 | C19: 1 | D19: 124.23 | E19: =TRUNC(ROUND(C19*D19/B19,2),2) -> 20.71
A20: Apito com cordão de apito | B20: 24 | C20: 1 | D20: 13.49 | E20: =TRUNC(ROUND(C20*D20/B20,2),2) -> 0.56
A21: Lanterna de LED, com bateria | B21: 24 | C21: 1 | D21: 38.59 | E21: =TRUNC(ROUND(C21*D21/B21,2),2) -> 1.61
A22: Colete refletivo | B22: 12 | C22: 1 | D22: 23.15 | E22: =TRUNC(ROUND(C22*D22/B22,2),2) -> 1.93
C23: TOTAL PARCIAL EQUIPAMENTOS POR VIGIA | E23: =SUM(E15:E22) -> 62.715
C24: TOTAL GLOBAL MENSAL POR VIGIA/ SUPERVISOR/ MONITOR | E24: =E23+E12 -> 197.505
A27: Considerando que haverá no máximo 9 vigilantes atuando ao mesmo tempo, 10 rádios atenderiam a necessidade
A28: Foi prevista a aquisição de bateria para que seja mantido o mesmo número de bateria carregada para cada rádio utilizado

Sheet TOTAIS FINAIS
A1: ='GERAL-12D'!A1 -> PROPOSTA_SPAC_VIGIL01
A2: PROCESSO SEI 130.00016/2024-59
A3: RESUMO: VALOR
A4: Cargo | B4: Acúmulo em %: Chefia e Função Gratificada | C4: Jornada Semanal | D4: Número de Funcionários Estimados | E4: Valor Unitário do Cargo | F4: Valor Mensal | G4: Valor Anual
A5: ='GERAL-12D'!$C$2 -> GERAL 12D | B5: =SUM('GERAL-12D'!B59:B61) -> 0.3 | C5: ='GERAL-12D'!$C$46/5 -> 44 | D5: 6 | E5: ='GERAL-12D'!$C$143 -> 6456.14 | F5: =D5*E5 -> 38736.84 | G5: =F5*12 -> 464842.08
A6: ='GERAL-12N'!$C$2 -> GERAL 12N | B6: =SUM('GERAL-12N'!B59:B61) -> 0.3 | C6: ='GERAL-12N'!$C$46/5 -> 44 | D6: 4 | E6: ='GERAL-12N'!$C$143 -> 7671.38 | F6: =D6*E6 -> 30685.52 | G6: =F6*12 -> 368226.24
A7: ='LÍDER-12D'!$C$2 -> LIDER 12D | B7: =SUM('LÍDER-12D'!B59:B61) -> 0.5 | C7: ='LÍDER-12D'!$C$46/5 -> 44 | D7: 2 | E7: ='LÍDER-12D'!$C$143 -> 6915.92 | F7: =D7*E7 -> 13831.84 | G7: =F7*12 -> 165982.08
A8: ='MONITOR-12D'!$C$2 -> MONITOR 12D | B8: =SUM('MONITOR-12D'!B59:B61) -> 0.3 | C8: ='MONITOR-12D'!$C$46/5 -> 44 | D8: 2 | E8: ='MONITOR-12D'!$C$143 -> 5397.11 | F8: =D8*E8 -> 10794.22 | G8: =F8*12 -> 129530.64
A9: ='MONITOR-12N'!$C$2 -> MONITOR 12N | B9: =SUM('MONITOR-12N'!B59:B61) -> 0.3 | C9: ='MONITOR-12N'!$C$46/5 -> 44 | D9: 2 | E9: ='MONITOR-12N'!$C$143 -> 6783.22 | F9: =D9*E9 -> 13566.44 | G9: =F9*12 -> 162797.28
A10: ='MONITOR-11D'!$C$2 -> MONITOR 11D | B10: =SUM('MONITOR-11D'!B59:B61) -> 0.3 | C10: 55 horas | D10: 1 | E10: ='MONITOR-11D'!$C$143 -> 7774.03 | F10: =D10*E10 -> 7774.03 | G10: =F10*12 -> 93288.36
A11: ='GERAL-11D'!$C$2 -> GERAL 11D | B11: =SUM('GERAL-11D'!B59:B61) -> 0.3 | C11: 55 Horas | D11: 3 | E11: ='GERAL-11D'!$C$143 -> 8786.73 | F11: =D11*E11 -> 26360.19 | G11: =F11*12 -> 316322.28
A13: Total Mão de Obra | D13: =SUM(D5:D12) -> 20 | F13: =SUM(F5:F12) -> 141749.08 | G13: =F13*12 -> 1700989
D14: MÓDULO 4: RESUMO MATERIAIS E EQUIPAMENTOS INDIVIDUAIS E COLETIVOS
D15: Nº FUNC/CARGO | E15: R$ de EPI por funcionário | F15: Valor Mensal- EPI | G15: Valor Anual - EPI
D16: =D5 &" - "& 'GERAL-12D'!$C$2 -> 6 - GERAL 12D | E16: =MATERIAIS!$E$24 -> 197.505 | F16: =E16*D5 -> 1185.03 | G16: =F16*12 -> 14220.36
D17: =D6 &" - "&'GERAL-12N'!$C$2 -> 4 - GERAL 12N | E17: =MATERIAIS!$E$24 -> 197.505 | F17: =E17*D6 -> 790.02 | G17: =F17*12 -> 9480.24
D18: =D7 &" - "&'LÍDER-12D'!$C$2 -> 2 - LIDER 12D | E18: =MATERIAIS!$E$24 -> 197.505 | F18: =E18*D7 -> 395.01 | G18: =F18*12 -> 4740.12
D19: =D8 &" - "&'MONITOR-12D'!$C$2 -> 2 - MONITOR 12D | E19: =MATERIAIS!$E$24 -> 197.505 | F19: =E19*D8 -> 395.01 | G19: =F19*12 -> 4740.12
D20: =D9 &" - "&'MONITOR-12N'!$C$2 -> 2 - MONITOR 12N | E20: =MATERIAIS!$E$24 -> 197.505 | F20: =E20*D9 -> 395.01 | G20: =F20*12 -> 4740.12
D21: =D10 &" - "&'MONITOR-11D'!$C$2 -> 1 - MONITOR 11D | E21: =MATERIAIS!$E$24 -> 197.505 | F21: =E21*D10 -> 197.505 | G21: =F21*12 -> 2370.06
D22: =D11 &" - "& 'GERAL-11D'!$C$2 -> 3 - GERAL 11D | E22: =MATERIAIS!$E$24 -> 197.505 | F22: =E22*D11 -> 592.515 | G22: =F22*12 -> 7110.18
D23: Total EPI | F23: =SUM(F16:F22) -> 3950.1 | G23: =SUM(G16:G22) -> 47401.2
D24: MATERIAIS / EQUIPAMENTOS COLETIVOS (EPC) | F24: Valor Mensal | G24: Valor Anual
D25: Veículo para Ronda | F25: =MATERIAIS!K6 -> 280.12 | G25: =F25*12 -> 3361.44
D27: Total Materiais / Equipamentos Coletivos (EPC) | F27: =SUM(F25:F26) -> 280.12 | G27: =SUM(G25:G26) -> 3361.44
D28: Total | F28: =F27+F23 -> 4230.22 | G28: =G27+G23 -> 50762.64
D29: MÓDULO 5: CITL - CUSTOS INDIRETOS, TRIBUTOS E LUCRO (SL, LA e SU)
E30: % | F30: Valor mensal | G30: Valor Anual
D31: Despesas Administrativa | E31: 0.05 | F31: =TRUNC(ROUND((F13+F28)*E31,2),2) -> 7298.97 | G31: =F31*12 -> 87587.64
D32: Lucro | E32: 0.05 | F32: =TRUNC(ROUND((F13+F28+F31)*E32,2),2) -> 7663.91 | G32: =F32*12 -> 91966.92
D33: ISSQN (entre 2% a 5%) | E33: 0.025 | F33: =TRUNC(ROUND((F13+F28+F31+F32)/(100%-SUM(E33:E35))*E33,2),2) -> 4559.27 | G33: =F33*12 -> 54711.24 | H33: Conforme anexo VI, item 11.02, do DECRETO Nº 15.416, DE 20 DE DEZEMBRO DE 2006
D34: COFINS | E34: 0.076 | F34: =TRUNC(ROUND((F13+F28+F31+F32)/(100%-SUM(E33:E35))*E34,2),2) -> 13860.18 | G34: =F34*12 -> 166322.16
D35: PIS | E35: 0.0165 | F35: =TRUNC(ROUND((F13+F28+F31+F32)/(100%-SUM(E33:E35))*E35,2),2) -> 3009.12 | G35: =F35*12 -> 36109.44
D36: TOTAL CITL | F36: =SUM(F31:F35) -> 36391.45 | G36: =F36*12 -> 436697.4
D39: TOTAL FINAL | E39: Valor Mensal | F39: Valor Contratual
E40: =F13+F28+F36 -> 182370.75 | F40: =SUM(G36,G28,G13) -> 2188449
D44: VALORES POR DEMANDA
D45: Tipo de hora | E45: Horas Anual | F45: ="Hora-base (R$) Valor VIGIA GERAL 12D = R$ "& E5 & "/220 = "&TEXT(E5/220,"0,00")&" /hora" -> Hora-base (R$) Valor VIGIA GERAL 12D = R$ 6456,14/220 = 29,35 /hora | G45: Fator | H45: Custo/h efetivo (R$) | I45: Subtotal (R$) Anual
D46: Dias úteis — diurno | E46: 1500 | F46: =ROUND(E$5/220,2) -> 29.35 | G46: 1 | H46: =ROUND(G46*F46,2) -> 29.35 | I46: =H46*E46 -> 44025
D47: Sábados (adicional 50%) | E47: 200 | F47: =ROUND(E$5/220,2) -> 29.35 | G47: 1.5 | H47: =ROUND(G47*F47,2) -> 44.03 | I47: =H47*E47 -> 8806
...

Sheet CCT - RS000303 2024
K46: Adicional de Periculosidade: 30%
K47: Adicional Noturno: 20%
K48: Auxílio Alimentação: R$ 33,00
K49: Vale-Transporte: Com desconto de 6% do salário
