Workbook
Name F_10: base!$E$62:$E$66
Name F_105: base!$E$362:$E$381
Name F_107: base!$E$382:$E$384
Name F_11: base!$E$67:$E$82
Name F_112: base!$E$385:$E$402
Name F_113: base!$E$403
Name F_117: base!$E$404:$E$411
Name F_12: base!$E$83:$E$91
Name F_120: base!$E$412:$E$421
Name F_122: base!$E$422:$E$424
Name F_127: base!$E$425:$E$430
Name F_13: base!$E$92:$E$107
Name F_14: base!$E$108:$E$118
Name F_140: base!$E$431:$E$438
Name F_15: base!$E$119:$E$132
Name F_150: base!$E$439:$E$444
Name F_16: base!$E$133:$E$145
Name F_160: base!$E$445:$E$452
Name F_17: base!$E$146:$E$164
Name F_185: base!$E$453:$E$464
Name F_2: base!$E$2:$E$15
Name F_205: base!$E$465:$E$471
Name F_215: base!$E$472:$E$491
Name F_245: base!$E$492:$E$517
Name F_250: base!$E$518:$E$525
Name F_255: base!$E$526:$E$529
Name F_260: base!$E$530:$E$533
Name F_270: base!$E$534:$E$540
Name F_285: base!$E$541:$E$552
Name F_29: base!$E$165:$E$168
Name F_290: base!$E$553:$E$558
Name F_295: base!$E$559:$E$572
Name F_3: base!$E$16:$E$22
Name F_30: base!$E$169:$E$171
Name F_31: base!$E$172:$E$201
Name F_320: base!$E$573:$E$592
Name F_33: base!$E$202
Name F_34: base!$E$203:$E$209
Name F_345: base!$E$593:$E$595
Name F_35: base!$E$210:$E$234
Name F_350: base!$E$596:$E$625
Name F_360: base!$E$626:$E$652
Name F_37: base!$E$235:$E$257
Name F_380: base!$E$653:$E$668
Name F_390: base!$E$669:$E$681
Name F_395: base!$E$682:$E$695
Name F_397: base!$E$696:$E$706
Name F_400: base!$E$707:$E$714
Name F_405: base!$E$715:$E$732
Name F_410: base!$E$733:$E$738
Name F_42: base!$E$258:$E$269
Name F_420: base!$E$739:$E$756
Name F_428: base!$E$757:$E$768
Name F_435: base!$E$769:$E$772
Name F_440: base!$E$773:$E$810
Name F_445: base!$E$811:$E$832
Name F_45: base!$E$270:$E$284
Name F_450: base!$E$833:$E$858
Name F_452: base!$E$859:$E$865
Name F_460: base!$E$866:$E$881

Sheet Identificação
A1: IDENTIFICAÇÃO
A2: Modalidade* | B2: Pregão Lei 14.133/21 Eletrônico | D2: N° * | F2: Ano * | G2: 2024
A3: Descrição do Objeto | B3: Registro de preços para futura e eventual contratação de serviços de manutenção e recuperação de passeios públicos, incluindo material e mão de obra.
A4: Órgão | B4: Prefeitura Municipal de Montenegro | F4: CNPJ * | G4: 90.895.905/0001-60
A5: Tipo de Objeto* | B5: Obras e Serviços de Engenharia | C5: N° CENTRAL DE COMPRAS
A6: Preço Total Estimado | B6: ='Orçamento-base'!C6 -> 1313056.9
A7: Preço Total Proposto | B7: =Proposta!C6 -> 0
A8: Qtd. Itens Orçamento | B8: =COUNT('Orçamento-base'!B12:B39951) -> 7
A9: Atenção! Para incluir mais de 50 lotes, selecione as células A62 a G62 e arraste as fórmulas para baixo, de acordo com o número de lotes necessário.
A10: *Campos de preenchimento obrigatório | C10: **Campos de preenchimento obrigatório para licitação composta por lotes
A11: Nº do lote** | B11: Descrição do Lote** | C11: Estimativa | G11: Proposta
C12: Valor do lote (R$) | G12: Valor do lote (R$)
A13: 1 | B13: Serviço de manutenção e recuperação de passeios públicos | C13: =SUMIF('Orçamento-base'!$A$12:$A$39953,Identificação!$A13,'Orçamento-base'!$K$12:$K$39953) -> 1313056.9 | G13: =SUMIF(Proposta!$A$12:$A$39953,Identificação!$A13,Proposta!$H$12:$H$39953) -> 0
C14: =SUMIF('Orçamento-base'!$A$12:$A$39953,Identificação!$A14,'Orçamento-base'!$K$12:$K$39953) -> 0 | G14: =SUMIF(Proposta!$A$12:$A$39953,Identificação!$A14,Proposta!$H$12:$H$39953) -> 0
C15: =SUMIF('Orçamento-base'!$A$12:$A$39953,Identificação!$A15,'Orçamento-base'!$K$12:$K$39953) -> 0 | G15: =SUMIF(Proposta!$A$12:$A$39953,Identificação!$A15,Proposta!$H$12:$H$39953) -> 0
C16: =SUMIF('Orçamento-base'!$A$12:$A$39953,Identificação!$A16,'Orçamento-base'!$K$12:$K$39953) -> 0 | G16: =SUMIF(Proposta!$A$12:$A$39953,Identificação!$A16,Proposta!$H$12:$H$39953) -> 0
C17: =SUMIF('Orçamento-base'!$A$12:$A$39953,Identificação!$A17,'Orçamento-base'!$K$12:$K$39953) -> 0 | G17: =SUMIF(Proposta!$A$12:$A$39953,Identificação!$A17,Proposta!$H$12:$H$39953) -> 0
C18: =SUMIF('Orçamento-base'!$A$12:$A$39953,Identificação!$A18,'Orçamento-base'!$K$12:$K$39953) -> 0 | G18: =SUMIF(Proposta!$A$12:$A$39953,Identificação!$A18,Proposta!$H$12:$H$39953) -> 0
C19: =SUMIF('Orçamento-base'!$A$12:$A$39953,Identificação!$A19,'Orçamento-base'!$K$12:$K$39953) -> 0 | G19: =SUMIF(Proposta!$A$12:$A$39953,Identificação!$A19,Proposta!$H$12:$H$39953) -> 0
C20: =SUMIF('Orçamento-base'!$A$12:$A$39953,Identificação!$A20,'Orçamento-base'!$K$12:$K$39953) -> 0 | G20: =SUMIF(Proposta!$A$12:$A$39953,Identificação!$A20,Proposta!$H$12:$H$39953) -> 0
C21: =SUMIF('Orçamento-base'!$A$12:$A$39953,Identificação!$A21,'Orçamento-base'!$K$12:$K$39953) -> 0 | G21: =SUMIF(Proposta!$A$12:$A$39953,Identificação!$A21,Proposta!$H$12:$H$39953) -> 0
C22: =SUMIF('Orçamento-base'!$A$12:$A$39953,Identificação!$A22,'Orçamento-base'!$K$12:$K$39953) -> 0 | G22: =SUMIF(Proposta!$A$12:$A$39953,Identificação!$A22,Proposta!$H$12:$H$39953) -> 0
C23: =SUMIF('Orçamento-base'!$A$12:$A$39953,Identificação!$A23,'Orçamento-base'!$K$12:$K$39953) -> 0 | G23: =SUMIF(Proposta!$A$12:$A$39953,Identificação!$A23,Proposta!$H$12:$H$39953) -> 0
C24: =SUMIF('Orçamento-base'!$A$12:$A$39953,Identificação!$A24,'Orçamento-base'!$K$12:$K$39953) -> 0 | G24: =SUMIF(Proposta!$A$12:$A$39953,Identificação!$A24,Proposta!$H$12:$H$39953) -> 0
C25: =SUMIF('Orçamento-base'!$A$12:$A$39953,Identificação!$A25,'Orçamento-base'!$K$12:$K$39953) -> 0 | G25: =SUMIF(Proposta!$A$12:$A$39953,Identificação!$A25,Proposta!$H$12:$H$39953) -> 0
... C62: =SUMIF('Orçamento-base'!$A$12:$A$39953,Identificação!$A62,'Orçamento-base'!$K$12:$K$39953) -> 0 | G62: =SUMIF(Proposta!$A$12:$A$39953,Identificação!$A62,Proposta!$H$12:$H$39953) -> 0

Sheet Orçamento-base
A1: ORÇAMENTO
A2: Modalidade | C2: =IF(Identificação!B2=0,"",Identificação!B2) -> Pregão Lei 14.133/21 Eletrônico | H2: N° | I2: =IF(Identificação!E2=0,"",Identificação!E2) | J2: Ano | K2: =IF(Identificação!G2=0,"",Identificação!G2) -> 2024
A3: Descrição do Objeto | C3: =IF(Identificação!B3=0,"",Identificação!B3) -> Registro de preços para futura e eventual contratação de serviços de manutenção e recuperação de passeios públicos, incluindo material e mão de obra.
A4: Órgão | C4: =IF(Identificação!B4=0,"",Identificação!B4) -> Prefeitura Municipal de Montenegro | J4: CNPJ | K4: =IF(Identificação!G4=0,"",Identificação!G4) -> 90.895.905/0001-60
A5: Tipo de Objeto | C5: =IF(Identificação!B5=0,"",Identificação!B5) -> Obras e Serviços de Engenharia
A6: Preço T. Estimado | C6: =SUMIFS(K12:K39953,B12:B39953,">0",K12:K39953,"<>0") -> 1313056.9
A8: Atenção! Para incluir mais de 100 linhas de itens, selecione as células A113 a R113 e arraste as fórmulas para baixo, de acordo com o número de itens necessário.
A9: *Preenchimento obrigatório | F9: **Obrigatório só para Obras e Serviços de Engenharia | H9: ***Obrigatório só para licitação composta por Lotes
A10: Nº do Lote*** | B10: N° Ordem | C10: Nº Item* | D10: Fonte de Referência** | E10: Código de Referência** | F10: Data de Referência** | G10: Descrição do item* | H10: Estimativa | N10: Família | P10: Subfamília | R10: Tipo de Orçamento | S10: Pr. Unit. Material | T10: Pr. Unit. Mão de obra
H11: Qtd.* | I11: Unid.* | J11: Preço unitário (R$)* | K11: Preço Total (R$) | L11: % BDI** | M11: % Encargos Sociais** | N11: Código | O11: Descrição | P11: Código | Q11: Descrição
A12: 1 | B12: =IF(AND(G12<>"",H12>0,I12<>"",J12<>0,K12<>0),COUNT($B$11:B11)+1,"") -> 1 | C12: 1 | D12: SINAPI | E12: 94273 | F12: 45474 | G12: ASSENTAMENTO DE GUIA (MEIO-FIO) EM TRECHO RETO, CONFECCIONADA EM CONCRETO PRÉ-FABRICADO, DIMENSÕES 100X15X13X30. | H12: 2420 | I12: m | J12: =IFERROR(IF(S12+T12<>0,ROUND(ROUND(S12,4)+ROUND(T12,4),4),""),"") -> 61.13 | K12: =IFERROR(IF(H12*J12<>0,ROUND(ROUND(H12,4)*ROUND(J12,4),2),""),"") -> 147934.6 | L12: 0.2648 | M12: 0.8325 | N12: 11 | O12: =IF(N12="","", INDIRECT("base!"&ADDRESS(MATCH(N12,base!$C$2:'base'!$C$133,0)+1,4,4))) -> serviços de engenharia/obras: urbanização | P12: 5 | Q12: =IF(P12="","", INDIRECT("base!"&ADDRESS(MATCH(CONCATENATE(N12,"|",P12),base!$G$2:'base'!$G$1817,0)+1,6,4))) -> passeios públicos (calçadas) | R12: Mão-de-obra e material | S12: =TRUNC(U12*(1+L12),2) -> 51.42 | T12: =TRUNC(V12*(1+L12),2) -> 9.71 | U12: =48.34-V12 -> 40.66 | V12: 7.68
A13: 1 | B13: =IF(AND(G13<>"",H13>0,I13<>"",J13<>0,K13<>0),COUNT($B$11:B12)+1,"") -> 2 | C13: 2 | D13: COMPOSICAO_PROPRIA | E13: A | F13: 45474 | G13: EXECUÇÃO DE PASSEIO (CALÇADA) EM BASALTO SERRADO REGULAR 40CMX40CM. | H13: 1000 | I13: m2 | J13: =IFERROR(IF(S13+T13<>0,ROUND(ROUND(S13,4)+ROUND(T13,4),4),""),"") -> 188.58 | K13: =IFERROR(IF(H13*J13<>0,ROUND(ROUND(H13,4)*ROUND(J13,4),2),""),"") -> 188580 | L13: 0.2648 | M13: 0.8325 | N13: 11 | O13: =IF(N13="","", INDIRECT("base!"&ADDRESS(MATCH(N13,base!$C$2:'base'!$C$133,0)+1,4,4))) -> serviços de engenharia/obras: urbanização | P13: 5 | Q13: =IF(P13="","", INDIRECT("base!"&ADDRESS(MATCH(CONCATENATE(N13,"|",P13),base!$G$2:'base'!$G$1817,0)+1,6,4))) -> passeios públicos (calçadas) | R13: Mão-de-obra e material | S13: =TRUNC(U13*(1+L13),2) -> 171.12 | T13: =TRUNC(V13*(1+L13),2) -> 17.46 | U13: =Composições!H16 -> 135.3 | V13: =Composições!I16 -> 13.81
A14: 1 | B14: =IF(AND(G14<>"",H14>0,I14<>"",J14<>0,K14<>0),COUNT($B$11:B13)+1,"") -> 3 | C14: 3 | D14: COMPOSICAO_PROPRIA | E14: B | F14: 45474 | G14: EXECUÇÃO DE PASSEIO (CALÇADA) EM BASALTO SERRADO IRREGULAR, MEDIDAS VARIÁVEIS. | H14: 1000 | I14: m2 | J14: =IFERROR(IF(S14+T14<>0,ROUND(ROUND(S14,4)+ROUND(T14,4),4),""),"") -> 92.74 | K14: =IFERROR(IF(H14*J14<>0,ROUND(ROUND(H14,4)*ROUND(J14,4),2),""),"") -> 92740 | L14: 0.2648 | M14: 0.8325 | N14: 11 | O14: =IF(N14="","", INDIRECT("base!"&ADDRESS(MATCH(N14,base!$C$2:'base'!$C$133,0)+1,4,4))) -> serviços de engenharia/obras: urbanização | P14: 5 | Q14: =IF(P14="","", INDIRECT("base!"&ADDRESS(MATCH(CONCATENATE(N14,"|",P14),base!$G$2:'base'!$G$1817,0)+1,6,4))) -> passeios públicos (calçadas) | R14: Mão-de-obra e material | S14: =TRUNC(U14*(1+L14),2) -> 75.28 | T14: =TRUNC(V14*(1+L14),2) -> 17.46 | U14: =Composições!H26 -> 59.52 | V14: =Composições!I26 -> 13.81
A15: 1 | B15: =IF(AND(G15<>"",H15>0,I15<>"",J15<>0,K15<>0),COUNT($B$11:B14)+1,"") -> 4 | C15: 4 | D15: COMPOSICAO_PROPRIA | E15: C | F15: 45474 | G15: EXECUÇÃO DE PASSEIO (CALÇADA) EM PISO INTERTRAVADO, COR NATURAL, E=6 cm. | H15: 2030 | I15: m2 | J15: =IFERROR(IF(S15+T15<>0,ROUND(ROUND(S15,4)+ROUND(T15,4),4),""),"") -> 111.06 | K15: =IFERROR(IF(H15*J15<>0,ROUND(ROUND(H15,4)*ROUND(J15,4),2),""),"") -> 225451.8 | L15: 0.2648 | M15: 0.8325 | N15: 11 | O15: =IF(N15="","", INDIRECT("base!"&ADDRESS(MATCH(N15,base!$C$2:'base'!$C$133,0)+1,4,4))) -> serviços de engenharia/obras: urbanização | P15: 5 | Q15: =IF(P15="","", INDIRECT("base!"&ADDRESS(MATCH(CONCATENATE(N15,"|",P15),base!$G$2:'base'!$G$1817,0)+1,6,4))) -> passeios públicos (calçadas) | R15: Mão-de-obra e material | S15: =TRUNC(U15*(1+L15),2) -> 87.01 | T15: =TRUNC(V15*(1+L15),2) -> 24.05 | U15: =Composições!H36 -> 68.8 | V15: =Composições!I36 -> 19.02
A16: 1 | B16: =IF(AND(G16<>"",H16>0,I16<>"",J16<>0,K16<>0),COUNT($B$11:B15)+1,"") -> 5 | C16: 5 | D16: COMPOSICAO_PROPRIA | E16: D | F16: 45474 | G16: EXECUÇÃO DE PASSEIO (CALÇADA) EM PISO DE CONCRETO, MOLDADO IN LOCO, E=5 cm. | H16: 5830 | I16: m2 | J16: =IFERROR(IF(S16+T16<>0,ROUND(ROUND(S16,4)+ROUND(T16,4),4),""),"") -> 68.47 | K16: =IFERROR(IF(H16*J16<>0,ROUND(ROUND(H16,4)*ROUND(J16,4),2),""),"") -> 399180.1 | L16: 0.2648 | M16: 0.8325 | N16: 11 | O16: =IF(N16="","", INDIRECT("base!"&ADDRESS(MATCH(N16,base!$C$2:'base'!$C$133,0)+1,4,4))) -> serviços de engenharia/obras: urbanização | P16: 5 | Q16: =IF(P16="","", INDIRECT("base!"&ADDRESS(MATCH(CONCATENATE(N16,"|",P16),base!$G$2:'base'!$G$1817,0)+1,6,4))) -> passeios públicos (calçadas) | R16: Mão-de-obra e material | S16: =TRUNC(U16*(1+L16),2) -> 46.15 | T16: =TRUNC(V16*(1+L16),2) -> 22.32 | U16: =Composições!H46 -> 36.49 | V16: =Composições!I46 -> 17.65
A17: 1 | B17: =IF(AND(G17<>"",H17>0,I17<>"",J17<>0,K17<>0),COUNT($B$11:B16)+1,"") -> 6 | C17: 6 | D17: COMPOSICAO_PROPRIA | E17: E | F17: 45474 | G17: PISO PODOTÁTIL, ALERTA/DIRECIONAL, ASSENTADO SOBRE ARGAMASSA. | H17: 2330 | I17: m | J17: =IFERROR(IF(S17+T17<>0,ROUND(ROUND(S17,4)+ROUND(T17,4),4),""),"") -> 63.33 | K17: =IFERROR(IF(H17*J17<>0,ROUND(ROUND(H17,4)*ROUND(J17,4),2),""),"") -> 147558.9 | L17: 0.2648 | M17: 0.8325 | N17: 11 | O17: =IF(N17="","", INDIRECT("base!"&ADDRESS(MATCH(N17,base!$C$2:'base'!$C$133,0)+1,4,4))) -> serviços de engenharia/obras: urbanização | P17: 5 | Q17: =IF(P17="","", INDIRECT("base!"&ADDRESS(MATCH(CONCATENATE(N17,"|",P17),base!$G$2:'base'!$G$1817,0)+1,6,4))) -> passeios públicos (calçadas) | R17: Mão-de-obra e material | S17: =TRUNC(U17*(1+L17),2) -> 49.31 | T17: =TRUNC(V17*(1+L17),2) -> 14.02 | U17: =Composições!H56 -> 38.99 | V17: =Composições!I56 -> 11.09
A18: 1 | B18: =IF(AND(G18<>"",H18>0,I18<>"",J18<>0,K18<>0),COUNT($B$11:B17)+1,"") -> 7 | C18: 7 | D18: COMPOSICAO_PROPRIA | E18: F | F18: 45474 | G18: EXECUÇÃO DE PASSEIO (CALÇADA) EM PISO DE CONCRETO TIPO COPACABANA, COR NATURAL | H18: 1430 | I18: m2 | J18: =IFERROR(IF(S18+T18<>0,ROUND(ROUND(S18,4)+ROUND(T18,4),4),""),"") -> 78.05 | K18: =IFERROR(IF(H18*J18<>0,ROUND(ROUND(H18,4)*ROUND(J18,4),2),""),"") -> 111611.5 | L18: 0.2648 | M18: 0.8325 | N18: 11 | O18: =IF(N18="","", INDIRECT("base!"&ADDRESS(MATCH(N18,base!$C$2:'base'!$C$133,0)+1,4,4))) -> serviços de engenharia/obras: urbanização | P18: 5 | Q18: =IF(P18="","", INDIRECT("base!"&ADDRESS(MATCH(CONCATENATE(N18,"|",P18),base!$G$2:'base'!$G$1817,0)+1,6,4))) -> passeios públicos (calçadas) | R18: Mão-de-obra e material | S18: =TRUNC(U18*(1+L18),2) -> 60.59 | T18: =TRUNC(V18*(1+L18),2) -> 17.46 | U18: =Composições!H66 -> 47.91 | V18: =Composições!I66 -> 13.81
B19: =IF(AND(G19<>"",H19>0,I19<>"",J19<>0,K19<>0),COUNT($B$11:B18)+1,"") | J19: =IFERROR(IF(S19+T19<>0,ROUND(ROUND(S19,4)+ROUND(T19,4),4),""),"") | K19: =IFERROR(IF(H19*J19<>0,ROUND(ROUND(H19,4)*ROUND(J19,4),2),""),"") | O19: =IF(N19="","", INDIRECT("base!"&ADDRESS(MATCH(N19,base!$C$2:'base'!$C$133,0)+1,4,4))) | Q19: =IF(P19="","", INDIRECT("base!"&ADDRESS(MATCH(CONCATENATE(N19,"|",P19),base!$G$2:'base'!$G$1817,0)+1,6,4)))
B20: =IF(AND(G20<>"",H20>0,I20<>"",J20<>0,K20<>0),COUNT($B$11:B19)+1,"") | J20: =IFERROR(IF(S20+T20<>0,ROUND(ROUND(S20,4)+ROUND(T20,4),4),""),"") | K20: =IFERROR(IF(H20*J20<>0,ROUND(ROUND(H20,4)*ROUND(J20,4),2),""),"") | O20: =IF(N20="","", INDIRECT("base!"&ADDRESS(MATCH(N20,base!$C$2:'base'!$C$133,0)+1,4,4))) | Q20: =IF(P20="","", INDIRECT("base!"&ADDRESS(MATCH(CONCATENATE(N20,"|",P20),base!$G$2:'base'!$G$1817,0)+1,6,4)))
B21: =IF(AND(G21<>"",H21>0,I21<>"",J21<>0,K21<>0),COUNT($B$11:B20)+1,"") | J21: =IFERROR(IF(S21+T21<>0,ROUND(ROUND(S21,4)+ROUND(T21,4),4),""),"") | K21: =IFERROR(IF(H21*J21<>0,ROUND(ROUND(H21,4)*ROUND(J21,4),2),""),"") | O21: =IF(N21="","", INDIRECT("base!"&ADDRESS(MATCH(N21,base!$C$2:'base'!$C$133,0)+1,4,4))) | Q21: =IF(P21="","", INDIRECT("base!"&ADDRESS(MATCH(CONCATENATE(N21,"|",P21),base!$G$2:'base'!$G$1817,0)+1,6,4)))
B22: =IF(AND(G22<>"",H22>0,I22<>"",J22<>0,K22<>0),COUNT($B$11:B21)+1,"") | J22: =IFERROR(IF(S22+T22<>0,ROUND(ROUND(S22,4)+ROUND(T22,4),4),""),"") | K22: =IFERROR(IF(H22*J22<>0,ROUND(ROUND(H22,4)*ROUND(J22,4),2),""),"") | O22: =IF(N22="","", INDIRECT("base!"&ADDRESS(MATCH(N22,base!$C$2:'base'!$C$133,0)+1,4,4))) | Q22: =IF(P22="","", INDIRECT("base!"&ADDRESS(MATCH(CONCATENATE(N22,"|",P22),base!$G$2:'base'!$G$1817,0)+1,6,4)))
B23: =IF(AND(G23<>"",H23>0,I23<>"",J23<>0,K23<>0),COUNT($B$11:B22)+1,"") | J23: =IFERROR(IF(S23+T23<>0,ROUND(ROUND(S23,4)+ROUND(T23,4),4),""),"") | K23: =IFERROR(IF(H23*J23<>0,ROUND(ROUND(H23,4)*ROUND(J23,4),2),""),"") | O23: =IF(N23="","", INDIRECT("base!"&ADDRESS(MATCH(N23,base!$C$2:'base'!$C$133,0)+1,4,4))) | Q23: =IF(P23="","", INDIRECT("base!"&ADDRESS(MATCH(CONCATENATE(N23,"|",P23),base!$G$2:'base'!$G$1817,0)+1,6,4)))
B24: =IF(AND(G24<>"",H24>0,I24<>"",J24<>0,K24<>0),COUNT($B$11:B23)+1,"") | J24: =IFERROR(IF(S24+T24<>0,ROUND(ROUND(S24,4)+ROUND(T24,4),4),""),"") | K24: =IFERROR(IF(H24*J24<>0,ROUND(ROUND(H24,4)*ROUND(J24,4),2),""),"") | O24: =IF(N24="","", INDIRECT("base!"&ADDRESS(MATCH(N24,base!$C$2:'base'!$C$133,0)+1,4,4))) | Q24: =IF(P24="","", INDIRECT("base!"&ADDRESS(MATCH(CONCATENATE(N24,"|",P24),base!$G$2:'base'!$G$1817,0)+1,6,4)))
B25: =IF(AND(G25<>"",H25>0,I25<>"",J25<>0,K25<>0),COUNT($B$11:B24)+1,"") | J25: =IFERROR(IF(S25+T25<>0,ROUND(ROUND(S25,4)+ROUND(T25,4),4),""),"") | K25: =IFERROR(IF(H25*J25<>0,ROUND(ROUND(H25,4)*ROUND(J25,4),2),""),"") | O25: =IF(N25="","", INDIRECT("base!"&ADDRESS(MATCH(N25,base!$C$2:'base'!$C$133,0)+1,4,4))) | Q25: =IF(P25="","", INDIRECT("base!"&ADDRESS(MATCH(CONCATENATE(N25,"|",P25),base!$G$2:'base'!$G$1817,0)+1,6,4)))
B26: =IF(AND(G26<>"",H26>0,I26<>"",J26<>0,K26<>0),COUNT($B$11:B25)+1,"") | J26: =IFERROR(IF(S26+T26<>0,ROUND(ROUND(S26,4)+ROUND(T26,4),4),""),"") | K26: =IFERROR(IF(H26*J26<>0,ROUND(ROUND(H26,4)*ROUND(J26,4),2),""),"") | O26: =IF(N26="","", INDIRECT("base!"&ADDRESS(MATCH(N26,base!$C$2:'base'!$C$133,0)+1,4,4))) | Q26: =IF(P26="","", INDIRECT("base!"&ADDRESS(MATCH(CONCATENATE(N26,"|",P26),base!$G$2:'base'!$G$1817,0)+1,6,4)))
B27: =IF(AND(G27<>"",H27>0,I27<>"",J27<>0,K27<>0),COUNT($B$11:B26)+1,"") | J27: =IFERROR(IF(S27+T27<>0,ROUND(ROUND(S27,4)+ROUND(T27,4),4),""),"") | K27: =IFERROR(IF(H27*J27<>0,ROUND(ROUND(H27,4)*ROUND(J27,4),2),""),"") | O27: =IF(N27="","", INDIRECT("base!"&ADDRESS(MATCH(N27,base!$C$2:'base'!$C$133,0)+1,4,4))) | Q27: =IF(P27="","", INDIRECT("base!"&ADDRESS(MATCH(CONCATENATE(N27,"|",P27),base!$G$2:'base'!$G$1817,0)+1,6,4)))
B28: =IF(AND(G28<>"",H28>0,I28<>"",J28<>0,K28<>0),COUNT($B$11:B27)+1,"") | J28: =IFERROR(IF(S28+T28<>0,ROUND(ROUND(S28,4)+ROUND(T28,4),4),""),"") | K28: =IFERROR(IF(H28*J28<>0,ROUND(ROUND(H28,4)*ROUND(J28,4),2),""),"") | O28: =IF(N28="","", INDIRECT("base!"&ADDRESS(MATCH(N28,base!$C$2:'base'!$C$133,0)+1,4,4))) | Q28: =IF(P28="","", INDIRECT("base!"&ADDRESS(MATCH(CONCATENATE(N28,"|",P28),base!$G$2:'base'!$G$1817,0)+1,6,4)))
B29: =IF(AND(G29<>"",H29>0,I29<>"",J29<>0,K29<>0),COUNT($B$11:B28)+1,"") | J29: =IFERROR(IF(S29+T29<>0,ROUND(ROUND(S29,4)+ROUND(T29,4),4),""),"") | K29: =IFERROR(IF(H29*J29<>0,ROUND(ROUND(H29,4)*ROUND(J29,4),2),""),"") | O29: =IF(N29="","", INDIRECT("base!"&ADDRESS(MATCH(N29,base!$C$2:'base'!$C$133,0)+1,4,4))) | Q29: =IF(P29="","", INDIRECT("base!"&ADDRESS(MATCH(CONCATENATE(N29,"|",P29),base!$G$2:'base'!$G$1817,0)+1,6,4)))
B30: =IF(AND(G30<>"",H30>0,I30<>"",J30<>0,K30<>0),COUNT($B$11:B29)+1,"") | J30: =IFERROR(IF(S30+T30<>0,ROUND(ROUND(S30,4)+ROUND(T30,4),4),""),"") | K30: =IFERROR(IF(H30*J30<>0,ROUND(ROUND(H30,4)*ROUND(J30,4),2),""),"") | O30: =IF(N30="","", INDIRECT("base!"&ADDRESS(MATCH(N30,base!$C$2:'base'!$C$133,0)+1,4,4))) | Q30: =IF(P30="","", INDIRECT("base!"&ADDRESS(MATCH(CONCATENATE(N30,"|",P30),base!$G$2:'base'!$G$1817,0)+1,6,4)))
... B113: =IF(AND(G113<>"",H113>0,I113<>"",J113<>0,K113<>0),COUNT($B$11:B112)+1,"") | J113: =IFERROR(IF(S113+T113<>0,ROUND(ROUND(S113,4)+ROUND(T113,4),4),""),"") | K113: =IFERROR(IF(H113*J113<>0,ROUND(ROUND(H113,4)*ROUND(J113,4),2),""),"") | O113: =IF(N113="","", INDIRECT("base!"&ADDRESS(MATCH(N113,base!$C$2:'base'!$C$133,0)+1,4,4))) | Q113: =IF(P113="","", INDIRECT("base!"&ADDRESS(MATCH(CONCATENATE(N113,"|",P113),base!$G$2:'base'!$G$1817,0)+1,6,4)))

Sheet Composições
A1: COMPOSIÇÕES PRÓPRIAS
A2: Modalidade | C2: =Identificação!B2 -> Pregão Lei 14.133/21 Eletrônico | G2: N° | H2: =IF([1]Identificação!E2=0,"",[1]Identificação!E2) | I2: Ano | J2: =Identificação!G2 -> 2024
A3: Descrição do Objeto | C3: =Identificação!B3 -> Registro de preços para futura e eventual contratação de serviços de manutenção e recuperação de passeios públicos, incluindo material e mão de obra.
A4: Órgão | C4: =Identificação!B4 -> Prefeitura Municipal de Montenegro | I4: CNPJ | J4: =Identificação!G4 -> 90.895.905/0001-60
A5: Tipo de Objeto | C5: =Identificação!B5 -> Obras e Serviços de Engenharia
A6: Preço T. Estimado | C6: =Identificação!B6 -> 1313056.9
A8: EXECUÇÃO DE PASSEIO (CALÇADA) EM BASALTO SERRADO REGULAR 40X40CM - COMPOSIÇÃO A (M²)
A9: Referência | C9: Descrição dos Serviços | D9: Unid. | E9: Quant. | F9: Preço Unitário R$ | H9: Preço Total R$ | J9: Custo total R$
F10: Material | G10: Mão de obra | H10: Material | I10: Mão de obra
A11: SINAPI | B11: 97083 | C11: REGULARIZAÇÃO E COMPACTAÇÃO MECÂNICA DE SOLO PARA EXECUÇÃO DE PASSEIO, COM COMPACTADOR DE SOLOS A PERCUSSÃO. | D11: m² | E11: 1 | F11: =3.05-G11 -> 0.9 | G11: 2.15 | H11: =TRUNC((E11*F11),2) -> 0.9 | I11: =TRUNC((E11*G11),2) -> 2.15 | J11: =TRUNC((H11+I11),2) -> 3.05
A12: SINAPI | B12: 100324 | C12: LASTRO COM MATERIAL GRANULAR (PEDRA BRITADA N.1 E PEDRA BRITADA N.2), APLICADO EM PISOS OU LAJES SOBRE SOLO, ESPESSURA DE *5 CM*. | D12: m³ | E12: 0.05 | F12: =151.32-G12 -> 113.39 | G12: 37.93 | H12: =TRUNC((E12*F12),2) -> 5.66 | I12: =TRUNC((E12*G12),2) -> 1.89 | J12: =TRUNC((H12+I12),2) -> 7.55
A13: MERCADO | B13: 1 | C13: Basalto com acabamento serrado regular 40cmX40cm | D13: m² | E13: 1 | F13: ='Preço de Mercado'!E16 -> 125.28 | G13: 0 | H13: =TRUNC((E13*F13),2) -> 125.28 | I13: =TRUNC((E13*G13),2) -> 0 | J13: =TRUNC((H13+I13),2) -> 125.28
A14: SINAPI | B14: 88309 | C14: PEDREIRO COM ENCARGOS COMPLEMENTARES | D14: H | E14: 0.3 | F14: =24.11-G14 -> 5.85 | G14: 18.26 | H14: =TRUNC((E14*F14),2) -> 1.75 | I14: =TRUNC((E14*G14),2) -> 5.47 | J14: =TRUNC((H14+I14),2) -> 7.22
A15: SINAPI | B15: 88316 | C15: SERVENTE COM ENCARGOS COMPLEMENTARES | D15: H | E15: 0.3 | F15: =20.08-G15 -> 5.73 | G15: 14.35 | H15: =TRUNC((E15*F15),2) -> 1.71 | I15: =TRUNC((E15*G15),2) -> 4.3 | J15: =TRUNC((H15+I15),2) -> 6.01
H16: =TRUNC(SUM(H11:H15),2) -> 135.3 | I16: =TRUNC(SUM(I11:I15),2) -> 13.81 | J16: =TRUNC(SUM(J11:J15),2) -> 149.11
A18: EXECUÇÃO DE PASSEIO (CALÇADA) EM BASALTO SERRADO IRREGULAR, MEDIDAS VARIÁVEIS - COMPOSIÇÃO B (M²)
A19: Referência | C19: Descrição dos Serviços | D19: Unid. | E19: Quant. | F19: Preço Unitário R$ | H19: Preço Total R$ | J19: Custo total R$
F20: Material | G20: Mão de obra | H20: Material | I20: Mão de obra
A21: SINAPI | B21: 97083 | C21: REGULARIZAÇÃO E COMPACTAÇÃO MECÂNICA DE SOLO PARA EXECUÇÃO DE PASSEIO, COM COMPACTADOR DE SOLOS A PERCUSSÃO. | D21: m² | E21: 1 | F21: =3.05-G21 -> 0.9 | G21: 2.15 | H21: =TRUNC((E21*F21),2) -> 0.9 | I21: =TRUNC((E21*G21),2) -> 2.15 | J21: =TRUNC((H21+I21),2) -> 3.05
A22: SINAPI | B22: 100324 | C22: LASTRO COM MATERIAL GRANULAR (PEDRA BRITADA N.1 E PEDRA BRITADA N.2), APLICADO EM PISOS OU LAJES SOBRE SOLO, ESPESSURA DE *5 CM*. | D22: m³ | E22: 0.05 | F22: =151.32-G22 -> 113.39 | G22: 37.93 | H22: =TRUNC((E22*F22),2) -> 5.66 | I22: =TRUNC((E22*G22),2) -> 1.89 | J22: =TRUNC((H22+I22),2) -> 7.55
A23: MERCADO | B23: 2 | C23: Basalto com acabamento serrado irregular medidas variáveis | D23: m² | E23: 1 | F23: ='Preço de Mercado'!E25 -> 49.5 | G23: 0 | H23: =TRUNC((E23*F23),2) -> 49.5 | I23: =TRUNC((E23*G23),2) -> 0 | J23: =TRUNC((H23+I23),2) -> 49.5
A24: SINAPI | B24: 88309 | C24: PEDREIRO COM ENCARGOS COMPLEMENTARES | D24: H | E24: 0.3 | F24: =24.11-G24 -> 5.85 | G24: 18.26 | H24: =TRUNC((E24*F24),2) -> 1.75 | I24: =TRUNC((E24*G24),2) -> 5.47 | J24: =TRUNC((H24+I24),2) -> 7.22
A25: SINAPI | B25: 88316 | C25: SERVENTE COM ENCARGOS COMPLEMENTARES | D25: H | E25: 0.3 | F25: =20.08-G25 -> 5.73 | G25: 14.35 | H25: =TRUNC((E25*F25),2) -> 1.71 | I25: =TRUNC((E25*G25),2) -> 4.3 | J25: =TRUNC((H25+I25),2) -> 6.01
H26: =TRUNC(SUM(H21:H25),2) -> 59.52 | I26: =TRUNC(SUM(I21:I25),2) -> 13.81 | J26: =TRUNC(SUM(J21:J25),2) -> 73.33
A28: EXECUÇÃO DE PASSEIO (CALÇADA) EM PISO INTERTRAVADO, COR NATURAL, E=6cm - COMPOSIÇÃO C (M²)
A29: Referência | C29: Descrição dos Serviços | D29: Unid. | E29: Quant. | F29: Preço Unitário R$ | H29: Preço Total R$ | J29: Custo total R$
F30: Material | G30: Mão de obra | H30: Material | I30: Mão de obra
A31: SINAPI | B31: 97083 | C31: REGULARIZAÇÃO E COMPACTAÇÃO MECÂNICA DE SOLO PARA EXECUÇÃO DE PASSEIO, COM COMPACTADOR DE SOLOS A PERCUSSÃO. | D31: m² | E31: 1 | F31: =3.05-G31 -> 0.9 | G31: 2.15 | H31: =TRUNC((E31*F31),2) -> 0.9 | I31: =TRUNC((E31*G31),2) -> 2.15 | J31: =TRUNC((H31+I31),2) -> 3.05
A32: SINAPI | B32: 100324 | C32: LASTRO COM MATERIAL GRANULAR (PEDRA BRITADA N.1 E PEDRA BRITADA N.2), APLICADO EM PISOS OU LAJES SOBRE SOLO, ESPESSURA DE *5 CM*. | D32: m³ | E32: 0.05 | F32: =151.32-G32 -> 113.39 | G32: 37.93 | H32: =TRUNC((E32*F32),2) -> 5.66 | I32: =TRUNC((E32*G32),2) -> 1.89 | J32: =TRUNC((H32+I32),2) -> 7.55
A33: SINAPI | B33: 92396 | C33: EXECUÇÃO DE PASSEIO EM PISO INTERTRAVADO COM BLOCOS RETANGULARES DE COR NATURA DE 20X10XM. E=6CM. | D33: m² | E33: 1 | F33: =71.93-G33 -> 60.86 | G33: 11.07 | H33: =TRUNC((E33*F33),2) -> 60.86 | I33: =TRUNC((E33*G33),2) -> 11.07 | J33: =TRUNC((H33+I33),2) -> 71.93
A34: SINAPI | B34: 88309 | C34: PEDREIRO COM ENCARGOS COMPLEMENTARES | D34: H | E34: 0.12 | F34: =24.11-G34 -> 5.85 | G34: 18.26 | H34: =TRUNC((E34*F34),2) -> 0.7 | I34: =TRUNC((E34*G34),2) -> 2.19 | J34: =TRUNC((H34+I34),2) -> 2.89
A35: SINAPI | B35: 88316 | C35: SERVENTE COM ENCARGOS COMPLEMENTARES | D35: H | E35: 0.12 | F35: =20.08-G35 -> 5.73 | G35: 14.35 | H35: =TRUNC((E35*F35),2) -> 0.68 | I35: =TRUNC((E35*G35),2) -> 1.72 | J35: =TRUNC((H35+I35),2) -> 2.4
H36: =TRUNC(SUM(H31:H35),2) -> 68.8 | I36: =TRUNC(SUM(I31:I35),2) -> 19.02 | J36: =TRUNC(SUM(J31:J35),2) -> 87.82
A38: EXECUÇÃO DE PASSEIO (CALÇADA) EM PISO DE CONCRETO, MOLDADO IN LOCO, E=5cm - COMPOSIÇÃO D (M²)
A39: Referência | C39: Descrição dos Serviços | D39: Unid. | E39: Quant. | F39: Preço Unitário R$ | H39: Preço Total R$ | J39: Custo total R$
F40: Material | G40: Mão de obra | H40: Material | I40: Mão de obra
A41: SINAPI | B41: 97083 | C41: REGULARIZAÇÃO E COMPACTAÇÃO MECÂNICA DE SOLO PARA EXECUÇÃO DE PASSEIO, COM COMPACTADOR DE SOLOS A PERCUSSÃO. | D41: m² | E41: 1 | F41: =3.05-G41 -> 0.9 | G41: 2.15 | H41: =TRUNC((E41*F41),2) -> 0.9 | I41: =TRUNC((E41*G41),2) -> 2.15 | J41: =TRUNC((H41+I41),2) -> 3.05
A42: SINAPI | B42: 100324 | C42: LASTRO COM MATERIAL GRANULAR (PEDRA BRITADA N.1 E PEDRA BRITADA N.2), APLICADO EM PISOS OU LAJES SOBRE SOLO, ESPESSURA DE *5 CM*. | D42: m³ | E42: 0.05 | F42: =151.32-G42 -> 113.39 | G42: 37.93 | H42: =TRUNC((E42*F42),2) -> 5.66 | I42: =TRUNC((E42*G42),2) -> 1.89 | J42: =TRUNC((H42+I42),2) -> 7.55
A43: SINAPI | B43: 94990 | C43: EXECUÇÃO DE PASSEIO (CALÇADA) OU PISO DE CONCRETO COM CONCRETO MOLDADO IN LOCO, FEITO EM OBRA, ACABAMENTO CONVENCIONAL, NÃO ARMADO. | D43: m³ | E43: 0.05 | F43: =765.32-G43 -> 571.13 | G43: 194.19 | H43: =TRUNC((E43*F43),2) -> 28.55 | I43: =TRUNC((E43*G43),2) -> 9.7 | J43: =TRUNC((H43+I43),2) -> 38.25
A44: SINAPI | B44: 88309 | C44: PEDREIRO COM ENCARGOS COMPLEMENTARES | D44: H | E44: 0.12 | F44: =24.11-G44 -> 5.85 | G44: 18.26 | H44: =TRUNC((E44*F44),2) -> 0.7 | I44: =TRUNC((E44*G44),2) -> 2.19 | J44: =TRUNC((H44+I44),2) -> 2.89
...

Sheet Preço de Mercado
B2: COTAÇÕES DE PREÇO
B3: Estado do Rio Grande do Sul
B4: Prefeitura Municipal de Montenegro
B5: Secretaria Municipal de Gestão e Planejamento
B6: OBRA: | C6: =[2]Planilha!D6 -> Registro de preços para futura e eventual contratação de serviços de manutenção e recuperação de passeios públicos, incluindo material e mão de obra.
B7: DATA: | C7: atualização em Julho de 2024
B10: 1 - Basalto com acabamento serrado regular, 40x40cm - UNID: m²
B11: Descrição dos Serviços
B12: LICITAÇÃO | D12: LINK | E12: VALOR UNITÁRIO (R$)
B13: Gaurama - Dispensa 50.2024 | D13: https://portal.tce.rs.gov.br/aplicprod/f?p=50500:12:::NO:RP,12:P12_ID_LICITACAO,P12_PAG_ANTERIOR,P12_PAG_RETORNO,F50500_CD_ORGAO:1188107,19,10,&cs=1k6ndHMRTLf5t5SjHsDg5lcorAxg | E13: 124.9 | G13: Homologação 25/04/2024
B14: Bento Gonçalves - Pregão 179.2023 | D14: https://portal.tce.rs.gov.br/aplicprod/f?p=50500:13:::NO:RP,13,RIR:P13_ID_LICITACAO,P13_PAG_ANTERIOR,P13_PAG_RETORNO,F50500_CD_ORGAO:1130389,19,10,&cs=1fk2USPPgSNXpexNf1h3Cs2DyEgs | E14: 125.94 | G14: Homologação 06/02/2024 | K14: =0.4*0.4 -> 0.16 | L14: =1/0.16 -> 6.25 | M14: =20.15*6.25 -> 125.9375
B15: Flores da Cunha - Pregão 146.2023 | D15: https://portal.tce.rs.gov.br/aplicprod/f?p=50500:13:::NO:RP,13,RIR:P13_ID_LICITACAO,P13_PAG_ANTERIOR,P13_PAG_RETORNO,F50500_CD_ORGAO:1105500,19,10,&cs=1jLmgTiuHq4-U9xVQjvIL5EQZYsk | E15: 125 | G15: Homologação 10/11/2023
D16: MÉDIA | E16: =(E14+E15+E13)/3 -> 125.28
B19: 2 - Basalto com acabamento serrado irregular medidas variáveis - UNID: m²
B20: Descrição dos Serviços
B21: LICITAÇÃO | D21: LINK | E21: VALOR UNITÁRIO (R$)
B22: Arvorezinha - Dispensa nº 58.2024 | D22: https://portal.tce.rs.gov.br/aplicprod/f?p=50500:12:::NO:RP,12:P12_ID_LICITACAO,P12_PAG_ANTERIOR,P12_PAG_RETORNO,F50500_CD_ORGAO:1207757,19,10,&cs=1ogEuGdewE-LZNL8k-ZIAa-GBaAc | E22: 56 | G22: Homologação 14/06/2024
B23: São Pedro da Serra - Pregão 13.2024 | D23: https://portal.tce.rs.gov.br/aplicprod/f?p=50500:12:::NO:RP,12:P12_ID_LICITACAO,P12_PAG_ANTERIOR,P12_PAG_RETORNO,F50500_CD_ORGAO:1194426,19,10,&cs=1UW7frYMpGiDI5GpVXJApiCNgD68 | E23: 45 | G23: Homologação 21/05/2024
B24: Antônio Prado - Pregão 85.2023 | D24: https://portal.tce.rs.gov.br/aplicprod/f?p=50500:13:::NO:RP,13,RIR:P13_ID_LICITACAO,P13_PAG_ANTERIOR,P13_PAG_RETORNO,F50500_CD_ORGAO:1104343,19,10,&cs=1slBmGkFjmnve4ewOLR7Sv_ANI7Y | E24: 47.5 | G24: Homologação 29/09/2023
D25: MÉDIA | E25: =(E22+E23+E24)/3 -> 49.5
B28: 3 - Lajota de concreto tipo Copacabana, medindo entre 49x49cm e 50x50cm- UNID: m²
B29: Descrição dos Serviços
B30: LICITAÇÃO | D30: LINK | E30: VALOR UNITÁRIO (R$)
B31: Arroio do Sal - Pregão 43.2024 | D31: https://portal.tce.rs.gov.br/aplicprod/f?p=50500:12:::NO:RP,12:P12_ID_LICITACAO,P12_PAG_ANTERIOR,P12_PAG_RETORNO,F50500_CD_ORGAO:1214039,19,10,&cs=1fQQ9XckClCbR2v4FAVX8MJ3V5-Y | E31: 35.97 | G31: Homologação - 28/06/2024
B32: Imbé - Pregão nº 51.2024 | D32: https://portal.tce.rs.gov.br/aplicprod/f?p=50500:12:::NO:RP,12:P12_ID_LICITACAO,P12_PAG_ANTERIOR,P12_PAG_RETORNO,F50500_CD_ORGAO:1191561,19,10,&cs=1R3IV5G123YQZNYRXvYZOoftoa0I | E32: 36.8 | G32: Homologação - 26/06/2024
B33: Teutônia - Pregão nº 22.2024 | D33: https://portal.tce.rs.gov.br/aplicprod/f?p=50500:12:::NO:RP,12:P12_ID_LICITACAO,P12_PAG_ANTERIOR,P12_PAG_RETORNO,F50500_CD_ORGAO:1197536,19,10,&cs=18-DW8iDsY-31GYbUVXhAPapA_kM | E33: 42.08 | G33: Homologação - 08/08/2024
B34: Arroio do Sal - Pregão 36.2023 | D34: https://portal.tce.rs.gov.br/aplicprod/f?p=50500:13:::NO:RP,13,RIR:P13_ID_LICITACAO,P13_PAG_ANTERIOR,P13_PAG_RETORNO,F50500_CD_ORGAO:1099395,19,10,&cs=1cCqbPBFtPxvN7pq4LnwRBGCJUv0 | E34: 36.8 | G34: Homologação 14/09/2023
B35: Senador Salgado Filho - Pregão 32.2023 | D35: https://portal.tce.rs.gov.br/aplicprod/f?p=50500:13:::NO:RP,13,RIR:P13_ID_LICITACAO,P13_PAG_ANTERIOR,P13_PAG_RETORNO,F50500_CD_ORGAO:1126639,19,10,&cs=1A1CHMuY6lMOXXb5T5jcSsDfAYpE | E35: 37.8 | G35: Homologação 11/12/2023
D36: MÉDIA | E36: =(E31+E32+E34+E35+E33)/5 -> 37.89
D39: VALÉRIA WOLLMANN
D40: Arq e Urb - CAU A195685-0
D41: RRT Nº 13267398

Sheet Proposta
A1: PROPOSTA
A2: Modalidade | C2: =IF(Identificação!B2=0,"",Identificação!B2) -> Pregão Lei 14.133/21 Eletrônico | E2: N° | F2: =IF(Identificação!E2=0,"",Identificação!E2) | G2: Ano | H2: =IF(Identificação!G2=0,"",Identificação!G2) -> 2024
A3: Descrição do Objeto | C3: =IF(Identificação!B3=0,"",Identificação!B3) -> Registro de preços para futura e eventual contratação de serviços de manutenção e recuperação de passeios públicos, incluindo material e mão de obra.
A4: Licitante | G4: CNPJ*
A5: Tipo de Objeto | C5: =IF(Identificação!B5=0,"",Identificação!B5) -> Obras e Serviços de Engenharia
A6: Preço Total Proposto | C6: =SUMIFS(H12:H39953,B12:B39953,">0",H12:H39953,"<>0") -> 0
A7: Atenção! Se existirem itens sem preço proposto, deixe a célula do preço unitário proposto em branco.
A8: Para incluir itens da proposta, selecione as células A13 a K13 e arraste para baixo, de acordo com o número de itens cadastrado na planilha Orçamento-base.
A9: *Campos de preenchimento obrigatório | F9: **Obrigatório só para Obras e Serviços de Engenharia
A10: Nº do lote | B10: Nº Ordem | C10: Nº Item | D10: Descrição do item | E10: Proposta
E11: Qtd. | F11: Unid. | G11: Preço unitário (R$)* | H11: Preço Total (R$) | I11: % BDI** | J11: % Encargos Sociais** | K11: Percentual de Desconto | L11: Pr. Unit. Material | M11: Pr. Unit. Mão de obra
A12: =IF('Orçamento-base'!A12>0,'Orçamento-base'!A12,"") -> 1 | B12: ='Orçamento-base'!B12 -> 1 | C12: =IF('Orçamento-base'!C12>0,'Orçamento-base'!C12,"") -> 1 | D12: =IF('Orçamento-base'!G12>0,'Orçamento-base'!G12,"") -> ASSENTAMENTO DE GUIA (MEIO-FIO) EM TRECHO RETO, CONFECCIONADA EM CONCRETO PRÉ-FABRICADO, DIMENSÕES 100X15X13X30. | E12: =IF('Orçamento-base'!H12>0,'Orçamento-base'!H12,"") -> 2420 | F12: =IF('Orçamento-base'!I12>0,'Orçamento-base'!I12,"") -> m | G12: =IFERROR(IF(L12+M12<>0,ROUND(ROUND(L12,4)+ROUND(M12,4),4),""),"") | H12: =IFERROR(IF(E12*G12<>0,ROUND(ROUND(E12,4)*ROUND(G12,4),2),""),"")
A13: =IF('Orçamento-base'!A13>0,'Orçamento-base'!A13,"") -> 1 | B13: ='Orçamento-base'!B13 -> 2 | C13: =IF('Orçamento-base'!C13>0,'Orçamento-base'!C13,"") -> 2 | D13: =IF('Orçamento-base'!G13>0,'Orçamento-base'!G13,"") -> EXECUÇÃO DE PASSEIO (CALÇADA) EM BASALTO SERRADO REGULAR 40CMX40CM. | E13: =IF('Orçamento-base'!H13>0,'Orçamento-base'!H13,"") -> 1000 | F13: =IF('Orçamento-base'!I13>0,'Orçamento-base'!I13,"") -> m2 | G13: =IFERROR(IF(L13+M13<>0,ROUND(ROUND(L13,4)+ROUND(M13,4),4),""),"") | H13: =IFERROR(IF(E13*G13<>0,ROUND(ROUND(E13,4)*ROUND(G13,4),2),""),"")
A14: =IF('Orçamento-base'!A14>0,'Orçamento-base'!A14,"") -> 1 | B14: ='Orçamento-base'!B14 -> 3 | C14: =IF('Orçamento-base'!C14>0,'Orçamento-base'!C14,"") -> 3 | D14: =IF('Orçamento-base'!G14>0,'Orçamento-base'!G14,"") -> EXECUÇÃO DE PASSEIO (CALÇADA) EM BASALTO SERRADO IRREGULAR, MEDIDAS VARIÁVEIS. | E14: =IF('Orçamento-base'!H14>0,'Orçamento-base'!H14,"") -> 1000 | F14: =IF('Orçamento-base'!I14>0,'Orçamento-base'!I14,"") -> m2 | G14: =IFERROR(IF(L14+M14<>0,ROUND(ROUND(L14,4)+ROUND(M14,4),4),""),"") | H14: =IFERROR(IF(E14*G14<>0,ROUND(ROUND(E14,4)*ROUND(G14,4),2),""),"")
A15: =IF('Orçamento-base'!A15>0,'Orçamento-base'!A15,"") -> 1 | B15: ='Orçamento-base'!B15 -> 4 | C15: =IF('Orçamento-base'!C15>0,'Orçamento-base'!C15,"") -> 4 | D15: =IF('Orçamento-base'!G15>0,'Orçamento-base'!G15,"") -> EXECUÇÃO DE PASSEIO (CALÇADA) EM PISO INTERTRAVADO, COR NATURAL, E=6 cm. | E15: =IF('Orçamento-base'!H15>0,'Orçamento-base'!H15,"") -> 2030 | F15: =IF('Orçamento-base'!I15>0,'Orçamento-base'!I15,"") -> m2 | G15: =IFERROR(IF(L15+M15<>0,ROUND(ROUND(L15,4)+ROUND(M15,4),4),""),"") | H15: =IFERROR(IF(E15*G15<>0,ROUND(ROUND(E15,4)*ROUND(G15,4),2),""),"")
A16: =IF('Orçamento-base'!A16>0,'Orçamento-base'!A16,"") -> 1 | B16: ='Orçamento-base'!B16 -> 5 | C16: =IF('Orçamento-base'!C16>0,'Orçamento-base'!C16,"") -> 5 | D16: =IF('Orçamento-base'!G16>0,'Orçamento-base'!G16,"") -> EXECUÇÃO DE PASSEIO (CALÇADA) EM PISO DE CONCRETO, MOLDADO IN LOCO, E=5 cm. | E16: =IF('Orçamento-base'!H16>0,'Orçamento-base'!H16,"") -> 5830 | F16: =IF('Orçamento-base'!I16>0,'Orçamento-base'!I16,"") -> m2 | G16: =IFERROR(IF(L16+M16<>0,ROUND(ROUND(L16,4)+ROUND(M16,4),4),""),"") | H16: =IFERROR(IF(E16*G16<>0,ROUND(ROUND(E16,4)*ROUND(G16,4),2),""),"")
A17: =IF('Orçamento-base'!A17>0,'Orçamento-base'!A17,"") -> 1 | B17: ='Orçamento-base'!B17 -> 6 | C17: =IF('Orçamento-base'!C17>0,'Orçamento-base'!C17,"") -> 6 | D17: =IF('Orçamento-base'!G17>0,'Orçamento-base'!G17,"") -> PISO PODOTÁTIL, ALERTA/DIRECIONAL, ASSENTADO SOBRE ARGAMASSA. | E17: =IF('Orçamento-base'!H17>0,'Orçamento-base'!H17,"") -> 2330 | F17: =IF('Orçamento-base'!I17>0,'Orçamento-base'!I17,"") -> m | G17: =IFERROR(IF(L17+M17<>0,ROUND(ROUND(L17,4)+ROUND(M17,4),4),""),"") | H17: =IFERROR(IF(E17*G17<>0,ROUND(ROUND(E17,4)*ROUND(G17,4),2),""),"")
A18: =IF('Orçamento-base'!A18>0,'Orçamento-base'!A18,"") -> 1 | B18: ='Orçamento-base'!B18 -> 7 | C18: =IF('Orçamento-base'!C18>0,'Orçamento-base'!C18,"") -> 7 | D18: =IF('Orçamento-base'!G18>0,'Orçamento-base'!G18,"") -> EXECUÇÃO DE PASSEIO (CALÇADA) EM PISO DE CONCRETO TIPO COPACABANA, COR NATURAL | E18: =IF('Orçamento-base'!H18>0,'Orçamento-base'!H18,"") -> 1430 | F18: =IF('Orçamento-base'!I18>0,'Orçamento-base'!I18,"") -> m2 | G18: =IFERROR(IF(L18+M18<>0,ROUND(ROUND(L18,4)+ROUND(M18,4),4),""),"") | H18: =IFERROR(IF(E18*G18<>0,ROUND(ROUND(E18,4)*ROUND(G18,4),2),""),"")

Sheet Pesquisa Familia e Subfamilia
A1: Tipo de Objeto | B1: Código Família | C1: Família | D1: Código Subfamília | E1: Subfamília
A2: Compras | B2: 736 | C2: alimentacao humana especial/manipuladas/fracionada | D2: 460 | E2: laticinios e correlatos
A3: Compras | B3: 736 | C3: alimentacao humana especial/manipuladas/fracionada | D3: 640 | E3: produtos de origem animal in natura
A4: Compras | B4: 736 | C4: alimentacao humana especial/manipuladas/fracionada | D4: 641 | E4: produtos de origem vegetal in natura
A5: Compras | B5: 736 | C5: alimentacao humana especial/manipuladas/fracionada | D5: 643 | E5: produtos de panificacao
A6: Compras | B6: 736 | C6: alimentacao humana especial/manipuladas/fracionada | D6: 642 | E6: produtos nao pereciveis
A7: Compras | B7: 965 | C7: adubos/corretivos do solo | D7: 1 | E7: adubos
A8: Compras | B8: 965 | C8: adubos/corretivos do solo | D8: 89 | E8: corretivos do solo
A9: Compras | B9: 788 | C9: alimentacao humana - laticinios e correlatos | D9: 700 | E9: cremes vegetais
A10: Compras | B10: 788 | C10: alimentacao humana - laticinios e correlatos | D10: 133 | E10: derivados do leite
A11: Compras | B11: 788 | C11: alimentacao humana - laticinios e correlatos | D11: 456 | E11: leite
A12: Compras | B12: 788 | C12: alimentacao humana - laticinios e correlatos | D12: 500 | E12: manteiga
A13: Compras | B13: 788 | C13: alimentacao humana - laticinios e correlatos | D13: 676 | E13: queijo e similares
... A3482: Outros Serviços | B3482: 72 | C3482: servicos: vigilancia/seguranca/transporte de valores | D3482: 737 | E3482: servicos transporte de valores/contagem numerario
A3484: 1

Sheet Tipo de Objeto x Familia
A1: Tipo de Objeto | B1: Código | C1: Família | D1: apoio1 | E1: apoio2 | F1: Tipo de Objeto | G1: Código Família | H1: Família
A2: Compras | B2: 2 | C2: equipamentos/materiais p/escritorio/escola/artes plasticas | D2: 1 | E2: =IF(A2=$F$2,B2,"") | F2: =IF(Identificação!$B$5=0,"",Identificação!$B$5) -> Obras e Serviços de Engenharia | G2: =IFERROR(SMALL($E$2:$E$250,D2),"") -> 7 | H2: =IFERROR(VLOOKUP(G2,base!$C$2:$D$133,2,FALSE),"") -> serviços de engenharia/obras: resíduos sólidos
A3: Compras e Outros Serviços | B3: 2 | C3: equipamentos/materiais p/escritorio/escola/artes plasticas | D3: 2 | E3: =IF(A3=$F$2,B3,"") | G3: =IFERROR(SMALL($E$2:$E$250,D3),"") -> 8 | H3: =IFERROR(VLOOKUP(G3,base!$C$2:$D$133,2,FALSE),"") -> serviços de engenharia/obras: edificações
A4: Compras e Outros Serviços | B4: 3 | C4: servicos técnicos: projetos/auditorias/ consultorias/assessorias | D4: 3 | E4: =IF(A4=$F$2,B4,"") | G4: =IFERROR(SMALL($E$2:$E$250,D4),"") -> 9 | H4: =IFERROR(VLOOKUP(G4,base!$C$2:$D$133,2,FALSE),"") -> serviços de engenharia/obras: rodovias, ferrovias e aeroportos
A5: Outros Serviços | B5: 3 | C5: servicos técnicos: projetos/auditorias/ consultorias/assessorias | D5: 4 | E5: =IF(A5=$F$2,B5,"") | G5: =IFERROR(SMALL($E$2:$E$250,D5),"") -> 10 | H5: =IFERROR(VLOOKUP(G5,base!$C$2:$D$133,2,FALSE),"") -> serviços de engenharia/obras: obras-de-arte-especiais
A6: Obras e Serviços de Engenharia | B6: 7 | C6: serviços de engenharia/obras: resíduos sólidos | D6: 5 | E6: =IF(A6=$F$2,B6,"") -> 7 | G6: =IFERROR(SMALL($E$2:$E$250,D6),"") -> 11 | H6: =IFERROR(VLOOKUP(G6,base!$C$2:$D$133,2,FALSE),"") -> serviços de engenharia/obras: urbanização
A7: Obras e Serviços de Engenharia | B7: 8 | C7: serviços de engenharia/obras: edificações | D7: 6 | E7: =IF(A7=$F$2,B7,"") -> 8 | G7: =IFERROR(SMALL($E$2:$E$250,D7),"") -> 12 | H7: =IFERROR(VLOOKUP(G7,base!$C$2:$D$133,2,FALSE),"") -> serviços de engenharia/obras: infraestrutura de energia
A8: Obras e Serviços de Engenharia | B8: 9 | C8: serviços de engenharia/obras: rodovias, ferrovias e aeroportos | D8: 7 | E8: =IF(A8=$F$2,B8,"") -> 9 | G8: =IFERROR(SMALL($E$2:$E$250,D8),"") -> 13 | H8: =IFERROR(VLOOKUP(G8,base!$C$2:$D$133,2,FALSE),"") -> serviços de engenharia/obras: saneamento
A9: Obras e Serviços de Engenharia | B9: 10 | C9: serviços de engenharia/obras: obras-de-arte-especiais | D9: 8 | E9: =IF(A9=$F$2,B9,"") -> 10 | G9: =IFERROR(SMALL($E$2:$E$250,D9),"") -> 14 | H9: =IFERROR(VLOOKUP(G9,base!$C$2:$D$133,2,FALSE),"") -> serviços de engenharia/obras: obras portuárias, marítimas e fluviais
A10: Obras e Serviços de Engenharia | B10: 11 | C10: serviços de engenharia/obras: urbanização | D10: 9 | E10: =IF(A10=$F$2,B10,"") -> 11 | G10: =IFERROR(SMALL($E$2:$E$250,D10),"") -> 15 | H10: =IFERROR(VLOOKUP(G10,base!$C$2:$D$133,2,FALSE),"") -> serviços de engenharia/obras: serviços especializados para construção
A11: Obras e Serviços de Engenharia | B11: 12 | C11: serviços de engenharia/obras: infraestrutura de energia | D11: 10 | E11: =IF(A11=$F$2,B11,"") -> 12 | G11: =IFERROR(SMALL($E$2:$E$250,D11),"") -> 16 | H11: =IFERROR(VLOOKUP(G11,base!$C$2:$D$133,2,FALSE),"") -> serviços de engenharia/obras: inst. elétricas, hidráulicas e outras inst. em construções
A12: Obras e Serviços de Engenharia | B12: 13 | C12: serviços de engenharia/obras: saneamento | D12: 11 | E12: =IF(A12=$F$2,B12,"") -> 13 | G12: =IFERROR(SMALL($E$2:$E$250,D12),"") -> 17 | H12: =IFERROR(VLOOKUP(G12,base!$C$2:$D$133,2,FALSE),"") -> serviços de engenharia/obras: serviços técnicos de engenharia e arquitetura
A13: Obras e Serviços de Engenharia | B13: 14 | C13: serviços de engenharia/obras: obras portuárias, marítimas e fluviais | D13: 12 | E13: =IF(A13=$F$2,B13,"") -> 14 | G13: =IFERROR(SMALL($E$2:$E$250,D13),"") | H13: =IFERROR(VLOOKUP(G13,base!$C$2:$D$133,2,FALSE),"")
A14: Obras e Serviços de Engenharia | B14: 15 | C14: serviços de engenharia/obras: serviços especializados para construção | D14: 13 | E14: =IF(A14=$F$2,B14,"") -> 15 | G14: =IFERROR(SMALL($E$2:$E$250,D14),"") | H14: =IFERROR(VLOOKUP(G14,base!$C$2:$D$133,2,FALSE),"")
... A250: Compras e Outros Serviços | B250: 990 | C250: produtos quimicos de limpeza/higiene | D250: 249 | E250: =IF(A250=$F$2,B250,"") | G250: =IFERROR(SMALL($E$2:$E$250,D250),"") | H250: =IFERROR(VLOOKUP(G250,base!$C$2:$D$133,2,FALSE),"")

Sheet base
C1: Cód. Família | D1: Família | E1: Cód. Subfamília | F1: Subfamília | I1: Sigla | J1: Descrição Unidade | K1: Modalidades | L1: Tipo de Objeto | M1: Tipo de Orcamento | N1: Fonte de Rerefência
C2: 2 | D2: equipamentos/materiais p/escritorio/escola/artes plasticas | E2: 89 | F2: tinta para carimbos | G2: 2|89 | I2: ades | J2: adesivo | K2: Chamada Pública / PNAE | L2: Alienação de Bens | M2: Mão-de-obra | N2: AGESUL
C3: 3 | D3: servicos técnicos: projetos/auditorias/ consultorias/assessorias | E3: 177 | F3: equipamentos p/escritorio | G3: 2|177 | I3: amp | J3: ampola | K3: Chamamento Público | L3: Compras | M3: Mão-de-obra e material | N3: AGETOP_CIVIL
C4: 7 | D4: serviços de engenharia/obras: resíduos sólidos | E4: 178 | F4: equipamentos p/reprografia/grafica/copiadoras | G4: 2|178 | I4: ano | J4: ano | K4: Chamamento Público / Credenciamento | L4: Compras e Outros Serviços | M4: Material | N4: AGETOP_ROD
C5: 8 | D5: serviços de engenharia/obras: edificações | E5: 179 | F5: equipamentos didaticos/ensino/treinamento | G5: 2|179 | I5: band | J5: bandeja | K5: Concorrência | L5: Concessão | M5: Serviço | N5: ANP
C6: 9 | D6: serviços de engenharia/obras: rodovias, ferrovias e aeroportos | E6: 221 | F6: filmes p/ plastificacao | G6: 2|221 | I6: bast | J6: bastão | K6: Concorrência Lei 14.133/21 Eletrônica | L6: Locações | N6: CAEMA
C7: 10 | D7: serviços de engenharia/obras: obras-de-arte-especiais | E7: 500 | F7: materiais/suprimentos p/equipamentos de escritorio | G7: 2|500 | I7: bg | J7: bisnaga | K7: Concorrência Lei 14.133/21 Presencial | L7: Não se aplica | N7: CAERN
C8: 11 | D8: serviços de engenharia/obras: urbanização | E8: 504 | F8: materiais permanentes p/escritorio | G8: 2|504 | I8: bl | J8: bloco | K8: Concurso | L8: Obras e Serviços de Engenharia | N8: CAU
C9: 12 | D9: serviços de engenharia/obras: infraestrutura de energia | E9: 508 | F9: materiais de consumo p/escritorio | G9: 2|508 | I9: bld | J9: balde | K9: Convite | L9: Outros Serviços | N9: CDHU
C10: 13 | D10: serviços de engenharia/obras: saneamento | E10: 514 | F10: materiais permanentes didaticos/escolares/desenho tecnico | G10: 2|514 | I10: bli | J10: blister | K10: Licitação Lei 13.303/16 Eletrônico | L10: Permissão | N10: CEEE
C11: 14 | D11: serviços de engenharia/obras: obras portuárias, marítimas e fluviais | E11: 518 | F11: materiais de consumo didaticos/escolares/desenho tecnico | G11: 2|518 | I11: bls | J11: bolsa | K11: Licitação Lei 13.303/16 Presencial | N11: CEHOP
C12: 15 | D12: serviços de engenharia/obras: serviços especializados para construção | E12: 522 | F12: materiais p/encadernacao/envelopamento | G12: 2|522 | I12: bob | J12: bobina | K12: Leilão Eletrônico | N12: COMPOSICAO_PROPRIA
C13: 16 | D13: serviços de engenharia/obras: inst. elétricas, hidráulicas e outras inst. em construções | E13: 526 | F13: materiais p/arquivamento | G13: 2|526 | I13: bomb | J13: bombona | K13: Leilão Presencial | N13: CONTRATACAO_PUBLICA
C14: 17 | D14: serviços de engenharia/obras: serviços técnicos de engenharia e arquitetura | E14: 528 | F14: materiais de consumo graficos | G14: 2|528 | I14: bot | J14: botijão | K14: Pregão Eletrônico | N14: CONVENCAO_COLETIVA
C15: 29 | D15: serviços: credenciamento de serviços de educação | E15: 632 | F15: pinceis profissional | G15: 2|632 | I15: brr | J15: barra | K15: Pregão Presencial | N15: CORSAN
C16: 30 | D16: serviços: credenciamento de serviços de saúde | E16: 1 | F16: auditoria | G16: 3|1 | I16: cap | J16: cápsula | K16: Pregão Lei 14.133/21 Eletrônico | N16: COTACAO
C17: 31 | D17: servicos: terceirizacao de mao-de-obra especializada | E17: 2 | F17: assessoria em geral | G17: 3|2 | I17: carr | J17: carretel | K17: Pregão Lei 14.133/21 Presencial | N17: CREA
C18: 33 | D18: materiais p/escritório | E18: 89 | F18: consultoria em geral | G18: 3|89 | I18: cart | J18: cartela | K18: Processo de Dispensa Eletrônica | N18: CUB/SINDUSCON
C19: 34 | D19: materiais/ suprimentos p/informatica | E19: 133 | F19: desenho | G19: 3|133 | I19: cento | J19: cento | K19: RDC Eletrônico | N19: DAER
C20: 35 | D20: equipamentos p/informatica | E20: 180 | F20: estudo / analise de medicamentos | G20: 3|180 | I20: ch | J20: chapa | K20: RDC Presencial | N20: DER_PR
C21: 37 | D21: servicos: terceirizacao de mao-de-obra | E21: 500 | F21: maqueteira | G21: 3|500 | I21: chi | J21: custo hora improdutiva | K21: Regras Internacionais | N21: EMBASA
C22: 42 | D22: servicos: transporte de cargas e passageiros | E22: 632 | F22: projetos em geral | G22: 3|632 | I22: chp | J22: custo hora produtiva | K22: Tomada de Preços | N22: IOPES
C23: 45 | D23: servicos: graficos/similares | E23: 1 | F23: aterro sanitário | G23: 7|1 | I23: cil | J23: cilindro | N23: ORSE
C24: 47 | D24: servicos: som, imagem e programacao visual | E24: 2 | F24: coleta de resíduos sólidos urbanos (rsu) | G24: 7|2 | I24: cj | J24: conjunto | N24: PLEO/FRANARIN
C25: 52 | D25: servicos: manutencao de veiculos, equipamentos e aeronaves | E25: 3 | F25: coleta e transporte de resíduos sólidos de serviços de saúde (rsss) | G25: 7|3 | I25: cm | J25: centimetro | N25: SBC
C26: 57 | D26: servicos: manut/equip/escrit/eletrodomesticos/refrigeracao | E26: 4 | F26: coleta seletiva | G26: 7|4 | I26: cmcol | J26: centimetro/coluna | N26: SEDOP
C27: 59 | D27: servicos: serralheria/marcen./carpin./metalurgica/fundicao | E27: 5 | F27: disposição final de resíduos sólidos de serviços de saúde (rsss) | G27: 7|5 | I27: cn | J27: cone | N27: SEINFRA
C28: 62 | D28: servicos: locacao de veiculos, equipamentos e aeronaves | E28: 6 | F28: disposição final de resíduos sólidos urbanos (rsu) | G28: 7|6 | I28: col | J28: coleção | N28: SETOP
C29: 63 | D29: serviços: locacao de imoveis | E29: 7 | F29: estação de transbordo | G29: 7|7 | I29: com | J29: comprimido | N29: SICFER
C30: 64 | D30: aquisição de imoveis | E30: 8 | F30: estação/central de tratamento de resíduos | G30: 7|8 | I30: cr | J30: cartucho | N30: SICRO/DNIT
C31: 70 | D31: maquinas p/autenticar/registrar/franquear e similares | E31: 9 | F31: recuperação de área degradada | G31: 7|9 | I31: crg | J31: carga | N31: SINAPI
C32: 72 | D32: servicos: vigilancia/seguranca/transporte de valores | E32: 10 | F32: transporte de resíduos sólidos urbanos (rsu) | G32: 7|10 | I32: cx | J32: caixa | N32: SIURB
C33: 77 | D33: servicos: alimentacao | E33: 11 | F33: triagem de resíduos sólidos urbanos (rsu) | G33: 7|11 | I33: dia | J33: dia | N33: SMOV/PMPA
C34: 82 | D34: servicos: hotelaria/agencias de viagem e turismo | E34: 12 | F34: unidade de triagem | G34: 7|12 | I34: dose | J34: dose | N34: SUDECAP
C35: 97 | D35: servicos: bilheteria / estacionamento | E35: 99 | F35: outro serviço de resíduos sólidos | G35: 7|99 | I35: drg | J35: drágea | N35: TCPO/PINI
C36: 105 | D36: livros/publicacoes/revistas | E36: 1 | F36: administrativo | G36: 8|1 | I36: dz | J36: dúzia
C37: 107 | D37: servicos: seguros | E37: 2 | F37: albergue/abrigo | G37: 8|2 | I37: eixo | J37: por eixo
C38: 112 | D38: servicos: contratacao parceria/invest./arrend/merchandising | E38: 3 | F38: auditório/teatro | G38: 8|3 | I38: emb | J38: embalagem
C39: 113 | D39: servicos: contratacao instituicao de ensino superior | E39: 4 | F39: creas/cras | G39: 8|4 | I39: env | J39: envelope
C40: 117 | D40: servicos: informatica-software/hardware | E40: 5 | F40: delegacia | G40: 8|5 | I40: es | J40: estojo
...
