Workbook

Sheet Orçamento Sintético
D1: Obra | E1: Bancos | K1: B.D.I. | N1: Encargos Sociais
D2: ESPAÇO PARA FEIRAS E FOOD TRUCKS | E2: SINAPI - 08/2024 - RS EMOP - 08/2024 - RJ | K2: 0.2071 | N2: Não Desonerado: 69,79%
A3: Planilha Orçamentária
A4: Item | B4: Código | C4: Banco | D4: Descrição | E4: Und | F4: Quant. | G4: Valor Unit | H4: Valor Unit | K4: Valor Unit com BDI | N4: Total | Q4: Peso (%)
H5: M. O. | I5: MAT. | J5: Total | K5: M. O. | L5: MAT. | M5: Total | N5: M. O. | O5: MAT. | P5: Total
A6: 1 | D6: SERVIÇOS INICIAIS | P6: =P7 -> 7439.57 | Q6: 0.005399457 | S6: =P6+P46+P52+P133 -> 253595.51 | T6: =S6/P149 -> 0.1840536
A7: 1.1 | D7: MOBILIZAÇÃO E CANTEIRO | P7: =TRUNC(P8+P9+P10,2) -> 7439.57 | Q7: 0.005399457
A8: 1.1.1 | B8: COMP_1 | C8: Próprio | D8: PLACA DE OBRA EM CHAPA DE AÇO GALVANIZADO | E8: m² | F8: 3 | G8: 511.79 | H8: 57.38 | I8: 454.41 | J8: 511.79 | K8: =TRUNC(H8*(1+$K$2),4) -> 69.2633 | L8: =TRUNC(I8*(1+$K$2),4) -> 548.5183 | M8: =L8+K8 -> 617.7816 | N8: =ROUND(K8*F8,4) -> 207.7899 | O8: =ROUND(L8*F8,4) -> 1645.5549 | P8: =IFERROR(IF(M8*F8<>0,ROUND(ROUND(M8,4)*ROUND(F8,4),4),""),"") -> 1853.3448 | Q8: 0.0013451115
A9: 1.1.2 | B9: 00010775 | C9: SINAPI | D9: LOCACAO DE CONTAINER 2,30 X 6,00 M, ALT. 2,50 M, COM 1 SANITARIO, PARA ESCRITORIO, COMPLETO, SEM DIVISORIAS INTERNAS (NAO INCLUI MOBILIZACAO/DESMOBILIZACAO) | E9: MES | F9: 3 | G9: 1000 | H9: 0 | I9: 1000 | J9: 1000 | K9: =TRUNC(H9*(1+$K$2),4) -> 0 | L9: =TRUNC(I9*(1+$K$2),4) -> 1207.1 | M9: =L9+K9 -> 1207.1 | N9: =ROUND(K9*F9,4) -> 0 | O9: =ROUND(L9*F9,4) -> 3621.3 | P9: =IFERROR(IF(M9*F9<>0,ROUND(ROUND(M9,4)*ROUND(F9,4),4),""),"") -> 3621.3 | Q9: 0.0026282489
A10: 1.1.3 | B10: COMP_2 | C10: Próprio | D10: INSTALAÇÃO PROVISÓRIA AGUA-RESERVAT.C/REDE ALIMENTAÇÃO | E10: UN | F10: 1 | G10: 1627.81 | H10: 340.72 | I10: 1287.09 | J10: 1627.81 | K10: =TRUNC(H10*(1+$K$2),4) -> 411.2831 | L10: =TRUNC(I10*(1+$K$2),4) -> 1553.6463 | M10: =L10+K10 -> 1964.9294 | N10: =ROUND(K10*F10,4) -> 411.2831 | O10: =ROUND(L10*F10,4) -> 1553.6463 | P10: =IFERROR(IF(M10*F10<>0,ROUND(ROUND(M10,4)*ROUND(F10,4),4),""),"") -> 1964.9294 | Q10: 0.0014260966
A11: 2 | D11: ADMINISTRAÇÃO DA OBRA | P11: =ROUND(P12+P13,2) -> 61621.33 | Q11: 0.04472323
A12: 2.1 | B12: 90778 | C12: SINAPI | D12: ENGENHEIRO CIVIL DE OBRA PLENO COM ENCARGOS COMPLEMENTARES | E12: H | F12: 135 | G12: 126.58 | H12: 124.45 | I12: 2.13 | J12: 126.58 | K12: =TRUNC(H12*(1+$K$2),4) -> 150.2235 | L12: =TRUNC(I12*(1+$K$2),4) -> 2.5711 | M12: =L12+K12 -> 152.7946 | N12: =ROUND(K12*F12,4) -> 20280.173 | O12: =ROUND(L12*F12,4) -> 347.0985 | P12: =IFERROR(IF(M12*F12<>0,ROUND(ROUND(M12,4)*ROUND(F12,4),4),""),"") -> 20627.271 | Q12: 0.014970769
A13: 2.2 | B13: 93572 | C13: SINAPI | D13: ENCARREGADO GERAL DE OBRAS COM ENCARGOS COMPLEMENTARES | E13: MES | F13: 3 | G13: 11320.26 | H13: 10805.98 | I13: 514.28 | J13: 11320.26 | K13: =TRUNC(H13*(1+$K$2),4) -> 13043.898 | L13: =TRUNC(I13*(1+$K$2),4) -> 620.7873 | M13: =L13+K13 -> 13664.686 | N13: =ROUND(K13*F13,4) -> 39131.695 | O13: =ROUND(L13*F13,4) -> 1862.3619 | P13: =IFERROR(IF(M13*F13<>0,ROUND(ROUND(M13,4)*ROUND(F13,4),4),""),"") -> 40994.057 | Q13: 0.029752461
A14: 3 | D14: INFRAESTRUTURA | P14: =ROUND(P15+P18,2) -> 146579.12 | Q14: 0.10638367
A15: 3.1 | D15: FUNDAÇÕES PROFUNDAS | P15: =ROUND(P16+P17,2) -> 55920.8 | Q15: 0.040585945
A16: 3.1.1 | B16: 100656 | C16: SINAPI | D16: ESTACA PRÉ-MOLDADA DE CONCRETO, SEÇÃO QUADRADA, CAPACIDADE DE 25 TONELADAS, INCLUSO EMENDA (EXCLUSIVE MOBILIZAÇÃO E DESMOBILIZAÇÃO). AF_12/2019 | E16: M | F16: 378 | G16: 119.52 | H16: 17.13 | I16: 102.39 | J16: 119.52 | K16: =TRUNC(H16*(1+$K$2),4) -> 20.6776 | L16: =TRUNC(I16*(1+$K$2),4) -> 123.5949 | M16: =L16+K16 -> 144.2725 | N16: =ROUND(K16*F16,4) -> 7816.1328 | O16: =ROUND(L16*F16,4) -> 46718.872 | P16: =IFERROR(IF(M16*F16<>0,ROUND(ROUND(M16,4)*ROUND(F16,4),4),""),"") -> 54535.005 | Q16: 0.039580167
A17: 3.1.2 | B17: 95601 | C17: SINAPI | D17: ARRASAMENTO MECANICO DE ESTACA DE CONCRETO ARMADO, DIAMETROS DE ATÉ 40 CM. AF_05/2021 | E17: UN | F17: 54 | G17: 21.26 | H17: 16.73 | I17: 4.53 | J17: 21.26 | K17: =TRUNC(H17*(1+$K$2),4) -> 20.1947 | L17: =TRUNC(I17*(1+$K$2),4) -> 5.4681 | M17: =L17+K17 -> 25.6628 | N17: =ROUND(K17*F17,4) -> 1090.5138 | O17: =ROUND(L17*F17,4) -> 295.2774 | P17: =IFERROR(IF(M17*F17<>0,ROUND(ROUND(M17,4)*ROUND(F17,4),4),""),"") -> 1385.7912 | Q17: 0.0010057783
A18: 3.2 | D18: FUNDAÇÕES RASAS | P18: =ROUND(SUM(P19:P27),2) -> 90658.32 | Q18: 0.06579773
A19: 3.2.1 | B19: 96616 | C19: SINAPI | D19: LASTRO DE CONCRETO MAGRO, APLICADO EM BLOCOS DE COROAMENTO OU SAPATAS. AF_01/2024 | E19: m³ | F19: 3.3 | G19: 818.9 | H19: 297.28 | I19: 521.62 | J19: 818.9 | K19: =TRUNC(H19*(1+$K$2),4) -> 358.8466 | L19: =TRUNC(I19*(1+$K$2),4) -> 629.6475 | M19: =L19+K19 -> 988.4941 | N19: =ROUND(K19*F19,4) -> 1184.1938 | O19: =ROUND(L19*F19,4) -> 2077.8368 | P19: =IFERROR(IF(M19*F19<>0,ROUND(ROUND(M19,4)*ROUND(F19,4),4),""),"") -> 3262.0305 | Q19: 0.0023675003
A20: 3.2.2 | B20: 96536 | C20: SINAPI | D20: FABRICAÇÃO, MONTAGEM E DESMONTAGEM DE FÔRMA PARA VIGA BALDRAME, EM MADEIRA SERRADA, E=25 MM, 4 UTILIZAÇÕES. AF_01/2024 | E20: m² | F20: 136.46 | G20: 64.3 | H20: 34.89 | I20: 29.41 | J20: 64.3 | K20: =TRUNC(H20*(1+$K$2),4) -> 42.1157 | L20: =TRUNC(I20*(1+$K$2),4) -> 35.5008 | M20: =L20+K20 -> 77.6165 | N20: =ROUND(K20*F20,4) -> 5747.1084 | O20: =ROUND(L20*F20,4) -> 4844.4392 | P20: =IFERROR(IF(M20*F20<>0,ROUND(ROUND(M20,4)*ROUND(F20,4),4),""),"") -> 10591.548 | Q20: 0.0076870761
A21: 3.2.3 | B21: 96543 | C21: SINAPI | D21: ARMAÇÃO DE BLOCO UTILIZANDO AÇO CA-60 DE 5 MM - MONTAGEM. AF_01/2024 | E21: KG | F21: 348 | G21: 20.5 | H21: 8.72 | I21: 11.78 | J21: 20.5 | K21: =TRUNC(H21*(1+$K$2),4) -> 10.5259 | L21: =TRUNC(I21*(1+$K$2),4) -> 14.2196 | M21: =L21+K21 -> 24.7455 | N21: =ROUND(K21*F21,4) -> 3663.0132 | O21: =ROUND(L21*F21,4) -> 4948.4208 | P21: =IFERROR(IF(M21*F21<>0,ROUND(ROUND(M21,4)*ROUND(F21,4),4),""),"") -> 8611.434 | Q21: 0.0062499759
A22: 3.2.4 | B22: 96544 | C22: SINAPI | D22: ARMAÇÃO DE BLOCO UTILIZANDO AÇO CA-50 DE 6,3 MM - MONTAGEM. AF_01/2024 | E22: KG | F22: 530 | G22: 18.51 | H22: 6.42 | I22: 12.09 | J22: 18.51 | K22: =TRUNC(H22*(1+$K$2),4) -> 7.7495 | L22: =TRUNC(I22*(1+$K$2),4) -> 14.5938 | M22: =L22+K22 -> 22.3433 | N22: =ROUND(K22*F22,4) -> 4107.235 | O22: =ROUND(L22*F22,4) -> 7734.714 | P22: =IFERROR(IF(M22*F22<>0,ROUND(ROUND(M22,4)*ROUND(F22,4),4),""),"") -> 11841.949 | Q22: 0.0085946368
A23: 3.2.5 | B23: 96546 | C23: SINAPI | D23: ARMAÇÃO DE BLOCO UTILIZANDO AÇO CA-50 DE 10 MM - MONTAGEM. AF_01/2024 | E23: KG | F23: 1013 | G23: 14.62 | H23: 3.55 | I23: 11.07 | J23: 14.62 | K23: =TRUNC(H23*(1+$K$2),4) -> 4.2852 | L23: =TRUNC(I23*(1+$K$2),4) -> 13.3625 | M23: =L23+K23 -> 17.6477 | N23: =ROUND(K23*F23,4) -> 4340.9076 | O23: =ROUND(L23*F23,4) -> 13536.212 | P23: =IFERROR(IF(M23*F23<>0,ROUND(ROUND(M23,4)*ROUND(F23,4),4),""),"") -> 17877.12 | Q23: 0.012974841
A24: 3.2.6 | B24: 104920 | C24: SINAPI | D24: ARMAÇÃO DE BLOCO, SAPATA ISOLADA, VIGA BALDRAME E SAPATA CORRIDA UTILIZANDO AÇO CA-50 DE 12,5 MM - MONTAGEM. AF_01/2024 | E24: KG | F24: 399 | G24: 11.29 | H24: 1.96 | I24: 9.33 | J24: 11.29 | K24: =TRUNC(H24*(1+$K$2),4) -> 2.3659 | L24: =TRUNC(I24*(1+$K$2),4) -> 11.2622 | M24: =L24+K24 -> 13.6281 | N24: =ROUND(K24*F24,4) -> 943.9941 | O24: =ROUND(L24*F24,4) -> 4493.6178 | P24: =IFERROR(IF(M24*F24<>0,ROUND(ROUND(M24,4)*ROUND(F24,4),4),""),"") -> 5437.6119 | Q24: 0.0039464997
A25: 3.2.7 | B25: 104921 | C25: SINAPI | D25: ARMAÇÃO DE BLOCO, SAPATA ISOLADA, VIGA BALDRAME E SAPATA CORRIDA UTILIZANDO AÇO CA-50 DE 16 MM - MONTAGEM. AF_01/2024 | E25: KG | F25: 418 | G25: 10.63 | H25: 1.47 | I25: 9.16 | J25: 10.63 | K25: =TRUNC(H25*(1+$K$2),4) -> 1.7744 | L25: =TRUNC(I25*(1+$K$2),4) -> 11.057 | M25: =L25+K25 -> 12.8314 | N25: =ROUND(K25*F25,4) -> 741.6992 | O25: =ROUND(L25*F25,4) -> 4621.826 | P25: =IFERROR(IF(M25*F25<>0,ROUND(ROUND(M25,4)*ROUND(F25,4),4),""),"") -> 5363.5252 | Q25: 0.0038927345
A26: 3.2.8 | B26: 104922 | C26: SINAPI | D26: ARMAÇÃO DE BLOCO, SAPATA ISOLADA E SAPATA CORRIDA UTILIZANDO AÇO CA-50 DE 20 MM - MONTAGEM. AF_01/2024 | E26: KG | F26: 268.1 | G26: 11.75 | H26: 1.14 | I26: 10.61 | J26: 11.75 | K26: =TRUNC(H26*(1+$K$2),4) -> 1.376 | L26: =TRUNC(I26*(1+$K$2),4) -> 12.8073 | M26: =L26+K26 -> 14.1833 | N26: =ROUND(K26*F26,4) -> 368.9056 | O26: =ROUND(L26*F26,4) -> 3433.6371 | P26: =IFERROR(IF(M26*F26<>0,ROUND(ROUND(M26,4)*ROUND(F26,4),4),""),"") -> 3802.5427 | Q26: 0.0027598103
A27: 3.2.9 | B27: COMP_3 | C27: Próprio | D27: CONCRETAGEM DE BLOCOS DE COROAMENTO E VIGAS BALDRAMES, FCK 25 MPA, COM USO DE BOMBA  LANÇAMENTO, ADENSAMENTO E ACABAMENTO | E27: m³ | F27: 29.36 | G27: 673.54 | H27: 17.44 | I27: 656.1 | J27: 673.54 | K27: =TRUNC(H27*(1+$K$2),4) -> 21.0518 | L27: =TRUNC(I27*(1+$K$2),4) -> 791.9783 | M27: =L27+K27 -> 813.0301 | N27: =ROUND(K27*F27,4) -> 618.0808 | O27: =ROUND(L27*F27,4) -> 23252.483 | P27: =IFERROR(IF(M27*F27<>0,ROUND(ROUND(M27,4)*ROUND(F27,4),4),""),"") -> 23870.564 | Q27: 0.017324655
A28: 4 | D28: SUPRAESTRUTURA | P28: =P29 -> 239298.54 | Q28: 0.17367789
A29: 4.1 | D29: ESTRUTURA METÁLICA | P29: =ROUND(SUM(P30:P32),2) -> 239298.54 | Q29: 0.17367789
A30: 4.1.1 | B30: COMP_4 | C30: Próprio | D30: ESTRUTURA METÁLICA DE COBERTURA | E30: KG | F30: 11276.52 | G30: 16.82 | H30: 1.39 | I30: 15.43 | J30: 16.82 | K30: =TRUNC(H30*(1+$K$2),4) -> 1.6778 | L30: =TRUNC(I30*(1+$K$2),4) -> 18.6255 | M30: =L30+K30 -> 20.3033 | N30: =ROUND(K30*F30,4) -> 18919.745 | O30: =ROUND(L30*F30,4) -> 210030.82 | P30: =IFERROR(IF(M30*F30<>0,ROUND(ROUND(M30,4)*ROUND(F30,4),4),""),"") -> 228950.57 | Q30: 0.16616759
A31: 4.1.2 | B31: COMP_5 | C31: Próprio | D31: PILAR EM TUBO METALON 20X20CM H=3,5M | E31: UN | F31: 26 | G31: 236.35 | H31: 91.3 | I31: 145.05 | J31: 236.35 | K31: =TRUNC(H31*(1+$K$2),4) -> 110.2082 | L31: =TRUNC(I31*(1+$K$2),4) -> 175.0898 | M31: =L31+K31 -> 285.298 | N31: =ROUND(K31*F31,4) -> 2865.4132 | O31: =ROUND(L31*F31,4) -> 4552.3348 | P31: =IFERROR(IF(M31*F31<>0,ROUND(ROUND(M31,4)*ROUND(F31,4),4),""),"") -> 7417.748 | Q31: 0.0053836175
A32: 4.1.3 | B32: COMP_6 | C32: Próprio | D32: PILAR EM TUBO METALON 20X20CM H=2,80M (APOIADO NA FLOREIRA) | E32: UN | F32: 13 | G32: 186.73 | H32: 73.01 | I32: 113.72 | J32: 186.73 | K32: =TRUNC(H32*(1+$K$2),4) -> 88.1303 | L32: =TRUNC(I32*(1+$K$2),4) -> 137.2714 | M32: =L32+K32 -> 225.4017 | N32: =ROUND(K32*F32,4) -> 1145.6939 | O32: =ROUND(L32*F32,4) -> 1784.5282 | P32: =IFERROR(IF(M32*F32<>0,ROUND(ROUND(M32,4)*ROUND(F32,4),4),""),"") -> 2930.2221 | Q32: 0.0021266826
A33: 5 | D33: ARQUITETÔNICO | P33: =ROUND(P34+P40+P46,2) -> 696485.02 | Q33: 0.50549164
A34: 5.1 | D34: PAVIMENTAÇÃO | P34: =ROUND(P35+P36+P37+P38+P39,2)-0.01 -> 324092.48 | Q34: 0.23521835
A35: 5.1.1 | B35: 103075 | C35: SINAPI | D35: EXECUÇÃO DE PISO DE CONCRETO, COM ACABAMENTO SUPERFICIAL, ESPESSURA DE 15 CM, FCK = 30 MPA, COM USO DE FORMAS EM MADEIRA SERRADA. AF_09/2021 | E35: m² | F35: 1185.78 | G35: 213.44 | H35: 21.73 | I35: 191.71 | J35: 213.44 | K35: =TRUNC(H35*(1+$K$2),4) -> 26.2302 | L35: =TRUNC(I35*(1+$K$2),4) -> 231.4131 | M35: =L35+K35 -> 257.6433 | N35: =ROUND(K35*F35,4) -> 31103.247 | O35: =ROUND(L35*F35,4) -> 274405.03 | P35: =IFERROR(IF(M35*F35<>0,ROUND(ROUND(M35,4)*ROUND(F35,4),4),""),"") -> 305508.27 | Q35: 0.22173036
A36: 5.1.2 | B36: 97114 | C36: SINAPI | D36: EXECUÇÃO DE JUNTAS DE CONTRAÇÃO PARA PAVIMENTOS DE CONCRETO. AF_04/2022 | E36: M | F36: 277.8 | G36: 0.39 | H36: 0.28 | I36: 0.11 | J36: 0.39 | K36: =TRUNC(H36*(1+$K$2),4) -> 0.3379 | L36: =TRUNC(I36*(1+$K$2),4) -> 0.1327 | M36: =L36+K36 -> 0.4706 | N36: =ROUND(K36*F36,4) -> 93.8686 | O36: =ROUND(L36*F36,4) -> 36.8641 | P36: =IFERROR(IF(M36*F36<>0,ROUND(ROUND(M36,4)*ROUND(F36,4),4),""),"") -> 130.7327 | Q36: 9.4914829e-05
A37: 5.1.3 | B37: COMP_7 | C37: Próprio | D37: TABEIRA EM BASALTO LEVIGADO FOSCO, PINGADEIRA 2CM, L=38CM | E37: M | F37: 74.5 | G37: 69.16 | H37: 5.68 | I37: 63.48 | J37: 69.16 | K37: =TRUNC(H37*(1+$K$2),4) -> 6.8563 | L37: =TRUNC(I37*(1+$K$2),4) -> 76.6267 | M37: =L37+K37 -> 83.483 | N37: =ROUND(K37*F37,4) -> 510.7944 | O37: =ROUND(L37*F37,4) -> 5708.6892 | P37: =IFERROR(IF(M37*F37<>0,ROUND(ROUND(M37,4)*ROUND(F37,4),4),""),"") -> 6219.4835 | Q37: 0.0045139474
A38: 5.1.4 | B38: COMP_8 | C38: Próprio | D38: TABEIRA EM BASALTO LEVIGADO FOSCO, PINGADEIRA 2CM, L=32,5CM | E38: M | F38: 83.6 | G38: 58.81 | H38: 4.58 | I38: 54.23 | J38: 58.81 | K38: =TRUNC(H38*(1+$K$2),4) -> 5.5285 | L38: =TRUNC(I38*(1+$K$2),4) -> 65.461 | M38: =L38+K38 -> 70.9895 | N38: =ROUND(K38*F38,4) -> 462.1826 | O38: =ROUND(L38*F38,4) -> 5472.5396 | P38: =IFERROR(IF(M38*F38<>0,ROUND(ROUND(M38,4)*ROUND(F38,4),4),""),"") -> 5934.7222 | Q38: 0.0043072707
A39: 5.1.5 | B39: COMP_9 | C39: Próprio | D39: RAMPA DE ACESSO EM CONCRETO ARMADO | E39: m³ | F39: 3.96 | G39: 1317.81 | H39: 410.9 | I39: 906.91 | J39: 1317.81 | K39: =TRUNC(H39*(1+$K$2),4) -> 495.9973 | L39: =TRUNC(I39*(1+$K$2),4) -> 1094.731 | M39: =L39+K39 -> 1590.7283 | N39: =ROUND(K39*F39,4) -> 1964.1493 | O39: =ROUND(L39*F39,4) -> 4335.1348 | P39: =IFERROR(IF(M39*F39<>0,ROUND(ROUND(M39,4)*ROUND(F39,4),4),""),"") -> 6299.2841 | Q39: 0.0045718565
A40: 5.2 | D40: COBERTURA | P40: =ROUND(SUM(P41:P45),2)+0.01 -> 228950.91 | Q40: 0.16616692
...

Sheet CPUs
C1: Composições Analíticas com Preço Unitário | E1: Bancos
C2: ESPAÇO PARA FEIRAS | E2: SINAPI - 08/2024 - RS EMOP - 08/2024 - RJ
A3: Composições
A5: 1.1.1 | B5: Código | C5: Banco | D5: Descrição | E5: Tipo | G5: Und | H5: Quant. | I5: Valor Unit | J5: Total
A6: Composição | B6: COMP_1 | C6: Próprio | D6: PLACA DE OBRA EM CHAPA DE AÇO GALVANIZADO | E6: SERP - SERVIÇOS PRELIMINARES | G6: m² | H6: 1 | I6: 511.79 | J6: 511.79
A7: Composição Auxiliar | B7: 94962 | C7: SINAPI | D7: CONCRETO MAGRO PARA LASTRO, TRAÇO 1:4,5:4,5 (EM MASSA SECA DE CIMENTO/ AREIA MÉDIA/ BRITA 1) - PREPARO MECÂNICO COM BETONEIRA 400 L. AF_05/2021 | E7: FUES - FUNDAÇÕES E ESTRUTURAS | G7: m³ | H7: 0.01 | I7: 420.91 | J7: 4.2
A8: Composição Auxiliar | B8: 88316 | C8: SINAPI | D8: SERVENTE COM ENCARGOS COMPLEMENTARES | E8: SEDI - SERVIÇOS DIVERSOS | G8: H | H8: 2 | I8: 23.08 | J8: 46.16
A9: Composição Auxiliar | B9: 88262 | C9: SINAPI | D9: CARPINTEIRO DE FORMAS COM ENCARGOS COMPLEMENTARES | E9: SEDI - SERVIÇOS DIVERSOS | G9: H | H9: 1 | I9: 27.55 | J9: 27.55
A10: Insumo | B10: 00004491 | C10: SINAPI | D10: PONTALETE *7,5 X 7,5* CM EM PINUS, MISTA OU EQUIVALENTE DA REGIAO - BRUTA | E10: Material | G10: M | H10: 4 | I10: 6.99 | J10: 27.96
A11: Insumo | B11: 00004813 | C11: SINAPI | D11: PLACA DE OBRA (PARA CONSTRUCAO CIVIL) EM CHAPA GALVANIZADA *N. 22*, ADESIVADA, DE *2,4 X 1,2* M (SEM POSTES PARA FIXACAO) | E11: Material | G11: m² | H11: 1 | I11: 400 | J11: 400
A12: Insumo | B12: 00004417 | C12: SINAPI | D12: SARRAFO NAO APARELHADO *2,5 X 7* CM, EM MACARANDUBA/MASSARANDUBA, ANGELIM, PEROBA-ROSA OU EQUIVALENTE DA REGIAO - BRUTA | E12: Material | G12: M | H12: 1 | I12: 4.32 | J12: 4.32
A13: Insumo | B13: 00005075 | C13: SINAPI | D13: PREGO DE ACO POLIDO COM CABECA 18 X 30 (2 3/4 X 10) | E13: Material | G13: KG | H13: 0.11 | I13: 14.59 | J13: 1.6
I14: MO | J14: 57.38
I15: TOTAL | J15: 511.79
A17: 1.1.3 | B17: Código | C17: Banco | D17: Descrição | E17: Tipo | G17: Und | H17: Quant. | I17: Valor Unit | J17: Total
A18: Composição | B18: COMP_2 | C18: Próprio | D18: INSTALAÇÃO PROVISÓRIA AGUA-RESERVAT.C/REDE ALIMENTAÇÃO | E18: INES - INSTALAÇÕES ESPECIAIS | G18: UN | H18: 1 | I18: 1627.81 | J18: 1627.81
A19: Composição Auxiliar | B19: 88267 | C19: SINAPI | D19: ENCANADOR OU BOMBEIRO HIDRÁULICO COM ENCARGOS COMPLEMENTARES | E19: SEDI - SERVIÇOS DIVERSOS | G19: H | H19: 8 | I19: 29.16 | J19: 233.28
A20: Composição Auxiliar | B20: 88248 | C20: SINAPI | D20: AUXILIAR DE ENCANADOR OU BOMBEIRO HIDRÁULICO COM ENCARGOS COMPLEMENTARES | E20: SEDI - SERVIÇOS DIVERSOS | G20: H | H20: 8 | I20: 23.75 | J20: 190
A21: Insumo | B21: 00009875 | C21: SINAPI | D21: TUBO PVC, SOLDAVEL, DE 50 MM, AGUA FRIA (NBR-5648) | E21: Material | G21: M | H21: 8 | I21: 16.17 | J21: 129.36
A22: Insumo | B22: 00011767 | C22: SINAPI | D22: TORNEIRA DE BOIA CONVENCIONAL PARA CAIXA D'AGUA, 2", AGUA FRIA, COM HASTE E TORNEIRA METALICOS E BALAO PLASTICO | E22: Material | G22: UN | H22: 1 | I22: 320.81 | J22: 320.81
A23: Insumo | B23: 00003540 | C23: SINAPI | D23: JOELHO PVC, SOLDAVEL, 90 GRAUS, 50 MM, COR MARROM, PARA AGUA FRIA PREDIAL | E23: Material | G23: UN | H23: 2 | I23: 5.23 | J23: 10.46
A24: Insumo | B24: 00034637 | C24: SINAPI | D24: CAIXA D'AGUA / RESERVATORIO EM POLIETILENO, 500 LITROS, COM TAMPA | E24: Material | G24: UN | H24: 1 | I24: 290.22 | J24: 290.22
A25: Insumo | B25: 00000112 | C25: SINAPI | D25: ADAPTADOR PVC SOLDAVEL CURTO COM BOLSA E ROSCA, 50 MM X1 1/2", PARA AGUA FRIA | E25: Material | G25: UN | H25: 2 | I25: 4.67 | J25: 9.34
A26: Insumo | B26: 00000082 | C26: SINAPI | D26: ADAPTADOR PVC, SOLDAVEL, LONGO, COM FLANGE LIVRE, 75 MM X 2 1/2", PARA CAIXA D'AGUA | E26: Material | G26: UN | H26: 2 | I26: 212.82 | J26: 425.64
A27: Insumo | B27: 00000119 | C27: SINAPI | D27: ADESIVO PLASTICO PARA PVC, BISNAGA COM 75 GR | E27: Material | G27: UN | H27: 2 | I27: 9.35 | J27: 18.7
I28: MO | J28: 340.72
I29: TOTAL | J29: 1627.81
A31: 3.2.9 | B31: Código | C31: Banco | D31: Descrição | E31: Tipo | G31: Und | H31: Quant. | I31: Valor Unit | J31: Total
A32: Composição | B32: COMP_3 | C32: Próprio | D32: CONCRETAGEM DE BLOCOS DE COROAMENTO E VIGAS BALDRAMES, FCK 25 MPA, COM USO DE BOMBA  LANÇAMENTO, ADENSAMENTO E ACABAMENTO | E32: FUES - FUNDAÇÕES E ESTRUTURAS | G32: m³ | H32: 1 | I32: 673.54 | J32: 673.54
A33: Composição Auxiliar | B33: 90587 | C33: SINAPI | D33: VIBRADOR DE IMERSÃO, DIÂMETRO DE PONTEIRA 45MM, MOTOR ELÉTRICO TRIFÁSICO POTÊNCIA DE 2 CV - CHI DIURNO. AF_06/2015 | E33: CHOR - CUSTOS HORÁRIOS DE MÁQUINAS E EQUIPAMENTOS | G33: CHI | H33: 0.093 | I33: 0.49 | J33: 0.04
A34: Composição Auxiliar | B34: 90586 | C34: SINAPI | D34: VIBRADOR DE IMERSÃO, DIÂMETRO DE PONTEIRA 45MM, MOTOR ELÉTRICO TRIFÁSICO POTÊNCIA DE 2 CV - CHP DIURNO. AF_06/2015 | E34: CHOR - CUSTOS HORÁRIOS DE MÁQUINAS E EQUIPAMENTOS | G34: CHP | H34: 0.088 | I34: 1.25 | J34: 0.11
A35: Composição Auxiliar | B35: 88316 | C35: SINAPI | D35: SERVENTE COM ENCARGOS COMPLEMENTARES | E35: SEDI - SERVIÇOS DIVERSOS | G35: H | H35: 0.544 | I35: 23.08 | J35: 12.55
A36: Composição Auxiliar | B36: 88309 | C36: SINAPI | D36: PEDREIRO COM ENCARGOS COMPLEMENTARES | E36: SEDI - SERVIÇOS DIVERSOS | G36: H | H36: 0.363 | I36: 27.93 | J36: 10.13
A37: Insumo | B37: 00001527 | C37: SINAPI | D37: CONCRETO USINADO BOMBEAVEL, CLASSE DE RESISTENCIA C25, BRITA 0 E 1, SLUMP = 100 +/- 20 MM, COM BOMBEAMENTO (DISPONIBILIZACAO DE BOMBA), SEM O LANCAMENTO (NBR 8953) | E37: Material | G37: M³ | H37: 1.15 | I37: 565.84 | J37: 650.71
I38: MO | J38: 17.44
I39: TOTAL | J39: 673.54
A41: 4.1.1 | B41: Código | C41: Banco | D41: Descrição | E41: Tipo | G41: Und | H41: Quant. | I41: Valor Unit | J41: Total
A42: Composição | B42: COMP_4 | C42: Próprio | D42: ESTRUTURA METÁLICA DE COBERTURA | E42: COBE - COBERTURA | G42: KG | H42: 1 | I42: 16.82 | J42: 16.82
A43: Composição Auxiliar | B43: 100716 | C43: SINAPI | D43: JATEAMENTO ABRASIVO COM GRANALHA DE AÇO EM PERFIL METÁLICO EM FÁBRICA. AF_01/2020 | E43: PINT - PINTURAS | G43: m² | H43: 0.023 | I43: 27.77 | J43: 0.63
A44: Composição Auxiliar | B44: 93288 | C44: SINAPI | D44: GUINDASTE HIDRÁULICO AUTOPROPELIDO, COM LANÇA TELESCÓPICA 40 M, CAPACIDADE MÁXIMA 60 T, POTÊNCIA 260 KW - CHI DIURNO. AF_03/2016 | E44: CHOR - CUSTOS HORÁRIOS DE MÁQUINAS E EQUIPAMENTOS | G44: CHI | H44: 0.001 | I44: 198.49 | J44: 0.19
...

Sheet CRONOGRAMA
B1: =[1]ORÇAMENTO!$D$1 -> Obra
B2: ='Orçamento Sintético'!D2 -> ESPAÇO PARA FEIRAS E FOOD TRUCKS
A5: =[1]ORÇAMENTO!A5 -> Item | B5: =[1]ORÇAMENTO!D5 -> Descrição | C5: Valor | D5: MÊS 01 | F5: MÊS 02 | H5: MÊS 03
D6: % | E6: R$ | F6: % | G6: R$ | H6: % | I6: R$
A7: ='Orçamento Sintético'!A6 -> 1 | B7: ='Orçamento Sintético'!D6 -> SERVIÇOS INICIAIS | C7: ='Orçamento Sintético'!P6 -> 7439.57 | D7: 0.6666 | E7: =C7*D7 -> 4959.2174 | F7: 0.1667 | G7: =C7*F7 -> 1240.1763 | H7: 0.1667 | I7: =C7*H7 -> 1240.1763
A8: ='Orçamento Sintético'!A11 -> 2 | B8: ='Orçamento Sintético'!D11 -> ADMINISTRAÇÃO DA OBRA | C8: ='Orçamento Sintético'!P11 -> 61621.33 | D8: 0.3333 | E8: =C8*D8 -> 20538.389 | F8: 0.3333 | G8: =F8*C8 -> 20538.389 | H8: 0.3334 | I8: =H8*C8 -> 20544.551
A9: ='Orçamento Sintético'!A14 -> 3 | B9: ='Orçamento Sintético'!D14 -> INFRAESTRUTURA | C9: ='Orçamento Sintético'!P14 -> 146579.12 | D9: 1 | E9: =C9 -> 146579.12
A10: ='Orçamento Sintético'!A28 -> 4 | B10: ='Orçamento Sintético'!D28 -> SUPRAESTRUTURA | C10: ='Orçamento Sintético'!P28 -> 239298.54 | F10: 0.6 | G10: =F10*C10 -> 143579.12 | H10: 0.4 | I10: =H10*C10 -> 95719.416
A11: ='Orçamento Sintético'!A33 -> 5 | B11: ='Orçamento Sintético'!D33 -> ARQUITETÔNICO | C11: ='Orçamento Sintético'!P33 -> 696485.02 | D11: 0.1 | E11: =D11*C11 -> 69648.502 | F11: 0.5 | G11: =F11*C11 -> 348242.51 | H11: 0.4 | I11: =H11*C11 -> 278594.01
A12: ='Orçamento Sintético'!A52 -> 6 | B12: ='Orçamento Sintético'!D52 -> INSTALAÇÕES ELÉTRICAS | C12: ='Orçamento Sintético'!P52 -> 97125.63 | D12: 0.15 | E12: =D12*C12 -> 14568.845 | F12: 0.6 | G12: =F12*C12 -> 58275.378 | H12: 0.25 | I12: =H12*C12 -> 24281.408
A13: ='Orçamento Sintético'!A86 -> 7 | B13: ='Orçamento Sintético'!D86 -> INSTALAÇÕES HIDROSSANITÁRIAS | C13: ='Orçamento Sintético'!P86 -> 123697.19 | D13: 0.15 | E13: =D13*C13 -> 18554.578 | F13: 0.6 | G13: =F13*C13 -> 74218.314 | H13: 0.25 | I13: =H13*C13 -> 30924.298
A14: ='Orçamento Sintético'!A133 -> 8 | B14: ='Orçamento Sintético'!D133 -> PPCI | C14: ='Orçamento Sintético'!P133 -> 5588.68 | H14: 1 | I14: =H14*C14 -> 5588.68
A15: VALOR TOTAL MENSAL | C15: ='Orçamento Sintético'!P149 -> 1377835.1 | D15: =E15/C15 -> 0.19947863 | E15: =TRUNC(SUM(E7:E14),2) -> 274848.65 | F15: =G15/C15 -> 0.46891961 | G15: =ROUND(SUM(G7:G14),2) -> 646093.89 | H15: =I15/C15 -> 0.33160176 | I15: =ROUND(SUM(I7:I14),2) -> 456892.54
A16: VALOR TOTAL ACUMULADO | C16: ='Orçamento Sintético'!P149 -> 1377835.1 | D16: =D15 -> 0.19947863 | E16: =E15 -> 274848.65 | F16: =G16/C16 -> 0.66839824 | G16: =G15+E16 -> 920942.54 | H16: =I16/C16 -> 1 | I16: =I15+G16 -> 1377835.1
B18: ='Orçamento Sintético'!D151 -> Montenegro, 23 de outubro de 2024.
B20: =[1]ORÇAMENTO!$A$21 -> _______________________________________________________________ Valéria Wollmann Arq. e Urb. - CAU A195685-0 Diretora de Acompanhamento de Ações de Governo
