Workbook
Name F_10: #REF!
Name F_10: #REF!
Name F_105: #REF!
Name F_105: #REF!
Name F_107: #REF!
Name F_107: #REF!
Name F_11: #REF!
Name F_11: #REF!
Name F_112: #REF!
Name F_112: #REF!
Name F_113: #REF!
Name F_113: #REF!
Name F_117: #REF!
Name F_117: #REF!
Name F_12: #REF!
Name F_12: #REF!
Name F_120: #REF!
Name F_120: #REF!
Name F_122: #REF!
Name F_122: #REF!
Name F_127: #REF!
Name F_127: #REF!
Name F_13: #REF!
Name F_13: #REF!
Name F_14: #REF!
Name F_14: #REF!
Name F_140: #REF!
Name F_140: #REF!
Name F_15: #REF!
Name F_15: #REF!
Name F_150: #REF!
Name F_150: #REF!
Name F_16: #REF!
Name F_16: #REF!
Name F_160: #REF!
Name F_160: #REF!
Name F_17: #REF!
Name F_17: #REF!
Name F_185: #REF!
Name F_185: #REF!
Name F_2: #REF!
Name F_2: #REF!
Name F_205: #REF!
Name F_205: #REF!
Name F_215: #REF!
Name F_215: #REF!
Name F_245: #REF!
Name F_245: #REF!
Name F_250: #REF!
Name F_250: #REF!
Name F_255: #REF!
Name F_255: #REF!
Name F_260: #REF!
Name F_260: #REF!
Name F_270: #REF!
Name F_270: #REF!
Name F_285: #REF!
Name F_285: #REF!
Name F_29: #REF!
Name F_29: #REF!

Sheet Identificação
A1: IDENTIFICAÇÃO
A2: Modalidade* | B2: Concorrência Lei 14.133/21 Eletrônica | D2: N° * | F2: Ano * | G2: 2025
A3: Descrição do Objeto | B3: Construção da nova EMEI Tio Riba - itens não financiáveis
A4: Órgão | B4: Prefeitura Municipal de Montenegro | F4: CNPJ *
A5: Tipo de Objeto* | B5: Obras e Serviços de Engenharia | C5: N° CENTRAL DE COMPRAS
A6: Preço Total Estimado | B6: ='PLANILHA NÃO FINANCIAVEIS'!C6 -> 2799532.3
A7: Preço Total Proposto | B7: =#REF! -> #REF!
A8: Qtd. Itens Orçamento | B8: =COUNT('PLANILHA NÃO FINANCIAVEIS'!B12:B39710) -> 277
A9: Atenção! Para incluir mais de 50 lotes, selecione as células A62 a G62 e arraste as fórmulas para baixo, de acordo com o número de lotes necessário.
A10: *Campos de preenchimento obrigatório | C10: **Campos de preenchimento obrigatório para licitação composta por lotes
A11: Nº do lote** | B11: Descrição do Lote** | C11: Estimativa | G11: Proposta
C12: Valor do lote (R$) | G12: Valor do lote (R$)
A13: 1 | B13: Construção da nova EMEI Tio Riba - itens não financiáveis | C13: =SUMIF('PLANILHA NÃO FINANCIAVEIS'!$A$12:$A$39712,Identificação!$A13,'PLANILHA NÃO FINANCIAVEIS'!$K$12:$K$39712) -> 2808991.2 | G13: =SUMIF(#REF!,Identificação!$A13,#REF!) -> #REF!
C14: =SUMIF('PLANILHA NÃO FINANCIAVEIS'!$A$12:$A$39712,Identificação!$A14,'PLANILHA NÃO FINANCIAVEIS'!$K$12:$K$39712) -> 0 | G14: =SUMIF(#REF!,Identificação!$A14,#REF!) -> #REF!
C15: =SUMIF('PLANILHA NÃO FINANCIAVEIS'!$A$12:$A$39712,Identificação!$A15,'PLANILHA NÃO FINANCIAVEIS'!$K$12:$K$39712) -> 0 | G15: =SUMIF(#REF!,Identificação!$A15,#REF!) -> #REF!
C16: =SUMIF('PLANILHA NÃO FINANCIAVEIS'!$A$12:$A$39712,Identificação!$A16,'PLANILHA NÃO FINANCIAVEIS'!$K$12:$K$39712) -> 0 | G16: =SUMIF(#REF!,Identificação!$A16,#REF!) -> #REF!
C17: =SUMIF('PLANILHA NÃO FINANCIAVEIS'!$A$12:$A$39712,Identificação!$A17,'PLANILHA NÃO FINANCIAVEIS'!$K$12:$K$39712) -> 0 | G17: =SUMIF(#REF!,Identificação!$A17,#REF!) -> #REF!
C18: =SUMIF('PLANILHA NÃO FINANCIAVEIS'!$A$12:$A$39712,Identificação!$A18,'PLANILHA NÃO FINANCIAVEIS'!$K$12:$K$39712) -> 0 | G18: =SUMIF(#REF!,Identificação!$A18,#REF!) -> #REF!
C19: =SUMIF('PLANILHA NÃO FINANCIAVEIS'!$A$12:$A$39712,Identificação!$A19,'PLANILHA NÃO FINANCIAVEIS'!$K$12:$K$39712) -> 0 | G19: =SUMIF(#REF!,Identificação!$A19,#REF!) -> #REF!
C20: =SUMIF('PLANILHA NÃO FINANCIAVEIS'!$A$12:$A$39712,Identificação!$A20,'PLANILHA NÃO FINANCIAVEIS'!$K$12:$K$39712) -> 0 | G20: =SUMIF(#REF!,Identificação!$A20,#REF!) -> #REF!
C21: =SUMIF('PLANILHA NÃO FINANCIAVEIS'!$A$12:$A$39712,Identificação!$A21,'PLANILHA NÃO FINANCIAVEIS'!$K$12:$K$39712) -> 0 | G21: =SUMIF(#REF!,Identificação!$A21,#REF!) -> #REF!
C22: =SUMIF('PLANILHA NÃO FINANCIAVEIS'!$A$12:$A$39712,Identificação!$A22,'PLANILHA NÃO FINANCIAVEIS'!$K$12:$K$39712) -> 0 | G22: =SUMIF(#REF!,Identificação!$A22,#REF!) -> #REF!
C23: =SUMIF('PLANILHA NÃO FINANCIAVEIS'!$A$12:$A$39712,Identificação!$A23,'PLANILHA NÃO FINANCIAVEIS'!$K$12:$K$39712) -> 0 | G23: =SUMIF(#REF!,Identificação!$A23,#REF!) -> #REF!
C24: =SUMIF('PLANILHA NÃO FINANCIAVEIS'!$A$12:$A$39712,Identificação!$A24,'PLANILHA NÃO FINANCIAVEIS'!$K$12:$K$39712) -> 0 | G24: =SUMIF(#REF!,Identificação!$A24,#REF!) -> #REF!
C25: =SUMIF('PLANILHA NÃO FINANCIAVEIS'!$A$12:$A$39712,Identificação!$A25,'PLANILHA NÃO FINANCIAVEIS'!$K$12:$K$39712) -> 0 | G25: =SUMIF(#REF!,Identificação!$A25,#REF!) -> #REF!
... C62: =SUMIF('PLANILHA NÃO FINANCIAVEIS'!$A$12:$A$39712,Identificação!$A62,'PLANILHA NÃO FINANCIAVEIS'!$K$12:$K$39712) -> 0 | G62: =SUMIF(#REF!,Identificação!$A62,#REF!) -> #REF!

Sheet PLANILHA ITENS FINANCIÁVEIS
A1: ORÇAMENTO
A2: Modalidade | C2: =IF([1]Identificação!B2=0,"",[1]Identificação!B2) | H2: N° | I2: =IF([1]Identificação!E2=0,"",[1]Identificação!E2) | J2: Ano | K2: =IF([1]Identificação!G2=0,"",[1]Identificação!G2)
A3: Descrição do Objeto | C3: =IF([1]Identificação!B3=0,"",[1]Identificação!B3) -> Construção da nova EMEI Tio Riba - itens financiáveis
A4: Órgão | C4: =IF([1]Identificação!B4=0,"",[1]Identificação!B4) -> Prefeitura Municipal de Montenegro | J4: CNPJ | K4: =IF([1]Identificação!G4=0,"",[1]Identificação!G4)
A5: Tipo de Objeto | C5: =IF([1]Identificação!B5=0,"",[1]Identificação!B5)
A6: Preço T. Estimado | C6: =SUMIFS(K12:K39903,B12:B39903,">0",K12:K39903,"<>0") -> 7571926.3
A8: Atenção! Para incluir mais de 100 linhas de itens, selecione as células A113 a R113 e arraste as fórmulas para baixo, de acordo com o número de itens necessário.
A9: *Preenchimento obrigatório | F9: **Obrigatório só para Obras e Serviços de Engenharia | H9: ***Obrigatório só para licitação composta por Lotes
A10: Nº do Lote*** | B10: N° Ordem | C10: Nº Item* | D10: Fonte de Referência** | E10: Código de Referência** | F10: Data de Referência** | G10: Descrição do item* | H10: Estimativa | N10: Família | P10: Subfamília | R10: Tipo de Orçamento
H11: Qtd.* | I11: Unid.* | J11: Preço unitário (R$)* | K11: Preço Total (R$) | L11: % BDI** | M11: % Encargos Sociais** | N11: Código | O11: Descrição | P11: Código | Q11: Descrição
A12: 1 | B12: =IF(AND(G12<>"",H12>0,I12<>"",J12<>0,K12<>0),COUNT($B$11:B11)+1,"") | C12: 1 | F12: 45658 | G12: SERVIÇOS PRELIMINARES | K12: =IFERROR(IF(H12*J12<>0,ROUND(ROUND(H12,4)*ROUND(J12,4),2),""),"") | O12: =IF(N12="","", INDIRECT("base!"&ADDRESS(MATCH(N12,#REF!:#REF!,0)+1,4,4))) | Q12: =IF(P12="","", INDIRECT("base!"&ADDRESS(MATCH(CONCATENATE(N12,"|",P12),#REF!:#REF!,0)+1,6,4))) | R12: Mão-de-obra e material
A13: 1 | B13: =IF(AND(G13<>"",H13>0,I13<>"",J13<>0,K13<>0),COUNT($B$11:B12)+1,"") -> 1 | C13: 1.1 | D13: SINAPI | E13: 103689 | F13: 45658 | G13: FORNECIMENTO E INSTALAÇÃO DE PLACA DE OBRA COM CHAPA GALVANIZADA E ESTRUTURA DE MADEIRA. AF_03/2022_PS | H13: 6.48 | I13: M2 | J13: =ROUND(S13,2) -> 587.33 | K13: =IFERROR(IF(H13*J13<>0,ROUND(ROUND(H13,4)*ROUND(J13,4),2),""),"") -> 3805.9 | L13: 0.2849 | M13: 0.9022 | O13: =IF(N13="","", INDIRECT("base!"&ADDRESS(MATCH(N13,#REF!:#REF!,0)+1,4,4))) | Q13: =IF(P13="","", INDIRECT("base!"&ADDRESS(MATCH(CONCATENATE(N13,"|",P13),#REF!:#REF!,0)+1,6,4))) | R13: Mão-de-obra e material | S13: 587.32779
A14: 1 | B14: =IF(AND(G14<>"",H14>0,I14<>"",J14<>0,K14<>0),COUNT($B$11:B13)+1,"") -> 2 | C14: 1.2 | D14: SINAPI | E14: 98459 | F14: 45658 | G14: TAPUME COM TELHA METÁLICA. AF_03/2024 | H14: 501.6 | I14: M2 | J14: =ROUND(S14,2) -> 101.98 | K14: =IFERROR(IF(H14*J14<>0,ROUND(ROUND(H14,4)*ROUND(J14,4),2),""),"") -> 51153.17 | L14: 0.2849 | M14: 0.9022 | O14: =IF(N14="","", INDIRECT("base!"&ADDRESS(MATCH(N14,#REF!:#REF!,0)+1,4,4))) | Q14: =IF(P14="","", INDIRECT("base!"&ADDRESS(MATCH(CONCATENATE(N14,"|",P14),#REF!:#REF!,0)+1,6,4))) | R14: Mão-de-obra e material | S14: 101.98251
A15: 1 | B15: =IF(AND(G15<>"",H15>0,I15<>"",J15<>0,K15<>0),COUNT($B$11:B14)+1,"") -> 3 | C15: 1.3 | D15: SINAPI | E15: 101509 | F15: 45658 | G15: ENTRADA DE ENERGIA ELÉTRICA, AÉREA, TRIFÁSICA, COM CAIXA DE EMBUTIR, CABO DE 10 MM2 E DISJUNTOR DIN 50A (NÃO INCLUSO O POSTE DE CONCRETO). AF_07/2020 | H15: 1 | I15: UN | J15: =ROUND(S15,2) -> 2444.01 | K15: =IFERROR(IF(H15*J15<>0,ROUND(ROUND(H15,4)*ROUND(J15,4),2),""),"") -> 2444.01 | L15: 0.2849 | M15: 0.9022 | O15: =IF(N15="","", INDIRECT("base!"&ADDRESS(MATCH(N15,#REF!:#REF!,0)+1,4,4))) | Q15: =IF(P15="","", INDIRECT("base!"&ADDRESS(MATCH(CONCATENATE(N15,"|",P15),#REF!:#REF!,0)+1,6,4))) | R15: Mão-de-obra e material | S15: 2444.0083
A16: 1 | B16: =IF(AND(G16<>"",H16>0,I16<>"",J16<>0,K16<>0),COUNT($B$11:B15)+1,"") -> 4 | C16: 1.4 | D16: Composição | E16: FNDE 03 | F16: 45658 | G16: LIGAÇÃO PROVISÓRIA DE ÁGUA E ESGOTO | H16: 1 | I16: UN | J16: =ROUND(S16,2) -> 3621.67 | K16: =IFERROR(IF(H16*J16<>0,ROUND(ROUND(H16,4)*ROUND(J16,4),2),""),"") -> 3621.67 | L16: 0.2849 | M16: 0.9022 | O16: =IF(N16="","", INDIRECT("base!"&ADDRESS(MATCH(N16,#REF!:#REF!,0)+1,4,4))) | Q16: =IF(P16="","", INDIRECT("base!"&ADDRESS(MATCH(CONCATENATE(N16,"|",P16),#REF!:#REF!,0)+1,6,4))) | R16: Mão-de-obra e material | S16: 3621.6705
A17: 1 | B17: =IF(AND(G17<>"",H17>0,I17<>"",J17<>0,K17<>0),COUNT($B$11:B16)+1,"") -> 5 | C17: 1.5 | D17: SINAPI | E17: 99059 | F17: 45658 | G17: LOCAÇÃO CONVENCIONAL DE OBRA, UTILIZANDO GABARITO DE TÁBUAS CORRIDAS PONTALETADAS A CADA 2,00M - 2 UTILIZAÇÕES. AF_03/2024 | H17: 254 | I17: M | J17: =ROUND(S17,2) -> 72.92 | K17: =IFERROR(IF(H17*J17<>0,ROUND(ROUND(H17,4)*ROUND(J17,4),2),""),"") -> 18521.68 | L17: 0.2849 | M17: 0.9022 | O17: =IF(N17="","", INDIRECT("base!"&ADDRESS(MATCH(N17,#REF!:#REF!,0)+1,4,4))) | Q17: =IF(P17="","", INDIRECT("base!"&ADDRESS(MATCH(CONCATENATE(N17,"|",P17),#REF!:#REF!,0)+1,6,4))) | R17: Mão-de-obra e material | S17: 72.918075
A18: 1 | B18: =IF(AND(G18<>"",H18>0,I18<>"",J18<>0,K18<>0),COUNT($B$11:B17)+1,"") -> 6 | C18: 1.6 | D18: Composição | E18: FNDE 244 | F18: 45658 | G18: ADMINISTRAÇÃO LOCAL TIPO 1 | H18: 1 | I18: UN | J18: =ROUND(S18,2) -> 625076.87 | K18: =IFERROR(IF(H18*J18<>0,ROUND(ROUND(H18,4)*ROUND(J18,4),2),""),"") -> 625076.87 | L18: 0.2849 | M18: 0.9022 | O18: =IF(N18="","", INDIRECT("base!"&ADDRESS(MATCH(N18,#REF!:#REF!,0)+1,4,4))) | Q18: =IF(P18="","", INDIRECT("base!"&ADDRESS(MATCH(CONCATENATE(N18,"|",P18),#REF!:#REF!,0)+1,6,4))) | R18: Mão-de-obra e material | S18: 625076.87
A19: 1 | B19: =IF(AND(G19<>"",H19>0,I19<>"",J19<>0,K19<>0),COUNT($B$11:B18)+1,"") -> 7 | C19: 1.7 | D19: Composição | E19: FNDE 231 | F19: 45658 | G19: LOCACAO DE CONTAINER 2,30 X 6,00 M, ALT. 2,50 M, COM 1 SANITARIO, PARA ESCRITORIO, COMPLETO, SEM DIVISORIAS INTERNAS (NAO INCLUI MOBILIZACAO/DESMOBILIZACAO) | H19: 6 | I19: MES | J19: =ROUND(S19,2) -> 1510.26 | K19: =IFERROR(IF(H19*J19<>0,ROUND(ROUND(H19,4)*ROUND(J19,4),2),""),"") -> 9061.56 | L19: 0.2849 | M19: 0.9022 | O19: =IF(N19="","", INDIRECT("base!"&ADDRESS(MATCH(N19,#REF!:#REF!,0)+1,4,4))) | Q19: =IF(P19="","", INDIRECT("base!"&ADDRESS(MATCH(CONCATENATE(N19,"|",P19),#REF!:#REF!,0)+1,6,4))) | R19: Mão-de-obra e material | S19: 1510.2586
A20: 1 | B20: =IF(AND(G20<>"",H20>0,I20<>"",J20<>0,K20<>0),COUNT($B$11:B19)+1,"") -> 8 | C20: 1.8 | D20: Composição | E20: FNDE 230 | F20: 45658 | G20: LOCACAO DE CONTAINER 2,30 X 6,00 M, ALT. 2,50 M, PARA ESCRITORIO, SEM DIVISORIAS INTERNAS E SEM SANITARIO (NAO INCLUI MOBILIZACAO/DESMOBILIZACAO) | H20: 6 | I20: MES | J20: =ROUND(S20,2) -> 1229.19 | K20: =IFERROR(IF(H20*J20<>0,ROUND(ROUND(H20,4)*ROUND(J20,4),2),""),"") -> 7375.14 | L20: 0.2849 | M20: 0.9022 | O20: =IF(N20="","", INDIRECT("base!"&ADDRESS(MATCH(N20,#REF!:#REF!,0)+1,4,4))) | Q20: =IF(P20="","", INDIRECT("base!"&ADDRESS(MATCH(CONCATENATE(N20,"|",P20),#REF!:#REF!,0)+1,6,4))) | R20: Mão-de-obra e material | S20: 1229.1867
A21: 1 | B21: =IF(AND(G21<>"",H21>0,I21<>"",J21<>0,K21<>0),COUNT($B$11:B20)+1,"") -> 9 | C21: 1.9 | D21: Composição | E21: FNDE 232 | F21: 45658 | G21: LOCACAO DE CONTAINER 2,30 X 6,00 M, ALT. 2,50 M, PARA SANITARIO, COM 4 BACIAS, 8 CHUVEIROS,1 LAVATORIO E 1 MICTORIO (NAO INCLUI MOBILIZACAO/DESMOBILIZACAO) | H21: 6 | I21: MES | J21: =ROUND(S21,2) -> 1831.48 | K21: =IFERROR(IF(H21*J21<>0,ROUND(ROUND(H21,4)*ROUND(J21,4),2),""),"") -> 10988.88 | L21: 0.2849 | M21: 0.9022 | O21: =IF(N21="","", INDIRECT("base!"&ADDRESS(MATCH(N21,#REF!:#REF!,0)+1,4,4))) | Q21: =IF(P21="","", INDIRECT("base!"&ADDRESS(MATCH(CONCATENATE(N21,"|",P21),#REF!:#REF!,0)+1,6,4))) | R21: Mão-de-obra e material | S21: 1831.4836
A22: 1 | B22: =IF(AND(G22<>"",H22>0,I22<>"",J22<>0,K22<>0),COUNT($B$11:B21)+1,"") | C22: 2 | G22: FUNDAÇÃO - RADIER | K22: =IFERROR(IF(H22*J22<>0,ROUND(ROUND(H22,4)*ROUND(J22,4),2),""),"") | M22: 0.9022 | O22: =IF(N22="","", INDIRECT("base!"&ADDRESS(MATCH(N22,#REF!:#REF!,0)+1,4,4))) | Q22: =IF(P22="","", INDIRECT("base!"&ADDRESS(MATCH(CONCATENATE(N22,"|",P22),#REF!:#REF!,0)+1,6,4))) | R22: Mão-de-obra e material
A23: 1 | B23: =IF(AND(G23<>"",H23>0,I23<>"",J23<>0,K23<>0),COUNT($B$11:B22)+1,"") -> 10 | C23: 2.1 | D23: SINAPI | E23: 97083 | F23: 45658 | G23: COMPACTAÇÃO MECÂNICA DE SOLO PARA EXECUÇÃO DE RADIER, PISO DE CONCRETO OU LAJE SOBRE SOLO, COM COMPACTADOR DE SOLOS A PERCUSSÃO. AF_09/2021 | H23: 1527.45 | I23: M2 | J23: =ROUND(S23,2) -> 4.15 | K23: =IFERROR(IF(H23*J23<>0,ROUND(ROUND(H23,4)*ROUND(J23,4),2),""),"") -> 6338.92 | L23: 0.2849 | M23: 0.9022 | O23: =IF(N23="","", INDIRECT("base!"&ADDRESS(MATCH(N23,#REF!:#REF!,0)+1,4,4))) | Q23: =IF(P23="","", INDIRECT("base!"&ADDRESS(MATCH(CONCATENATE(N23,"|",P23),#REF!:#REF!,0)+1,6,4))) | R23: Mão-de-obra e material | S23: 4.150227
A24: 1 | B24: =IF(AND(G24<>"",H24>0,I24<>"",J24<>0,K24<>0),COUNT($B$11:B23)+1,"") -> 11 | C24: 2.2 | D24: SINAPI | E24: 96624 | F24: 45658 | G24: LASTRO COM MATERIAL GRANULAR (PEDRA BRITADA N.2), APLICADO EM PISOS OU LAJES SOBRE SOLO, ESPESSURA DE *10 CM*. AF_01/2024 | H24: 152.75 | I24: M3 | J24: =ROUND(S24,2) -> 200.92 | K24: =IFERROR(IF(H24*J24<>0,ROUND(ROUND(H24,4)*ROUND(J24,4),2),""),"") -> 30690.53 | L24: 0.2849 | M24: 0.9022 | O24: =IF(N24="","", INDIRECT("base!"&ADDRESS(MATCH(N24,#REF!:#REF!,0)+1,4,4))) | Q24: =IF(P24="","", INDIRECT("base!"&ADDRESS(MATCH(CONCATENATE(N24,"|",P24),#REF!:#REF!,0)+1,6,4))) | R24: Mão-de-obra e material | S24: 200.91981
A25: 1 | B25: =IF(AND(G25<>"",H25>0,I25<>"",J25<>0,K25<>0),COUNT($B$11:B24)+1,"") -> 12 | C25: 2.3 | D25: SINAPI | E25: 97087 | F25: 45658 | G25: CAMADA SEPARADORA PARA EXECUÇÃO DE RADIER, PISO DE CONCRETO OU LAJE SOBRE SOLO, EM LONA PLÁSTICA. AF_09/2021 | H25: 1527.45 | I25: M2 | J25: =ROUND(S25,2) -> 4.24 | K25: =IFERROR(IF(H25*J25<>0,ROUND(ROUND(H25,4)*ROUND(J25,4),2),""),"") -> 6476.39 | L25: 0.2849 | M25: 0.9022 | O25: =IF(N25="","", INDIRECT("base!"&ADDRESS(MATCH(N25,#REF!:#REF!,0)+1,4,4))) | Q25: =IF(P25="","", INDIRECT("base!"&ADDRESS(MATCH(CONCATENATE(N25,"|",P25),#REF!:#REF!,0)+1,6,4))) | R25: Mão-de-obra e material | S25: 4.24017
A26: 1 | B26: =IF(AND(G26<>"",H26>0,I26<>"",J26<>0,K26<>0),COUNT($B$11:B25)+1,"") -> 13 | C26: 2.4 | D26: SINAPI | E26: 95241 | F26: 45658 | G26: LASTRO DE CONCRETO MAGRO, APLICADO EM PISOS, LAJES SOBRE SOLO OU RADIERS, ESPESSURA DE 5 CM. AF_01/2024 | H26: 1527.45 | I26: M2 | J26: =ROUND(S26,2) -> 46.64 | K26: =IFERROR(IF(H26*J26<>0,ROUND(ROUND(H26,4)*ROUND(J26,4),2),""),"") -> 71240.27 | L26: 0.2849 | M26: 0.9022 | O26: =IF(N26="","", INDIRECT("base!"&ADDRESS(MATCH(N26,#REF!:#REF!,0)+1,4,4))) | Q26: =IF(P26="","", INDIRECT("base!"&ADDRESS(MATCH(CONCATENATE(N26,"|",P26),#REF!:#REF!,0)+1,6,4))) | R26: Mão-de-obra e material | S26: 46.64187
A27: 1 | B27: =IF(AND(G27<>"",H27>0,I27<>"",J27<>0,K27<>0),COUNT($B$11:B26)+1,"") -> 14 | C27: 2.5 | D27: SINAPI | E27: 97086 | F27: 45658 | G27: FABRICAÇÃO, MONTAGEM E DESMONTAGEM DE FORMA PARA RADIER, PISO DE CONCRETO OU LAJE SOBRE SOLO, EM MADEIRA SERRADA, 4 UTILIZAÇÕES. AF_09/2021 | H27: 115.4 | I27: M2 | J27: =ROUND(S27,2) -> 150.27 | K27: =IFERROR(IF(H27*J27<>0,ROUND(ROUND(H27,4)*ROUND(J27,4),2),""),"") -> 17341.16 | L27: 0.2849 | M27: 0.9022 | O27: =IF(N27="","", INDIRECT("base!"&ADDRESS(MATCH(N27,#REF!:#REF!,0)+1,4,4))) | Q27: =IF(P27="","", INDIRECT("base!"&ADDRESS(MATCH(CONCATENATE(N27,"|",P27),#REF!:#REF!,0)+1,6,4))) | R27: Mão-de-obra e material | S27: 150.26906
A28: 1 | B28: =IF(AND(G28<>"",H28>0,I28<>"",J28<>0,K28<>0),COUNT($B$11:B27)+1,"") -> 15 | C28: 2.6 | D28: SINAPI | E28: 97088 | F28: 45658 | G28: ARMAÇÃO PARA EXECUÇÃO DE RADIER, PISO DE CONCRETO OU LAJE SOBRE SOLO, COM USO DE TELA Q-92. AF_09/2021 | H28: 5554.11 | I28: KG | J28: =ROUND(S28,2) -> 23.18 | K28: =IFERROR(IF(H28*J28<>0,ROUND(ROUND(H28,4)*ROUND(J28,4),2),""),"") -> 128744.27 | L28: 0.2849 | M28: 0.9022 | O28: =IF(N28="","", INDIRECT("base!"&ADDRESS(MATCH(N28,#REF!:#REF!,0)+1,4,4))) | Q28: =IF(P28="","", INDIRECT("base!"&ADDRESS(MATCH(CONCATENATE(N28,"|",P28),#REF!:#REF!,0)+1,6,4))) | R28: Mão-de-obra e material | S28: 23.179596
A29: 1 | B29: =IF(AND(G29<>"",H29>0,I29<>"",J29<>0,K29<>0),COUNT($B$11:B28)+1,"") -> 16 | C29: 2.7 | D29: SINAPI | E29: 92877 | F29: 45658 | G29: CORTE E DOBRA DE AÇO CA-25, DIÂMETRO DE 10,0 MM. AF_06/2022 | H29: 696.21 | I29: KG | J29: =ROUND(S29,2) -> 13.97 | K29: =IFERROR(IF(H29*J29<>0,ROUND(ROUND(H29,4)*ROUND(J29,4),2),""),"") -> 9726.05 | L29: 0.2849 | M29: 0.9022 | O29: =IF(N29="","", INDIRECT("base!"&ADDRESS(MATCH(N29,#REF!:#REF!,0)+1,4,4))) | Q29: =IF(P29="","", INDIRECT("base!"&ADDRESS(MATCH(CONCATENATE(N29,"|",P29),#REF!:#REF!,0)+1,6,4))) | R29: Mão-de-obra e material | S29: 13.966863
A30: 1 | B30: =IF(AND(G30<>"",H30>0,I30<>"",J30<>0,K30<>0),COUNT($B$11:B29)+1,"") -> 17 | C30: 2.8 | D30: SINAPI | E30: 92875 | F30: 45658 | G30: CORTE E DOBRA DE AÇO CA-25, DIÂMETRO DE 6,3 MM. AF_06/2022 | H30: 269.75 | I30: KG | J30: =ROUND(S30,2) -> 13.17 | K30: =IFERROR(IF(H30*J30<>0,ROUND(ROUND(H30,4)*ROUND(J30,4),2),""),"") -> 3552.61 | L30: 0.2849 | M30: 0.9022 | O30: =IF(N30="","", INDIRECT("base!"&ADDRESS(MATCH(N30,#REF!:#REF!,0)+1,4,4))) | Q30: =IF(P30="","", INDIRECT("base!"&ADDRESS(MATCH(CONCATENATE(N30,"|",P30),#REF!:#REF!,0)+1,6,4))) | R30: Mão-de-obra e material | S30: 13.170225
A31: 1 | B31: =IF(AND(G31<>"",H31>0,I31<>"",J31<>0,K31<>0),COUNT($B$11:B30)+1,"") -> 18 | C31: 2.9 | D31: SINAPI | E31: 97096 | F31: 45658 | G31: CONCRETAGEM DE RADIER, PISO DE CONCRETO OU LAJE SOBRE SOLO, FCK 30 MPA - LANÇAMENTO, ADENSAMENTO E ACABAMENTO. AF_09/2021 | H31: 210.22 | I31: M3 | J31: =ROUND(S31,2) -> 873.32 | K31: =IFERROR(IF(H31*J31<>0,ROUND(ROUND(H31,4)*ROUND(J31,4),2),""),"") -> 183589.33 | L31: 0.2849 | M31: 0.9022 | O31: =IF(N31="","", INDIRECT("base!"&ADDRESS(MATCH(N31,#REF!:#REF!,0)+1,4,4))) | Q31: =IF(P31="","", INDIRECT("base!"&ADDRESS(MATCH(CONCATENATE(N31,"|",P31),#REF!:#REF!,0)+1,6,4))) | R31: Mão-de-obra e material | S31: 873.32083
A32: 1 | B32: =IF(AND(G32<>"",H32>0,I32<>"",J32<>0,K32<>0),COUNT($B$11:B31)+1,"") | C32: 3 | F32: 45658 | G32: FUNDAÇÃO - RESERVATÓRIO | K32: =IFERROR(IF(H32*J32<>0,ROUND(ROUND(H32,4)*ROUND(J32,4),2),""),"") | M32: 0.9022 | O32: =IF(N32="","", INDIRECT("base!"&ADDRESS(MATCH(N32,#REF!:#REF!,0)+1,4,4))) | Q32: =IF(P32="","", INDIRECT("base!"&ADDRESS(MATCH(CONCATENATE(N32,"|",P32),#REF!:#REF!,0)+1,6,4))) | R32: Mão-de-obra e material
A33: 1 | B33: =IF(AND(G33<>"",H33>0,I33<>"",J33<>0,K33<>0),COUNT($B$11:B32)+1,"") -> 19 | C33: 3.1 | D33: SINAPI | E33: 96521 | F33: 45658 | G33: ESCAVAÇÃO MECANIZADA PARA BLOCO DE COROAMENTO OU SAPATA COM RETROESCAVADEIRA (INCLUINDO ESCAVAÇÃO PARA COLOCAÇÃO DE FÔRMAS). AF_01/2024 | H33: 16.76 | I33: M3 | J33: =ROUND(S33,2) -> 53.14 | K33: =IFERROR(IF(H33*J33<>0,ROUND(ROUND(H33,4)*ROUND(J33,4),2),""),"") -> 890.63 | L33: 0.2849 | M33: 0.9022 | O33: =IF(N33="","", INDIRECT("base!"&ADDRESS(MATCH(N33,#REF!:#REF!,0)+1,4,4))) | Q33: =IF(P33="","", INDIRECT("base!"&ADDRESS(MATCH(CONCATENATE(N33,"|",P33),#REF!:#REF!,0)+1,6,4))) | R33: Mão-de-obra e material | S33: 53.143464
A34: 1 | B34: =IF(AND(G34<>"",H34>0,I34<>"",J34<>0,K34<>0),COUNT($B$11:B33)+1,"") -> 20 | C34: 3.2 | D34: SINAPI | E34: 101096 | F34: 45658 | G34: TUBULÃO A CÉU ABERTO, DIÂMETRO DO FUSTE DE 70CM, ESCAVAÇÃO MANUAL, SEM ALARGAMENTO DE BASE, CONCRETO FEITO EM OBRA E LANÇADO COM JERICA. AF_05/2020_PA | H34: 2.51 | I34: M3 | J34: =ROUND(S34,2) -> 1820.91 | K34: =IFERROR(IF(H34*J34<>0,ROUND(ROUND(H34,4)*ROUND(J34,4),2),""),"") -> 4570.48 | L34: 0.2849 | M34: 0.9022 | O34: =IF(N34="","", INDIRECT("base!"&ADDRESS(MATCH(N34,#REF!:#REF!,0)+1,4,4))) | Q34: =IF(P34="","", INDIRECT("base!"&ADDRESS(MATCH(CONCATENATE(N34,"|",P34),#REF!:#REF!,0)+1,6,4))) | R34: Mão-de-obra e material | S34: 1820.9089
A35: 1 | B35: =IF(AND(G35<>"",H35>0,I35<>"",J35<>0,K35<>0),COUNT($B$11:B34)+1,"") -> 21 | C35: 3.3 | D35: SINAPI | E35: 101617 | F35: 45658 | G35: PREPARO DE FUNDO DE VALA COM LARGURA MAIOR OU IGUAL A 1,5 M E MENOR QUE 2,5 M (ACERTO DO SOLO NATURAL). AF_08/2020 | H35: 11.56 | I35: M2 | J35: =ROUND(S35,2) -> 3.91 | K35: =IFERROR(IF(H35*J35<>0,ROUND(ROUND(H35,4)*ROUND(J35,4),2),""),"") -> 45.2 | L35: 0.2849 | M35: 0.9022 | O35: =IF(N35="","", INDIRECT("base!"&ADDRESS(MATCH(N35,#REF!:#REF!,0)+1,4,4))) | Q35: =IF(P35="","", INDIRECT("base!"&ADDRESS(MATCH(CONCATENATE(N35,"|",P35),#REF!:#REF!,0)+1,6,4))) | R35: Mão-de-obra e material | S35: 3.906096
A36: 1 | B36: =IF(AND(G36<>"",H36>0,I36<>"",J36<>0,K36<>0),COUNT($B$11:B35)+1,"") -> 22 | C36: 3.4 | D36: SINAPI | E36: 96623 | F36: 45658 | G36: LASTRO COM MATERIAL GRANULAR, APLICADO EM BLOCOS DE COROAMENTO, ESPESSURA DE *10 CM*. AF_01/2024 | H36: 0.58 | I36: M3 | J36: =ROUND(S36,2) -> 218.59 | K36: =IFERROR(IF(H36*J36<>0,ROUND(ROUND(H36,4)*ROUND(J36,4),2),""),"") -> 126.78 | L36: 0.2849 | M36: 0.9022 | O36: =IF(N36="","", INDIRECT("base!"&ADDRESS(MATCH(N36,#REF!:#REF!,0)+1,4,4))) | Q36: =IF(P36="","", INDIRECT("base!"&ADDRESS(MATCH(CONCATENATE(N36,"|",P36),#REF!:#REF!,0)+1,6,4))) | R36: Mão-de-obra e material | S36: 218.58719
A37: 1 | B37: =IF(AND(G37<>"",H37>0,I37<>"",J37<>0,K37<>0),COUNT($B$11:B36)+1,"") -> 23 | C37: 3.5 | D37: SINAPI | E37: 96619 | F37: 45658 | G37: LASTRO DE CONCRETO MAGRO, APLICADO EM BLOCOS DE COROAMENTO OU SAPATAS, ESPESSURA DE 5 CM. AF_01/2024 | H37: 11.56 | I37: M2 | J37: =ROUND(S37,2) -> 50.3 | K37: =IFERROR(IF(H37*J37<>0,ROUND(ROUND(H37,4)*ROUND(J37,4),2),""),"") -> 581.47 | L37: 0.2849 | M37: 0.9022 | O37: =IF(N37="","", INDIRECT("base!"&ADDRESS(MATCH(N37,#REF!:#REF!,0)+1,4,4))) | Q37: =IF(P37="","", INDIRECT("base!"&ADDRESS(MATCH(CONCATENATE(N37,"|",P37),#REF!:#REF!,0)+1,6,4))) | R37: Mão-de-obra e material | S37: 50.303835
A38: 1 | B38: =IF(AND(G38<>"",H38>0,I38<>"",J38<>0,K38<>0),COUNT($B$11:B37)+1,"") -> 24 | C38: 3.6 | D38: SINAPI | E38: 96534 | F38: 45658 | G38: FABRICAÇÃO, MONTAGEM E DESMONTAGEM DE FÔRMA PARA BLOCO DE COROAMENTO, EM MADEIRA SERRADA, E=25 MM, 4 UTILIZAÇÕES. AF_01/2024 | H38: 13.92 | I38: M2 | J38: =ROUND(S38,2) -> 90.01 | K38: =IFERROR(IF(H38*J38<>0,ROUND(ROUND(H38,4)*ROUND(J38,4),2),""),"") -> 1252.94 | L38: 0.2849 | M38: 0.9022 | O38: =IF(N38="","", INDIRECT("base!"&ADDRESS(MATCH(N38,#REF!:#REF!,0)+1,4,4))) | Q38: =IF(P38="","", INDIRECT("base!"&ADDRESS(MATCH(CONCATENATE(N38,"|",P38),#REF!:#REF!,0)+1,6,4))) | R38: Mão-de-obra e material | S38: 90.007245
A39: 1 | B39: =IF(AND(G39<>"",H39>0,I39<>"",J39<>0,K39<>0),COUNT($B$11:B38)+1,"") -> 25 | C39: 3.7 | D39: SINAPI | E39: 96557 | F39: 45658 | G39: CONCRETAGEM DE BLOCO DE COROAMENTO OU VIGA BALDRAME, FCK 30 MPA, COM USO DE BOMBA - LANÇAMENTO, ADENSAMENTO E ACABAMENTO. AF_01/2024 | H39: 8.35 | I39: M3 | J39: =ROUND(S39,2) -> 1009.38 | K39: =IFERROR(IF(H39*J39<>0,ROUND(ROUND(H39,4)*ROUND(J39,4),2),""),"") -> 8428.32 | L39: 0.2849 | M39: 0.9022 | O39: =IF(N39="","", INDIRECT("base!"&ADDRESS(MATCH(N39,#REF!:#REF!,0)+1,4,4))) | Q39: =IF(P39="","", INDIRECT("base!"&ADDRESS(MATCH(CONCATENATE(N39,"|",P39),#REF!:#REF!,0)+1,6,4))) | R39: Mão-de-obra e material | S39: 1009.3789
A40: 1 | B40: =IF(AND(G40<>"",H40>0,I40<>"",J40<>0,K40<>0),COUNT($B$11:B39)+1,"") -> 26 | C40: 3.8 | D40: SINAPI | E40: 96546 | F40: 45658 | G40: ARMAÇÃO DE BLOCO UTILIZANDO AÇO CA-50 DE 10 MM - MONTAGEM. AF_01/2024 | H40: 111.84 | I40: KG | J40: =ROUND(S40,2) -> 18.72 | K40: =IFERROR(IF(H40*J40<>0,ROUND(ROUND(H40,4)*ROUND(J40,4),2),""),"") -> 2093.64 | L40: 0.2849 | M40: 0.9022 | O40: =IF(N40="","", INDIRECT("base!"&ADDRESS(MATCH(N40,#REF!:#REF!,0)+1,4,4))) | Q40: =IF(P40="","", INDIRECT("base!"&ADDRESS(MATCH(CONCATENATE(N40,"|",P40),#REF!:#REF!,0)+1,6,4))) | R40: Mão-de-obra e material | S40: 18.720993
A41: 1 | B41: =IF(AND(G41<>"",H41>0,I41<>"",J41<>0,K41<>0),COUNT($B$11:B40)+1,"") -> 27 | C41: 3.9 | D41: SINAPI | E41: 96545 | F41: 45658 | G41: ARMAÇÃO DE BLOCO UTILIZANDO AÇO CA-50 DE 8 MM - MONTAGEM. AF_01/2024 | H41: 318 | I41: KG | J41: =ROUND(S41,2) -> 21.25 | K41: =IFERROR(IF(H41*J41<>0,ROUND(ROUND(H41,4)*ROUND(J41,4),2),""),"") -> 6757.5 | L41: 0.2849 | M41: 0.9022 | O41: =IF(N41="","", INDIRECT("base!"&ADDRESS(MATCH(N41,#REF!:#REF!,0)+1,4,4))) | Q41: =IF(P41="","", INDIRECT("base!"&ADDRESS(MATCH(CONCATENATE(N41,"|",P41),#REF!:#REF!,0)+1,6,4))) | R41: Mão-de-obra e material | S41: 21.252246
...

Sheet PLANILHA NÃO FINANCIAVEIS
A1: ORÇAMENTO
A2: Modalidade | C2: =IF(Identificação!B2=0,"",Identificação!B2) -> Concorrência Lei 14.133/21 Eletrônica | H2: N° | I2: =IF(Identificação!E2=0,"",Identificação!E2) | J2: Ano | K2: =IF(Identificação!G2=0,"",Identificação!G2) -> 2025
A3: Descrição do Objeto | C3: =IF(Identificação!B3=0,"",Identificação!B3) -> Construção da nova EMEI Tio Riba - itens não financiáveis
A4: Órgão | C4: =IF(Identificação!B4=0,"",Identificação!B4) -> Prefeitura Municipal de Montenegro | J4: CNPJ | K4: =IF(Identificação!G4=0,"",Identificação!G4)
A5: Tipo de Objeto | C5: =IF(Identificação!B5=0,"",Identificação!B5) -> Obras e Serviços de Engenharia
A6: Preço T. Estimado | C6: =SUMIFS(K12:K39712,B12:B39712,">0",K12:K39712,"<>0") -> 2799532.3
A8: Atenção! Para incluir mais de 100 linhas de itens, selecione as células A113 a R113 e arraste as fórmulas para baixo, de acordo com o número de itens necessário.
A9: *Preenchimento obrigatório | F9: **Obrigatório só para Obras e Serviços de Engenharia | H9: ***Obrigatório só para licitação composta por Lotes
A10: Nº do Lote*** | B10: N° Ordem | C10: Nº Item* | D10: Fonte de Referência** | E10: Código de Referência** | F10: Data de Referência** | G10: Descrição do item* | H10: Estimativa | N10: Família | P10: Subfamília | R10: Tipo de Orçamento | S10: Pr. Unit. Material | T10: Pr. Unit. Mão de obra
H11: Qtd.* | I11: Unid.* | J11: Preço unitário (R$)* | K11: Preço Total (R$) | L11: % BDI** | M11: % Encargos Sociais** | N11: Código | O11: Descrição | P11: Código | Q11: Descrição
A12: 1 | B12: =IF(AND(G12<>"",H12>0,I12<>"",J12<>0,K12<>0),COUNT($B$11:B11)+1,"") | C12: 1 | G12: PROJETO EXECUTIVO DO SISTEMA CONSTRUTIVO | J12: =IFERROR(IF(S12+T12<>0,ROUND(ROUND(S12,4)+ROUND(T12,4),4),""),"") | K12: =IFERROR(IF(H12*J12<>0,ROUND(ROUND(H12,4)*ROUND(J12,4),2),""),"") | O12: =IF(N12="","", INDIRECT("base!"&ADDRESS(MATCH(N12,#REF!:#REF!,0)+1,4,4))) | Q12: =IF(P12="","", INDIRECT("base!"&ADDRESS(MATCH(CONCATENATE(N12,"|",P12),#REF!:#REF!,0)+1,6,4))) | W12: Nº EVENTO | X12: EVENTO | Y12: FRENTE DE OBRA
A13: 1 | B13: =IF(AND(G13<>"",H13>0,I13<>"",J13<>0,K13<>0),COUNT($B$11:B12)+1,"") -> 1 | C13: 1.1 | D13: SINAPI | E13: 93568 | F13: 45658 | G13: ENGENHEIRO CIVIL DE OBRA SENIOR COM ENCARGOS COMPLEMENTARES | H13: 1 | I13: mes | J13: =IFERROR(IF(S13+T13<>0,ROUND(ROUND(S13,4)+ROUND(T13,4),4),""),"") -> 30089.97 | K13: =IFERROR(IF(H13*J13<>0,ROUND(ROUND(H13,4)*ROUND(J13,4),2),""),"") -> 30089.97 | L13: 0.2849 | O13: =IF(N13="","", INDIRECT("base!"&ADDRESS(MATCH(N13,#REF!:#REF!,0)+1,4,4))) | Q13: =IF(P13="","", INDIRECT("base!"&ADDRESS(MATCH(CONCATENATE(N13,"|",P13),#REF!:#REF!,0)+1,6,4))) | R13: Mão-de-obra e material | S13: =TRUNC(U13*(1+L13),2) -> 558.05 | T13: =TRUNC(V13*(1+L13),2) -> 29531.92 | U13: 434.32 | V13: 22983.83 | W13: ='PLE NÃO FINANCIAVEIS'!A10 -> 1 | X13: ='PLE NÃO FINANCIAVEIS'!B10 -> PROJETO EXECUTIVO DO SISTEMA CONSTRUTIVO | Y13: Geral 2
A14: 1 | B14: =IF(AND(G14<>"",H14>0,I14<>"",J14<>0,K14<>0),COUNT($B$11:B13)+1,"") -> 2 | C14: 1.2 | D14: SINAPI | E14: 93561 | F14: 45658 | G14: DESENHISTA PROJETISTA COM ENCARGOS COMPLEMENTARES | H14: 1 | I14: mes | J14: =IFERROR(IF(S14+T14<>0,ROUND(ROUND(S14,4)+ROUND(T14,4),4),""),"") -> 6794.27 | K14: =IFERROR(IF(H14*J14<>0,ROUND(ROUND(H14,4)*ROUND(J14,4),2),""),"") -> 6794.27 | L14: 0.2849 | O14: =IF(N14="","", INDIRECT("base!"&ADDRESS(MATCH(N14,#REF!:#REF!,0)+1,4,4))) | Q14: =IF(P14="","", INDIRECT("base!"&ADDRESS(MATCH(CONCATENATE(N14,"|",P14),#REF!:#REF!,0)+1,6,4))) | R14: Mão-de-obra e material | S14: =TRUNC(U14*(1+L14),2) -> 558.72 | T14: =TRUNC(V14*(1+L14),2) -> 6235.55 | U14: 434.84 | V14: 4852.95 | W14: ='PLE NÃO FINANCIAVEIS'!A10 -> 1 | X14: ='PLE NÃO FINANCIAVEIS'!B10 -> PROJETO EXECUTIVO DO SISTEMA CONSTRUTIVO | Y14: Geral 2
A15: 1 | B15: =IF(AND(G15<>"",H15>0,I15<>"",J15<>0,K15<>0),COUNT($B$11:B14)+1,"") | C15: 2 | G15: ADMINISTRAÇÃO DA OBRA | J15: =IFERROR(IF(S15+T15<>0,ROUND(ROUND(S15,4)+ROUND(T15,4),4),""),"") | K15: =IFERROR(IF(H15*J15<>0,ROUND(ROUND(H15,4)*ROUND(J15,4),2),""),"") | O15: =IF(N15="","", INDIRECT("base!"&ADDRESS(MATCH(N15,#REF!:#REF!,0)+1,4,4))) | Q15: =IF(P15="","", INDIRECT("base!"&ADDRESS(MATCH(CONCATENATE(N15,"|",P15),#REF!:#REF!,0)+1,6,4)))
C16: 2.1 | G16: ADMINISTRAÇÃO DA OBRA - MOBILIZAÇÃO | AA16: =SUM(K17:K23) -> 37247.44
A17: 1 | B17: =IF(AND(G17<>"",H17>0,I17<>"",J17<>0,K17<>0),COUNT($B$11:B15)+1,"") -> 3 | C17: 2.1.1 | D17: SINAPI | E17: 90781 | F17: 45658 | G17: TOPOGRAFO COM ENCARGOS COMPLEMENTARES | H17: 16 | I17: h | J17: =IFERROR(IF(S17+T17<>0,ROUND(ROUND(S17,4)+ROUND(T17,4),4),""),"") -> 43.07 | K17: =IFERROR(IF(H17*J17<>0,ROUND(ROUND(H17,4)*ROUND(J17,4),2),""),"") -> 689.12 | L17: 0.2849 | O17: =IF(N17="","", INDIRECT("base!"&ADDRESS(MATCH(N17,#REF!:#REF!,0)+1,4,4))) | Q17: =IF(P17="","", INDIRECT("base!"&ADDRESS(MATCH(CONCATENATE(N17,"|",P17),#REF!:#REF!,0)+1,6,4))) | R17: Mão-de-obra e material | S17: =TRUNC(U17*(1+L17),2) -> 2.95 | T17: =TRUNC(V17*(1+L17),2) -> 40.12 | U17: 2.3 | V17: 31.23 | W17: 2 | X17: ='PLE NÃO FINANCIAVEIS'!B11 -> ADMINISTRAÇÃO DA OBRA - MOBILIZAÇÃO | Y17: Geral 2
A18: 1 | B18: =IF(AND(G18<>"",H18>0,I18<>"",J18<>0,K18<>0),COUNT($B$11:B17)+1,"") -> 4 | C18: 2.1.2 | D18: SINAPI | E18: 93421 | F18: 45658 | G18: GRUPO GERADOR REBOCÁVEL, POTÊNCIA 66 KVA, MOTOR A DIESEL - CHP DIURNO. AF_03/2016 | H18: 176 | I18: chp | J18: =IFERROR(IF(S18+T18<>0,ROUND(ROUND(S18,4)+ROUND(T18,4),4),""),"") -> 100.23 | K18: =IFERROR(IF(H18*J18<>0,ROUND(ROUND(H18,4)*ROUND(J18,4),2),""),"") -> 17640.48 | L18: 0.2849 | O18: =IF(N18="","", INDIRECT("base!"&ADDRESS(MATCH(N18,#REF!:#REF!,0)+1,4,4))) | Q18: =IF(P18="","", INDIRECT("base!"&ADDRESS(MATCH(CONCATENATE(N18,"|",P18),#REF!:#REF!,0)+1,6,4))) | R18: Mão-de-obra e material | S18: =TRUNC(U18*(1+L18),2) -> 100.23 | T18: =TRUNC(V18*(1+L18),2) -> 0 | U18: 78.01 | V18: 0 | W18: 2 | X18: ='PLE NÃO FINANCIAVEIS'!B11 -> ADMINISTRAÇÃO DA OBRA - MOBILIZAÇÃO | Y18: Geral 2
A19: 1 | B19: =IF(AND(G19<>"",H19>0,I19<>"",J19<>0,K19<>0),COUNT($B$11:B18)+1,"") -> 5 | C19: 2.1.1 | D19: SICRO/DNIT | E19: 5914637 | F19: 45658 | G19: Transporte com cavalo mecânico com semirreboque com capacidade de 22 t - rodovia pavimentada - MOBILIZAÇÃO E DESMOBILIZAÇÃO CONTAINERS | H19: 5760 | I19: txkm | J19: =IFERROR(IF(S19+T19<>0,ROUND(ROUND(S19,4)+ROUND(T19,4),4),""),"") -> 0.89 | K19: =IFERROR(IF(H19*J19<>0,ROUND(ROUND(H19,4)*ROUND(J19,4),2),""),"") -> 5126.4 | L19: 0.2849 | O19: =IF(N19="","", INDIRECT("base!"&ADDRESS(MATCH(N19,#REF!:#REF!,0)+1,4,4))) | Q19: =IF(P19="","", INDIRECT("base!"&ADDRESS(MATCH(CONCATENATE(N19,"|",P19),#REF!:#REF!,0)+1,6,4))) | R19: Mão-de-obra e material | S19: =TRUNC(U19*(1+L19),2) -> 0.89 | T19: =TRUNC(V19*(1+L19),2) -> 0 | U19: 0.7 | V19: 0 | W19: 2 | X19: ='PLE NÃO FINANCIAVEIS'!B11 -> ADMINISTRAÇÃO DA OBRA - MOBILIZAÇÃO | Y19: Geral 2
A20: 1 | B20: =IF(AND(G20<>"",H20>0,I20<>"",J20<>0,K20<>0),COUNT($B$11:B19)+1,"") -> 6 | C20: 2.1.2 | D20: SICRO/DNIT | E20: 5914637 | F20: 45658 | G20: Transporte com cavalo mecânico com semirreboque com capacidade de 22 t - rodovia pavimentada - MOBILIZAÇÃO E DESMOBILIZAÇÃO DEMAIS EQUIPAMENTOS | H20: 4868 | I20: txkm | J20: =IFERROR(IF(S20+T20<>0,ROUND(ROUND(S20,4)+ROUND(T20,4),4),""),"") -> 0.89 | K20: =IFERROR(IF(H20*J20<>0,ROUND(ROUND(H20,4)*ROUND(J20,4),2),""),"") -> 4332.52 | L20: 0.2849 | O20: =IF(N20="","", INDIRECT("base!"&ADDRESS(MATCH(N20,#REF!:#REF!,0)+1,4,4))) | Q20: =IF(P20="","", INDIRECT("base!"&ADDRESS(MATCH(CONCATENATE(N20,"|",P20),#REF!:#REF!,0)+1,6,4))) | R20: Mão-de-obra e material | S20: =TRUNC(U20*(1+L20),2) -> 0.89 | T20: =TRUNC(V20*(1+L20),2) -> 0 | U20: 0.7 | V20: 0 | W20: 2 | X20: ='PLE NÃO FINANCIAVEIS'!B11 -> ADMINISTRAÇÃO DA OBRA - MOBILIZAÇÃO | Y20: Geral 2
A21: 1 | C21: 2.2 | G21: ADMINISTRAÇÃO DA OBRA - DESMOBILIZAÇÃO
A22: 1 | C22: 2.2.1 | D22: SICRO/DNIT | E22: 5914637 | F22: 45658 | G22: Transporte com cavalo mecânico com semirreboque com capacidade de 22 t - rodovia pavimentada - MOBILIZAÇÃO E DESMOBILIZAÇÃO CONTAINERS | H22: 5760 | I22: txkm | J22: =IFERROR(IF(S22+T22<>0,ROUND(ROUND(S22,4)+ROUND(T22,4),4),""),"") -> 0.89 | K22: =IFERROR(IF(H22*J22<>0,ROUND(ROUND(H22,4)*ROUND(J22,4),2),""),"") -> 5126.4 | L22: 0.2849 | O22: =IF(N22="","", INDIRECT("base!"&ADDRESS(MATCH(N22,#REF!:#REF!,0)+1,4,4))) | Q22: =IF(P22="","", INDIRECT("base!"&ADDRESS(MATCH(CONCATENATE(N22,"|",P22),#REF!:#REF!,0)+1,6,4))) | R22: Mão-de-obra e material | S22: =TRUNC(U22*(1+L22),2) -> 0.89 | T22: =TRUNC(V22*(1+L22),2) -> 0 | U22: 0.7 | V22: 0 | W22: 3 | X22: ='PLE NÃO FINANCIAVEIS'!B12 -> ADMINISTRAÇÃO DA OBRA - DESMOBILIZAÇÃO | Y22: Geral 2
A23: 1 | C23: 2.2.2 | D23: SICRO/DNIT | E23: 5914637 | F23: 45658 | G23: Transporte com cavalo mecânico com semirreboque com capacidade de 22 t - rodovia pavimentada - MOBILIZAÇÃO E DESMOBILIZAÇÃO DEMAIS EQUIPAMENTOS | H23: 4868 | I23: txkm | J23: =IFERROR(IF(S23+T23<>0,ROUND(ROUND(S23,4)+ROUND(T23,4),4),""),"") -> 0.89 | K23: =IFERROR(IF(H23*J23<>0,ROUND(ROUND(H23,4)*ROUND(J23,4),2),""),"") -> 4332.52 | L23: 0.2849 | O23: =IF(N23="","", INDIRECT("base!"&ADDRESS(MATCH(N23,#REF!:#REF!,0)+1,4,4))) | Q23: =IF(P23="","", INDIRECT("base!"&ADDRESS(MATCH(CONCATENATE(N23,"|",P23),#REF!:#REF!,0)+1,6,4))) | R23: Mão-de-obra e material | S23: =TRUNC(U23*(1+L23),2) -> 0.89 | T23: =TRUNC(V23*(1+L23),2) -> 0 | U23: 0.7 | V23: 0 | W23: 3 | X23: ='PLE NÃO FINANCIAVEIS'!B12 -> ADMINISTRAÇÃO DA OBRA - DESMOBILIZAÇÃO | Y23: Geral 2
A24: 1 | B24: =IF(AND(G24<>"",H24>0,I24<>"",J24<>0,K24<>0),COUNT($B$11:B20)+1,"") | C24: 3 | G24: MOVIMENTAÇÃO DE TERRA, DRENAGEM E CONTENÇÕES | J24: =IFERROR(IF(S24+T24<>0,ROUND(ROUND(S24,4)+ROUND(T24,4),4),""),"") | K24: =IFERROR(IF(H24*J24<>0,ROUND(ROUND(H24,4)*ROUND(J24,4),2),""),"") | O24: =IF(N24="","", INDIRECT("base!"&ADDRESS(MATCH(N24,#REF!:#REF!,0)+1,4,4))) | Q24: =IF(P24="","", INDIRECT("base!"&ADDRESS(MATCH(CONCATENATE(N24,"|",P24),#REF!:#REF!,0)+1,6,4))) | AA24: =SUM(K26:K136) -> 1915375.4
A25: 1 | B25: =IF(AND(G25<>"",H25>0,I25<>"",J25<>0,K25<>0),COUNT($B$11:B24)+1,"") | C25: 3.1 | G25: LIMPEZA VEGETAL E MOVIMENTAÇÃO DE TERRA | J25: =IFERROR(IF(S25+T25<>0,ROUND(ROUND(S25,4)+ROUND(T25,4),4),""),"") | K25: =IFERROR(IF(H25*J25<>0,ROUND(ROUND(H25,4)*ROUND(J25,4),2),""),"") | O25: =IF(N25="","", INDIRECT("base!"&ADDRESS(MATCH(N25,#REF!:#REF!,0)+1,4,4))) | Q25: =IF(P25="","", INDIRECT("base!"&ADDRESS(MATCH(CONCATENATE(N25,"|",P25),#REF!:#REF!,0)+1,6,4)))
A26: 1 | B26: =IF(AND(G26<>"",H26>0,I26<>"",J26<>0,K26<>0),COUNT($B$11:B25)+1,"") -> 7 | C26: 3.1.1 | D26: SINAPI | E26: 98525 | F26: 45658 | G26: LIMPEZA MECANIZADA DE CAMADA VEGETAL, VEGETAÇÃO E PEQUENAS ÁRVORES (DIÂMETRO DE TRONCO MENOR QUE 0,20 M), COM TRATOR DE ESTEIRAS. AF_03/2024 | H26: 5220.56 | I26: m2 | J26: =IFERROR(IF(S26+T26<>0,ROUND(ROUND(S26,4)+ROUND(T26,4),4),""),"") -> 0.91 | K26: =IFERROR(IF(H26*J26<>0,ROUND(ROUND(H26,4)*ROUND(J26,4),2),""),"") -> 4750.71 | L26: 0.2849 | O26: =IF(N26="","", INDIRECT("base!"&ADDRESS(MATCH(N26,#REF!:#REF!,0)+1,4,4))) | Q26: =IF(P26="","", INDIRECT("base!"&ADDRESS(MATCH(CONCATENATE(N26,"|",P26),#REF!:#REF!,0)+1,6,4))) | R26: Mão-de-obra e material | S26: =TRUNC(U26*(1+L26),2) -> 0.65 | T26: =TRUNC(V26*(1+L26),2) -> 0.26 | U26: 0.51 | V26: 0.21 | W26: 4 | X26: ='PLE NÃO FINANCIAVEIS'!B13 -> MOVIMENTAÇÃO DE TERRA | Y26: Geral 2
A27: 1 | B27: =IF(AND(G27<>"",H27>0,I27<>"",J27<>0,K27<>0),COUNT($B$11:B26)+1,"") -> 8 | C27: 3.1.2 | D27: SINAPI | E27: 98529 | F27: 45658 | G27: CORTE RASO E RECORTE DE ÁRVORE COM DIÂMETRO DE TRONCO MAIOR OU IGUAL A 0,20 M E MENOR QUE 0,40 M. AF_03/2024 | H27: 123 | I27: un | J27: =IFERROR(IF(S27+T27<>0,ROUND(ROUND(S27,4)+ROUND(T27,4),4),""),"") -> 92.84 | K27: =IFERROR(IF(H27*J27<>0,ROUND(ROUND(H27,4)*ROUND(J27,4),2),""),"") -> 11419.32 | L27: 0.2849 | O27: =IF(N27="","", INDIRECT("base!"&ADDRESS(MATCH(N27,#REF!:#REF!,0)+1,4,4))) | Q27: =IF(P27="","", INDIRECT("base!"&ADDRESS(MATCH(CONCATENATE(N27,"|",P27),#REF!:#REF!,0)+1,6,4))) | R27: Mão-de-obra e material | S27: =TRUNC(U27*(1+L27),2) -> 25.62 | T27: =TRUNC(V27*(1+L27),2) -> 67.22 | U27: 19.94 | V27: 52.32 | W27: 4 | X27: ='PLE NÃO FINANCIAVEIS'!B13 -> MOVIMENTAÇÃO DE TERRA | Y27: Geral 2
A28: 1 | B28: =IF(AND(G28<>"",H28>0,I28<>"",J28<>0,K28<>0),COUNT($B$11:B27)+1,"") -> 9 | C28: 3.1.3 | D28: SINAPI | E28: 98526 | F28: 45658 | G28: REMOÇÃO DE RAÍZES REMANESCENTES DE TRONCO DE ÁRVORE COM DIÂMETRO MAIOR OU IGUAL A 0,20 M E MENOR QUE 0,40 M. AF_03/2024 | H28: 123 | I28: un | J28: =IFERROR(IF(S28+T28<>0,ROUND(ROUND(S28,4)+ROUND(T28,4),4),""),"") -> 167.5 | K28: =IFERROR(IF(H28*J28<>0,ROUND(ROUND(H28,4)*ROUND(J28,4),2),""),"") -> 20602.5 | L28: 0.2849 | O28: =IF(N28="","", INDIRECT("base!"&ADDRESS(MATCH(N28,#REF!:#REF!,0)+1,4,4))) | Q28: =IF(P28="","", INDIRECT("base!"&ADDRESS(MATCH(CONCATENATE(N28,"|",P28),#REF!:#REF!,0)+1,6,4))) | R28: Mão-de-obra e material | S28: =TRUNC(U28*(1+L28),2) -> 84.54 | T28: =TRUNC(V28*(1+L28),2) -> 82.96 | U28: 65.8 | V28: 64.57 | W28: 4 | X28: ='PLE NÃO FINANCIAVEIS'!B13 -> MOVIMENTAÇÃO DE TERRA | Y28: Geral 2
A29: 1 | B29: =IF(AND(G29<>"",H29>0,I29<>"",J29<>0,K29<>0),COUNT($B$11:B28)+1,"") -> 10 | C29: 3.1.4 | D29: SINAPI | E29: 97914 | F29: 45658 | G29: TRANSPORTE COM CAMINHÃO BASCULANTE DE 6 M³, EM VIA URBANA PAVIMENTADA, DMT ATÉ 30 KM (UNIDADE: M3XKM). AF_07/2020 | H29: 2515.02 | I29: m3xkm | J29: =IFERROR(IF(S29+T29<>0,ROUND(ROUND(S29,4)+ROUND(T29,4),4),""),"") -> 3.92 | K29: =IFERROR(IF(H29*J29<>0,ROUND(ROUND(H29,4)*ROUND(J29,4),2),""),"") -> 9858.88 | L29: 0.2849 | O29: =IF(N29="","", INDIRECT("base!"&ADDRESS(MATCH(N29,#REF!:#REF!,0)+1,4,4))) | Q29: =IF(P29="","", INDIRECT("base!"&ADDRESS(MATCH(CONCATENATE(N29,"|",P29),#REF!:#REF!,0)+1,6,4))) | R29: Mão-de-obra e material | S29: =TRUNC(U29*(1+L29),2) -> 3.37 | T29: =TRUNC(V29*(1+L29),2) -> 0.55 | U29: 2.63 | V29: 0.43 | W29: 4 | X29: ='PLE NÃO FINANCIAVEIS'!B13 -> MOVIMENTAÇÃO DE TERRA | Y29: Geral 2
A30: 1 | B30: =IF(AND(G30<>"",H30>0,I30<>"",J30<>0,K30<>0),COUNT($B$11:B29)+1,"") -> 11 | C30: 3.1.5 | D30: SINAPI | E30: 101139 | F30: 45658 | G30: ESCAVAÇÃO HORIZONTAL, INCLUINDO ESCARIFICAÇÃO, CARGA, DESCARGA E TRANSPORTE EM SOLO DE 2A CATEGORIA COM TRATOR DE ESTEIRAS (100HP/LÂMINA: 2,19M3) E CAMINHÃO BASCULANTE DE 10M3, DMT ATÉ 200M. AF_07/2020 | H30: 5555.4 | I30: m3 | J30: =IFERROR(IF(S30+T30<>0,ROUND(ROUND(S30,4)+ROUND(T30,4),4),""),"") -> 27.68 | K30: =IFERROR(IF(H30*J30<>0,ROUND(ROUND(H30,4)*ROUND(J30,4),2),""),"") -> 153773.47 | L30: 0.2849 | O30: =IF(N30="","", INDIRECT("base!"&ADDRESS(MATCH(N30,#REF!:#REF!,0)+1,4,4))) | Q30: =IF(P30="","", INDIRECT("base!"&ADDRESS(MATCH(CONCATENATE(N30,"|",P30),#REF!:#REF!,0)+1,6,4))) | R30: Mão-de-obra e material | S30: =TRUNC(U30*(1+L30),2) -> 21.86 | T30: =TRUNC(V30*(1+L30),2) -> 5.82 | U30: 17.02 | V30: 4.53 | W30: 4 | X30: ='PLE NÃO FINANCIAVEIS'!B13 -> MOVIMENTAÇÃO DE TERRA | Y30: Geral 2
A31: 1 | B31: =IF(AND(G31<>"",H31>0,I31<>"",J31<>0,K31<>0),COUNT($B$11:B30)+1,"") -> 12 | C31: 3.1.6 | D31: SINAPI | E31: 97914 | F31: 45658 | G31: TRANSPORTE COM CAMINHÃO BASCULANTE DE 6 M³, EM VIA URBANA PAVIMENTADA, DMT ATÉ 30 KM (UNIDADE: M3XKM). AF_07/2020 | H31: 48387.53 | I31: m3xkm | J31: =IFERROR(IF(S31+T31<>0,ROUND(ROUND(S31,4)+ROUND(T31,4),4),""),"") -> 3.92 | K31: =IFERROR(IF(H31*J31<>0,ROUND(ROUND(H31,4)*ROUND(J31,4),2),""),"") -> 189679.12 | L31: 0.2849 | O31: =IF(N31="","", INDIRECT("base!"&ADDRESS(MATCH(N31,#REF!:#REF!,0)+1,4,4))) | Q31: =IF(P31="","", INDIRECT("base!"&ADDRESS(MATCH(CONCATENATE(N31,"|",P31),#REF!:#REF!,0)+1,6,4))) | R31: Mão-de-obra e material | S31: =TRUNC(U31*(1+L31),2) -> 3.37 | T31: =TRUNC(V31*(1+L31),2) -> 0.55 | U31: 2.63 | V31: 0.43 | W31: 4 | X31: ='PLE NÃO FINANCIAVEIS'!B13 -> MOVIMENTAÇÃO DE TERRA | Y31: Geral 3
A32: 1 | B32: =IF(AND(G32<>"",H32>0,I32<>"",J32<>0,K32<>0),COUNT($B$11:B31)+1,"") -> 13 | C32: 3.1.7 | D32: SINAPI | E32: 00006081 | F32: 45658 | G32: ARGILA OU BARRO PARA ATERRO/REATERRO (COM TRANSPORTE ATE 10 KM) | H32: 2650.8 | I32: m3 | J32: =IFERROR(IF(S32+T32<>0,ROUND(ROUND(S32,4)+ROUND(T32,4),4),""),"") -> 67.2 | K32: =IFERROR(IF(H32*J32<>0,ROUND(ROUND(H32,4)*ROUND(J32,4),2),""),"") -> 178133.76 | L32: 0.2849 | O32: =IF(N32="","", INDIRECT("base!"&ADDRESS(MATCH(N32,#REF!:#REF!,0)+1,4,4))) | Q32: =IF(P32="","", INDIRECT("base!"&ADDRESS(MATCH(CONCATENATE(N32,"|",P32),#REF!:#REF!,0)+1,6,4))) | R32: Mão-de-obra e material | S32: =TRUNC(U32*(1+L32),2) -> 67.2 | T32: =TRUNC(V32*(1+L32),2) -> 0 | U32: 52.3 | V32: 0 | W32: 4 | X32: ='PLE NÃO FINANCIAVEIS'!B13 -> MOVIMENTAÇÃO DE TERRA | Y32: Geral 3
A33: 1 | B33: =IF(AND(G33<>"",H33>0,I33<>"",J33<>0,K33<>0),COUNT($B$11:B32)+1,"") -> 14 | C33: 3.1.8 | D33: SINAPI | E33: 96385 | F33: 45658 | G33: EXECUÇÃO E COMPACTAÇÃO DE CORPO DE ATERRO DE ATERRO (95% DE ENERGIA DO PROCTOR NORMAL) COM SOLO PREDOMINANTEMENTE ARGILOSO ESPESSURA 15 CM - EXCLUSIVE MATERIAL, ESCAVAÇÃO, CARGA E TRANSPORTE. AF_09/2024 | H33: 2650.8 | I33: m3 | J33: =IFERROR(IF(S33+T33<>0,ROUND(ROUND(S33,4)+ROUND(T33,4),4),""),"") -> 16.08 | K33: =IFERROR(IF(H33*J33<>0,ROUND(ROUND(H33,4)*ROUND(J33,4),2),""),"") -> 42624.86 | L33: 0.2849 | O33: =IF(N33="","", INDIRECT("base!"&ADDRESS(MATCH(N33,#REF!:#REF!,0)+1,4,4))) | Q33: =IF(P33="","", INDIRECT("base!"&ADDRESS(MATCH(CONCATENATE(N33,"|",P33),#REF!:#REF!,0)+1,6,4))) | R33: Mão-de-obra e material | S33: =TRUNC(U33*(1+L33),2) -> 11.25 | T33: =TRUNC(V33*(1+L33),2) -> 4.83 | U33: 8.76 | V33: 3.76 | W33: 4 | X33: ='PLE NÃO FINANCIAVEIS'!B13 -> MOVIMENTAÇÃO DE TERRA | Y33: Geral 3
A34: 1 | B34: =IF(AND(G34<>"",H34>0,I34<>"",J34<>0,K34<>0),COUNT($B$11:B33)+1,"") | C34: 3.2 | G34: MURO DE ARRIMO E FECHAMENTO | J34: =IFERROR(IF(S34+T34<>0,ROUND(ROUND(S34,4)+ROUND(T34,4),4),""),"") | K34: =IFERROR(IF(H34*J34<>0,ROUND(ROUND(H34,4)*ROUND(J34,4),2),""),"") | O34: =IF(N34="","", INDIRECT("base!"&ADDRESS(MATCH(N34,#REF!:#REF!,0)+1,4,4))) | Q34: =IF(P34="","", INDIRECT("base!"&ADDRESS(MATCH(CONCATENATE(N34,"|",P34),#REF!:#REF!,0)+1,6,4)))
A35: 1 | B35: =IF(AND(G35<>"",H35>0,I35<>"",J35<>0,K35<>0),COUNT($B$11:B34)+1,"") | C35: 3.2.1 | G35: VERDE | J35: =IFERROR(IF(S35+T35<>0,ROUND(ROUND(S35,4)+ROUND(T35,4),4),""),"") | K35: =IFERROR(IF(H35*J35<>0,ROUND(ROUND(H35,4)*ROUND(J35,4),2),""),"") | O35: =IF(N35="","", INDIRECT("base!"&ADDRESS(MATCH(N35,#REF!:#REF!,0)+1,4,4))) | Q35: =IF(P35="","", INDIRECT("base!"&ADDRESS(MATCH(CONCATENATE(N35,"|",P35),#REF!:#REF!,0)+1,6,4)))
A36: 1 | B36: =IF(AND(G36<>"",H36>0,I36<>"",J36<>0,K36<>0),COUNT($B$11:B35)+1,"") -> 15 | C36: 3.2.1.1 | D36: SINAPI | E36: 96527 | F36: 45658 | G36: ESCAVAÇÃO MANUAL PARA VIGA BALDRAME OU SAPATA CORRIDA (INCLUINDO ESCAVAÇÃO PARA COLOCAÇÃO DE FÔRMAS). AF_01/2024 | H36: 86.83 | I36: m3 | J36: =IFERROR(IF(S36+T36<>0,ROUND(ROUND(S36,4)+ROUND(T36,4),4),""),"") -> 129.95 | K36: =IFERROR(IF(H36*J36<>0,ROUND(ROUND(H36,4)*ROUND(J36,4),2),""),"") -> 11283.56 | L36: 0.2849 | O36: =IF(N36="","", INDIRECT("base!"&ADDRESS(MATCH(N36,#REF!:#REF!,0)+1,4,4))) | Q36: =IF(P36="","", INDIRECT("base!"&ADDRESS(MATCH(CONCATENATE(N36,"|",P36),#REF!:#REF!,0)+1,6,4))) | R36: Mão-de-obra e material | S36: =TRUNC(U36*(1+L36),2) -> 34.78 | T36: =TRUNC(V36*(1+L36),2) -> 95.17 | U36: 27.07 | V36: 74.07 | W36: 5 | X36: ='PLE NÃO FINANCIAVEIS'!$B$15 -> MURO DE ARRIMO - VERDE | Y36: Geral 2
A37: 1 | B37: =IF(AND(G37<>"",H37>0,I37<>"",J37<>0,K37<>0),COUNT($B$11:B36)+1,"") -> 16 | C37: 3.2.1.2 | D37: COMPOSICAO_PROPRIA | E37: ESTACA 30 | F37: 45658 | G37: ESTACA HÉLICE CONTÍNUA, DIÂMETRO DE 30 CM, INCLUSO CONCRETO FCK=30MPA E ARMADURA 10MM E 6,3MM - BASE COMP. SINAPI 100651 | H37: 66 | I37: m | J37: =IFERROR(IF(S37+T37<>0,ROUND(ROUND(S37,4)+ROUND(T37,4),4),""),"") -> 252.18 | K37: =IFERROR(IF(H37*J37<>0,ROUND(ROUND(H37,4)*ROUND(J37,4),2),""),"") -> 16643.88 | L37: 0.2849 | O37: =IF(N37="","", INDIRECT("base!"&ADDRESS(MATCH(N37,#REF!:#REF!,0)+1,4,4))) | Q37: =IF(P37="","", INDIRECT("base!"&ADDRESS(MATCH(CONCATENATE(N37,"|",P37),#REF!:#REF!,0)+1,6,4))) | R37: Mão-de-obra e material | S37: =TRUNC(U37*(1+L37),2) -> 225.33 | T37: =TRUNC(V37*(1+L37),2) -> 26.85 | U37: 175.37 | V37: 20.9 | W37: 5 | X37: ='PLE NÃO FINANCIAVEIS'!$B$15 -> MURO DE ARRIMO - VERDE | Y37: Geral 2
A38: 1 | B38: =IF(AND(G38<>"",H38>0,I38<>"",J38<>0,K38<>0),COUNT($B$11:B37)+1,"") -> 17 | C38: 3.2.1.3 | D38: SINAPI | E38: 96621 | F38: 45658 | G38: LASTRO COM MATERIAL GRANULAR, APLICAÇÃO EM BLOCOS DE COROAMENTO, ESPESSURA DE *5 CM*. AF_01/2024 | H38: 6.15 | I38: m3 | J38: =IFERROR(IF(S38+T38<>0,ROUND(ROUND(S38,4)+ROUND(T38,4),4),""),"") -> 255.08 | K38: =IFERROR(IF(H38*J38<>0,ROUND(ROUND(H38,4)*ROUND(J38,4),2),""),"") -> 1568.74 | L38: 0.2849 | O38: =IF(N38="","", INDIRECT("base!"&ADDRESS(MATCH(N38,#REF!:#REF!,0)+1,4,4))) | Q38: =IF(P38="","", INDIRECT("base!"&ADDRESS(MATCH(CONCATENATE(N38,"|",P38),#REF!:#REF!,0)+1,6,4))) | R38: Mão-de-obra e material | S38: =TRUNC(U38*(1+L38),2) -> 177.99 | T38: =TRUNC(V38*(1+L38),2) -> 77.09 | U38: 138.53 | V38: 60 | W38: 5 | X38: ='PLE NÃO FINANCIAVEIS'!$B$15 -> MURO DE ARRIMO - VERDE | Y38: Geral 2
A39: 1 | B39: =IF(AND(G39<>"",H39>0,I39<>"",J39<>0,K39<>0),COUNT($B$11:B38)+1,"") -> 18 | C39: 3.2.1.4 | D39: SINAPI | E39: 96619 | F39: 45658 | G39: LASTRO DE CONCRETO MAGRO, APLICADO EM BLOCOS DE COROAMENTO OU SAPATAS, ESPESSURA DE 5 CM. AF_01/2024 | H39: 123.08 | I39: m2 | J39: =IFERROR(IF(S39+T39<>0,ROUND(ROUND(S39,4)+ROUND(T39,4),4),""),"") -> 50.29 | K39: =IFERROR(IF(H39*J39<>0,ROUND(ROUND(H39,4)*ROUND(J39,4),2),""),"") -> 6189.69 | L39: 0.2849 | O39: =IF(N39="","", INDIRECT("base!"&ADDRESS(MATCH(N39,#REF!:#REF!,0)+1,4,4))) | Q39: =IF(P39="","", INDIRECT("base!"&ADDRESS(MATCH(CONCATENATE(N39,"|",P39),#REF!:#REF!,0)+1,6,4))) | R39: Mão-de-obra e material | S39: =TRUNC(U39*(1+L39),2) -> 33.3 | T39: =TRUNC(V39*(1+L39),2) -> 16.99 | U39: 25.92 | V39: 13.23 | W39: 5 | X39: ='PLE NÃO FINANCIAVEIS'!$B$15 -> MURO DE ARRIMO - VERDE | Y39: Geral 2
A40: 1 | B40: =IF(AND(G40<>"",H40>0,I40<>"",J40<>0,K40<>0),COUNT($B$11:B39)+1,"") -> 19 | C40: 3.2.1.5 | D40: SINAPI | E40: 96534 | F40: 45658 | G40: FABRICAÇÃO, MONTAGEM E DESMONTAGEM DE FÔRMA PARA BLOCO DE COROAMENTO, EM MADEIRA SERRADA, E=25 MM, 4 UTILIZAÇÕES. AF_01/2024 | H40: 85.2 | I40: m2 | J40: =IFERROR(IF(S40+T40<>0,ROUND(ROUND(S40,4)+ROUND(T40,4),4),""),"") -> 90 | K40: =IFERROR(IF(H40*J40<>0,ROUND(ROUND(H40,4)*ROUND(J40,4),2),""),"") -> 7668 | L40: 0.2849 | O40: =IF(N40="","", INDIRECT("base!"&ADDRESS(MATCH(N40,#REF!:#REF!,0)+1,4,4))) | Q40: =IF(P40="","", INDIRECT("base!"&ADDRESS(MATCH(CONCATENATE(N40,"|",P40),#REF!:#REF!,0)+1,6,4))) | R40: Mão-de-obra e material | S40: =TRUNC(U40*(1+L40),2) -> 41.95 | T40: =TRUNC(V40*(1+L40),2) -> 48.05 | U40: 32.65 | V40: 37.4 | W40: 5 | X40: ='PLE NÃO FINANCIAVEIS'!$B$15 -> MURO DE ARRIMO - VERDE | Y40: Geral 2
A41: 1 | B41: =IF(AND(G41<>"",H41>0,I41<>"",J41<>0,K41<>0),COUNT($B$11:B40)+1,"") -> 20 | C41: 3.2.1.6 | D41: SINAPI | E41: 96536 | F41: 45658 | G41: FABRICAÇÃO, MONTAGEM E DESMONTAGEM DE FÔRMA PARA VIGA BALDRAME, EM MADEIRA SERRADA, E=25 MM, 4 UTILIZAÇÕES. AF_01/2024 | H41: 155.27 | I41: m2 | J41: =IFERROR(IF(S41+T41<>0,ROUND(ROUND(S41,4)+ROUND(T41,4),4),""),"") -> 78.02 | K41: =IFERROR(IF(H41*J41<>0,ROUND(ROUND(H41,4)*ROUND(J41,4),2),""),"") -> 12114.17 | L41: 0.2849 | O41: =IF(N41="","", INDIRECT("base!"&ADDRESS(MATCH(N41,#REF!:#REF!,0)+1,4,4))) | Q41: =IF(P41="","", INDIRECT("base!"&ADDRESS(MATCH(CONCATENATE(N41,"|",P41),#REF!:#REF!,0)+1,6,4))) | R41: Mão-de-obra e material | S41: =TRUNC(U41*(1+L41),2) -> 38.04 | T41: =TRUNC(V41*(1+L41),2) -> 39.98 | U41: 29.61 | V41: 31.12 | W41: 5 | X41: ='PLE NÃO FINANCIAVEIS'!$B$15 -> MURO DE ARRIMO - VERDE | Y41: Geral 2
...

Sheet Proposta ITENS FINANCIÁVEIS
A1: PROPOSTA
A2: Modalidade | C2: =IF([1]Identificação!B2=0,"",[1]Identificação!B2) | E2: N° | F2: =IF([1]Identificação!E2=0,"",[1]Identificação!E2) | G2: Ano | H2: =IF([1]Identificação!G2=0,"",[1]Identificação!G2)
A3: Descrição do Objeto | C3: =IF([1]Identificação!B3=0,"",[1]Identificação!B3) -> Construção da nova EMEI Tio Riba - itens financiáveis
A4: Licitante | G4: CNPJ*
A5: Tipo de Objeto | C5: =IF([1]Identificação!B5=0,"",[1]Identificação!B5)
A6: Preço Total Proposto | C6: =SUMIFS(H12:H39854,B12:B39854,">0",H12:H39854,"<>0") -> 0
A7: Atenção! Se existirem itens sem preço proposto, deixe a célula do preço unitário proposto em branco.
A8: Para incluir itens da proposta, selecione as células A13 a K13 e arraste para baixo, de acordo com o número de itens cadastrado na planilha Orçamento-base.
A9: *Campos de preenchimento obrigatório | F9: **Obrigatório só para Obras e Serviços de Engenharia
A10: Nº do lote | B10: Nº Ordem | C10: Nº Item | D10: Descrição do item | E10: Proposta
E11: Qtd. | F11: Unid. | G11: Preço unitário (R$)* | H11: Preço Total (R$) | I11: % BDI** | J11: % Encargos Sociais** | K11: Percentual de Desconto
A12: =IF('PLANILHA ITENS FINANCIÁVEIS'!A12>0,'PLANILHA ITENS FINANCIÁVEIS'!A12,"") -> 1 | B12: =IF('PLANILHA ITENS FINANCIÁVEIS'!B12>0,'PLANILHA ITENS FINANCIÁVEIS'!B12,"") | C12: =IF('PLANILHA ITENS FINANCIÁVEIS'!C12>0,'PLANILHA ITENS FINANCIÁVEIS'!C12,"") -> 1 | D12: =IF('PLANILHA ITENS FINANCIÁVEIS'!G12>0,'PLANILHA ITENS FINANCIÁVEIS'!G12,"") -> SERVIÇOS PRELIMINARES | E12: =IF('PLANILHA ITENS FINANCIÁVEIS'!H12>0,'PLANILHA ITENS FINANCIÁVEIS'!H12,"") | F12: =IF('PLANILHA ITENS FINANCIÁVEIS'!I12>0,'PLANILHA ITENS FINANCIÁVEIS'!I12,"") | H12: =IFERROR(IF(E12*G12<>0,ROUND(ROUND(E12,4)*ROUND(G12,4),2),""),"")
A13: =IF('PLANILHA ITENS FINANCIÁVEIS'!A13>0,'PLANILHA ITENS FINANCIÁVEIS'!A13,"") -> 1 | B13: =IF('PLANILHA ITENS FINANCIÁVEIS'!B13>0,'PLANILHA ITENS FINANCIÁVEIS'!B13,"") -> 1 | C13: =IF('PLANILHA ITENS FINANCIÁVEIS'!C13>0,'PLANILHA ITENS FINANCIÁVEIS'!C13,"") -> 1.1 | D13: =IF('PLANILHA ITENS FINANCIÁVEIS'!G13>0,'PLANILHA ITENS FINANCIÁVEIS'!G13,"") -> FORNECIMENTO E INSTALAÇÃO DE PLACA DE OBRA COM CHAPA GALVANIZADA E ESTRUTURA DE MADEIRA. AF_03/2022_PS | E13: =IF('PLANILHA ITENS FINANCIÁVEIS'!H13>0,'PLANILHA ITENS FINANCIÁVEIS'!H13,"") -> 6.48 | F13: =IF('PLANILHA ITENS FINANCIÁVEIS'!I13>0,'PLANILHA ITENS FINANCIÁVEIS'!I13,"") -> M2 | H13: =IFERROR(IF(E13*G13<>0,ROUND(ROUND(E13,4)*ROUND(G13,4),2),""),"")
A14: =IF('PLANILHA ITENS FINANCIÁVEIS'!A14>0,'PLANILHA ITENS FINANCIÁVEIS'!A14,"") -> 1 | B14: =IF('PLANILHA ITENS FINANCIÁVEIS'!B14>0,'PLANILHA ITENS FINANCIÁVEIS'!B14,"") -> 2 | C14: =IF('PLANILHA ITENS FINANCIÁVEIS'!C14>0,'PLANILHA ITENS FINANCIÁVEIS'!C14,"") -> 1.2 | D14: =IF('PLANILHA ITENS FINANCIÁVEIS'!G14>0,'PLANILHA ITENS FINANCIÁVEIS'!G14,"") -> TAPUME COM TELHA METÁLICA. AF_03/2024 | E14: =IF('PLANILHA ITENS FINANCIÁVEIS'!H14>0,'PLANILHA ITENS FINANCIÁVEIS'!H14,"") -> 501.6 | F14: =IF('PLANILHA ITENS FINANCIÁVEIS'!I14>0,'PLANILHA ITENS FINANCIÁVEIS'!I14,"") -> M2 | H14: =IFERROR(IF(E14*G14<>0,ROUND(ROUND(E14,4)*ROUND(G14,4),2),""),"")
A15: =IF('PLANILHA ITENS FINANCIÁVEIS'!A15>0,'PLANILHA ITENS FINANCIÁVEIS'!A15,"") -> 1 | B15: =IF('PLANILHA ITENS FINANCIÁVEIS'!B15>0,'PLANILHA ITENS FINANCIÁVEIS'!B15,"") -> 3 | C15: =IF('PLANILHA ITENS FINANCIÁVEIS'!C15>0,'PLANILHA ITENS FINANCIÁVEIS'!C15,"") -> 1.3 | D15: =IF('PLANILHA ITENS FINANCIÁVEIS'!G15>0,'PLANILHA ITENS FINANCIÁVEIS'!G15,"") -> ENTRADA DE ENERGIA ELÉTRICA, AÉREA, TRIFÁSICA, COM CAIXA DE EMBUTIR, CABO DE 10 MM2 E DISJUNTOR DIN 50A (NÃO INCLUSO O POSTE DE CONCRETO). AF_07/2020 | E15: =IF('PLANILHA ITENS FINANCIÁVEIS'!H15>0,'PLANILHA ITENS FINANCIÁVEIS'!H15,"") -> 1 | F15: =IF('PLANILHA ITENS FINANCIÁVEIS'!I15>0,'PLANILHA ITENS FINANCIÁVEIS'!I15,"") -> UN | H15: =IFERROR(IF(E15*G15<>0,ROUND(ROUND(E15,4)*ROUND(G15,4),2),""),"")
A16: =IF('PLANILHA ITENS FINANCIÁVEIS'!A16>0,'PLANILHA ITENS FINANCIÁVEIS'!A16,"") -> 1 | B16: =IF('PLANILHA ITENS FINANCIÁVEIS'!B16>0,'PLANILHA ITENS FINANCIÁVEIS'!B16,"") -> 4 | C16: =IF('PLANILHA ITENS FINANCIÁVEIS'!C16>0,'PLANILHA ITENS FINANCIÁVEIS'!C16,"") -> 1.4 | D16: =IF('PLANILHA ITENS FINANCIÁVEIS'!G16>0,'PLANILHA ITENS FINANCIÁVEIS'!G16,"") -> LIGAÇÃO PROVISÓRIA DE ÁGUA E ESGOTO | E16: =IF('PLANILHA ITENS FINANCIÁVEIS'!H16>0,'PLANILHA ITENS FINANCIÁVEIS'!H16,"") -> 1 | F16: =IF('PLANILHA ITENS FINANCIÁVEIS'!I16>0,'PLANILHA ITENS FINANCIÁVEIS'!I16,"") -> UN | H16: =IFERROR(IF(E16*G16<>0,ROUND(ROUND(E16,4)*ROUND(G16,4),2),""),"")
A17: =IF('PLANILHA ITENS FINANCIÁVEIS'!A17>0,'PLANILHA ITENS FINANCIÁVEIS'!A17,"") -> 1 | B17: =IF('PLANILHA ITENS FINANCIÁVEIS'!B17>0,'PLANILHA ITENS FINANCIÁVEIS'!B17,"") -> 5 | C17: =IF('PLANILHA ITENS FINANCIÁVEIS'!C17>0,'PLANILHA ITENS FINANCIÁVEIS'!C17,"") -> 1.5 | D17: =IF('PLANILHA ITENS FINANCIÁVEIS'!G17>0,'PLANILHA ITENS FINANCIÁVEIS'!G17,"") -> LOCAÇÃO CONVENCIONAL DE OBRA, UTILIZANDO GABARITO DE TÁBUAS CORRIDAS PONTALETADAS A CADA 2,00M - 2 UTILIZAÇÕES. AF_03/2024 | E17: =IF('PLANILHA ITENS FINANCIÁVEIS'!H17>0,'PLANILHA ITENS FINANCIÁVEIS'!H17,"") -> 254 | F17: =IF('PLANILHA ITENS FINANCIÁVEIS'!I17>0,'PLANILHA ITENS FINANCIÁVEIS'!I17,"") -> M | H17: =IFERROR(IF(E17*G17<>0,ROUND(ROUND(E17,4)*ROUND(G17,4),2),""),"")
A18: =IF('PLANILHA ITENS FINANCIÁVEIS'!A18>0,'PLANILHA ITENS FINANCIÁVEIS'!A18,"") -> 1 | B18: =IF('PLANILHA ITENS FINANCIÁVEIS'!B18>0,'PLANILHA ITENS FINANCIÁVEIS'!B18,"") -> 6 | C18: =IF('PLANILHA ITENS FINANCIÁVEIS'!C18>0,'PLANILHA ITENS FINANCIÁVEIS'!C18,"") -> 1.6 | D18: =IF('PLANILHA ITENS FINANCIÁVEIS'!G18>0,'PLANILHA ITENS FINANCIÁVEIS'!G18,"") -> ADMINISTRAÇÃO LOCAL TIPO 1 | E18: =IF('PLANILHA ITENS FINANCIÁVEIS'!H18>0,'PLANILHA ITENS FINANCIÁVEIS'!H18,"") -> 1 | F18: =IF('PLANILHA ITENS FINANCIÁVEIS'!I18>0,'PLANILHA ITENS FINANCIÁVEIS'!I18,"") -> UN | H18: =IFERROR(IF(E18*G18<>0,ROUND(ROUND(E18,4)*ROUND(G18,4),2),""),"")
A19: =IF('PLANILHA ITENS FINANCIÁVEIS'!A19>0,'PLANILHA ITENS FINANCIÁVEIS'!A19,"") -> 1 | B19: =IF('PLANILHA ITENS FINANCIÁVEIS'!B19>0,'PLANILHA ITENS FINANCIÁVEIS'!B19,"") -> 7 | C19: =IF('PLANILHA ITENS FINANCIÁVEIS'!C19>0,'PLANILHA ITENS FINANCIÁVEIS'!C19,"") -> 1.7 | D19: =IF('PLANILHA ITENS FINANCIÁVEIS'!G19>0,'PLANILHA ITENS FINANCIÁVEIS'!G19,"") -> LOCACAO DE CONTAINER 2,30 X 6,00 M, ALT. 2,50 M, COM 1 SANITARIO, PARA ESCRITORIO, COMPLETO, SEM DIVISORIAS INTERNAS (NAO INCLUI MOBILIZACAO/DESMOBILIZACAO) | E19: =IF('PLANILHA ITENS FINANCIÁVEIS'!H19>0,'PLANILHA ITENS FINANCIÁVEIS'!H19,"") -> 6 | F19: =IF('PLANILHA ITENS FINANCIÁVEIS'!I19>0,'PLANILHA ITENS FINANCIÁVEIS'!I19,"") -> MES | H19: =IFERROR(IF(E19*G19<>0,ROUND(ROUND(E19,4)*ROUND(G19,4),2),""),"")
A20: =IF('PLANILHA ITENS FINANCIÁVEIS'!A20>0,'PLANILHA ITENS FINANCIÁVEIS'!A20,"") -> 1 | B20: =IF('PLANILHA ITENS FINANCIÁVEIS'!B20>0,'PLANILHA ITENS FINANCIÁVEIS'!B20,"") -> 8 | C20: =IF('PLANILHA ITENS FINANCIÁVEIS'!C20>0,'PLANILHA ITENS FINANCIÁVEIS'!C20,"") -> 1.8 | D20: =IF('PLANILHA ITENS FINANCIÁVEIS'!G20>0,'PLANILHA ITENS FINANCIÁVEIS'!G20,"") -> LOCACAO DE CONTAINER 2,30 X 6,00 M, ALT. 2,50 M, PARA ESCRITORIO, SEM DIVISORIAS INTERNAS E SEM SANITARIO (NAO INCLUI MOBILIZACAO/DESMOBILIZACAO) | E20: =IF('PLANILHA ITENS FINANCIÁVEIS'!H20>0,'PLANILHA ITENS FINANCIÁVEIS'!H20,"") -> 6 | F20: =IF('PLANILHA ITENS FINANCIÁVEIS'!I20>0,'PLANILHA ITENS FINANCIÁVEIS'!I20,"") -> MES | H20: =IFERROR(IF(E20*G20<>0,ROUND(ROUND(E20,4)*ROUND(G20,4),2),""),"")
A21: =IF('PLANILHA ITENS FINANCIÁVEIS'!A21>0,'PLANILHA ITENS FINANCIÁVEIS'!A21,"") -> 1 | B21: =IF('PLANILHA ITENS FINANCIÁVEIS'!B21>0,'PLANILHA ITENS FINANCIÁVEIS'!B21,"") -> 9 | C21: =IF('PLANILHA ITENS FINANCIÁVEIS'!C21>0,'PLANILHA ITENS FINANCIÁVEIS'!C21,"") -> 1.9 | D21: =IF('PLANILHA ITENS FINANCIÁVEIS'!G21>0,'PLANILHA ITENS FINANCIÁVEIS'!G21,"") -> LOCACAO DE CONTAINER 2,30 X 6,00 M, ALT. 2,50 M, PARA SANITARIO, COM 4 BACIAS, 8 CHUVEIROS,1 LAVATORIO E 1 MICTORIO (NAO INCLUI MOBILIZACAO/DESMOBILIZACAO) | E21: =IF('PLANILHA ITENS FINANCIÁVEIS'!H21>0,'PLANILHA ITENS FINANCIÁVEIS'!H21,"") -> 6 | F21: =IF('PLANILHA ITENS FINANCIÁVEIS'!I21>0,'PLANILHA ITENS FINANCIÁVEIS'!I21,"") -> MES | H21: =IFERROR(IF(E21*G21<>0,ROUND(ROUND(E21,4)*ROUND(G21,4),2),""),"")
A22: =IF('PLANILHA ITENS FINANCIÁVEIS'!A22>0,'PLANILHA ITENS FINANCIÁVEIS'!A22,"") -> 1 | B22: =IF('PLANILHA ITENS FINANCIÁVEIS'!B22>0,'PLANILHA ITENS FINANCIÁVEIS'!B22,"") | C22: =IF('PLANILHA ITENS FINANCIÁVEIS'!C22>0,'PLANILHA ITENS FINANCIÁVEIS'!C22,"") -> 2 | D22: =IF('PLANILHA ITENS FINANCIÁVEIS'!G22>0,'PLANILHA ITENS FINANCIÁVEIS'!G22,"") -> FUNDAÇÃO - RADIER | E22: =IF('PLANILHA ITENS FINANCIÁVEIS'!H22>0,'PLANILHA ITENS FINANCIÁVEIS'!H22,"") | F22: =IF('PLANILHA ITENS FINANCIÁVEIS'!I22>0,'PLANILHA ITENS FINANCIÁVEIS'!I22,"") | H22: =IFERROR(IF(E22*G22<>0,ROUND(ROUND(E22,4)*ROUND(G22,4),2),""),"")
A23: =IF('PLANILHA ITENS FINANCIÁVEIS'!A23>0,'PLANILHA ITENS FINANCIÁVEIS'!A23,"") -> 1 | B23: =IF('PLANILHA ITENS FINANCIÁVEIS'!B23>0,'PLANILHA ITENS FINANCIÁVEIS'!B23,"") -> 10 | C23: =IF('PLANILHA ITENS FINANCIÁVEIS'!C23>0,'PLANILHA ITENS FINANCIÁVEIS'!C23,"") -> 2.1 | D23: =IF('PLANILHA ITENS FINANCIÁVEIS'!G23>0,'PLANILHA ITENS FINANCIÁVEIS'!G23,"") -> COMPACTAÇÃO MECÂNICA DE SOLO PARA EXECUÇÃO DE RADIER, PISO DE CONCRETO OU LAJE SOBRE SOLO, COM COMPACTADOR DE SOLOS A PERCUSSÃO. AF_09/2021 | E23: =IF('PLANILHA ITENS FINANCIÁVEIS'!H23>0,'PLANILHA ITENS FINANCIÁVEIS'!H23,"") -> 1527.45 | F23: =IF('PLANILHA ITENS FINANCIÁVEIS'!I23>0,'PLANILHA ITENS FINANCIÁVEIS'!I23,"") -> M2 | H23: =IFERROR(IF(E23*G23<>0,ROUND(ROUND(E23,4)*ROUND(G23,4),2),""),"")
... A649: =IF('PLANILHA ITENS FINANCIÁVEIS'!A649>0,'PLANILHA ITENS FINANCIÁVEIS'!A649,"") -> 1 | B649: =IF('PLANILHA ITENS FINANCIÁVEIS'!B649>0,'PLANILHA ITENS FINANCIÁVEIS'!B649,"") -> 567 | C649: =IF('PLANILHA ITENS FINANCIÁVEIS'!C649>0,'PLANILHA ITENS FINANCIÁVEIS'!C649,"") -> 70.3 | D649: =IF('PLANILHA ITENS FINANCIÁVEIS'!G649>0,'PLANILHA ITENS FINANCIÁVEIS'!G649,"") -> FORNECIMENTO E INSTALAÇÃO DE PLACA DE INAUGURAÇÃO EM AÇO INOX - 500 X 700 MM | E649: =IF('PLANILHA ITENS FINANCIÁVEIS'!H649>0,'PLANILHA ITENS FINANCIÁVEIS'!H649,"") -> 1 | F649: =IF('PLANILHA ITENS FINANCIÁVEIS'!I649>0,'PLANILHA ITENS FINANCIÁVEIS'!I649,"") -> UN | H649: =IFERROR(IF(E649*G649<>0,ROUND(ROUND(E649,4)*ROUND(G649,4),2),""),"")

Sheet Proposta ITENS NÃO FINANCIÁVEIS
A1: PROPOSTA
A2: Modalidade | C2: =IF([1]Identificação!B2=0,"",[1]Identificação!B2) | E2: N° | F2: =IF([1]Identificação!E2=0,"",[1]Identificação!E2) | G2: Ano | H2: =IF([1]Identificação!G2=0,"",[1]Identificação!G2)
A3: Descrição do Objeto | C3: =IF([1]Identificação!B3=0,"",[1]Identificação!B3) -> Construção da nova EMEI Tio Riba - itens financiáveis
A4: Licitante | G4: CNPJ*
A5: Tipo de Objeto | C5: =IF([1]Identificação!B5=0,"",[1]Identificação!B5)
A6: Preço Total Proposto | C6: =SUMIFS(H12:H39563,B12:B39563,">0",H12:H39563,"<>0") -> 0
A7: Atenção! Se existirem itens sem preço proposto, deixe a célula do preço unitário proposto em branco.
A8: Para incluir itens da proposta, selecione as células A13 a K13 e arraste para baixo, de acordo com o número de itens cadastrado na planilha Orçamento-base.
A9: *Campos de preenchimento obrigatório | F9: **Obrigatório só para Obras e Serviços de Engenharia
A10: Nº do lote | B10: Nº Ordem | C10: Nº Item | D10: Descrição do item | E10: Proposta
