Workbook
Name F_10: #REF!
Name F_105: #REF!
Name F_107: #REF!
Name F_11: #REF!
Name F_112: #REF!
Name F_113: #REF!
Name F_117: #REF!
Name F_12: #REF!
Name F_120: #REF!
Name F_122: #REF!
Name F_127: #REF!
Name F_13: #REF!
Name F_14: #REF!
Name F_140: #REF!
Name F_15: #REF!
Name F_150: #REF!
Name F_16: #REF!
Name F_160: #REF!
Name F_17: #REF!
Name F_185: #REF!
Name F_2: #REF!
Name F_205: #REF!
Name F_215: #REF!
Name F_245: #REF!
Name F_250: #REF!
Name F_255: #REF!
Name F_260: #REF!
Name F_270: #REF!
Name F_285: #REF!
Name F_29: #REF!
Name F_290: #REF!
Name F_295: #REF!
Name F_3: #REF!
Name F_30: #REF!
Name F_31: #REF!
Name F_320: #REF!
Name F_33: #REF!
Name F_34: #REF!
Name F_345: #REF!
Name F_35: #REF!
Name F_350: #REF!
Name F_360: #REF!
Name F_37: #REF!
Name F_380: #REF!
Name F_390: #REF!
Name F_395: #REF!
Name F_397: #REF!
Name F_400: #REF!
Name F_405: #REF!
Name F_410: #REF!
Name F_42: #REF!
Name F_420: #REF!
Name F_428: #REF!
Name F_435: #REF!
Name F_440: #REF!
Name F_445: #REF!
Name F_45: #REF!
Name F_450: #REF!
Name F_452: #REF!
Name F_460: #REF!

Sheet Identificação
A1: IDENTIFICAÇÃO
A2: Modalidade* | B2: Concorrência Lei 14.133/21 Eletrônica | D2: N° * | F2: Ano * | G2: 2025
A3: Descrição do Objeto | B3: Registro de preços para futura e eventual contratação de serviços de manutenção predial
A4: Órgão | B4: Prefeitura Municipal de Montenegro | F4: CNPJ * | G4: 90895905000160
A5: Tipo de Objeto* | B5: Obras e Serviços de Engenharia | C5: N° CENTRAL DE COMPRAS
A6: Preço Total Estimado | B6: ='Orçamento-base'!C6 -> 14565017
A7: Preço Total Proposto | B7: =Proposta!C6 -> 0
A8: Qtd. Itens Orçamento | B8: =COUNT('Orçamento-base'!B12:B39951) -> 15
A9: Atenção! Para incluir mais de 50 lotes, selecione as células A62 a G62 e arraste as fórmulas para baixo, de acordo com o número de lotes necessário.
A10: *Campos de preenchimento obrigatório | C10: **Campos de preenchimento obrigatório para licitação composta por lotes
A11: Nº do lote** | B11: Descrição do Lote** | C11: Estimativa | G11: Proposta
C12: Valor do lote (R$) | G12: Valor do lote (R$)
A13: 1 | B13: Reforma de telhado | C13: =SUMIF('Orçamento-base'!$A$12:$A$39953,Identificação!$A13,'Orçamento-base'!$K$12:$K$39953) -> 5961363.2 | G13: =SUMIF(Proposta!$A$12:$A$39938,Identificação!$A13,Proposta!$H$12:$H$39938) -> 0
A14: 2 | B14: Reforma interna e externa das edificações | C14: =SUMIF('Orçamento-base'!$A$12:$A$39953,Identificação!$A14,'Orçamento-base'!$K$12:$K$39953) -> 8603654.2 | G14: =SUMIF(Proposta!$A$12:$A$39938,Identificação!$A14,Proposta!$H$12:$H$39938) -> 0
C15: =SUMIF('Orçamento-base'!$A$12:$A$39953,Identificação!$A15,'Orçamento-base'!$K$12:$K$39953) -> 0 | G15: =SUMIF(Proposta!$A$12:$A$39938,Identificação!$A15,Proposta!$H$12:$H$39938) -> 0
C16: =SUMIF('Orçamento-base'!$A$12:$A$39953,Identificação!$A16,'Orçamento-base'!$K$12:$K$39953) -> 0 | G16: =SUMIF(Proposta!$A$12:$A$39938,Identificação!$A16,Proposta!$H$12:$H$39938) -> 0
C17: =SUMIF('Orçamento-base'!$A$12:$A$39953,Identificação!$A17,'Orçamento-base'!$K$12:$K$39953) -> 0 | G17: =SUMIF(Proposta!$A$12:$A$39938,Identificação!$A17,Proposta!$H$12:$H$39938) -> 0
C18: =SUMIF('Orçamento-base'!$A$12:$A$39953,Identificação!$A18,'Orçamento-base'!$K$12:$K$39953) -> 0 | G18: =SUMIF(Proposta!$A$12:$A$39938,Identificação!$A18,Proposta!$H$12:$H$39938) -> 0
C19: =SUMIF('Orçamento-base'!$A$12:$A$39953,Identificação!$A19,'Orçamento-base'!$K$12:$K$39953) -> 0 | G19: =SUMIF(Proposta!$A$12:$A$39938,Identificação!$A19,Proposta!$H$12:$H$39938) -> 0
C20: =SUMIF('Orçamento-base'!$A$12:$A$39953,Identificação!$A20,'Orçamento-base'!$K$12:$K$39953) -> 0 | G20: =SUMIF(Proposta!$A$12:$A$39938,Identificação!$A20,Proposta!$H$12:$H$39938) -> 0
C21: =SUMIF('Orçamento-base'!$A$12:$A$39953,Identificação!$A21,'Orçamento-base'!$K$12:$K$39953) -> 0 | G21: =SUMIF(Proposta!$A$12:$A$39938,Identificação!$A21,Proposta!$H$12:$H$39938) -> 0
C22: =SUMIF('Orçamento-base'!$A$12:$A$39953,Identificação!$A22,'Orçamento-base'!$K$12:$K$39953) -> 0 | G22: =SUMIF(Proposta!$A$12:$A$39938,Identificação!$A22,Proposta!$H$12:$H$39938) -> 0
C23: =SUMIF('Orçamento-base'!$A$12:$A$39953,Identificação!$A23,'Orçamento-base'!$K$12:$K$39953) -> 0 | G23: =SUMIF(Proposta!$A$12:$A$39938,Identificação!$A23,Proposta!$H$12:$H$39938) -> 0
C24: =SUMIF('Orçamento-base'!$A$12:$A$39953,Identificação!$A24,'Orçamento-base'!$K$12:$K$39953) -> 0 | G24: =SUMIF(Proposta!$A$12:$A$39938,Identificação!$A24,Proposta!$H$12:$H$39938) -> 0
C25: =SUMIF('Orçamento-base'!$A$12:$A$39953,Identificação!$A25,'Orçamento-base'!$K$12:$K$39953) -> 0 | G25: =SUMIF(Proposta!$A$12:$A$39938,Identificação!$A25,Proposta!$H$12:$H$39938) -> 0
C26: =SUMIF('Orçamento-base'!$A$12:$A$39953,Identificação!$A26,'Orçamento-base'!$K$12:$K$39953) -> 0 | G26: =SUMIF(Proposta!$A$12:$A$39938,Identificação!$A26,Proposta!$H$12:$H$39938) -> 0
... C62: =SUMIF('Orçamento-base'!$A$12:$A$39953,Identificação!$A62,'Orçamento-base'!$K$12:$K$39953) -> 0 | G62: =SUMIF(Proposta!$A$12:$A$39938,Identificação!$A62,Proposta!$H$12:$H$39938) -> 0

Sheet Orçamento-base
A1: ORÇAMENTO
A2: Modalidade | C2: =IF(Identificação!B2=0,"",Identificação!B2) -> Concorrência Lei 14.133/21 Eletrônica | H2: N° | I2: =IF(Identificação!E2=0,"",Identificação!E2) | J2: Ano | K2: =IF(Identificação!G2=0,"",Identificação!G2) -> 2025
A3: Descrição do Objeto | C3: =IF(Identificação!B3=0,"",Identificação!B3) -> Registro de preços para futura e eventual contratação de serviços de manutenção predial
A4: Órgão | C4: =IF(Identificação!B4=0,"",Identificação!B4) -> Prefeitura Municipal de Montenegro | J4: CNPJ | K4: =IF(Identificação!G4=0,"",Identificação!G4) -> 90895905000160
A5: Tipo de Objeto | C5: =IF(Identificação!B5=0,"",Identificação!B5) -> Obras e Serviços de Engenharia
A6: Preço T. Estimado | C6: =SUMIFS(K12:K39953,B12:B39953,">0",K12:K39953,"<>0") -> 14565017
A8: Atenção! Para incluir mais de 100 linhas de itens, selecione as células A113 a R113 e arraste as fórmulas para baixo, de acordo com o número de itens necessário.
A9: *Preenchimento obrigatório | F9: **Obrigatório só para Obras e Serviços de Engenharia | H9: ***Obrigatório só para licitação composta por Lotes
A10: Nº do Lote*** | B10: N° Ordem | C10: Nº Item* | D10: Fonte de Referência** | E10: Código de Referência** | F10: Data de Referência** | G10: Descrição do item* | H10: Estimativa | N10: Família | P10: Subfamília | R10: Tipo de Orçamento | S10: Pr. Unit. Material | T10: Pr. Unit. Mão de obra
H11: Qtd.* | I11: Unid.* | J11: Preço unitário (R$)* | K11: Preço Total (R$) | L11: % BDI** | M11: % Encargos Sociais** | N11: Código | O11: Descrição | P11: Código | Q11: Descrição
A12: 1 | B12: =IF(AND(G12<>"",H12>0,I12<>"",J12<>0,K12<>0),COUNT($B$11:B11)+1,"") -> 1 | C12: 1 | D12: COMPOSICAO_PROPRIA | E12: Comp A | F12: 45870 | G12: Reforma de telhado com telha de fibrocimento, incluindo material, mão de obra e destinação dos resíduos, conforme memorial descritivo dos serviços | H12: 11500 | I12: m² | J12: =IFERROR(IF(S12+T12<>0,ROUND(ROUND(S12,4)+ROUND(T12,4),4),""),"") -> 78.59 | K12: =IFERROR(IF(H12*J12<>0,ROUND(ROUND(H12,4)*ROUND(J12,4),2),""),"") -> 903785 | L12: 0.2979 | M12: 0.9022 | O12: =IF(N12="","", INDIRECT("base!"&ADDRESS(MATCH(N12,#REF!:#REF!,0)+1,4,4))) | Q12: =IF(P12="","", INDIRECT("base!"&ADDRESS(MATCH(CONCATENATE(N12,"|",P12),#REF!:#REF!,0)+1,6,4))) | S12: =TRUNC(U12*(1+L12),2) -> 66.01 | T12: =TRUNC(V12*(1+L12),2) -> 12.58 | U12: 50.86 | V12: 9.7
A13: 1 | B13: =IF(AND(G13<>"",H13>0,I13<>"",J13<>0,K13<>0),COUNT($B$11:B12)+1,"") -> 2 | C13: 2 | D13: COMPOSICAO_PROPRIA | E13: Comp B | F13: 45870 | G13: Reforma de telhado com telha cerâmica, incluindo material, mão de obra e destinação dos resíduos, conforme memorial descritivo dos serviços | H13: 1325 | I13: m² | J13: =IFERROR(IF(S13+T13<>0,ROUND(ROUND(S13,4)+ROUND(T13,4),4),""),"") -> 96.6 | K13: =IFERROR(IF(H13*J13<>0,ROUND(ROUND(H13,4)*ROUND(J13,4),2),""),"") -> 127995 | L13: 0.2979 | M13: 0.9022 | O13: =IF(N13="","", INDIRECT("base!"&ADDRESS(MATCH(N13,#REF!:#REF!,0)+1,4,4))) | Q13: =IF(P13="","", INDIRECT("base!"&ADDRESS(MATCH(CONCATENATE(N13,"|",P13),#REF!:#REF!,0)+1,6,4))) | S13: =TRUNC(U13*(1+L13),2) -> 78.3 | T13: =TRUNC(V13*(1+L13),2) -> 18.3 | U13: 60.33 | V13: 14.1
A14: 1 | B14: =IF(AND(G14<>"",H14>0,I14<>"",J14<>0,K14<>0),COUNT($B$11:B13)+1,"") -> 3 | C14: 3 | D14: COMPOSICAO_PROPRIA | E14: Comp C | F14: 45870 | G14: Reforma de telhado com telha metálica, incluindo material, mão de obra e destinação dos resíduos, conforme memorial descritivo dos serviços | H14: 11350 | I14: m² | J14: =IFERROR(IF(S14+T14<>0,ROUND(ROUND(S14,4)+ROUND(T14,4),4),""),"") -> 228.14 | K14: =IFERROR(IF(H14*J14<>0,ROUND(ROUND(H14,4)*ROUND(J14,4),2),""),"") -> 2589389 | L14: 0.2979 | M14: 0.9022 | O14: =IF(N14="","", INDIRECT("base!"&ADDRESS(MATCH(N14,#REF!:#REF!,0)+1,4,4))) | Q14: =IF(P14="","", INDIRECT("base!"&ADDRESS(MATCH(CONCATENATE(N14,"|",P14),#REF!:#REF!,0)+1,6,4))) | S14: =TRUNC(U14*(1+L14),2) -> 220.09 | T14: =TRUNC(V14*(1+L14),2) -> 8.05 | U14: 169.58 | V14: 6.21
A15: 1 | B15: =IF(AND(G15<>"",H15>0,I15<>"",J15<>0,K15<>0),COUNT($B$11:B14)+1,"") -> 4 | C15: 4 | D15: COMPOSICAO_PROPRIA | E15: Comp D | F15: 45870 | G15: Troca de calha, incluindo material, mão de obra e destinação dos resíduos, conforme memorial descritivo dos serviços | H15: 5075 | I15: m | J15: =IFERROR(IF(S15+T15<>0,ROUND(ROUND(S15,4)+ROUND(T15,4),4),""),"") -> 139.89 | K15: =IFERROR(IF(H15*J15<>0,ROUND(ROUND(H15,4)*ROUND(J15,4),2),""),"") -> 709941.75 | L15: 0.2979 | M15: 0.9022 | O15: =IF(N15="","", INDIRECT("base!"&ADDRESS(MATCH(N15,#REF!:#REF!,0)+1,4,4))) | Q15: =IF(P15="","", INDIRECT("base!"&ADDRESS(MATCH(CONCATENATE(N15,"|",P15),#REF!:#REF!,0)+1,6,4))) | S15: =TRUNC(U15*(1+L15),2) -> 117.26 | T15: =TRUNC(V15*(1+L15),2) -> 22.63 | U15: 90.35 | V15: 17.44
A16: 1 | B16: =IF(AND(G16<>"",H16>0,I16<>"",J16<>0,K16<>0),COUNT($B$11:B15)+1,"") -> 5 | C16: 5 | D16: COMPOSICAO_PROPRIA | E16: Comp E | F16: 45870 | G16: Troca de capa de muro, incluindo material, mão de obra e destinação dos resíduos, conforme memorial descritivo dos serviços | H16: 2545 | I16: m | J16: =IFERROR(IF(S16+T16<>0,ROUND(ROUND(S16,4)+ROUND(T16,4),4),""),"") -> 107.74 | K16: =IFERROR(IF(H16*J16<>0,ROUND(ROUND(H16,4)*ROUND(J16,4),2),""),"") -> 274198.3 | L16: 0.2979 | M16: 0.9022 | O16: =IF(N16="","", INDIRECT("base!"&ADDRESS(MATCH(N16,#REF!:#REF!,0)+1,4,4))) | Q16: =IF(P16="","", INDIRECT("base!"&ADDRESS(MATCH(CONCATENATE(N16,"|",P16),#REF!:#REF!,0)+1,6,4))) | S16: =TRUNC(U16*(1+L16),2) -> 64.24 | T16: =TRUNC(V16*(1+L16),2) -> 43.5 | U16: 49.5 | V16: 33.52
A17: 1 | B17: =IF(AND(G17<>"",H17>0,I17<>"",J17<>0,K17<>0),COUNT($B$11:B16)+1,"") -> 6 | C17: 6 | D17: COMPOSICAO_PROPRIA | E17: Comp F | F17: 45870 | G17: Troca de rufo, incluindo material, mão de obra e destinação dos resíduos, conforme memorial descritivo dos serviços | H17: 2695 | I17: m | J17: =IFERROR(IF(S17+T17<>0,ROUND(ROUND(S17,4)+ROUND(T17,4),4),""),"") -> 86.97 | K17: =IFERROR(IF(H17*J17<>0,ROUND(ROUND(H17,4)*ROUND(J17,4),2),""),"") -> 234384.15 | L17: 0.2979 | M17: 0.9022 | O17: =IF(N17="","", INDIRECT("base!"&ADDRESS(MATCH(N17,#REF!:#REF!,0)+1,4,4))) | Q17: =IF(P17="","", INDIRECT("base!"&ADDRESS(MATCH(CONCATENATE(N17,"|",P17),#REF!:#REF!,0)+1,6,4))) | S17: =TRUNC(U17*(1+L17),2) -> 72.2 | T17: =TRUNC(V17*(1+L17),2) -> 14.77 | U17: 55.63 | V17: 11.38
A18: 1 | B18: =IF(AND(G18<>"",H18>0,I18<>"",J18<>0,K18<>0),COUNT($B$11:B17)+1,"") -> 7 | C18: 7 | D18: COMPOSICAO_PROPRIA | E18: Comp G | F18: 45870 | G18: Limpeza de calha, incluindo material e mão de obra, conforme memorial descritivo dos serviços | H18: 14100 | I18: m | J18: =IFERROR(IF(S18+T18<>0,ROUND(ROUND(S18,4)+ROUND(T18,4),4),""),"") -> 8.22 | K18: =IFERROR(IF(H18*J18<>0,ROUND(ROUND(H18,4)*ROUND(J18,4),2),""),"") -> 115902 | L18: 0.2979 | M18: 0.9022 | O18: =IF(N18="","", INDIRECT("base!"&ADDRESS(MATCH(N18,#REF!:#REF!,0)+1,4,4))) | Q18: =IF(P18="","", INDIRECT("base!"&ADDRESS(MATCH(CONCATENATE(N18,"|",P18),#REF!:#REF!,0)+1,6,4))) | S18: =TRUNC(U18*(1+L18),2) -> 2.79 | T18: =TRUNC(V18*(1+L18),2) -> 5.43 | U18: 2.15 | V18: 4.19
A19: 1 | B19: =IF(AND(G19<>"",H19>0,I19<>"",J19<>0,K19<>0),COUNT($B$11:B18)+1,"") -> 8 | C19: 8 | D19: COMPOSICAO_PROPRIA | E19: Comp H | F19: 45870 | G19: Limpeza e impermeabilização de superfície com primer e manta asfáltica, incluindo material e mão de obra, conforme memorial descritivo dos serviços | H19: 6100 | I19: m² | J19: =IFERROR(IF(S19+T19<>0,ROUND(ROUND(S19,4)+ROUND(T19,4),4),""),"") -> 164.88 | K19: =IFERROR(IF(H19*J19<>0,ROUND(ROUND(H19,4)*ROUND(J19,4),2),""),"") -> 1005768 | L19: 0.2979 | M19: 0.9022 | O19: =IF(N19="","", INDIRECT("base!"&ADDRESS(MATCH(N19,#REF!:#REF!,0)+1,4,4))) | Q19: =IF(P19="","", INDIRECT("base!"&ADDRESS(MATCH(CONCATENATE(N19,"|",P19),#REF!:#REF!,0)+1,6,4))) | S19: =TRUNC(U19*(1+L19),2) -> 131.33 | T19: =TRUNC(V19*(1+L19),2) -> 33.55 | U19: 101.19 | V19: 25.85
A20: 2 | B20: =IF(AND(G20<>"",H20>0,I20<>"",J20<>0,K20<>0),COUNT($B$11:B19)+1,"") -> 9 | C20: 1 | D20: COMPOSICAO_PROPRIA | E20: Comp I | F20: 45870 | G20: Limpeza de superfícies (parede/teto) e pintura interna/externa com tinta acrílica premium, incluindo material e mão de obra, conforme memorial descritivo dos serviços | H20: 63305 | I20: m² | J20: =IFERROR(IF(S20+T20<>0,ROUND(ROUND(S20,4)+ROUND(T20,4),4),""),"") -> 20.24 | K20: =IFERROR(IF(H20*J20<>0,ROUND(ROUND(H20,4)*ROUND(J20,4),2),""),"") -> 1281293.2 | L20: 0.2979 | M20: 0.9022 | O20: =IF(N20="","", INDIRECT("base!"&ADDRESS(MATCH(N20,#REF!:#REF!,0)+1,4,4))) | Q20: =IF(P20="","", INDIRECT("base!"&ADDRESS(MATCH(CONCATENATE(N20,"|",P20),#REF!:#REF!,0)+1,6,4))) | S20: =TRUNC(U20*(1+L20),2) -> 12.83 | T20: =TRUNC(V20*(1+L20),2) -> 7.41 | U20: 9.89 | V20: 5.71
A21: 2 | B21: =IF(AND(G21<>"",H21>0,I21<>"",J21<>0,K21<>0),COUNT($B$11:B20)+1,"") -> 10 | C21: 2 | D21: COMPOSICAO_PROPRIA | E21: Comp J | F21: 45870 | G21: Reparo de revestimento cimentício em paredes/teto: demolição de reboco, limpeza, impermeabilização, refazimento de revestimento e pintura com fundo selador, incluindo material, mão de obra e destinação dos resíduos, conforme memorial descritivo dos serviços | H21: 22105 | I21: m² | J21: =IFERROR(IF(S21+T21<>0,ROUND(ROUND(S21,4)+ROUND(T21,4),4),""),"") -> 127.84 | K21: =IFERROR(IF(H21*J21<>0,ROUND(ROUND(H21,4)*ROUND(J21,4),2),""),"") -> 2825903.2 | L21: 0.2979 | M21: 0.9022 | O21: =IF(N21="","", INDIRECT("base!"&ADDRESS(MATCH(N21,#REF!:#REF!,0)+1,4,4))) | Q21: =IF(P21="","", INDIRECT("base!"&ADDRESS(MATCH(CONCATENATE(N21,"|",P21),#REF!:#REF!,0)+1,6,4))) | S21: =TRUNC(U21*(1+L21),2) -> 77.95 | T21: =TRUNC(V21*(1+L21),2) -> 49.89 | U21: 60.06 | V21: 38.44
A22: 2 | B22: =IF(AND(G22<>"",H22>0,I22<>"",J22<>0,K22<>0),COUNT($B$11:B21)+1,"") -> 11 | C22: 3 | D22: COMPOSICAO_PROPRIA | E22: Comp K | F22: 45870 | G22: Remoção de piso e assentamento de porcelanato, incluindo material, mão de obra e destinação dos resíduos, conforme memorial descritivo dos serviços | H22: 9800 | I22: m² | J22: =IFERROR(IF(S22+T22<>0,ROUND(ROUND(S22,4)+ROUND(T22,4),4),""),"") -> 185.71 | K22: =IFERROR(IF(H22*J22<>0,ROUND(ROUND(H22,4)*ROUND(J22,4),2),""),"") -> 1819958 | L22: 0.2979 | M22: 0.9022 | O22: =IF(N22="","", INDIRECT("base!"&ADDRESS(MATCH(N22,#REF!:#REF!,0)+1,4,4))) | Q22: =IF(P22="","", INDIRECT("base!"&ADDRESS(MATCH(CONCATENATE(N22,"|",P22),#REF!:#REF!,0)+1,6,4))) | S22: =TRUNC(U22*(1+L22),2) -> 145.48 | T22: =TRUNC(V22*(1+L22),2) -> 40.23 | U22: 112.09 | V22: 31
A23: 2 | B23: =IF(AND(G23<>"",H23>0,I23<>"",J23<>0,K23<>0),COUNT($B$11:B22)+1,"") -> 12 | C23: 4 | D23: COMPOSICAO_PROPRIA | E23: Comp L | F23: 45870 | G23: Remoção e assentamento de revestimento cerâmico em paredes, incluindo material, mão de obra e destinação dos resíduos, conforme memorial descritivo dos serviços | H23: 5450 | I23: m² | J23: =IFERROR(IF(S23+T23<>0,ROUND(ROUND(S23,4)+ROUND(T23,4),4),""),"") -> 119.36 | K23: =IFERROR(IF(H23*J23<>0,ROUND(ROUND(H23,4)*ROUND(J23,4),2),""),"") -> 650512 | L23: 0.2979 | M23: 0.9022 | O23: =IF(N23="","", INDIRECT("base!"&ADDRESS(MATCH(N23,#REF!:#REF!,0)+1,4,4))) | Q23: =IF(P23="","", INDIRECT("base!"&ADDRESS(MATCH(CONCATENATE(N23,"|",P23),#REF!:#REF!,0)+1,6,4))) | S23: =TRUNC(U23*(1+L23),2) -> 71.26 | T23: =TRUNC(V23*(1+L23),2) -> 48.1 | U23: 54.91 | V23: 37.06
... A26: 2 | B26: =IF(AND(G26<>"",H26>0,I26<>"",J26<>0,K26<>0),COUNT($B$11:B25)+1,"") -> 15 | C26: 7 | D26: COMPOSICAO_PROPRIA | E26: Comp O | F26: 45870 | G26: Remoção e assentamento de rodapé cerâmico, incluindo material, mão de obra e destinação dos resíduos, conforme memorial descritivo dos serviços | H26: 5300 | I26: m | J26: =IFERROR(IF(S26+T26<>0,ROUND(ROUND(S26,4)+ROUND(T26,4),4),""),"") -> 28.55 | K26: =IFERROR(IF(H26*J26<>0,ROUND(ROUND(H26,4)*ROUND(J26,4),2),""),"") -> 151315 | L26: 0.2979 | M26: 0.9022 | O26: =IF(N26="","", INDIRECT("base!"&ADDRESS(MATCH(N26,#REF!:#REF!,0)+1,4,4))) | Q26: =IF(P26="","", INDIRECT("base!"&ADDRESS(MATCH(CONCATENATE(N26,"|",P26),#REF!:#REF!,0)+1,6,4))) | S26: =TRUNC(U26*(1+L26),2) -> 22.9 | T26: =TRUNC(V26*(1+L26),2) -> 5.65 | U26: 17.65 | V26: 4.36
B27: =IF(AND(G27<>"",H27>0,I27<>"",J27<>0,K27<>0),COUNT($B$11:B26)+1,"") | J27: =IFERROR(IF(S27+T27<>0,ROUND(ROUND(S27,4)+ROUND(T27,4),4),""),"") | K27: =IFERROR(IF(H27*J27<>0,ROUND(ROUND(H27,4)*ROUND(J27,4),2),""),"") | O27: =IF(N27="","", INDIRECT("base!"&ADDRESS(MATCH(N27,#REF!:#REF!,0)+1,4,4))) | Q27: =IF(P27="","", INDIRECT("base!"&ADDRESS(MATCH(CONCATENATE(N27,"|",P27),#REF!:#REF!,0)+1,6,4)))
B28: =IF(AND(G28<>"",H28>0,I28<>"",J28<>0,K28<>0),COUNT($B$11:B27)+1,"") | J28: =IFERROR(IF(S28+T28<>0,ROUND(ROUND(S28,4)+ROUND(T28,4),4),""),"") | K28: =IFERROR(IF(H28*J28<>0,ROUND(ROUND(H28,4)*ROUND(J28,4),2),""),"") | O28: =IF(N28="","", INDIRECT("base!"&ADDRESS(MATCH(N28,#REF!:#REF!,0)+1,4,4))) | Q28: =IF(P28="","", INDIRECT("base!"&ADDRESS(MATCH(CONCATENATE(N28,"|",P28),#REF!:#REF!,0)+1,6,4)))
B29: =IF(AND(G29<>"",H29>0,I29<>"",J29<>0,K29<>0),COUNT($B$11:B28)+1,"") | J29: =IFERROR(IF(S29+T29<>0,ROUND(ROUND(S29,4)+ROUND(T29,4),4),""),"") | K29: =IFERROR(IF(H29*J29<>0,ROUND(ROUND(H29,4)*ROUND(J29,4),2),""),"") | O29: =IF(N29="","", INDIRECT("base!"&ADDRESS(MATCH(N29,#REF!:#REF!,0)+1,4,4))) | Q29: =IF(P29="","", INDIRECT("base!"&ADDRESS(MATCH(CONCATENATE(N29,"|",P29),#REF!:#REF!,0)+1,6,4)))
B30: =IF(AND(G30<>"",H30>0,I30<>"",J30<>0,K30<>0),COUNT($B$11:B29)+1,"") | G30: Valéria Wollmann | J30: =IFERROR(IF(S30+T30<>0,ROUND(ROUND(S30,4)+ROUND(T30,4),4),""),"") | K30: =IFERROR(IF(H30*J30<>0,ROUND(ROUND(H30,4)*ROUND(J30,4),2),""),"") | O30: =IF(N30="","", INDIRECT("base!"&ADDRESS(MATCH(N30,#REF!:#REF!,0)+1,4,4))) | Q30: =IF(P30="","", INDIRECT("base!"&ADDRESS(MATCH(CONCATENATE(N30,"|",P30),#REF!:#REF!,0)+1,6,4)))
B31: =IF(AND(G31<>"",H31>0,I31<>"",J31<>0,K31<>0),COUNT($B$11:B30)+1,"") | G31: Cau A195685-0 | J31: =IFERROR(IF(S31+T31<>0,ROUND(ROUND(S31,4)+ROUND(T31,4),4),""),"") | K31: =IFERROR(IF(H31*J31<>0,ROUND(ROUND(H31,4)*ROUND(J31,4),2),""),"") | O31: =IF(N31="","", INDIRECT("base!"&ADDRESS(MATCH(N31,#REF!:#REF!,0)+1,4,4))) | Q31: =IF(P31="","", INDIRECT("base!"&ADDRESS(MATCH(CONCATENATE(N31,"|",P31),#REF!:#REF!,0)+1,6,4)))
B32: =IF(AND(G32<>"",H32>0,I32<>"",J32<>0,K32<>0),COUNT($B$11:B31)+1,"") | J32: =IFERROR(IF(S32+T32<>0,ROUND(ROUND(S32,4)+ROUND(T32,4),4),""),"") | K32: =IFERROR(IF(H32*J32<>0,ROUND(ROUND(H32,4)*ROUND(J32,4),2),""),"") | O32: =IF(N32="","", INDIRECT("base!"&ADDRESS(MATCH(N32,#REF!:#REF!,0)+1,4,4))) | Q32: =IF(P32="","", INDIRECT("base!"&ADDRESS(MATCH(CONCATENATE(N32,"|",P32),#REF!:#REF!,0)+1,6,4)))
B33: =IF(AND(G33<>"",H33>0,I33<>"",J33<>0,K33<>0),COUNT($B$11:B32)+1,"") | J33: =IFERROR(IF(S33+T33<>0,ROUND(ROUND(S33,4)+ROUND(T33,4),4),""),"") | K33: =IFERROR(IF(H33*J33<>0,ROUND(ROUND(H33,4)*ROUND(J33,4),2),""),"") | O33: =IF(N33="","", INDIRECT("base!"&ADDRESS(MATCH(N33,#REF!:#REF!,0)+1,4,4))) | Q33: =IF(P33="","", INDIRECT("base!"&ADDRESS(MATCH(CONCATENATE(N33,"|",P33),#REF!:#REF!,0)+1,6,4)))
B34: =IF(AND(G34<>"",H34>0,I34<>"",J34<>0,K34<>0),COUNT($B$11:B33)+1,"") | J34: =IFERROR(IF(S34+T34<>0,ROUND(ROUND(S34,4)+ROUND(T34,4),4),""),"") | K34: =IFERROR(IF(H34*J34<>0,ROUND(ROUND(H34,4)*ROUND(J34,4),2),""),"") | O34: =IF(N34="","", INDIRECT("base!"&ADDRESS(MATCH(N34,#REF!:#REF!,0)+1,4,4))) | Q34: =IF(P34="","", INDIRECT("base!"&ADDRESS(MATCH(CONCATENATE(N34,"|",P34),#REF!:#REF!,0)+1,6,4)))
B35: =IF(AND(G35<>"",H35>0,I35<>"",J35<>0,K35<>0),COUNT($B$11:B34)+1,"") | J35: =IFERROR(IF(S35+T35<>0,ROUND(ROUND(S35,4)+ROUND(T35,4),4),""),"") | K35: =IFERROR(IF(H35*J35<>0,ROUND(ROUND(H35,4)*ROUND(J35,4),2),""),"") | O35: =IF(N35="","", INDIRECT("base!"&ADDRESS(MATCH(N35,#REF!:#REF!,0)+1,4,4))) | Q35: =IF(P35="","", INDIRECT("base!"&ADDRESS(MATCH(CONCATENATE(N35,"|",P35),#REF!:#REF!,0)+1,6,4)))
B36: =IF(AND(G36<>"",H36>0,I36<>"",J36<>0,K36<>0),COUNT($B$11:B35)+1,"") | J36: =IFERROR(IF(S36+T36<>0,ROUND(ROUND(S36,4)+ROUND(T36,4),4),""),"") | K36: =IFERROR(IF(H36*J36<>0,ROUND(ROUND(H36,4)*ROUND(J36,4),2),""),"") | O36: =IF(N36="","", INDIRECT("base!"&ADDRESS(MATCH(N36,#REF!:#REF!,0)+1,4,4))) | Q36: =IF(P36="","", INDIRECT("base!"&ADDRESS(MATCH(CONCATENATE(N36,"|",P36),#REF!:#REF!,0)+1,6,4)))
B37: =IF(AND(G37<>"",H37>0,I37<>"",J37<>0,K37<>0),COUNT($B$11:B36)+1,"") | J37: =IFERROR(IF(S37+T37<>0,ROUND(ROUND(S37,4)+ROUND(T37,4),4),""),"") | K37: =IFERROR(IF(H37*J37<>0,ROUND(ROUND(H37,4)*ROUND(J37,4),2),""),"") | O37: =IF(N37="","", INDIRECT("base!"&ADDRESS(MATCH(N37,#REF!:#REF!,0)+1,4,4))) | Q37: =IF(P37="","", INDIRECT("base!"&ADDRESS(MATCH(CONCATENATE(N37,"|",P37),#REF!:#REF!,0)+1,6,4)))
B38: =IF(AND(G38<>"",H38>0,I38<>"",J38<>0,K38<>0),COUNT($B$11:B37)+1,"") | J38: =IFERROR(IF(S38+T38<>0,ROUND(ROUND(S38,4)+ROUND(T38,4),4),""),"") | K38: =IFERROR(IF(H38*J38<>0,ROUND(ROUND(H38,4)*ROUND(J38,4),2),""),"") | O38: =IF(N38="","", INDIRECT("base!"&ADDRESS(MATCH(N38,#REF!:#REF!,0)+1,4,4))) | Q38: =IF(P38="","", INDIRECT("base!"&ADDRESS(MATCH(CONCATENATE(N38,"|",P38),#REF!:#REF!,0)+1,6,4)))
B39: =IF(AND(G39<>"",H39>0,I39<>"",J39<>0,K39<>0),COUNT($B$11:B38)+1,"") | J39: =IFERROR(IF(S39+T39<>0,ROUND(ROUND(S39,4)+ROUND(T39,4),4),""),"") | K39: =IFERROR(IF(H39*J39<>0,ROUND(ROUND(H39,4)*ROUND(J39,4),2),""),"") | O39: =IF(N39="","", INDIRECT("base!"&ADDRESS(MATCH(N39,#REF!:#REF!,0)+1,4,4))) | Q39: =IF(P39="","", INDIRECT("base!"&ADDRESS(MATCH(CONCATENATE(N39,"|",P39),#REF!:#REF!,0)+1,6,4)))
B40: =IF(AND(G40<>"",H40>0,I40<>"",J40<>0,K40<>0),COUNT($B$11:B39)+1,"") | J40: =IFERROR(IF(S40+T40<>0,ROUND(ROUND(S40,4)+ROUND(T40,4),4),""),"") | K40: =IFERROR(IF(H40*J40<>0,ROUND(ROUND(H40,4)*ROUND(J40,4),2),""),"") | O40: =IF(N40="","", INDIRECT("base!"&ADDRESS(MATCH(N40,#REF!:#REF!,0)+1,4,4))) | Q40: =IF(P40="","", INDIRECT("base!"&ADDRESS(MATCH(CONCATENATE(N40,"|",P40),#REF!:#REF!,0)+1,6,4)))
B41: =IF(AND(G41<>"",H41>0,I41<>"",J41<>0,K41<>0),COUNT($B$11:B40)+1,"") | J41: =IFERROR(IF(S41+T41<>0,ROUND(ROUND(S41,4)+ROUND(T41,4),4),""),"") | K41: =IFERROR(IF(H41*J41<>0,ROUND(ROUND(H41,4)*ROUND(J41,4),2),""),"") | O41: =IF(N41="","", INDIRECT("base!"&ADDRESS(MATCH(N41,#REF!:#REF!,0)+1,4,4))) | Q41: =IF(P41="","", INDIRECT("base!"&ADDRESS(MATCH(CONCATENATE(N41,"|",P41),#REF!:#REF!,0)+1,6,4)))
B42: =IF(AND(G42<>"",H42>0,I42<>"",J42<>0,K42<>0),COUNT($B$11:B41)+1,"") | J42: =IFERROR(IF(S42+T42<>0,ROUND(ROUND(S42,4)+ROUND(T42,4),4),""),"") | K42: =IFERROR(IF(H42*J42<>0,ROUND(ROUND(H42,4)*ROUND(J42,4),2),""),"") | O42: =IF(N42="","", INDIRECT("base!"&ADDRESS(MATCH(N42,#REF!:#REF!,0)+1,4,4))) | Q42: =IF(P42="","", INDIRECT("base!"&ADDRESS(MATCH(CONCATENATE(N42,"|",P42),#REF!:#REF!,0)+1,6,4)))
B43: =IF(AND(G43<>"",H43>0,I43<>"",J43<>0,K43<>0),COUNT($B$11:B42)+1,"") | J43: =IFERROR(IF(S43+T43<>0,ROUND(ROUND(S43,4)+ROUND(T43,4),4),""),"") | K43: =IFERROR(IF(H43*J43<>0,ROUND(ROUND(H43,4)*ROUND(J43,4),2),""),"") | O43: =IF(N43="","", INDIRECT("base!"&ADDRESS(MATCH(N43,#REF!:#REF!,0)+1,4,4))) | Q43: =IF(P43="","", INDIRECT("base!"&ADDRESS(MATCH(CONCATENATE(N43,"|",P43),#REF!:#REF!,0)+1,6,4)))
...

Sheet Proposta
A1: PROPOSTA
A2: Modalidade | C2: =IF(Identificação!B2=0,"",Identificação!B2) -> Concorrência Lei 14.133/21 Eletrônica | E2: N° | F2: =IF(Identificação!E2=0,"",Identificação!E2) | G2: Ano | H2: =IF(Identificação!G2=0,"",Identificação!G2) -> 2025
A3: Descrição do Objeto | C3: =IF(Identificação!B3=0,"",Identificação!B3) -> Registro de preços para futura e eventual contratação de serviços de manutenção predial
A4: Licitante | G4: CNPJ*
A5: Tipo de Objeto | C5: =IF(Identificação!B5=0,"",Identificação!B5) -> Obras e Serviços de Engenharia
A6: Preço Total Proposto | C6: =SUMIFS(H12:H39938,B12:B39938,">0",H12:H39938,"<>0") -> 0
A7: Atenção! Se existirem itens sem preço proposto, deixe a célula do preço unitário proposto em branco.
A8: Para incluir itens da proposta, selecione as células A13 a K13 e arraste para baixo, de acordo com o número de itens cadastrado na planilha Orçamento-base.
A9: *Campos de preenchimento obrigatório | F9: **Obrigatório só para Obras e Serviços de Engenharia
A10: Nº do lote | B10: Nº Ordem | C10: Nº Item | D10: Descrição do item | E10: Proposta
E11: Qtd. | F11: Unid. | G11: Preço unitário (R$)* | H11: Preço Total (R$) | I11: % BDI** | J11: % Encargos Sociais** | K11: Percentual de Desconto | L11: Pr. Unit. Material | M11: Pr. Unit. Mão de obra
A12: =IF('Orçamento-base'!A12>0,'Orçamento-base'!A12,"") -> 1 | B12: ='Orçamento-base'!B12 -> 1 | C12: =IF('Orçamento-base'!C12>0,'Orçamento-base'!C12,"") -> 1 | D12: =IF('Orçamento-base'!G12>0,'Orçamento-base'!G12,"") -> Reforma de telhado com telha de fibrocimento, incluindo material, mão de obra e destinação dos resíduos, conforme memorial descritivo dos serviços | E12: =IF('Orçamento-base'!H12>0,'Orçamento-base'!H12,"") -> 11500 | F12: =IF('Orçamento-base'!I12>0,'Orçamento-base'!I12,"") -> m² | G12: =IFERROR(IF(L12+M12<>0,ROUND(ROUND(L12,4)+ROUND(M12,4),4),""),"") | H12: =IFERROR(IF(E12*G12<>0,ROUND(ROUND(E12,4)*ROUND(G12,4),2),""),"")
A13: =IF('Orçamento-base'!A13>0,'Orçamento-base'!A13,"") -> 1 | B13: ='Orçamento-base'!B13 -> 2 | C13: =IF('Orçamento-base'!C13>0,'Orçamento-base'!C13,"") -> 2 | D13: =IF('Orçamento-base'!G13>0,'Orçamento-base'!G13,"") -> Reforma de telhado com telha cerâmica, incluindo material, mão de obra e destinação dos resíduos, conforme memorial descritivo dos serviços | E13: =IF('Orçamento-base'!H13>0,'Orçamento-base'!H13,"") -> 1325 | F13: =IF('Orçamento-base'!I13>0,'Orçamento-base'!I13,"") -> m² | G13: =IFERROR(IF(L13+M13<>0,ROUND(ROUND(L13,4)+ROUND(M13,4),4),""),"") | H13: =IFERROR(IF(E13*G13<>0,ROUND(ROUND(E13,4)*ROUND(G13,4),2),""),"")
A14: =IF('Orçamento-base'!A14>0,'Orçamento-base'!A14,"") -> 1 | B14: ='Orçamento-base'!B14 -> 3 | C14: =IF('Orçamento-base'!C14>0,'Orçamento-base'!C14,"") -> 3 | D14: =IF('Orçamento-base'!G14>0,'Orçamento-base'!G14,"") -> Reforma de telhado com telha metálica, incluindo material, mão de obra e destinação dos resíduos, conforme memorial descritivo dos serviços | E14: =IF('Orçamento-base'!H14>0,'Orçamento-base'!H14,"") -> 11350 | F14: =IF('Orçamento-base'!I14>0,'Orçamento-base'!I14,"") -> m² | G14: =IFERROR(IF(L14+M14<>0,ROUND(ROUND(L14,4)+ROUND(M14,4),4),""),"") | H14: =IFERROR(IF(E14*G14<>0,ROUND(ROUND(E14,4)*ROUND(G14,4),2),""),"")
A15: =IF('Orçamento-base'!A15>0,'Orçamento-base'!A15,"") -> 1 | B15: ='Orçamento-base'!B15 -> 4 | C15: =IF('Orçamento-base'!C15>0,'Orçamento-base'!C15,"") -> 4 | D15: =IF('Orçamento-base'!G15>0,'Orçamento-base'!G15,"") -> Troca de calha, incluindo material, mão de obra e destinação dos resíduos, conforme memorial descritivo dos serviços | E15: =IF('Orçamento-base'!H15>0,'Orçamento-base'!H15,"") -> 5075 | F15: =IF('Orçamento-base'!I15>0,'Orçamento-base'!I15,"") -> m | G15: =IFERROR(IF(L15+M15<>0,ROUND(ROUND(L15,4)+ROUND(M15,4),4),""),"") | H15: =IFERROR(IF(E15*G15<>0,ROUND(ROUND(E15,4)*ROUND(G15,4),2),""),"")
A16: =IF('Orçamento-base'!A16>0,'Orçamento-base'!A16,"") -> 1 | B16: ='Orçamento-base'!B16 -> 5 | C16: =IF('Orçamento-base'!C16>0,'Orçamento-base'!C16,"") -> 5 | D16: =IF('Orçamento-base'!G16>0,'Orçamento-base'!G16,"") -> Troca de capa de muro, incluindo material, mão de obra e destinação dos resíduos, conforme memorial descritivo dos serviços | E16: =IF('Orçamento-base'!H16>0,'Orçamento-base'!H16,"") -> 2545 | F16: =IF('Orçamento-base'!I16>0,'Orçamento-base'!I16,"") -> m | G16: =IFERROR(IF(L16+M16<>0,ROUND(ROUND(L16,4)+ROUND(M16,4),4),""),"") | H16: =IFERROR(IF(E16*G16<>0,ROUND(ROUND(E16,4)*ROUND(G16,4),2),""),"")
A17: =IF('Orçamento-base'!A17>0,'Orçamento-base'!A17,"") -> 1 | B17: ='Orçamento-base'!B17 -> 6 | C17: =IF('Orçamento-base'!C17>0,'Orçamento-base'!C17,"") -> 6 | D17: =IF('Orçamento-base'!G17>0,'Orçamento-base'!G17,"") -> Troca de rufo, incluindo material, mão de obra e destinação dos resíduos, conforme memorial descritivo dos serviços | E17: =IF('Orçamento-base'!H17>0,'Orçamento-base'!H17,"") -> 2695 | F17: =IF('Orçamento-base'!I17>0,'Orçamento-base'!I17,"") -> m | G17: =IFERROR(IF(L17+M17<>0,ROUND(ROUND(L17,4)+ROUND(M17,4),4),""),"") | H17: =IFERROR(IF(E17*G17<>0,ROUND(ROUND(E17,4)*ROUND(G17,4),2),""),"")
A18: =IF('Orçamento-base'!A18>0,'Orçamento-base'!A18,"") -> 1 | B18: ='Orçamento-base'!B18 -> 7 | C18: =IF('Orçamento-base'!C18>0,'Orçamento-base'!C18,"") -> 7 | D18: =IF('Orçamento-base'!G18>0,'Orçamento-base'!G18,"") -> Limpeza de calha, incluindo material e mão de obra, conforme memorial descritivo dos serviços | E18: =IF('Orçamento-base'!H18>0,'Orçamento-base'!H18,"") -> 14100 | F18: =IF('Orçamento-base'!I18>0,'Orçamento-base'!I18,"") -> m | G18: =IFERROR(IF(L18+M18<>0,ROUND(ROUND(L18,4)+ROUND(M18,4),4),""),"") | H18: =IFERROR(IF(E18*G18<>0,ROUND(ROUND(E18,4)*ROUND(G18,4),2),""),"")
A19: =IF('Orçamento-base'!A19>0,'Orçamento-base'!A19,"") -> 1 | B19: ='Orçamento-base'!B19 -> 8 | C19: =IF('Orçamento-base'!C19>0,'Orçamento-base'!C19,"") -> 8 | D19: =IF('Orçamento-base'!G19>0,'Orçamento-base'!G19,"") -> Limpeza e impermeabilização de superfície com primer e manta asfáltica, incluindo material e mão de obra, conforme memorial descritivo dos serviços | E19: =IF('Orçamento-base'!H19>0,'Orçamento-base'!H19,"") -> 6100 | F19: =IF('Orçamento-base'!I19>0,'Orçamento-base'!I19,"") -> m² | G19: =IFERROR(IF(L19+M19<>0,ROUND(ROUND(L19,4)+ROUND(M19,4),4),""),"") | H19: =IFERROR(IF(E19*G19<>0,ROUND(ROUND(E19,4)*ROUND(G19,4),2),""),"")
A20: =IF('Orçamento-base'!A20>0,'Orçamento-base'!A20,"") -> 2 | B20: ='Orçamento-base'!B20 -> 9 | C20: =IF('Orçamento-base'!C20>0,'Orçamento-base'!C20,"") -> 1 | D20: =IF('Orçamento-base'!G20>0,'Orçamento-base'!G20,"") -> Limpeza de superfícies (parede/teto) e pintura interna/externa com tinta acrílica premium, incluindo material e mão de obra, conforme memorial descritivo dos serviços | E20: =IF('Orçamento-base'!H20>0,'Orçamento-base'!H20,"") -> 63305 | F20: =IF('Orçamento-base'!I20>0,'Orçamento-base'!I20,"") -> m² | G20: =IFERROR(IF(L20+M20<>0,ROUND(ROUND(L20,4)+ROUND(M20,4),4),""),"") | H20: =IFERROR(IF(E20*G20<>0,ROUND(ROUND(E20,4)*ROUND(G20,4),2),""),"")
A21: =IF('Orçamento-base'!A21>0,'Orçamento-base'!A21,"") -> 2 | B21: ='Orçamento-base'!B21 -> 10 | C21: =IF('Orçamento-base'!C21>0,'Orçamento-base'!C21,"") -> 2 | D21: =IF('Orçamento-base'!G21>0,'Orçamento-base'!G21,"") -> Reparo de revestimento cimentício em paredes/teto: demolição de reboco, limpeza, impermeabilização, refazimento de revestimento e pintura com fundo selador, incluindo material, mão de obra e destinação dos resíduos, conforme memorial descritivo dos serviços | E21: =IF('Orçamento-base'!H21>0,'Orçamento-base'!H21,"") -> 22105 | F21: =IF('Orçamento-base'!I21>0,'Orçamento-base'!I21,"") -> m² | G21: =IFERROR(IF(L21+M21<>0,ROUND(ROUND(L21,4)+ROUND(M21,4),4),""),"") | H21: =IFERROR(IF(E21*G21<>0,ROUND(ROUND(E21,4)*ROUND(G21,4),2),""),"")
A22: =IF('Orçamento-base'!A22>0,'Orçamento-base'!A22,"") -> 2 | B22: ='Orçamento-base'!B22 -> 11 | C22: =IF('Orçamento-base'!C22>0,'Orçamento-base'!C22,"") -> 3 | D22: =IF('Orçamento-base'!G22>0,'Orçamento-base'!G22,"") -> Remoção de piso e assentamento de porcelanato, incluindo material, mão de obra e destinação dos resíduos, conforme memorial descritivo dos serviços | E22: =IF('Orçamento-base'!H22>0,'Orçamento-base'!H22,"") -> 9800 | F22: =IF('Orçamento-base'!I22>0,'Orçamento-base'!I22,"") -> m² | G22: =IFERROR(IF(L22+M22<>0,ROUND(ROUND(L22,4)+ROUND(M22,4),4),""),"") | H22: =IFERROR(IF(E22*G22<>0,ROUND(ROUND(E22,4)*ROUND(G22,4),2),""),"")
A23: =IF('Orçamento-base'!A23>0,'Orçamento-base'!A23,"") -> 2 | B23: ='Orçamento-base'!B23 -> 12 | C23: =IF('Orçamento-base'!C23>0,'Orçamento-base'!C23,"") -> 4 | D23: =IF('Orçamento-base'!G23>0,'Orçamento-base'!G23,"") -> Remoção e assentamento de revestimento cerâmico em paredes, incluindo material, mão de obra e destinação dos resíduos, conforme memorial descritivo dos serviços | E23: =IF('Orçamento-base'!H23>0,'Orçamento-base'!H23,"") -> 5450 | F23: =IF('Orçamento-base'!I23>0,'Orçamento-base'!I23,"") -> m² | G23: =IFERROR(IF(L23+M23<>0,ROUND(ROUND(L23,4)+ROUND(M23,4),4),""),"") | H23: =IFERROR(IF(E23*G23<>0,ROUND(ROUND(E23,4)*ROUND(G23,4),2),""),"")
... A26: =IF('Orçamento-base'!A26>0,'Orçamento-base'!A26,"") -> 2 | B26: ='Orçamento-base'!B26 -> 15 | C26: =IF('Orçamento-base'!C26>0,'Orçamento-base'!C26,"") -> 7 | D26: =IF('Orçamento-base'!G26>0,'Orçamento-base'!G26,"") -> Remoção e assentamento de rodapé cerâmico, incluindo material, mão de obra e destinação dos resíduos, conforme memorial descritivo dos serviços | E26: =IF('Orçamento-base'!H26>0,'Orçamento-base'!H26,"") -> 5300 | F26: =IF('Orçamento-base'!I26>0,'Orçamento-base'!I26,"") -> m | G26: =IFERROR(IF(L26+M26<>0,ROUND(ROUND(L26,4)+ROUND(M26,4),4),""),"") | H26: =IFERROR(IF(E26*G26<>0,ROUND(ROUND(E26,4)*ROUND(G26,4),2),""),"")

Sheet CPUs
C1: Composições Analíticas com Preço Unitário | E1: Bancos
C2: Registro de preços para futura e eventual contratação de serviços de manutenção predial | E2: SINAPI - 08/2025 - Rio Grande do Sul SBC - 09/2025 - Rio Grande do Sul SICRO3 - 04/2025 - Rio Grande do Sul
A3: Composições Analíticas com Preço Unitário
A5: 1.1 | B5: Código | C5: Banco | D5: Descrição | E5: Tipo | G5: Und | H5: Quant. | I5: Valor Unit | J5: Total
A6: Composição | B6: Comp A | C6: Próprio | D6: Reforma de telhado em fibrocimento | E6: COBE - COBERTURA | G6: m² | H6: 1 | I6: 60.56 | J6: 60.56
A7: Composição Auxiliar | B7: 97647 | C7: SINAPI | D7: REMOÇÃO DE TELHAS DE FIBROCIMENTO METÁLICA E CERÂMICA, DE FORMA MANUAL, SEM REAPROVEITAMENTO. AF_09/2023 | E7: SERP - SERVIÇOS PRELIMINARES | G7: m² | H7: 1 | I7: 3.64 | J7: 3.64
A8: Composição Auxiliar | B8: 97064 | C8: SINAPI | D8: MONTAGEM E DESMONTAGEM DE ANDAIME TUBULAR TIPO "TORRE" (EXCLUSIVE ANDAIME E LIMPEZA). AF_03/2024 | E8: SEDI - SERVIÇOS DIVERSOS | G8: M | H8: 0.05 | I8: 30.41 | J8: 1.52
A9: Composição Auxiliar | B9: 94210 | C9: SINAPI | D9: TELHAMENTO COM TELHA ONDULADA DE FIBROCIMENTO E = 6 MM, COM RECOBRIMENTO LATERAL DE 1 1/4 DE ONDA PARA TELHADO COM INCLINAÇÃO MÁXIMA DE 10°, COM ATÉ 2 ÁGUAS, INCLUSO IÇAMENTO. AF_07/2019 | E9: COBE - COBERTURA | G9: m² | H9: 1 | I9: 52.98 | J9: 52.98
A10: Composição Auxiliar | B10: 95875 | C10: SINAPI | D10: TRANSPORTE COM CAMINHÃO BASCULANTE DE 10 M³, EM VIA URBANA PAVIMENTADA, DMT ATÉ 30 KM (UNIDADE: M3XKM). AF_07/2020 | E10: TRAN - TRANSPORTES, CARGAS E DESCARGAS | G10: M3XKM | H10: 0.3 | I10: 2.59 | J10: 0.77
A11: Insumo | B11: 00010527 | C11: SINAPI | D11: LOCACAO DE ANDAIME METALICO TUBULAR DE ENCAIXE, TIPO DE TORRE, CADA PAINEL COM LARGURA DE 1 ATE 1,5 M E ALTURA DE *1,00* M, INCLUINDO DIAGONAL, BARRAS DE LIGACAO, SAPATAS OU RODIZIOS E DEMAIS ITENS NECESSARIOS A MONTAGEM (NAO INCLUI INSTALACAO) | E11: Equipamento | G11: M/MES | H11: 0.05 | I11: 33 | J11: 1.65
E12: MO sem LS => | F12: 9.7 | G12: LS => | H12: 0 | I12: MO com LS => | J12: 9.7
E13: Valor do BDI => | F13: 0 | H13: Valor com BDI => | J13: 60.56
A15: 1.2 | B15: Código | C15: Banco | D15: Descrição | E15: Tipo | G15: Und | H15: Quant. | I15: Valor Unit | J15: Total
A16: Composição | B16: Comp B | C16: Próprio | D16: Reforma de telhado com telha cerâmica | E16: COBE - COBERTURA | G16: m² | H16: 1 | I16: 74.43 | J16: 74.43
A17: Composição Auxiliar | B17: 95875 | C17: SINAPI | D17: TRANSPORTE COM CAMINHÃO BASCULANTE DE 10 M³, EM VIA URBANA PAVIMENTADA, DMT ATÉ 30 KM (UNIDADE: M3XKM). AF_07/2020 | E17: TRAN - TRANSPORTES, CARGAS E DESCARGAS | G17: M3XKM | H17: 0.3 | I17: 2.59 | J17: 0.77
A18: Composição Auxiliar | B18: 97647 | C18: SINAPI | D18: REMOÇÃO DE TELHAS DE FIBROCIMENTO METÁLICA E CERÂMICA, DE FORMA MANUAL, SEM REAPROVEITAMENTO. AF_09/2023 | E18: SERP - SERVIÇOS PRELIMINARES | G18: m² | H18: 1 | I18: 3.64 | J18: 3.64
A19: Composição Auxiliar | B19: 94443 | C19: SINAPI | D19: TELHAMENTO COM TELHA CERÂMICA DE ENCAIXE, TIPO ROMANA, COM MAIS DE 2 ÁGUAS, INCLUSO TRANSPORTE VERTICAL. AF_07/2019 | E19: COBE - COBERTURA | G19: m² | H19: 1 | I19: 66.85 | J19: 66.85
A20: Composição Auxiliar | B20: 97064 | C20: SINAPI | D20: MONTAGEM E DESMONTAGEM DE ANDAIME TUBULAR TIPO "TORRE" (EXCLUSIVE ANDAIME E LIMPEZA). AF_03/2024 | E20: SEDI - SERVIÇOS DIVERSOS | G20: M | H20: 0.05 | I20: 30.41 | J20: 1.52
A21: Insumo | B21: 00010527 | C21: SINAPI | D21: LOCACAO DE ANDAIME METALICO TUBULAR DE ENCAIXE, TIPO DE TORRE, CADA PAINEL COM LARGURA DE 1 ATE 1,5 M E ALTURA DE *1,00* M, INCLUINDO DIAGONAL, BARRAS DE LIGACAO, SAPATAS OU RODIZIOS E DEMAIS ITENS NECESSARIOS A MONTAGEM (NAO INCLUI INSTALACAO) | E21: Equipamento | G21: M/MES | H21: 0.05 | I21: 33 | J21: 1.65
E22: MO sem LS => | F22: 14.1 | G22: LS => | H22: 0 | I22: MO com LS => | J22: 14.1
E23: Valor do BDI => | F23: 0 | H23: Valor com BDI => | J23: 74.43
A25: 1.3 | B25: Código | C25: Banco | D25: Descrição | E25: Tipo | G25: Und | H25: Quant. | I25: Valor Unit | J25: Total
A26: Composição | B26: Comp C | C26: Próprio | D26: Reforma de telhado com telha metálica | E26: COBE - COBERTURA | G26: m² | H26: 1 | I26: 175.79 | J26: 175.79
A27: Composição Auxiliar | B27: 94216 | C27: SINAPI | D27: TELHAMENTO COM TELHA METÁLICA TERMOACÚSTICA E = 30 MM, COM ATÉ 2 ÁGUAS, INCLUSO IÇAMENTO. AF_07/2019 | E27: COBE - COBERTURA | G27: m² | H27: 1 | I27: 168.21 | J27: 168.21
A28: Composição Auxiliar | B28: 95875 | C28: SINAPI | D28: TRANSPORTE COM CAMINHÃO BASCULANTE DE 10 M³, EM VIA URBANA PAVIMENTADA, DMT ATÉ 30 KM (UNIDADE: M3XKM). AF_07/2020 | E28: TRAN - TRANSPORTES, CARGAS E DESCARGAS | G28: M3XKM | H28: 0.3 | I28: 2.59 | J28: 0.77
A29: Composição Auxiliar | B29: 97647 | C29: SINAPI | D29: REMOÇÃO DE TELHAS DE FIBROCIMENTO METÁLICA E CERÂMICA, DE FORMA MANUAL, SEM REAPROVEITAMENTO. AF_09/2023 | E29: SERP - SERVIÇOS PRELIMINARES | G29: m² | H29: 1 | I29: 3.64 | J29: 3.64
A30: Composição Auxiliar | B30: 97064 | C30: SINAPI | D30: MONTAGEM E DESMONTAGEM DE ANDAIME TUBULAR TIPO "TORRE" (EXCLUSIVE ANDAIME E LIMPEZA). AF_03/2024 | E30: SEDI - SERVIÇOS DIVERSOS | G30: M | H30: 0.05 | I30: 30.41 | J30: 1.52
A31: Insumo | B31: 00010527 | C31: SINAPI | D31: LOCACAO DE ANDAIME METALICO TUBULAR DE ENCAIXE, TIPO DE TORRE, CADA PAINEL COM LARGURA DE 1 ATE 1,5 M E ALTURA DE *1,00* M, INCLUINDO DIAGONAL, BARRAS DE LIGACAO, SAPATAS OU RODIZIOS E DEMAIS ITENS NECESSARIOS A MONTAGEM (NAO INCLUI INSTALACAO) | E31: Equipamento | G31: M/MES | H31: 0.05 | I31: 33 | J31: 1.65
E32: MO sem LS => | F32: 6.21 | G32: LS => | H32: 0 | I32: MO com LS => | J32: 6.21
E33: Valor do BDI => | F33: 0 | H33: Valor com BDI => | J33: 175.79
A35: 1.4 | B35: Código | C35: Banco | D35: Descrição | E35: Tipo | G35: Und | H35: Quant. | I35: Valor Unit | J35: Total
A36: Composição | B36: Comp D | C36: Próprio | D36: Troca de calha | E36: COBE - COBERTURA | G36: m | H36: 1 | I36: 107.79 | J36: 107.79
A37: Composição Auxiliar | B37: 95875 | C37: SINAPI | D37: TRANSPORTE COM CAMINHÃO BASCULANTE DE 10 M³, EM VIA URBANA PAVIMENTADA, DMT ATÉ 30 KM (UNIDADE: M3XKM). AF_07/2020 | E37: TRAN - TRANSPORTES, CARGAS E DESCARGAS | G37: M3XKM | H37: 0.3 | I37: 2.59 | J37: 0.77
A38: Composição Auxiliar | B38: 97064 | C38: SINAPI | D38: MONTAGEM E DESMONTAGEM DE ANDAIME TUBULAR TIPO "TORRE" (EXCLUSIVE ANDAIME E LIMPEZA). AF_03/2024 | E38: SEDI - SERVIÇOS DIVERSOS | G38: M | H38: 0.05 | I38: 30.41 | J38: 1.52
A39: Composição Auxiliar | B39: 104803 | C39: SINAPI | D39: REMOÇÃO CALHAS E RUFOS, DE FORMA MANUAL, SEM REAPROVEITAMENTO. AF_09/2023 | E39: SERP - SERVIÇOS PRELIMINARES | G39: M | H39: 1 | I39: 4.65 | J39: 4.65
A40: Composição Auxiliar | B40: 94228 | C40: SINAPI | D40: CALHA EM CHAPA DE AÇO GALVANIZADO NÚMERO 24, DESENVOLVIMENTO DE 50 CM, INCLUSO TRANSPORTE VERTICAL. AF_07/2019 | E40: COBE - COBERTURA | G40: M | H40: 1 | I40: 99.2 | J40: 99.2
A41: Insumo | B41: 00010527 | C41: SINAPI | D41: LOCACAO DE ANDAIME METALICO TUBULAR DE ENCAIXE, TIPO DE TORRE, CADA PAINEL COM LARGURA DE 1 ATE 1,5 M E ALTURA DE *1,00* M, INCLUINDO DIAGONAL, BARRAS DE LIGACAO, SAPATAS OU RODIZIOS E DEMAIS ITENS NECESSARIOS A MONTAGEM (NAO INCLUI INSTALACAO) | E41: Equipamento | G41: M/MES | H41: 0.05 | I41: 33 | J41: 1.65
E42: MO sem LS => | F42: 17.44 | G42: LS => | H42: 0 | I42: MO com LS => | J42: 17.44
E43: Valor do BDI => | F43: 0 | H43: Valor com BDI => | J43: 107.79
A45: 1.5 | B45: Código | C45: Banco | D45: Descrição | E45: Tipo | G45: Und | H45: Quant. | I45: Valor Unit | J45: Total
...

Sheet Tipo de Objeto x Familia
A1: Tipo de Objeto | B1: Código | C1: Família | D1: apoio1 | E1: apoio2 | F1: Tipo de Objeto | G1: Código Família | H1: Família
A2: Compras | B2: 2 | C2: equipamentos/materiais p/escritorio/escola/artes plasticas | D2: 1 | E2: =IF(A2=$F$2,B2,"") | F2: =IF(Identificação!$B$5=0,"",Identificação!$B$5) -> Obras e Serviços de Engenharia | G2: =IFERROR(SMALL($E$2:$E$250,D2),"") -> 7 | H2: =IFERROR(VLOOKUP(G2,#REF!,2,FALSE),"")
A3: Compras e Outros Serviços | B3: 2 | C3: equipamentos/materiais p/escritorio/escola/artes plasticas | D3: 2 | E3: =IF(A3=$F$2,B3,"") | G3: =IFERROR(SMALL($E$2:$E$250,D3),"") -> 8 | H3: =IFERROR(VLOOKUP(G3,#REF!,2,FALSE),"")
A4: Compras e Outros Serviços | B4: 3 | C4: servicos técnicos: projetos/auditorias/ consultorias/assessorias | D4: 3 | E4: =IF(A4=$F$2,B4,"") | G4: =IFERROR(SMALL($E$2:$E$250,D4),"") -> 9 | H4: =IFERROR(VLOOKUP(G4,#REF!,2,FALSE),"")
A5: Outros Serviços | B5: 3 | C5: servicos técnicos: projetos/auditorias/ consultorias/assessorias | D5: 4 | E5: =IF(A5=$F$2,B5,"") | G5: =IFERROR(SMALL($E$2:$E$250,D5),"") -> 10 | H5: =IFERROR(VLOOKUP(G5,#REF!,2,FALSE),"")
A6: Obras e Serviços de Engenharia | B6: 7 | C6: serviços de engenharia/obras: resíduos sólidos | D6: 5 | E6: =IF(A6=$F$2,B6,"") -> 7 | G6: =IFERROR(SMALL($E$2:$E$250,D6),"") -> 11 | H6: =IFERROR(VLOOKUP(G6,#REF!,2,FALSE),"")
A7: Obras e Serviços de Engenharia | B7: 8 | C7: serviços de engenharia/obras: edificações | D7: 6 | E7: =IF(A7=$F$2,B7,"") -> 8 | G7: =IFERROR(SMALL($E$2:$E$250,D7),"") -> 12 | H7: =IFERROR(VLOOKUP(G7,#REF!,2,FALSE),"")
A8: Obras e Serviços de Engenharia | B8: 9 | C8: serviços de engenharia/obras: rodovias, ferrovias e aeroportos | D8: 7 | E8: =IF(A8=$F$2,B8,"") -> 9 | G8: =IFERROR(SMALL($E$2:$E$250,D8),"") -> 13 | H8: =IFERROR(VLOOKUP(G8,#REF!,2,FALSE),"")
A9: Obras e Serviços de Engenharia | B9: 10 | C9: serviços de engenharia/obras: obras-de-arte-especiais | D9: 8 | E9: =IF(A9=$F$2,B9,"") -> 10 | G9: =IFERROR(SMALL($E$2:$E$250,D9),"") -> 14 | H9: =IFERROR(VLOOKUP(G9,#REF!,2,FALSE),"")
A10: Obras e Serviços de Engenharia | B10: 11 | C10: serviços de engenharia/obras: urbanização | D10: 9 | E10: =IF(A10=$F$2,B10,"") -> 11 | G10: =IFERROR(SMALL($E$2:$E$250,D10),"") -> 15 | H10: =IFERROR(VLOOKUP(G10,#REF!,2,FALSE),"")
A11: Obras e Serviços de Engenharia | B11: 12 | C11: serviços de engenharia/obras: infraestrutura de energia | D11: 10 | E11: =IF(A11=$F$2,B11,"") -> 12 | G11: =IFERROR(SMALL($E$2:$E$250,D11),"") -> 16 | H11: =IFERROR(VLOOKUP(G11,#REF!,2,FALSE),"")
A12: Obras e Serviços de Engenharia | B12: 13 | C12: serviços de engenharia/obras: saneamento | D12: 11 | E12: =IF(A12=$F$2,B12,"") -> 13 | G12: =IFERROR(SMALL($E$2:$E$250,D12),"") -> 17 | H12: =IFERROR(VLOOKUP(G12,#REF!,2,FALSE),"")
A13: Obras e Serviços de Engenharia | B13: 14 | C13: serviços de engenharia/obras: obras portuárias, marítimas e fluviais | D13: 12 | E13: =IF(A13=$F$2,B13,"") -> 14 | G13: =IFERROR(SMALL($E$2:$E$250,D13),"") | H13: =IFERROR(VLOOKUP(G13,#REF!,2,FALSE),"")
A14: Obras e Serviços de Engenharia | B14: 15 | C14: serviços de engenharia/obras: serviços especializados para construção | D14: 13 | E14: =IF(A14=$F$2,B14,"") -> 15 | G14: =IFERROR(SMALL($E$2:$E$250,D14),"") | H14: =IFERROR(VLOOKUP(G14,#REF!,2,FALSE),"")
... A250: Compras e Outros Serviços | B250: 990 | C250: produtos quimicos de limpeza/higiene | D250: 249 | E250: =IF(A250=$F$2,B250,"") | G250: =IFERROR(SMALL($E$2:$E$250,D250),"") | H250: =IFERROR(VLOOKUP(G250,#REF!,2,FALSE),"")
