Workbook
Name F_10: #REF!
Name F_105: #REF!
Name F_107: #REF!
Name F_11: #REF!
Name F_112: #REF!
Name F_113: #REF!
Name F_117: #REF!
Name F_12: #REF!
Name F_120: #REF!
Name F_122: #REF!
Name F_127: #REF!
Name F_13: #REF!
Name F_14: #REF!
Name F_140: #REF!
Name F_15: #REF!
Name F_150: #REF!
Name F_16: #REF!
Name F_160: #REF!
Name F_17: #REF!
Name F_185: #REF!
Name F_2: #REF!
Name F_205: #REF!
Name F_215: #REF!
Name F_245: #REF!
Name F_250: #REF!
Name F_255: #REF!
Name F_260: #REF!
Name F_270: #REF!
Name F_285: #REF!
Name F_29: #REF!
Name F_290: #REF!
Name F_295: #REF!
Name F_3: #REF!
Name F_30: #REF!
Name F_31: #REF!
Name F_320: #REF!
Name F_33: #REF!
Name F_34: #REF!
Name F_345: #REF!
Name F_35: #REF!
Name F_350: #REF!
Name F_360: #REF!
Name F_37: #REF!
Name F_380: #REF!
Name F_390: #REF!
Name F_395: #REF!
Name F_397: #REF!
Name F_400: #REF!
Name F_405: #REF!
Name F_410: #REF!
Name F_42: #REF!
Name F_420: #REF!
Name F_428: #REF!
Name F_435: #REF!
Name F_440: #REF!
Name F_445: #REF!
Name F_45: #REF!
Name F_450: #REF!
Name F_452: #REF!
Name F_460: #REF!

Sheet Identificação
A1: IDENTIFICAÇÃO
A2: Modalidade* | B2: Concorrência Lei 14.133/21 Eletrônica | D2: N° * | F2: Ano * | G2: 2025
A3: Descrição do Objeto | B3: UNIDADE DE CASA DE MADEIRA
A4: Órgão | B4: Município de Montenegro | F4: CNPJ *
A5: Tipo de Objeto* | B5: Obras e Serviços de Engenharia | C5: N° CENTRAL DE COMPRAS
A6: Preço Total Estimado | B6: ='Orçamento-base'!C6 -> 120295.28
A7: Preço Total Proposto | B7: =Proposta!C6 -> 0
A8: Qtd. Itens Orçamento | B8: =COUNT('Orçamento-base'!B12:B39831) -> 70
A9: Atenção! Para incluir mais de 50 lotes, selecione as células A62 a G62 e arraste as fórmulas para baixo, de acordo com o número de lotes necessário.
A10: *Campos de preenchimento obrigatório | C10: **Campos de preenchimento obrigatório para licitação composta por lotes
A11: Nº do lote** | B11: Descrição do Lote** | C11: Estimativa | G11: Proposta
C12: Valor do lote (R$) | G12: Valor do lote (R$)
A13: 1 | B13: CONSTRUÇÃO UNIDADE DE CASA DE MADEIRA | C13: =SUMIF('Orçamento-base'!$A$12:$A$39833,Identificação!$A13,'Orçamento-base'!$K$12:$K$39833) -> 120295.28 | G13: =SUMIF(Proposta!$A$12:$A$39952,Identificação!$A13,Proposta!$H$12:$H$39952) -> 0
C14: =SUMIF('Orçamento-base'!$A$12:$A$39833,Identificação!$A14,'Orçamento-base'!$K$12:$K$39833) -> 0 | G14: =SUMIF(Proposta!$A$12:$A$39952,Identificação!$A14,Proposta!$H$12:$H$39952) -> 0
C15: =SUMIF('Orçamento-base'!$A$12:$A$39833,Identificação!$A15,'Orçamento-base'!$K$12:$K$39833) -> 0 | G15: =SUMIF(Proposta!$A$12:$A$39952,Identificação!$A15,Proposta!$H$12:$H$39952) -> 0
C16: =SUMIF('Orçamento-base'!$A$12:$A$39833,Identificação!$A16,'Orçamento-base'!$K$12:$K$39833) -> 0 | G16: =SUMIF(Proposta!$A$12:$A$39952,Identificação!$A16,Proposta!$H$12:$H$39952) -> 0
C17: =SUMIF('Orçamento-base'!$A$12:$A$39833,Identificação!$A17,'Orçamento-base'!$K$12:$K$39833) -> 0 | G17: =SUMIF(Proposta!$A$12:$A$39952,Identificação!$A17,Proposta!$H$12:$H$39952) -> 0
C18: =SUMIF('Orçamento-base'!$A$12:$A$39833,Identificação!$A18,'Orçamento-base'!$K$12:$K$39833) -> 0 | G18: =SUMIF(Proposta!$A$12:$A$39952,Identificação!$A18,Proposta!$H$12:$H$39952) -> 0
C19: =SUMIF('Orçamento-base'!$A$12:$A$39833,Identificação!$A19,'Orçamento-base'!$K$12:$K$39833) -> 0 | G19: =SUMIF(Proposta!$A$12:$A$39952,Identificação!$A19,Proposta!$H$12:$H$39952) -> 0
C20: =SUMIF('Orçamento-base'!$A$12:$A$39833,Identificação!$A20,'Orçamento-base'!$K$12:$K$39833) -> 0 | G20: =SUMIF(Proposta!$A$12:$A$39952,Identificação!$A20,Proposta!$H$12:$H$39952) -> 0
C21: =SUMIF('Orçamento-base'!$A$12:$A$39833,Identificação!$A21,'Orçamento-base'!$K$12:$K$39833) -> 0 | G21: =SUMIF(Proposta!$A$12:$A$39952,Identificação!$A21,Proposta!$H$12:$H$39952) -> 0
C22: =SUMIF('Orçamento-base'!$A$12:$A$39833,Identificação!$A22,'Orçamento-base'!$K$12:$K$39833) -> 0 | G22: =SUMIF(Proposta!$A$12:$A$39952,Identificação!$A22,Proposta!$H$12:$H$39952) -> 0
C23: =SUMIF('Orçamento-base'!$A$12:$A$39833,Identificação!$A23,'Orçamento-base'!$K$12:$K$39833) -> 0 | G23: =SUMIF(Proposta!$A$12:$A$39952,Identificação!$A23,Proposta!$H$12:$H$39952) -> 0
C24: =SUMIF('Orçamento-base'!$A$12:$A$39833,Identificação!$A24,'Orçamento-base'!$K$12:$K$39833) -> 0 | G24: =SUMIF(Proposta!$A$12:$A$39952,Identificação!$A24,Proposta!$H$12:$H$39952) -> 0
C25: =SUMIF('Orçamento-base'!$A$12:$A$39833,Identificação!$A25,'Orçamento-base'!$K$12:$K$39833) -> 0 | G25: =SUMIF(Proposta!$A$12:$A$39952,Identificação!$A25,Proposta!$H$12:$H$39952) -> 0
... C62: =SUMIF('Orçamento-base'!$A$12:$A$39833,Identificação!$A62,'Orçamento-base'!$K$12:$K$39833) -> 0 | G62: =SUMIF(Proposta!$A$12:$A$39952,Identificação!$A62,Proposta!$H$12:$H$39952) -> 0

Sheet Orçamento-base
A1: ORÇAMENTO
A2: Modalidade | C2: =IF(Identificação!B2=0,"",Identificação!B2) -> Concorrência Lei 14.133/21 Eletrônica | H2: N° | I2: =IF(Identificação!E2=0,"",Identificação!E2) | J2: Ano | K2: =IF(Identificação!G2=0,"",Identificação!G2) -> 2025
A3: Descrição do Objeto | C3: =IF(Identificação!B3=0,"",Identificação!B3) -> UNIDADE DE CASA DE MADEIRA
A4: Órgão | C4: =IF(Identificação!B4=0,"",Identificação!B4) -> Município de Montenegro | J4: CNPJ | K4: =IF(Identificação!G4=0,"",Identificação!G4)
A5: Tipo de Objeto | C5: =IF(Identificação!B5=0,"",Identificação!B5) -> Obras e Serviços de Engenharia
A6: Preço T. Estimado | C6: =SUMIFS(K12:K39833,B12:B39833,">0",K12:K39833,"<>0") -> 120295.28
A8: Atenção! Para incluir mais de 100 linhas de itens, selecione as células A113 a R113 e arraste as fórmulas para baixo, de acordo com o número de itens necessário.
A9: *Preenchimento obrigatório | F9: **Obrigatório só para Obras e Serviços de Engenharia | H9: ***Obrigatório só para licitação composta por Lotes
A10: Nº do Lote*** | B10: N° Ordem | C10: Nº Item* | D10: Fonte de Referência** | E10: Código de Referência** | F10: Data de Referência** | G10: Descrição do item* | H10: Estimativa | N10: Família | P10: Subfamília | R10: Tipo de Orçamento | S10: Pr. Unit. Material | T10: Pr. Unit. Mão de obra
H11: Qtd.* | I11: Unid.* | J11: Preço unitário (R$)* | K11: Preço Total (R$) | L11: % BDI** | M11: % Encargos Sociais** | N11: Código | O11: Descrição | P11: Código | Q11: Descrição
B12: =IF(AND(G12<>"",H12>0,I12<>"",J12<>0,K12<>0),COUNT($B$11:B11)+1,"") | C12: 1 | G12: SERVIÇOS PRELIMINARES | J12: =IFERROR(IF(S12+T12<>0,ROUND(ROUND(S12,4)+ROUND(T12,4),4),""),"") | K12: =IFERROR(IF(H12*J12<>0,ROUND(ROUND(H12,4)*ROUND(J12,4),2),""),"") | O12: =IF(N12="","",INDIRECT("base!"&ADDRESS(MATCH(N12,#REF!:#REF!,0)+1,4,4))) | Q12: =IF(P12="","",INDIRECT("base!"&ADDRESS(MATCH(CONCATENATE(N12,"|",P12),#REF!:#REF!,0)+1,6,4))) | U12: Material | V12: M.O.
A13: 1 | B13: =IF(AND(G13<>"",H13>0,I13<>"",J13<>0,K13<>0),COUNT($B$11:B12)+1,"") -> 1 | C13: 1.1 | D13: SINAPI | E13: 103689 | F13: 45870 | G13: FORNECIMENTO E INSTALAÇÃO DE PLACA DE OBRA COM CHAPA GALVANIZADA E ESTRUTURA DE MADEIRA. AF_03/2022_PS | H13: 2.5 | I13: m² | J13: =IFERROR(IF(S13+T13<>0,ROUND(ROUND(S13,4)+ROUND(T13,4),4),""),"") -> 580.24 | K13: =IFERROR(IF(H13*J13<>0,ROUND(ROUND(H13,4)*ROUND(J13,4),2),""),"") -> 1450.6 | L13: 0.265 | M13: 0.8325 | O13: =IF(N13="","",INDIRECT("base!"&ADDRESS(MATCH(N13,#REF!:#REF!,0)+1,4,4))) | Q13: =IF(P13="","",INDIRECT("base!"&ADDRESS(MATCH(CONCATENATE(N13,"|",P13),#REF!:#REF!,0)+1,6,4))) | R13: Mão-de-obra e material | S13: =TRUNC(U13*(1+L13),2) -> 38.86 | T13: =TRUNC(V13*(1+L13),2) -> 541.38 | U13: 30.72 | V13: 427.97
A14: 1 | B14: =IF(AND(G14<>"",H14>0,I14<>"",J14<>0,K14<>0),COUNT($B$11:B13)+1,"") -> 2 | C14: 1.2 | D14: SINAPI | E14: 99058 | F14: 45870 | G14: LOCAÇÃO DE PONTO PARA REFERÊNCIA TOPOGRÁFICA. AF_10/2018 | H14: 12 | I14: UN | J14: =IFERROR(IF(S14+T14<>0,ROUND(ROUND(S14,4)+ROUND(T14,4),4),""),"") -> 16.27 | K14: =IFERROR(IF(H14*J14<>0,ROUND(ROUND(H14,4)*ROUND(J14,4),2),""),"") -> 195.24 | L14: 0.265 | M14: 0.8325 | O14: =IF(N14="","",INDIRECT("base!"&ADDRESS(MATCH(N14,#REF!:#REF!,0)+1,4,4))) | Q14: =IF(P14="","",INDIRECT("base!"&ADDRESS(MATCH(CONCATENATE(N14,"|",P14),#REF!:#REF!,0)+1,6,4))) | R14: Mão-de-obra e material | S14: =TRUNC(U14*(1+L14),2) -> 13.9 | T14: =TRUNC(V14*(1+L14),2) -> 2.37 | U14: 10.99 | V14: 1.88
A15: 1 | B15: =IF(AND(G15<>"",H15>0,I15<>"",J15<>0,K15<>0),COUNT($B$11:B14)+1,"") -> 3 | C15: 1.3 | D15: SINAPI | E15: 100575 | F15: 45870 | G15: REGULARIZAÇÃO DE SUPERFÍCIES COM MOTONIVELADORA. AF_09/2024 | H15: 170 | I15: m² | J15: =IFERROR(IF(S15+T15<>0,ROUND(ROUND(S15,4)+ROUND(T15,4),4),""),"") -> 0.8 | K15: =IFERROR(IF(H15*J15<>0,ROUND(ROUND(H15,4)*ROUND(J15,4),2),""),"") -> 136 | L15: 0.265 | M15: 0.8325 | O15: =IF(N15="","",INDIRECT("base!"&ADDRESS(MATCH(N15,#REF!:#REF!,0)+1,4,4))) | Q15: =IF(P15="","",INDIRECT("base!"&ADDRESS(MATCH(CONCATENATE(N15,"|",P15),#REF!:#REF!,0)+1,6,4))) | R15: Mão-de-obra e material | S15: =TRUNC(U15*(1+L15),2) -> 0.29 | T15: =TRUNC(V15*(1+L15),2) -> 0.51 | U15: 0.23 | V15: 0.41
A16: 1 | B16: =IF(AND(G16<>"",H16>0,I16<>"",J16<>0,K16<>0),COUNT($B$11:B15)+1,"") -> 4 | C16: 1.4 | D16: SINAPI | E16: 95634 | F16: 45870 | G16: KIT CAVALETE PARA MEDIÇÃO DE ÁGUA - ENTRADA PRINCIPAL, EM PVC 20 MM (1/2") - FORNECIMENTO E INSTALAÇÃO (EXCLUSIVE HIDRÔMETRO). AF_03/2024 | H16: 1 | I16: UN | J16: =IFERROR(IF(S16+T16<>0,ROUND(ROUND(S16,4)+ROUND(T16,4),4),""),"") -> 292.94 | K16: =IFERROR(IF(H16*J16<>0,ROUND(ROUND(H16,4)*ROUND(J16,4),2),""),"") -> 292.94 | L16: 0.265 | M16: 0.8325 | O16: =IF(N16="","",INDIRECT("base!"&ADDRESS(MATCH(N16,#REF!:#REF!,0)+1,4,4))) | Q16: =IF(P16="","",INDIRECT("base!"&ADDRESS(MATCH(CONCATENATE(N16,"|",P16),#REF!:#REF!,0)+1,6,4))) | R16: Mão-de-obra e material | S16: =TRUNC(U16*(1+L16),2) -> 62.73 | T16: =TRUNC(V16*(1+L16),2) -> 230.21 | U16: 49.59 | V16: 181.99
A17: 1 | B17: =IF(AND(G17<>"",H17>0,I17<>"",J17<>0,K17<>0),COUNT($B$11:B16)+1,"") -> 5 | C17: 1.5 | D17: SINAPI | E17: 101489 | F17: 45870 | G17: ENTRADA DE ENERGIA ELÉTRICA, AÉREA, MONOFÁSICA, COM CAIXA DE SOBREPOR, CABO DE 10 MM2 E DISJUNTOR DIN 50A (NÃO INCLUSO O POSTE DE CONCRETO). AF_07/2020_PS | H17: 1 | I17: UN | J17: =IFERROR(IF(S17+T17<>0,ROUND(ROUND(S17,4)+ROUND(T17,4),4),""),"") -> 1980.41 | K17: =IFERROR(IF(H17*J17<>0,ROUND(ROUND(H17,4)*ROUND(J17,4),2),""),"") -> 1980.41 | L17: 0.265 | M17: 0.8325 | O17: =IF(N17="","",INDIRECT("base!"&ADDRESS(MATCH(N17,#REF!:#REF!,0)+1,4,4))) | Q17: =IF(P17="","",INDIRECT("base!"&ADDRESS(MATCH(CONCATENATE(N17,"|",P17),#REF!:#REF!,0)+1,6,4))) | R17: Mão-de-obra e material | S17: =TRUNC(U17*(1+L17),2) -> 472.65 | T17: =TRUNC(V17*(1+L17),2) -> 1507.76 | U17: 373.64 | V17: 1191.91
A18: 1 | B18: =IF(AND(G18<>"",H18>0,I18<>"",J18<>0,K18<>0),COUNT($B$11:B17)+1,"") -> 6 | C18: 1.6 | D18: SINAPI | E18: 5050 | F18: 45870 | G18: POSTE CONICO CONTINUO EM ACO GALVANIZADO, RETO, FLANGEADO, H = 3 M, DIAMETRO INFERIOR = *95* MM | H18: 1 | I18: UN | J18: =IFERROR(IF(S18+T18<>0,ROUND(ROUND(S18,4)+ROUND(T18,4),4),""),"") -> 714.61 | K18: =IFERROR(IF(H18*J18<>0,ROUND(ROUND(H18,4)*ROUND(J18,4),2),""),"") -> 714.61 | L18: 0.265 | M18: 0.8325 | O18: =IF(N18="","",INDIRECT("base!"&ADDRESS(MATCH(N18,#REF!:#REF!,0)+1,4,4))) | Q18: =IF(P18="","",INDIRECT("base!"&ADDRESS(MATCH(CONCATENATE(N18,"|",P18),#REF!:#REF!,0)+1,6,4))) | R18: Mão-de-obra e material | S18: =TRUNC(U18*(1+L18),2) -> 0 | T18: =TRUNC(V18*(1+L18),2) -> 714.61 | U18: 0 | V18: 564.91
A19: 1 | B19: =IF(AND(G19<>"",H19>0,I19<>"",J19<>0,K19<>0),COUNT($B$11:B18)+1,"") -> 7 | C19: 1.7 | D19: SINAPI | E19: 100600 | F19: 45870 | G19: ASSENTAMENTO DE POSTE DE CONCRETO COM COMPRIMENTO NOMINAL DE 9 M, CARGA NOMINAL DE 300 DAN, ENGASTAMENTO BASE CONCRETADA COM 1 M DE CONCRETO E 0,5 M DE SOLO (NÃO INCLUI FORNECIMENTO). AF_11/2019 | H19: 1 | I19: UN | J19: =IFERROR(IF(S19+T19<>0,ROUND(ROUND(S19,4)+ROUND(T19,4),4),""),"") -> 890.59 | K19: =IFERROR(IF(H19*J19<>0,ROUND(ROUND(H19,4)*ROUND(J19,4),2),""),"") -> 890.59 | L19: 0.265 | M19: 0.8325 | O19: =IF(N19="","",INDIRECT("base!"&ADDRESS(MATCH(N19,#REF!:#REF!,0)+1,4,4))) | Q19: =IF(P19="","",INDIRECT("base!"&ADDRESS(MATCH(CONCATENATE(N19,"|",P19),#REF!:#REF!,0)+1,6,4))) | R19: Mão-de-obra e material | S19: =TRUNC(U19*(1+L19),2) -> 208.54 | T19: =TRUNC(V19*(1+L19),2) -> 682.05 | U19: 164.86 | V19: 539.17
B20: =IF(AND(G20<>"",H20>0,I20<>"",J20<>0,K20<>0),COUNT($B$11:B14)+1,"") | C20: 2 | G20: ESTRUTURA | J20: =IFERROR(IF(S20+T20<>0,ROUND(ROUND(S20,4)+ROUND(T20,4),4),""),"")
A21: 1 | B21: =IF(AND(G21<>"",H21>0,I21<>"",J21<>0,K21<>0),COUNT($B$11:B20)+1,"") -> 8 | C21: 2.1 | D21: SINAPI | E21: 93358 | F21: 45597 | G21: ESCAVAÇÃO MANUAL DE VALA. AF_09/2024 | H21: 3.5 | I21: m³ | J21: =IFERROR(IF(S21+T21<>0,ROUND(ROUND(S21,4)+ROUND(T21,4),4),""),"") -> 111.88 | K21: =IFERROR(IF(H21*J21<>0,ROUND(ROUND(H21,4)*ROUND(J21,4),2),""),"") -> 391.58 | L21: 0.265 | M21: 0.8325 | O21: =IF(N21="","",INDIRECT("base!"&ADDRESS(MATCH(N21,#REF!:#REF!,0)+1,4,4))) | Q21: =IF(P21="","",INDIRECT("base!"&ADDRESS(MATCH(CONCATENATE(N21,"|",P21),#REF!:#REF!,0)+1,6,4))) | R21: Mão-de-obra e material | S21: =TRUNC(U21*(1+L21),2) -> 82.02 | T21: =TRUNC(V21*(1+L21),2) -> 29.86 | U21: 64.84 | V21: 23.61
A22: 1 | B22: =IF(AND(G22<>"",H22>0,I22<>"",J22<>0,K22<>0),COUNT($B$11:B21)+1,"") -> 9 | C22: 2.2 | D22: SINAPI | E22: 100651 | F22: 45870 | G22: ESTACA HÉLICE CONTÍNUA, DIÂMETRO DE 30 CM, INCLUSO CONCRETO FCK=30MPA E ARMADURA MÍNIMA (EXCLUSIVE BOMBEAMENTO, MOBILIZAÇÃO E DESMOBILIZAÇÃO). AF_12/2019_PA | H22: 18 | I22: m | J22: =IFERROR(IF(S22+T22<>0,ROUND(ROUND(S22,4)+ROUND(T22,4),4),""),"") -> 198.38 | K22: =IFERROR(IF(H22*J22<>0,ROUND(ROUND(H22,4)*ROUND(J22,4),2),""),"") -> 3570.84 | L22: 0.265 | M22: 0.8325 | O22: =IF(N22="","",INDIRECT("base!"&ADDRESS(MATCH(N22,#REF!:#REF!,0)+1,4,4))) | Q22: =IF(P22="","",INDIRECT("base!"&ADDRESS(MATCH(CONCATENATE(N22,"|",P22),#REF!:#REF!,0)+1,6,4))) | R22: Mão-de-obra e material | S22: =TRUNC(U22*(1+L22),2) -> 20.03 | T22: =TRUNC(V22*(1+L22),2) -> 178.35 | U22: 15.84 | V22: 140.99
A23: 1 | B23: =IF(AND(G23<>"",H23>0,I23<>"",J23<>0,K23<>0),COUNT($B$11:B22)+1,"") -> 10 | C23: 2.3 | D23: PRÓPRIO | E23: 86 | F23: 45870 | G23: BLOCO DE COROAMENTO 40X40X40, CONCRETO FCK 30MPA - UNID | H23: 12 | I23: UN | J23: =IFERROR(IF(S23+T23<>0,ROUND(ROUND(S23,4)+ROUND(T23,4),4),""),"") -> 238.53 | K23: =IFERROR(IF(H23*J23<>0,ROUND(ROUND(H23,4)*ROUND(J23,4),2),""),"") -> 2862.36 | L23: 0.265 | M23: 0.8325 | O23: =IF(N23="","",INDIRECT("base!"&ADDRESS(MATCH(N23,#REF!:#REF!,0)+1,4,4))) | Q23: =IF(P23="","",INDIRECT("base!"&ADDRESS(MATCH(CONCATENATE(N23,"|",P23),#REF!:#REF!,0)+1,6,4))) | R23: Mão-de-obra e material | S23: =TRUNC(U23*(1+L23),2) -> 58.84 | T23: =TRUNC(V23*(1+L23),2) -> 179.69 | U23: 46.52 | V23: 142.05
A24: 1 | B24: =IF(AND(G24<>"",H24>0,I24<>"",J24<>0,K24<>0),COUNT($B$11:B23)+1,"") -> 11 | C24: 2.4 | D24: PRÓPRIO | E24: 87 | F24: 45870 | G24: VIGA DE BALDRAME 15X30, CONCRETO FCK 30MPA-M | H24: 38.88 | I24: m | J24: =IFERROR(IF(S24+T24<>0,ROUND(ROUND(S24,4)+ROUND(T24,4),4),""),"") -> 218.6 | K24: =IFERROR(IF(H24*J24<>0,ROUND(ROUND(H24,4)*ROUND(J24,4),2),""),"") -> 8499.17 | L24: 0.265 | M24: 0.8325 | O24: =IF(N24="","",INDIRECT("base!"&ADDRESS(MATCH(N24,#REF!:#REF!,0)+1,4,4))) | Q24: =IF(P24="","",INDIRECT("base!"&ADDRESS(MATCH(CONCATENATE(N24,"|",P24),#REF!:#REF!,0)+1,6,4))) | R24: Mão-de-obra e material | S24: =TRUNC(U24*(1+L24),2) -> 45.52 | T24: =TRUNC(V24*(1+L24),2) -> 173.08 | U24: 35.99 | V24: 136.83
A25: 1 | B25: =IF(AND(G25<>"",H25>0,I25<>"",J25<>0,K25<>0),COUNT($B$11:B24)+1,"") -> 12 | C25: 2.5 | D25: PRÓPRIO | E25: 90 | F25: 45870 | G25: ASSENTAMENTO DE PEDRA GRÊS PARA ALICERCE, INCLUINDO TELA DE AÇO SOLDADA, PINO DE AÇO E ARGAMASSA M² | H25: 23.33 | I25: M² | J25: =IFERROR(IF(S25+T25<>0,ROUND(ROUND(S25,4)+ROUND(T25,4),4),""),"") -> 156.46 | K25: =IFERROR(IF(H25*J25<>0,ROUND(ROUND(H25,4)*ROUND(J25,4),2),""),"") -> 3650.21 | L25: 0.265 | M25: 0.8325 | O25: =IF(N25="","",INDIRECT("base!"&ADDRESS(MATCH(N25,#REF!:#REF!,0)+1,4,4))) | Q25: =IF(P25="","",INDIRECT("base!"&ADDRESS(MATCH(CONCATENATE(N25,"|",P25),#REF!:#REF!,0)+1,6,4))) | R25: Mão-de-obra e material | S25: =TRUNC(U25*(1+L25),2) -> 38.63 | T25: =TRUNC(V25*(1+L25),2) -> 117.83 | U25: 30.54 | V25: 93.15
A26: 1 | B26: =IF(AND(G26<>"",H26>0,I26<>"",J26<>0,K26<>0),COUNT($B$11:B25)+1,"") -> 13 | C26: 2.6 | D26: PRÓPRIO | E26: 85 | F26: 45870 | G26: PAREDE EM EUCALIPTO, COM ACABAMENTO EM PINTURA ESMALTE SINTÉTICO - M² | H26: 75.2 | I26: m² | J26: =IFERROR(IF(S26+T26<>0,ROUND(ROUND(S26,4)+ROUND(T26,4),4),""),"") -> 264 | K26: =IFERROR(IF(H26*J26<>0,ROUND(ROUND(H26,4)*ROUND(J26,4),2),""),"") -> 19852.8 | L26: 0.265 | M26: 0.8325 | O26: =IF(N26="","",INDIRECT("base!"&ADDRESS(MATCH(N26,#REF!:#REF!,0)+1,4,4))) | Q26: =IF(P26="","",INDIRECT("base!"&ADDRESS(MATCH(CONCATENATE(N26,"|",P26),#REF!:#REF!,0)+1,6,4))) | R26: Mão-de-obra e material | S26: =TRUNC(U26*(1+L26),2) -> 67.32 | T26: =TRUNC(V26*(1+L26),2) -> 196.68 | U26: 53.22 | V26: 155.48
A27: 1 | B27: =IF(AND(G27<>"",H27>0,I27<>"",J27<>0,K27<>0),COUNT($B$11:B26)+1,"") -> 14 | C27: 2.7 | D27: PRÓPRIO | E27: 88 | F27: 45870 | G27: PILAR EM CONCRETO ARMADO FCK 30MPA 40x20X20CM - M² | H27: 12 | I27: UN | J27: =IFERROR(IF(S27+T27<>0,ROUND(ROUND(S27,4)+ROUND(T27,4),4),""),"") -> 131.76 | K27: =IFERROR(IF(H27*J27<>0,ROUND(ROUND(H27,4)*ROUND(J27,4),2),""),"") -> 1581.12 | L27: 0.265 | M27: 0.8325 | O27: =IF(N27="","",INDIRECT("base!"&ADDRESS(MATCH(N27,#REF!:#REF!,0)+1,4,4))) | Q27: =IF(P27="","",INDIRECT("base!"&ADDRESS(MATCH(CONCATENATE(N27,"|",P27),#REF!:#REF!,0)+1,6,4))) | R27: Mão-de-obra e material | S27: =TRUNC(U27*(1+L27),2) -> 23.51 | T27: =TRUNC(V27*(1+L27),2) -> 108.25 | U27: 18.59 | V27: 85.58
A28: 1 | B28: =IF(AND(G28<>"",H28>0,I28<>"",J28<>0,K28<>0),COUNT($B$11:B27)+1,"") -> 15 | C28: 2.8 | D28: SINAPI | E28: 98557 | F28: 45870 | G28: IMPERMEABILIZAÇÃO DE SUPERFÍCIE COM EMULSÃO ASFÁLTICA, 2 DEMÃOS. AF_09/2023 | H28: 61.9 | I28: m² | J28: =IFERROR(IF(S28+T28<>0,ROUND(ROUND(S28,4)+ROUND(T28,4),4),""),"") -> 59.36 | K28: =IFERROR(IF(H28*J28<>0,ROUND(ROUND(H28,4)*ROUND(J28,4),2),""),"") -> 3674.38 | L28: 0.265 | M28: 0.8325 | O28: =IF(N28="","",INDIRECT("base!"&ADDRESS(MATCH(N28,#REF!:#REF!,0)+1,4,4))) | Q28: =IF(P28="","",INDIRECT("base!"&ADDRESS(MATCH(CONCATENATE(N28,"|",P28),#REF!:#REF!,0)+1,6,4))) | R28: Mão-de-obra e material | S28: =TRUNC(U28*(1+L28),2) -> 14.23 | T28: =TRUNC(V28*(1+L28),2) -> 45.13 | U28: 11.25 | V28: 35.68
A29: 1 | B29: =IF(AND(G29<>"",H29>0,I29<>"",J29<>0,K29<>0),COUNT($B$11:B28)+1,"") -> 16 | C29: 2.9 | D29: SINAPI | E29: 103328 | F29: 45870 | G29: ALVENARIA DE VEDAÇÃO DE BLOCOS CERÂMICOS FURADOS NA HORIZONTAL DE 9X19X19 CM (ESPESSURA 9 CM) E ARGAMASSA DE ASSENTAMENTO COM PREPARO EM BETONEIRA. AF_12/2021 | H29: 16.74 | I29: m² | J29: =IFERROR(IF(S29+T29<>0,ROUND(ROUND(S29,4)+ROUND(T29,4),4),""),"") -> 117.91 | K29: =IFERROR(IF(H29*J29<>0,ROUND(ROUND(H29,4)*ROUND(J29,4),2),""),"") -> 1973.81 | L29: 0.265 | M29: 0.8325 | O29: =IF(N29="","",INDIRECT("base!"&ADDRESS(MATCH(N29,#REF!:#REF!,0)+1,4,4))) | Q29: =IF(P29="","",INDIRECT("base!"&ADDRESS(MATCH(CONCATENATE(N29,"|",P29),#REF!:#REF!,0)+1,6,4))) | R29: Mão-de-obra e material | S29: =TRUNC(U29*(1+L29),2) -> 60.64 | T29: =TRUNC(V29*(1+L29),2) -> 57.27 | U29: 47.94 | V29: 45.28
A30: 1 | B30: =IF(AND(G30<>"",H30>0,I30<>"",J30<>0,K30<>0),COUNT($B$11:B29)+1,"") -> 17 | C30: 2.10 | D30: PRÓPRIO | E30: 89 | F30: 45870 | G30: VIGA BANHIERO 15X30, CONCRETO FCK 30MPA - M | H30: 8.2 | I30: m | J30: =IFERROR(IF(S30+T30<>0,ROUND(ROUND(S30,4)+ROUND(T30,4),4),""),"") -> 218.6 | K30: =IFERROR(IF(H30*J30<>0,ROUND(ROUND(H30,4)*ROUND(J30,4),2),""),"") -> 1792.52 | L30: 0.265 | M30: 0.8325 | O30: =IF(N30="","",INDIRECT("base!"&ADDRESS(MATCH(N30,#REF!:#REF!,0)+1,4,4))) | Q30: =IF(P30="","",INDIRECT("base!"&ADDRESS(MATCH(CONCATENATE(N30,"|",P30),#REF!:#REF!,0)+1,6,4))) | R30: Mão-de-obra e material | S30: =TRUNC(U30*(1+L30),2) -> 45.52 | T30: =TRUNC(V30*(1+L30),2) -> 173.08 | U30: 35.99 | V30: 136.83
A31: 1 | B31: =IF(AND(G31<>"",H31>0,I31<>"",J31<>0,K31<>0),COUNT($B$11:B30)+1,"") -> 18 | C31: 2.11 | D31: SINAPI | E31: 101964 | F31: 45870 | G31: LAJE PRÉ-MOLDADA UNIDIRECIONAL, BIAPOIADA, PARA FORRO, ENCHIMENTO EM CERÂMICA, VIGOTA CONVENCIONAL, ALTURA TOTAL DA LAJE (ENCHIMENTO+CAPA) = (8+3). AF_11/2020_PA | H31: 4 | I31: m² | J31: =IFERROR(IF(S31+T31<>0,ROUND(ROUND(S31,4)+ROUND(T31,4),4),""),"") -> 264.53 | K31: =IFERROR(IF(H31*J31<>0,ROUND(ROUND(H31,4)*ROUND(J31,4),2),""),"") -> 1058.12 | L31: 0.265 | M31: 0.8325 | O31: =IF(N31="","",INDIRECT("base!"&ADDRESS(MATCH(N31,#REF!:#REF!,0)+1,4,4))) | Q31: =IF(P31="","",INDIRECT("base!"&ADDRESS(MATCH(CONCATENATE(N31,"|",P31),#REF!:#REF!,0)+1,6,4))) | R31: Mão-de-obra e material | S31: =TRUNC(U31*(1+L31),2) -> 35.87 | T31: =TRUNC(V31*(1+L31),2) -> 228.66 | U31: 28.36 | V31: 180.76
A32: 1 | B32: =IF(AND(G32<>"",H32>0,I32<>"",J32<>0,K32<>0),COUNT($B$11:B31)+1,"") -> 19 | C32: 2.12 | D32: SINAPI | E32: 93360 | F32: 45870 | G32: REATERRO MECANIZADO DE VALA COM ESCAVADEIRA HIDRÁULICA (CAPACIDADE DA CAÇAMBA: 0,8 M³ / POTÊNCIA: 111 HP), LARGURA DE 1,5 A 2,5 M, PROFUNDIDADE ATÉ 1,5 M, COM SOLO DE 1ª CATEGORIA EM LOCAIS COM ALTO NÍVEL DE INTERFERÊNCIA. AF_04/2016 | H32: 24.76 | I32: m³ | J32: =IFERROR(IF(S32+T32<>0,ROUND(ROUND(S32,4)+ROUND(T32,4),4),""),"") -> 34.79 | K32: =IFERROR(IF(H32*J32<>0,ROUND(ROUND(H32,4)*ROUND(J32,4),2),""),"") -> 861.4 | L32: 0.265 | M32: 0.8325 | O32: =IF(N32="","",INDIRECT("base!"&ADDRESS(MATCH(N32,#REF!:#REF!,0)+1,4,4))) | Q32: =IF(P32="","",INDIRECT("base!"&ADDRESS(MATCH(CONCATENATE(N32,"|",P32),#REF!:#REF!,0)+1,6,4))) | R32: Mão-de-obra e material | S32: =TRUNC(U32*(1+L32),2) -> 13.14 | T32: =TRUNC(V32*(1+L32),2) -> 21.65 | U32: 10.39 | V32: 17.12
... A34: 1 | B34: =IF(AND(G34<>"",H34>0,I34<>"",J34<>0,K34<>0),COUNT($B$11:B33)+1,"") -> 21 | C34: 2.14 | D34: SINAPI | E34: 96622 | F34: 45870 | G34: LASTRO COM MATERIAL GRANULAR, APLICADO EM PISOS OU LAJES SOBRE SOLO, ESPESSURA DE *5 CM*. AF_01/2024 | H34: 1.95 | I34: m³ | J34: =IFERROR(IF(S34+T34<>0,ROUND(ROUND(S34,4)+ROUND(T34,4),4),""),"") -> 251.16 | K34: =IFERROR(IF(H34*J34<>0,ROUND(ROUND(H34,4)*ROUND(J34,4),2),""),"") -> 489.76 | L34: 0.265 | M34: 0.8325 | O34: =IF(N34="","",INDIRECT("base!"&ADDRESS(MATCH(N34,#REF!:#REF!,0)+1,4,4))) | Q34: =IF(P34="","",INDIRECT("base!"&ADDRESS(MATCH(CONCATENATE(N34,"|",P34),#REF!:#REF!,0)+1,6,4))) | R34: Mão-de-obra e material | S34: =TRUNC(U34*(1+L34),2) -> 67.08 | T34: =TRUNC(V34*(1+L34),2) -> 184.08 | U34: 53.03 | V34: 145.52
B35: =IF(AND(G35<>"",H35>0,I35<>"",J35<>0,K35<>0),COUNT($B$11:B28)+1,"") | C35: 3 | G35: ABERTURAS | J35: =IFERROR(IF(S35+T35<>0,ROUND(ROUND(S35,4)+ROUND(T35,4),4),""),"") | K35: =IFERROR(IF(H35*J35<>0,ROUND(ROUND(H35,4)*ROUND(J35,4),2),""),"") | O35: =IF(N35="","",INDIRECT("base!"&ADDRESS(MATCH(N35,#REF!:#REF!,0)+1,4,4))) | Q35: =IF(P35="","",INDIRECT("base!"&ADDRESS(MATCH(CONCATENATE(N35,"|",P35),#REF!:#REF!,0)+1,6,4)))
A36: 1 | B36: =IF(AND(G36<>"",H36>0,I36<>"",J36<>0,K36<>0),COUNT($B$11:B35)+1,"") -> 22 | C36: 3.1 | D36: SINAPI | E36: 100668 | F36: 45870 | G36: JANELA DE MADEIRA (CEDRINHO/ANGELIM OU EQUIV.) TIPO MAXIM-AR, PARA VIDRO, COM BATENTE, ALIZAR E FERRAGENS, EXCLUSIVE VIDRO, ACABAMENTO E CONTRAMARCO, FIXAÇÃO C/ PARAFUSO E ESPUMA - FORNECIMENTO E INSTALAÇÃO. AF_11/2024 | H36: 0.24 | I36: m² | J36: =IFERROR(IF(S36+T36<>0,ROUND(ROUND(S36,4)+ROUND(T36,4),4),""),"") -> 2034.01 | K36: =IFERROR(IF(H36*J36<>0,ROUND(ROUND(H36,4)*ROUND(J36,4),2),""),"") -> 488.16 | L36: 0.265 | M36: 0.8325 | O36: =IF(N36="","",INDIRECT("base!"&ADDRESS(MATCH(N36,#REF!:#REF!,0)+1,4,4))) | Q36: =IF(P36="","",INDIRECT("base!"&ADDRESS(MATCH(CONCATENATE(N36,"|",P36),#REF!:#REF!,0)+1,6,4))) | R36: Mão-de-obra e material | S36: =TRUNC(U36*(1+L36),2) -> 148.43 | T36: =TRUNC(V36*(1+L36),2) -> 1885.58 | U36: 117.34 | V36: 1490.58
A37: 1 | B37: =IF(AND(G37<>"",H37>0,I37<>"",J37<>0,K37<>0),COUNT($B$11:B36)+1,"") -> 23 | C37: 3.2 | D37: SINAPI | E37: 34377 | F37: 45870 | G37: JANELA BASCULANTE, EM ALUMINIO PERFIL 20, 80 X 60 CM (A X L), 4 FLS (1 FIXA E 3 MOVEIS), ACABAMENTO BRANCO OU BRILHANTE, BATENTE DE 3 A 4 CM, COM VIDRO 4 MM, SEM GUARNICAO | H37: 1 | I37: UN | J37: =IFERROR(IF(S37+T37<>0,ROUND(ROUND(S37,4)+ROUND(T37,4),4),""),"") -> 319.96 | K37: =IFERROR(IF(H37*J37<>0,ROUND(ROUND(H37,4)*ROUND(J37,4),2),""),"") -> 319.96 | L37: 0.265 | M37: 0.8325 | O37: =IF(N37="","",INDIRECT("base!"&ADDRESS(MATCH(N37,#REF!:#REF!,0)+1,4,4))) | Q37: =IF(P37="","",INDIRECT("base!"&ADDRESS(MATCH(CONCATENATE(N37,"|",P37),#REF!:#REF!,0)+1,6,4))) | R37: Mão-de-obra e material | S37: =TRUNC(U37*(1+L37),2) -> 0 | T37: =TRUNC(V37*(1+L37),2) -> 319.96 | U37: 0 | V37: 252.94
A38: 1 | B38: =IF(AND(G38<>"",H38>0,I38<>"",J38<>0,K38<>0),COUNT($B$11:B37)+1,"") -> 24 | C38: 3.3 | D38: SINAPI | E38: 10507 | F38: 45870 | G38: VIDRO TEMPERADO INCOLOR E = 10 MM, SEM COLOCACAO | H38: 0.24 | I38: m² | J38: =IFERROR(IF(S38+T38<>0,ROUND(ROUND(S38,4)+ROUND(T38,4),4),""),"") -> 384.77 | K38: =IFERROR(IF(H38*J38<>0,ROUND(ROUND(H38,4)*ROUND(J38,4),2),""),"") -> 92.34 | L38: 0.265 | M38: 0.8325 | O38: =IF(N38="","",INDIRECT("base!"&ADDRESS(MATCH(N38,#REF!:#REF!,0)+1,4,4))) | Q38: =IF(P38="","",INDIRECT("base!"&ADDRESS(MATCH(CONCATENATE(N38,"|",P38),#REF!:#REF!,0)+1,6,4))) | R38: Mão-de-obra e material | S38: =TRUNC(U38*(1+L38),2) -> 0 | T38: =TRUNC(V38*(1+L38),2) -> 384.77 | U38: 0 | V38: 304.17
A39: 1 | B39: =IF(AND(G39<>"",H39>0,I39<>"",J39<>0,K39<>0),COUNT($B$11:B38)+1,"") -> 25 | C39: 3.4 | D39: SINAPI | E39: 100666 | F39: 45870 | G39: JANELA DE MADEIRA (PINUS/EUCALIPTO OU EQUIV.) DE ABRIR COM 4 FOLHAS (2 VENEZIANAS E 2 GUILHOTINAS), COM BATENTE, ALIZAR E FERRAGENS, EXCLUSIVE VIDROS, ACABAMENTO E CONTRAMARCO, FIXAÇÃO C/ PARAFUSO E ESPUMA - FORNECIMENTO E INSTALAÇÃO. AF_11/2024 | H39: 4.08 | I39: m² | J39: =IFERROR(IF(S39+T39<>0,ROUND(ROUND(S39,4)+ROUND(T39,4),4),""),"") -> 1055.9 | K39: =IFERROR(IF(H39*J39<>0,ROUND(ROUND(H39,4)*ROUND(J39,4),2),""),"") -> 4308.07 | L39: 0.265 | M39: 0.8325 | O39: =IF(N39="","",INDIRECT("base!"&ADDRESS(MATCH(N39,#REF!:#REF!,0)+1,4,4))) | Q39: =IF(P39="","",INDIRECT("base!"&ADDRESS(MATCH(CONCATENATE(N39,"|",P39),#REF!:#REF!,0)+1,6,4))) | R39: Mão-de-obra e material | S39: =TRUNC(U39*(1+L39),2) -> 64.65 | T39: =TRUNC(V39*(1+L39),2) -> 991.25 | U39: 51.11 | V39: 783.6
A40: 1 | B40: =IF(AND(G40<>"",H40>0,I40<>"",J40<>0,K40<>0),COUNT($B$11:B39)+1,"") -> 26 | C40: 3.5 | D40: SINAPI | E40: 90821 | F40: 45870 | G40: PORTA DE MADEIRA PARA PINTURA, SEMI-OCA (LEVE OU MÉDIA), 70X210CM, ESPESSURA DE 3,5CM, INCLUSO DOBRADIÇAS - FORNECIMENTO E INSTALAÇÃO. AF_12/2019 | H40: 3 | I40: UN | J40: =IFERROR(IF(S40+T40<>0,ROUND(ROUND(S40,4)+ROUND(T40,4),4),""),"") -> 529.07 | K40: =IFERROR(IF(H40*J40<>0,ROUND(ROUND(H40,4)*ROUND(J40,4),2),""),"") -> 1587.21 | L40: 0.265 | M40: 0.8325 | O40: =IF(N40="","",INDIRECT("base!"&ADDRESS(MATCH(N40,#REF!:#REF!,0)+1,4,4))) | Q40: =IF(P40="","",INDIRECT("base!"&ADDRESS(MATCH(CONCATENATE(N40,"|",P40),#REF!:#REF!,0)+1,6,4))) | R40: Mão-de-obra e material | S40: =TRUNC(U40*(1+L40),2) -> 49.56 | T40: =TRUNC(V40*(1+L40),2) -> 479.51 | U40: 39.18 | V40: 379.06
A41: 1 | B41: =IF(AND(G41<>"",H41>0,I41<>"",J41<>0,K41<>0),COUNT($B$11:B40)+1,"") -> 27 | C41: 3.6 | D41: SINAPI | E41: 90822 | F41: 45870 | G41: PORTA DE MADEIRA PARA PINTURA, SEMI-OCA (LEVE OU MÉDIA), 80X210CM, ESPESSURA DE 3,5CM, INCLUSO DOBRADIÇAS - FORNECIMENTO E INSTALAÇÃO. AF_12/2019 | H41: 2 | I41: UN | J41: =IFERROR(IF(S41+T41<>0,ROUND(ROUND(S41,4)+ROUND(T41,4),4),""),"") -> 565.5 | K41: =IFERROR(IF(H41*J41<>0,ROUND(ROUND(H41,4)*ROUND(J41,4),2),""),"") -> 1131 | L41: 0.265 | M41: 0.8325 | O41: =IF(N41="","",INDIRECT("base!"&ADDRESS(MATCH(N41,#REF!:#REF!,0)+1,4,4))) | Q41: =IF(P41="","",INDIRECT("base!"&ADDRESS(MATCH(CONCATENATE(N41,"|",P41),#REF!:#REF!,0)+1,6,4))) | R41: Mão-de-obra e material | S41: =TRUNC(U41*(1+L41),2) -> 54.17 | T41: =TRUNC(V41*(1+L41),2) -> 511.33 | U41: 42.83 | V41: 404.22
A42: 1 | B42: =IF(AND(G42<>"",H42>0,I42<>"",J42<>0,K42<>0),COUNT($B$11:B41)+1,"") -> 28 | C42: 3.7 | D42: SINAPI | E42: 102230 | F42: 45870 | G42: PINTURA TINTA DE ACABAMENTO (PIGMENTADA) ESMALTE SINTÉTICO BRILHANTE EM MADEIRA, 3 DEMÃOS. AF_01/2021 | H42: 24.18 | I42: m² | J42: =IFERROR(IF(S42+T42<>0,ROUND(ROUND(S42,4)+ROUND(T42,4),4),""),"") -> 31.83 | K42: =IFERROR(IF(H42*J42<>0,ROUND(ROUND(H42,4)*ROUND(J42,4),2),""),"") -> 769.65 | L42: 0.265 | M42: 0.8325 | O42: =IF(N42="","",INDIRECT("base!"&ADDRESS(MATCH(N42,#REF!:#REF!,0)+1,4,4))) | Q42: =IF(P42="","",INDIRECT("base!"&ADDRESS(MATCH(CONCATENATE(N42,"|",P42),#REF!:#REF!,0)+1,6,4))) | R42: Mão-de-obra e material | S42: =TRUNC(U42*(1+L42),2) -> 14.96 | T42: =TRUNC(V42*(1+L42),2) -> 16.87 | U42: 11.83 | V42: 13.34
...

Sheet Cronograma
B2: CRONOGRAMA DE EXECUÇÃO
B3: Estado do Rio Grande do Sul
B4: Prefeitura Municipal de Montenegro
B5: Secretaria Municipal de Gestão e Planejamento
B6: OBRA: | C6: CASA DE MADEIRA
B7: PROJETO: | C7: CONSTRUÇÃO CASA DE MADEIRA
B8: DATA: | C8: 23 de setembro de 2025
B10: Item | C10: Descrição dos Serviços | D10: VALOR TOTAL | E10: 1º Mês | F10: % | G10: 2º Mês | H10: % | I10: 3º Mês | J10: %
D11: Mat./M.Obra
B12: ='Orçamento-base'!C12 -> 1 | C12: ='Orçamento-base'!G12 -> SERVIÇOS PRELIMINARES | D12: ='Orçamento-base'!K12
B13: ='Orçamento-base'!C13 -> 1.1 | C13: ='Orçamento-base'!G13 -> FORNECIMENTO E INSTALAÇÃO DE PLACA DE OBRA COM CHAPA GALVANIZADA E ESTRUTURA DE MADEIRA. AF_03/2022_PS | D13: ='Orçamento-base'!K13 -> 1450.6 | E13: =TRUNC((D13*F13),2) -> 1450.6 | F13: 1 | G13: - | H13: 0 | I13: - | J13: 0
B14: ='Orçamento-base'!C14 -> 1.2 | C14: ='Orçamento-base'!G14 -> LOCAÇÃO DE PONTO PARA REFERÊNCIA TOPOGRÁFICA. AF_10/2018 | D14: ='Orçamento-base'!K14 -> 195.24 | E14: =TRUNC((D14*F14),2) -> 195.24 | F14: 1 | G14: - | H14: 0 | I14: - | J14: 0
B15: ='Orçamento-base'!C15 -> 1.3 | C15: ='Orçamento-base'!G15 -> REGULARIZAÇÃO DE SUPERFÍCIES COM MOTONIVELADORA. AF_09/2024 | D15: ='Orçamento-base'!K15 -> 136 | E15: =TRUNC((D15*F15),2) -> 136 | F15: 1 | G15: - | H15: 0 | I15: - | J15: 0
B16: ='Orçamento-base'!C16 -> 1.4 | C16: ='Orçamento-base'!G16 -> KIT CAVALETE PARA MEDIÇÃO DE ÁGUA - ENTRADA PRINCIPAL, EM PVC 20 MM (1/2") - FORNECIMENTO E INSTALAÇÃO (EXCLUSIVE HIDRÔMETRO). AF_03/2024 | D16: ='Orçamento-base'!K16 -> 292.94 | E16: =TRUNC((D16*F16),2) -> 292.94 | F16: 1 | G16: - | H16: 0 | I16: - | J16: 0
B17: ='Orçamento-base'!C17 -> 1.5 | C17: ='Orçamento-base'!G17 -> ENTRADA DE ENERGIA ELÉTRICA, AÉREA, MONOFÁSICA, COM CAIXA DE SOBREPOR, CABO DE 10 MM2 E DISJUNTOR DIN 50A (NÃO INCLUSO O POSTE DE CONCRETO). AF_07/2020_PS | D17: ='Orçamento-base'!K17 -> 1980.41 | E17: =TRUNC((D17*F17),2) -> 1980.41 | F17: 1 | G17: - | H17: 0 | I17: - | J17: 0
B18: ='Orçamento-base'!C18 -> 1.6 | C18: ='Orçamento-base'!G18 -> POSTE CONICO CONTINUO EM ACO GALVANIZADO, RETO, FLANGEADO, H = 3 M, DIAMETRO INFERIOR = *95* MM | D18: ='Orçamento-base'!K18 -> 714.61 | E18: =TRUNC((D18*F18),2) -> 714.61 | F18: 1 | G18: - | H18: 0 | I18: - | J18: 0
B19: ='Orçamento-base'!C19 -> 1.7 | C19: ='Orçamento-base'!G19 -> ASSENTAMENTO DE POSTE DE CONCRETO COM COMPRIMENTO NOMINAL DE 9 M, CARGA NOMINAL DE 300 DAN, ENGASTAMENTO BASE CONCRETADA COM 1 M DE CONCRETO E 0,5 M DE SOLO (NÃO INCLUI FORNECIMENTO). AF_11/2019 | D19: ='Orçamento-base'!K19 -> 890.59 | E19: =TRUNC((D19*F19),2) -> 890.59 | F19: 1 | G19: - | H19: 0 | I19: - | J19: 0
B20: ='Orçamento-base'!C20 -> 2 | C20: ='Orçamento-base'!G20 -> ESTRUTURA
B21: ='Orçamento-base'!C21 -> 2.1 | C21: ='Orçamento-base'!G21 -> ESCAVAÇÃO MANUAL DE VALA. AF_09/2024 | D21: ='Orçamento-base'!K21 -> 391.58 | E21: =TRUNC((D21*F21),2) -> 391.58 | F21: 1 | G21: - | H21: 0 | I21: - | J21: 0
B22: ='Orçamento-base'!C22 -> 2.2 | C22: ='Orçamento-base'!G22 -> ESTACA HÉLICE CONTÍNUA, DIÂMETRO DE 30 CM, INCLUSO CONCRETO FCK=30MPA E ARMADURA MÍNIMA (EXCLUSIVE BOMBEAMENTO, MOBILIZAÇÃO E DESMOBILIZAÇÃO). AF_12/2019_PA | D22: ='Orçamento-base'!K22 -> 3570.84 | E22: =TRUNC((D22*F22),2) -> 3570.84 | F22: 1 | G22: - | H22: 0 | I22: - | J22: 0
B23: ='Orçamento-base'!C23 -> 2.3 | C23: ='Orçamento-base'!G23 -> BLOCO DE COROAMENTO 40X40X40, CONCRETO FCK 30MPA - UNID | D23: ='Orçamento-base'!K23 -> 2862.36 | E23: =TRUNC((D23*F23),2) -> 2862.36 | F23: 1 | G23: - | H23: 0 | I23: - | J23: 0
B24: ='Orçamento-base'!C24 -> 2.4 | C24: ='Orçamento-base'!G24 -> VIGA DE BALDRAME 15X30, CONCRETO FCK 30MPA-M | D24: ='Orçamento-base'!K24 -> 8499.17 | E24: =TRUNC((D24*F24),2) -> 8499.17 | F24: 1 | G24: - | H24: 0 | I24: - | J24: 0
B25: ='Orçamento-base'!C25 -> 2.5 | C25: ='Orçamento-base'!G25 -> ASSENTAMENTO DE PEDRA GRÊS PARA ALICERCE, INCLUINDO TELA DE AÇO SOLDADA, PINO DE AÇO E ARGAMASSA M² | D25: ='Orçamento-base'!K25 -> 3650.21 | E25: =TRUNC((D25*F25),2) -> 3650.21 | F25: 1 | G25: - | H25: 0 | I25: - | J25: 0
B26: ='Orçamento-base'!C26 -> 2.6 | C26: ='Orçamento-base'!G26 -> PAREDE EM EUCALIPTO, COM ACABAMENTO EM PINTURA ESMALTE SINTÉTICO - M² | D26: ='Orçamento-base'!K26 -> 19852.8 | E26: =TRUNC((D26*F26),2) -> 19852.8 | F26: 1 | G26: - | H26: 0 | I26: - | J26: 0
B27: ='Orçamento-base'!C27 -> 2.7 | C27: ='Orçamento-base'!G27 -> PILAR EM CONCRETO ARMADO FCK 30MPA 40x20X20CM - M² | D27: ='Orçamento-base'!K27 -> 1581.12 | E27: =TRUNC((D27*F27),2) -> 1581.12 | F27: 1 | G27: - | H27: 0 | I27: - | J27: 0
B28: ='Orçamento-base'!C28 -> 2.8 | C28: ='Orçamento-base'!G28 -> IMPERMEABILIZAÇÃO DE SUPERFÍCIE COM EMULSÃO ASFÁLTICA, 2 DEMÃOS. AF_09/2023 | D28: ='Orçamento-base'!K28 -> 3674.38 | E28: =TRUNC((D28*F28),2) -> 3674.38 | F28: 1 | G28: - | H28: 0 | I28: - | J28: 0
B29: ='Orçamento-base'!C29 -> 2.9 | C29: ='Orçamento-base'!G29 -> ALVENARIA DE VEDAÇÃO DE BLOCOS CERÂMICOS FURADOS NA HORIZONTAL DE 9X19X19 CM (ESPESSURA 9 CM) E ARGAMASSA DE ASSENTAMENTO COM PREPARO EM BETONEIRA. AF_12/2021 | D29: ='Orçamento-base'!K29 -> 1973.81 | E29: =TRUNC((D29*F29),2) -> 1973.81 | F29: 1 | G29: - | H29: 0 | I29: - | J29: 0
B30: ='Orçamento-base'!C30 -> 2.10 | C30: ='Orçamento-base'!G30 -> VIGA BANHIERO 15X30, CONCRETO FCK 30MPA - M | D30: ='Orçamento-base'!K30 -> 1792.52 | E30: =TRUNC((D30*F30),2) -> 1792.52 | F30: 1 | G30: - | H30: 0 | I30: - | J30: 0
B31: ='Orçamento-base'!C31 -> 2.11 | C31: ='Orçamento-base'!G31 -> LAJE PRÉ-MOLDADA UNIDIRECIONAL, BIAPOIADA, PARA FORRO, ENCHIMENTO EM CERÂMICA, VIGOTA CONVENCIONAL, ALTURA TOTAL DA LAJE (ENCHIMENTO+CAPA) = (8+3). AF_11/2020_PA | D31: ='Orçamento-base'!K31 -> 1058.12 | E31: =TRUNC((D31*F31),2) -> 1058.12 | F31: 1 | G31: - | H31: 0 | I31: - | J31: 0
B32: ='Orçamento-base'!C32 -> 2.12 | C32: ='Orçamento-base'!G32 -> REATERRO MECANIZADO DE VALA COM ESCAVADEIRA HIDRÁULICA (CAPACIDADE DA CAÇAMBA: 0,8 M³ / POTÊNCIA: 111 HP), LARGURA DE 1,5 A 2,5 M, PROFUNDIDADE ATÉ 1,5 M, COM SOLO DE 1ª CATEGORIA EM LOCAIS COM ALTO NÍVEL DE INTERFERÊNCIA. AF_04/2016 | D32: ='Orçamento-base'!K32 -> 861.4 | E32: =TRUNC((D32*F32),2) -> 861.4 | F32: 1 | G32: - | H32: 0 | I32: - | J32: 0
B33: ='Orçamento-base'!C33 -> 2.13 | C33: ='Orçamento-base'!G33 -> LASTRO DE CONCRETO MAGRO, APLICADO EM PISOS, LAJES SOBRE SOLO OU RADIERS, ESPESSURA DE 3 CM. AF_01/2024 | D33: ='Orçamento-base'!K33 -> 971.93 | E33: - | F33: 0 | G33: =TRUNC((D33*H33),2) -> 971.93 | H33: 1 | I33: - | J33: 0
B34: ='Orçamento-base'!C34 -> 2.14 | C34: ='Orçamento-base'!G34 -> LASTRO COM MATERIAL GRANULAR, APLICADO EM PISOS OU LAJES SOBRE SOLO, ESPESSURA DE *5 CM*. AF_01/2024 | D34: ='Orçamento-base'!K34 -> 489.76 | E34: - | F34: 0 | G34: =TRUNC((D34*H34),2) -> 489.76 | H34: 1 | I34: - | J34: 0
B35: ='Orçamento-base'!C35 -> 3 | C35: ='Orçamento-base'!G35 -> ABERTURAS | D35: ='Orçamento-base'!K35
B36: ='Orçamento-base'!C36 -> 3.1 | C36: ='Orçamento-base'!G36 -> JANELA DE MADEIRA (CEDRINHO/ANGELIM OU EQUIV.) TIPO MAXIM-AR, PARA VIDRO, COM BATENTE, ALIZAR E FERRAGENS, EXCLUSIVE VIDRO, ACABAMENTO E CONTRAMARCO, FIXAÇÃO C/ PARAFUSO E ESPUMA - FORNECIMENTO E INSTALAÇÃO. AF_11/2024 | D36: ='Orçamento-base'!K36 -> 488.16 | E36: - | F36: 0 | G36: =TRUNC((D36*H36),2) -> 488.16 | H36: 1 | I36: - | J36: 0
B37: ='Orçamento-base'!C37 -> 3.2 | C37: ='Orçamento-base'!G37 -> JANELA BASCULANTE, EM ALUMINIO PERFIL 20, 80 X 60 CM (A X L), 4 FLS (1 FIXA E 3 MOVEIS), ACABAMENTO BRANCO OU BRILHANTE, BATENTE DE 3 A 4 CM, COM VIDRO 4 MM, SEM GUARNICAO | D37: ='Orçamento-base'!K37 -> 319.96 | E37: - | F37: 0 | G37: =TRUNC((D37*H37),2) -> 319.96 | H37: 1 | I37: - | J37: 0
B38: ='Orçamento-base'!C38 -> 3.3 | C38: ='Orçamento-base'!G38 -> VIDRO TEMPERADO INCOLOR E = 10 MM, SEM COLOCACAO | D38: ='Orçamento-base'!K38 -> 92.34 | E38: - | F38: 0 | G38: =TRUNC((D38*H38),2) -> 92.34 | H38: 1 | I38: - | J38: 0
B39: ='Orçamento-base'!C39 -> 3.4 | C39: ='Orçamento-base'!G39 -> JANELA DE MADEIRA (PINUS/EUCALIPTO OU EQUIV.) DE ABRIR COM 4 FOLHAS (2 VENEZIANAS E 2 GUILHOTINAS), COM BATENTE, ALIZAR E FERRAGENS, EXCLUSIVE VIDROS, ACABAMENTO E CONTRAMARCO, FIXAÇÃO C/ PARAFUSO E ESPUMA - FORNECIMENTO E INSTALAÇÃO. AF_11/2024 | D39: ='Orçamento-base'!K39 -> 4308.07 | E39: - | F39: 0 | G39: =TRUNC((D39*H39),2) -> 4308.07 | H39: 1 | I39: - | J39: 0
B40: ='Orçamento-base'!C40 -> 3.5 | C40: ='Orçamento-base'!G40 -> PORTA DE MADEIRA PARA PINTURA, SEMI-OCA (LEVE OU MÉDIA), 70X210CM, ESPESSURA DE 3,5CM, INCLUSO DOBRADIÇAS - FORNECIMENTO E INSTALAÇÃO. AF_12/2019 | D40: ='Orçamento-base'!K40 -> 1587.21 | E40: - | F40: 0 | G40: =TRUNC((D40*H40),2) -> 1587.21 | H40: 1 | I40: - | J40: 0
B41: ='Orçamento-base'!C41 -> 3.6 | C41: ='Orçamento-base'!G41 -> PORTA DE MADEIRA PARA PINTURA, SEMI-OCA (LEVE OU MÉDIA), 80X210CM, ESPESSURA DE 3,5CM, INCLUSO DOBRADIÇAS - FORNECIMENTO E INSTALAÇÃO. AF_12/2019 | D41: ='Orçamento-base'!K41 -> 1131 | E41: - | F41: 0 | G41: =TRUNC((D41*H41),2) -> 1131 | H41: 1 | I41: - | J41: 0
B42: ='Orçamento-base'!C42 -> 3.7 | C42: ='Orçamento-base'!G42 -> PINTURA TINTA DE ACABAMENTO (PIGMENTADA) ESMALTE SINTÉTICO BRILHANTE EM MADEIRA, 3 DEMÃOS. AF_01/2021 | D42: ='Orçamento-base'!K42 -> 769.65 | E42: - | F42: 0 | G42: =TRUNC((D42*H42),2) -> 769.65 | H42: 1 | I42: - | J42: 0
...

Sheet Proposta
A1: PROPOSTA
A2: Modalidade | C2: =IF(Identificação!B2=0,"",Identificação!B2) -> Concorrência Lei 14.133/21 Eletrônica | E2: N° | F2: =IF(Identificação!E2=0,"",Identificação!E2) | G2: Ano | H2: =IF(Identificação!G2=0,"",Identificação!G2) -> 2025
A3: Descrição do Objeto | C3: =IF(Identificação!B3=0,"",Identificação!B3) -> UNIDADE DE CASA DE MADEIRA
A4: Licitante | G4: CNPJ*
A5: Tipo de Objeto | C5: =IF(Identificação!B5=0,"",Identificação!B5) -> Obras e Serviços de Engenharia
A6: Preço Total Proposto | C6: =SUMIFS(H12:H39952,B12:B39952,">0",H12:H39952,"<>0") -> 0
A7: Atenção! Se existirem itens sem preço proposto, deixe a célula do preço unitário proposto em branco.
A8: Para incluir itens da proposta, selecione as células A13 a K13 e arraste para baixo, de acordo com o número de itens cadastrado na planilha Orçamento-base.
A9: *Campos de preenchimento obrigatório | F9: **Obrigatório só para Obras e Serviços de Engenharia
A10: Nº do lote | B10: Nº Ordem | C10: Nº Item | D10: Descrição do item | E10: Proposta
E11: Qtd. | F11: Unid. | G11: Preço unitário (R$)* | H11: Preço Total (R$) | I11: % BDI** | J11: % Encargos Sociais** | K11: Percentual de Desconto | L11: Pr. Unit. Material | M11: Pr. Unit. Mão de obra
A12: =IF('Orçamento-base'!A12>0,'Orçamento-base'!A12,"") | B12: ='Orçamento-base'!B12 | C12: =IF('Orçamento-base'!C12>0,'Orçamento-base'!C12,"") -> 1 | D12: =IF('Orçamento-base'!G12>0,'Orçamento-base'!G12,"") -> SERVIÇOS PRELIMINARES | E12: =IF('Orçamento-base'!H12>0,'Orçamento-base'!H12,"") | F12: =IF('Orçamento-base'!I12>0,'Orçamento-base'!I12,"") | G12: =IFERROR(IF(L12+M12<>0,ROUND(ROUND(L12,4)+ROUND(M12,4),4),""),"") | H12: =IFERROR(IF(E12*G12<>0,ROUND(ROUND(E12,4)*ROUND(G12,4),2),""),"")
A13: =IF('Orçamento-base'!A13>0,'Orçamento-base'!A13,"") -> 1 | B13: ='Orçamento-base'!B13 -> 1 | C13: =IF('Orçamento-base'!C13>0,'Orçamento-base'!C13,"") -> 1.1 | D13: =IF('Orçamento-base'!G13>0,'Orçamento-base'!G13,"") -> FORNECIMENTO E INSTALAÇÃO DE PLACA DE OBRA COM CHAPA GALVANIZADA E ESTRUTURA DE MADEIRA. AF_03/2022_PS | E13: =IF('Orçamento-base'!H13>0,'Orçamento-base'!H13,"") -> 2.5 | F13: =IF('Orçamento-base'!I13>0,'Orçamento-base'!I13,"") -> m² | G13: =IFERROR(IF(L13+M13<>0,ROUND(ROUND(L13,4)+ROUND(M13,4),4),""),"") | H13: =IFERROR(IF(E13*G13<>0,ROUND(ROUND(E13,4)*ROUND(G13,4),2),""),"")
A14: =IF('Orçamento-base'!A14>0,'Orçamento-base'!A14,"") -> 1 | B14: ='Orçamento-base'!B14 -> 2 | C14: =IF('Orçamento-base'!C14>0,'Orçamento-base'!C14,"") -> 1.2 | D14: =IF('Orçamento-base'!G14>0,'Orçamento-base'!G14,"") -> LOCAÇÃO DE PONTO PARA REFERÊNCIA TOPOGRÁFICA. AF_10/2018 | E14: =IF('Orçamento-base'!H14>0,'Orçamento-base'!H14,"") -> 12 | F14: =IF('Orçamento-base'!I14>0,'Orçamento-base'!I14,"") -> UN | G14: =IFERROR(IF(L14+M14<>0,ROUND(ROUND(L14,4)+ROUND(M14,4),4),""),"") | H14: =IFERROR(IF(E14*G14<>0,ROUND(ROUND(E14,4)*ROUND(G14,4),2),""),"")
A15: =IF('Orçamento-base'!A15>0,'Orçamento-base'!A15,"") -> 1 | B15: ='Orçamento-base'!B15 -> 3 | C15: =IF('Orçamento-base'!C15>0,'Orçamento-base'!C15,"") -> 1.3 | D15: =IF('Orçamento-base'!G15>0,'Orçamento-base'!G15,"") -> REGULARIZAÇÃO DE SUPERFÍCIES COM MOTONIVELADORA. AF_09/2024 | E15: =IF('Orçamento-base'!H15>0,'Orçamento-base'!H15,"") -> 170 | F15: =IF('Orçamento-base'!I15>0,'Orçamento-base'!I15,"") -> m² | G15: =IFERROR(IF(L15+M15<>0,ROUND(ROUND(L15,4)+ROUND(M15,4),4),""),"") | H15: =IFERROR(IF(E15*G15<>0,ROUND(ROUND(E15,4)*ROUND(G15,4),2),""),"")
A16: =IF('Orçamento-base'!A16>0,'Orçamento-base'!A16,"") -> 1 | B16: ='Orçamento-base'!B16 -> 4 | C16: =IF('Orçamento-base'!C16>0,'Orçamento-base'!C16,"") -> 1.4 | D16: =IF('Orçamento-base'!G16>0,'Orçamento-base'!G16,"") -> KIT CAVALETE PARA MEDIÇÃO DE ÁGUA - ENTRADA PRINCIPAL, EM PVC 20 MM (1/2") - FORNECIMENTO E INSTALAÇÃO (EXCLUSIVE HIDRÔMETRO). AF_03/2024 | E16: =IF('Orçamento-base'!H16>0,'Orçamento-base'!H16,"") -> 1 | F16: =IF('Orçamento-base'!I16>0,'Orçamento-base'!I16,"") -> UN | G16: =IFERROR(IF(L16+M16<>0,ROUND(ROUND(L16,4)+ROUND(M16,4),4),""),"") | H16: =IFERROR(IF(E16*G16<>0,ROUND(ROUND(E16,4)*ROUND(G16,4),2),""),"")
A17: =IF('Orçamento-base'!A17>0,'Orçamento-base'!A17,"") -> 1 | B17: ='Orçamento-base'!B17 -> 5 | C17: =IF('Orçamento-base'!C17>0,'Orçamento-base'!C17,"") -> 1.5 | D17: =IF('Orçamento-base'!G17>0,'Orçamento-base'!G17,"") -> ENTRADA DE ENERGIA ELÉTRICA, AÉREA, MONOFÁSICA, COM CAIXA DE SOBREPOR, CABO DE 10 MM2 E DISJUNTOR DIN 50A (NÃO INCLUSO O POSTE DE CONCRETO). AF_07/2020_PS | E17: =IF('Orçamento-base'!H17>0,'Orçamento-base'!H17,"") -> 1 | F17: =IF('Orçamento-base'!I17>0,'Orçamento-base'!I17,"") -> UN | G17: =IFERROR(IF(L17+M17<>0,ROUND(ROUND(L17,4)+ROUND(M17,4),4),""),"") | H17: =IFERROR(IF(E17*G17<>0,ROUND(ROUND(E17,4)*ROUND(G17,4),2),""),"")
A18: =IF('Orçamento-base'!A18>0,'Orçamento-base'!A18,"") -> 1 | B18: ='Orçamento-base'!B18 -> 6 | C18: =IF('Orçamento-base'!C18>0,'Orçamento-base'!C18,"") -> 1.6 | D18: =IF('Orçamento-base'!G18>0,'Orçamento-base'!G18,"") -> POSTE CONICO CONTINUO EM ACO GALVANIZADO, RETO, FLANGEADO, H = 3 M, DIAMETRO INFERIOR = *95* MM | E18: =IF('Orçamento-base'!H18>0,'Orçamento-base'!H18,"") -> 1 | F18: =IF('Orçamento-base'!I18>0,'Orçamento-base'!I18,"") -> UN | G18: =IFERROR(IF(L18+M18<>0,ROUND(ROUND(L18,4)+ROUND(M18,4),4),""),"") | H18: =IFERROR(IF(E18*G18<>0,ROUND(ROUND(E18,4)*ROUND(G18,4),2),""),"")
A19: =IF('Orçamento-base'!A19>0,'Orçamento-base'!A19,"") -> 1 | B19: ='Orçamento-base'!B19 -> 7 | C19: =IF('Orçamento-base'!C19>0,'Orçamento-base'!C19,"") -> 1.7 | D19: =IF('Orçamento-base'!G19>0,'Orçamento-base'!G19,"") -> ASSENTAMENTO DE POSTE DE CONCRETO COM COMPRIMENTO NOMINAL DE 9 M, CARGA NOMINAL DE 300 DAN, ENGASTAMENTO BASE CONCRETADA COM 1 M DE CONCRETO E 0,5 M DE SOLO (NÃO INCLUI FORNECIMENTO). AF_11/2019 | E19: =IF('Orçamento-base'!H19>0,'Orçamento-base'!H19,"") -> 1 | F19: =IF('Orçamento-base'!I19>0,'Orçamento-base'!I19,"") -> UN | G19: =IFERROR(IF(L19+M19<>0,ROUND(ROUND(L19,4)+ROUND(M19,4),4),""),"") | H19: =IFERROR(IF(E19*G19<>0,ROUND(ROUND(E19,4)*ROUND(G19,4),2),""),"")
A20: =IF('Orçamento-base'!A20>0,'Orçamento-base'!A20,"") | B20: ='Orçamento-base'!B20 | C20: =IF('Orçamento-base'!C20>0,'Orçamento-base'!C20,"") -> 2 | D20: =IF('Orçamento-base'!G20>0,'Orçamento-base'!G20,"") -> ESTRUTURA | E20: =IF('Orçamento-base'!H20>0,'Orçamento-base'!H20,"") | F20: =IF('Orçamento-base'!I20>0,'Orçamento-base'!I20,"") | G20: =IFERROR(IF(L20+M20<>0,ROUND(ROUND(L20,4)+ROUND(M20,4),4),""),"") | H20: =IFERROR(IF(E20*G20<>0,ROUND(ROUND(E20,4)*ROUND(G20,4),2),""),"")
A21: =IF('Orçamento-base'!A21>0,'Orçamento-base'!A21,"") -> 1 | B21: ='Orçamento-base'!B21 -> 8 | C21: =IF('Orçamento-base'!C21>0,'Orçamento-base'!C21,"") -> 2.1 | D21: =IF('Orçamento-base'!G21>0,'Orçamento-base'!G21,"") -> ESCAVAÇÃO MANUAL DE VALA. AF_09/2024 | E21: =IF('Orçamento-base'!H21>0,'Orçamento-base'!H21,"") -> 3.5 | F21: =IF('Orçamento-base'!I21>0,'Orçamento-base'!I21,"") -> m³ | G21: =IFERROR(IF(L21+M21<>0,ROUND(ROUND(L21,4)+ROUND(M21,4),4),""),"") | H21: =IFERROR(IF(E21*G21<>0,ROUND(ROUND(E21,4)*ROUND(G21,4),2),""),"")
A22: =IF('Orçamento-base'!A22>0,'Orçamento-base'!A22,"") -> 1 | B22: ='Orçamento-base'!B22 -> 9 | C22: =IF('Orçamento-base'!C22>0,'Orçamento-base'!C22,"") -> 2.2 | D22: =IF('Orçamento-base'!G22>0,'Orçamento-base'!G22,"") -> ESTACA HÉLICE CONTÍNUA, DIÂMETRO DE 30 CM, INCLUSO CONCRETO FCK=30MPA E ARMADURA MÍNIMA (EXCLUSIVE BOMBEAMENTO, MOBILIZAÇÃO E DESMOBILIZAÇÃO). AF_12/2019_PA | E22: =IF('Orçamento-base'!H22>0,'Orçamento-base'!H22,"") -> 18 | F22: =IF('Orçamento-base'!I22>0,'Orçamento-base'!I22,"") -> m | G22: =IFERROR(IF(L22+M22<>0,ROUND(ROUND(L22,4)+ROUND(M22,4),4),""),"") | H22: =IFERROR(IF(E22*G22<>0,ROUND(ROUND(E22,4)*ROUND(G22,4),2),""),"")
A23: =IF('Orçamento-base'!A23>0,'Orçamento-base'!A23,"") -> 1 | B23: ='Orçamento-base'!B23 -> 10 | C23: =IF('Orçamento-base'!C23>0,'Orçamento-base'!C23,"") -> 2.3 | D23: =IF('Orçamento-base'!G23>0,'Orçamento-base'!G23,"") -> BLOCO DE COROAMENTO 40X40X40, CONCRETO FCK 30MPA - UNID | E23: =IF('Orçamento-base'!H23>0,'Orçamento-base'!H23,"") -> 12 | F23: =IF('Orçamento-base'!I23>0,'Orçamento-base'!I23,"") -> UN | G23: =IFERROR(IF(L23+M23<>0,ROUND(ROUND(L23,4)+ROUND(M23,4),4),""),"") | H23: =IFERROR(IF(E23*G23<>0,ROUND(ROUND(E23,4)*ROUND(G23,4),2),""),"")
... A88: =IF('Orçamento-base'!A88>0,'Orçamento-base'!A88,"") -> 1 | B88: ='Orçamento-base'!B88 -> 70 | C88: =IF('Orçamento-base'!C88>0,'Orçamento-base'!C88,"") -> 7.15 | D88: =IF('Orçamento-base'!G88>0,'Orçamento-base'!G88,"") -> TOMADA MÉDIA DE EMBUTIR (1 MÓDULO), 2P+T 10 A, INCLUINDO SUPORTE E PLACA - FORNECIMENTO E INSTALAÇÃO. AF_03/2023 | E88: =IF('Orçamento-base'!H88>0,'Orçamento-base'!H88,"") -> 4 | F88: =IF('Orçamento-base'!I88>0,'Orçamento-base'!I88,"") -> UN | G88: =IFERROR(IF(L88+M88<>0,ROUND(ROUND(L88,4)+ROUND(M88,4),4),""),"") | H88: =IFERROR(IF(E88*G88<>0,ROUND(ROUND(E88,4)*ROUND(G88,4),2),""),"")

Sheet BDI
A1: PREFEITURA MUNICIPAL DE MONTENEGRO/RS
A2: SECRETARIA MUNICIPAL DE OBRAS PÚBLICAS
A4: COMPOSIÇÃO ANALÍTICA DA TAXA DE BONIFICAÇÃO E DESPESAS INDIRETAS (BDI)
A7: Obra: CONSTRUÇÃO UNIDADE DE CASA DE MADEIRA
A11: 1.0 | B11: CUSTOS INDIRETOS | D11: =SUM(D12:D15) -> 0.055
A12: 1.1 | B12: Administração Central e Local | D12: 0.03
A13: 1.2 | B13: Seguros + Garantia | D13: 0.008
A14: 1.3 | B14: Riscos | D14: 0.0097
A15: 1.5 | B15: Despesas Financeiras | D15: 0.0073
A17: 2.0 | B17: TRIBUTOS | D17: =SUM(D18:D21) -> 0.1115
A18: 2.1 | B18: Pis | D18: 0.0065
A19: 2.2 | B19: Cofins | D19: 0.03
A20: 2.3 | B20: ISS | D20: 0.03
A21: 2.4 | B21: CPRB | D21: 0.045
A23: 3.0 | B23: LUCRO | D23: =D24 -> 0.065
A24: 3.1 | B24: Lucro | D24: 0.065
A26: 4.0 | B26: TAXA TOTAL DE BDI | D26: =(((1+D12+D13+D14)*(1+D15)*(1+D24))/(1-D17))-1 -> 0.26499251
A28: Segundo Acórdão 2622/2013 do Tribunal de Contas da União – TCU, o cálculo do BDI deve ser feito da seguinte maneira:
A32: AC → Administração Central
A33: S → Seguro
A34: R → Riscos
A35: G → Garantia
A36: DF → Despesas Financeiras
A37: L → Taxa de Lucro/Remuneração
A38: I → Incidência de Impostos (PIS, COFINS e ISS)

Sheet Encargos Sociais
A1: PREFEITURA MUNICIPAL DE MONTENEGRO/RS
A2: SECRETARIA MUNICIPAL DE OBRAS PÚBLICAS
A4: COMPOSIÇÃO DE ENCARGOS SOCIAIS SOBRE A MÃO DE OBRA
A7: Obra: CONSTRUÇÃO CASA DE MADEIRA
A9: COD | B9: DESCRIÇÃO
A10: GRUPO A | C10: =SUM(C11:C18) -> 0.168
A11: A1 | B11: INSS | C11: 0
A12: A2 | B12: SESI | C12: 0.015
A13: A3 | B13: SENAI | C13: 0.01
A14: A4 | B14: INCRA | C14: 0.002
A15: A5 | B15: SEBRAE | C15: 0.006
A16: A6 | B16: Salário Educação | C16: 0.025
A17: A7 | B17: Seguro Contra Acidentes de Trabalho | C17: 0.03
A18: A8 | B18: FGTS | C18: 0.08
A20: GRUPO B | C20: =SUM(C21:C30) -> 0.4808
A21: B1 | B21: Repouso Semanal Remunerado | C21: 0.1793
A22: B2 | B22: Feriados | C22: 0.0424
A23: B3 | B23: Auxílio-Enfermidade | C23: 0.0085
A24: B4 | B24: 13º Salário | C24: 0.1102
A25: B5 | B25: Licença Paternidade | C25: 0.0006
A26: B6 | B26: Faltas Justificadas | C26: 0.0073
A27: B7 | B27: Dias de Chuva | C27: 0.0155
A28: B8 | B28: Auxílio Acidente de Trabalho | C28: 0.001
A29: B9 | B29: Férias Gozadas | C29: 0.1156
A30: B10 | B30: Licença Maternidade | C30: 0.0004
A32: GRUPO C | C32: =SUM(C33:C37) -> 0.099
A33: C1 | B33: Aviso Prévio Indenizado | C33: 0.0459
A34: C2 | B34: Aviso Prévio Trabalhado | C34: 0.0011
A35: C3 | B35: Férias Indenizadas | C35: 0.0226
A36: C4 | B36: Depósito Rescisão Sem Justa Causa | C36: 0.0255
A37: C5 | B37: Indenização Adicional | C37: 0.0039
A39: GRUPO D | C39: =SUM(C40:C41) -> 0.0847
A40: D1 | B40: Reincidência de Grupo A s/ Grupo B | C40: 0.0808
A41: D2 | B41: Reincidência de Grupo A s/ sobre C2 e Reincidência do A8 s/C1 | C41: 0.0039
A43: 4.0 | B43: TOTAL (A+B+C+D) | C43: =C10+C20+C32+C39 -> 0.8325

Sheet Composições Próprias
A1: Composição Própria - 085
A2: Código | C2: 085
A3: Descrição | C3: PAREDE EM EUCALIPTO, COM ACABAMENTO EM PINTURA ESMALTE SINTÉTICO - M²
A4: Data | C4: 06/2024
A5: Estado | C5: Rio Grande do Sul
A6: Tipo | C6: PARE - PAREDES/PAINEIS
A7: Unidade | C7: m²
A8: Valor sem Desoneração | C8: 203,68
A9: Valor com Desoneração | C9: 196,17
B10: codigo | C10: Descrição | D10: Tipo | E10: Unidade | F10: Valor sem Desoneração | G10: Valor com Desoneração | H10: Coeficiente | I10: Valor sem Desoneração | J10: Valor com Desoneração
A11: C | B11: 88273 SINAPI | C11: MARCENEIRO COM ENCARGOS COMPLEMENTARES | D11: SEDI - SERVIÇOS DIVERSOS | E11: H | F11: 25,21 | G11: 22,50 | H11: 1,0 | I11: 25,21 | J11: 22,50
A12: C | B12: 88310 SINAPI | C12: PINTOR COM ENCARGOS COMPLEMENTARES | D12: SEDI - SERVIÇOS DIVERSOS | E12: H | F12: 28,55 | G12: 25,62 | H12: 0,5 | I12: 14,27 | J12: 12,81
A13: C | B13: 102230 SINAPI | C13: PINTURA TINTA DE ACABAMENTO (PIGMENTADA) ESMALTE SINTÉTICO BRILHANTE EM MADEIRA, 3 DEMÃOS. AF_01/2021 | D13: PINT - PINTURAS | E13: m² | F13: 24,05 | G13: 22,38 | H13: 2,0 | I13: 48,10 | J13: 44,76
A14: I | B14: 00039436 SINAPI | C14: PARAFUSO DRY WALL, EM ACO FOSFATIZADO, CABECA TROMBETA E PONTA AGULHA (TA), COMPRIMENTO 35 MM | D14: Material | E14: UN | F14: 0,18 | G14: 0,18 | H14: 30,0 | I14: 5,40 | J14: 5,40
A15: I | B15: 00004509 SINAPI | C15: SARRAFO *2,5 X 10* CM EM PINUS, MISTA OU EQUIVALENTE DA REGIAO - BRUTA | D15: Material | E15: M | F15: 3,48 | G15: 3,48 | H15: 2,0 | I15: 6,96 | J15: 6,96
A16: I | B16: D.04.000.035511 CPOS | C16: Tabua aparelhada em cambará, cedrinho, cupuíba, eucalipto-citriodora, eucalipto-saligna, garapa, pinus-elioti, de 10 x 2 cm - macho/fêmea | D16: Material | E16: m² | F16: 77,26 | G16: 77,26 | H16: 1,0 | I16: 77,26 | J16: 77,26
A17: I | B17: 00004500 SINAPI | C17: VIGA *7,5 X 10* CM EM PINUS, MISTA OU EQUIVALENTE DA REGIAO - BRUTA | D17: Material | E17: M | F17: 13,24 | G17: 13,24 | H17: 2,0 | I17: 26,48 | J17: 26,48
A18: Composição Própria - 086
A19: Código | C19: 086
A20: Descrição | C20: BLOCO DE COROAMENTO 40X40X40, CONCRETO FCK 30MPA - UNID
A21: Data
A22: Estado | C22: Rio Grande do Sul
A23: Tipo | C23: FUES - FUNDAÇÕES E ESTRUTURAS
A24: Unidade | C24: UN
A25: Valor sem Desoneração | C25: 180,65
A26: Valor com Desoneração | C26: 174,01
B27: codigo | C27: Descrição | D27: Tipo | E27: Unidade | F27: Valor sem Desoneração | G27: Valor com Desoneração | H27: Coeficiente | I27: Valor sem Desoneração | J27: Valor com Desoneração
A28: C | B28: 96555 SINAPI | C28: CONCRETAGEM DE BLOCO DE COROAMENTO OU VIGA BALDRAME, FCK 30 MPA, COM USO DE JERICA - LANÇAMENTO, ADENSAMENTO E ACABAMENTO. AF_01/2024 | D28: FUES - FUNDAÇÕES E ESTRUTURAS | E28: m³ | F28: 751,74 | G28: 726,66 | H28: 0,065 | I28: 48,86 | J28: 47,23
A29: C | B29: 92802 SINAPI | C29: CORTE E DOBRA DE AÇO CA-50, DIÂMETRO DE 8,0 MM. AF_06/2022 | D29: FUES - FUNDAÇÕES E ESTRUTURAS | E29: KG | F29: 9,98 | G29: 9,92 | H29: 6,32 | I29: 63,07 | J29: 62,69
A30: C | B30: 93358 SINAPI | C30: ESCAVAÇÃO MANUAL DE VALA COM PROFUNDIDADE MENOR OU IGUAL A 1,30 M. AF_02/2021 | D30: MOVT - MOVIMENTO DE TERRA | E30: m³ | F30: 88,61 | G30: 79,43 | H30: 0,064 | I30: 5,67 | J30: 5,08
A31: C | B31: 96531 SINAPI | C31: FABRICAÇÃO, MONTAGEM E DESMONTAGEM DE FÔRMA PARA BLOCO DE COROAMENTO, EM MADEIRA SERRADA, E=25 MM, 2 UTILIZAÇÕES. AF_01/2024 | D31: FUES - FUNDAÇÕES E ESTRUTURAS | E31: m² | F31: 96,12 | G31: 89,91 | H31: 0,64 | I31: 61,51 | J31: 57,54
A32: C | B32: 96621 SINAPI | C32: LASTRO COM MATERIAL GRANULAR, APLICAÇÃO EM BLOCOS DE COROAMENTO, ESPESSURA DE *5 CM*. AF_01/2024 | D32: FUES - FUNDAÇÕES E ESTRUTURAS | E32: m³ | F32: 193,45 | G32: 184,44 | H32: 0,008 | I32: 1,54 | J32: 1,47
A33: Composição Própria - 087
A34: Código | C34: 087
A35: Descrição | C35: VIGA DE BALDRAME 15X30, CONCRETO FCK 30MPA-M
A36: Data
A37: Estado | C37: Rio Grande do Sul
A38: Tipo | C38: FUES - FUNDAÇÕES E ESTRUTURAS
A39: Unidade | C39: M
A40: Valor sem Desoneração | C40: 187,68
...

Sheet Preço de Mercado
A1: PEDRA GRÊS MÉDIA - ENTRE 10 E 12CM DE ESPESSURA
A2: Descrição dos Serviços
A4: CNPJ | C4: RAZÃO SOCIAL | D4: FONTE | F4: VALOR UNITÁRIO(R$)
A5: 91.845.735/0004-14 | C5: LF Comercial de Bens LTDA | D5: https://www.g-haus.com.br/pedra-alicerce-media/p | F5: 6.19
A6: 03.627.964/0001-52 | C6: Materiais de Construção Fachi | D6: https://fachi.com.br/produto/113445-pedra-alicerce-grossa | F6: 4.03
A7: 91.730.218/0001-57 | C7: FERRAGEM PONTO SUL LTDA | D7: https://ferragempontosul.com.br/product/206105/details/ | F7: 3.2
D8: MEDIANA | F8: 4.03

Sheet Memorial de Cálculo
A2: MEMÓRIA DE CÁLCULO
A4: Itens | B4: Descrição | C4: Unidade | D4: Quantidade | E4: Base de cálculo
A5: ='Orçamento-base'!C13 -> 1.1 | B5: ='Orçamento-base'!G13 -> FORNECIMENTO E INSTALAÇÃO DE PLACA DE OBRA COM CHAPA GALVANIZADA E ESTRUTURA DE MADEIRA. AF_03/2022_PS | C5: ='Orçamento-base'!I13 -> m² | D5: ='Orçamento-base'!H13 -> 2.5 | E5: = 1m x 1m
A6: ='Orçamento-base'!C14 -> 1.2 | B6: ='Orçamento-base'!G14 -> LOCAÇÃO DE PONTO PARA REFERÊNCIA TOPOGRÁFICA. AF_10/2018 | C6: ='Orçamento-base'!I14 -> UN | D6: ='Orçamento-base'!H14 -> 12 | E6: conforme planta de fundações
A7: ='Orçamento-base'!C15 -> 1.3 | B7: ='Orçamento-base'!G15 -> REGULARIZAÇÃO DE SUPERFÍCIES COM MOTONIVELADORA. AF_09/2024 | C7: ='Orçamento-base'!I15 -> m² | D7: ='Orçamento-base'!H15 -> 170 | E7: área de intervenção do terreno a ser utilizado
A8: ='Orçamento-base'!C16 -> 1.4 | B8: ='Orçamento-base'!G16 -> KIT CAVALETE PARA MEDIÇÃO DE ÁGUA - ENTRADA PRINCIPAL, EM PVC 20 MM (1/2") - FORNECIMENTO E INSTALAÇÃO (EXCLUSIVE HIDRÔMETRO). AF_03/2024 | C8: ='Orçamento-base'!I16 -> UN | D8: ='Orçamento-base'!H16 -> 1 | E8: conforme projeto
A9: ='Orçamento-base'!C17 -> 1.5 | B9: ='Orçamento-base'!G17 -> ENTRADA DE ENERGIA ELÉTRICA, AÉREA, MONOFÁSICA, COM CAIXA DE SOBREPOR, CABO DE 10 MM2 E DISJUNTOR DIN 50A (NÃO INCLUSO O POSTE DE CONCRETO). AF_07/2020_PS | C9: ='Orçamento-base'!I17 -> UN | D9: ='Orçamento-base'!H17 -> 1 | E9: conforme projeto
A10: ='Orçamento-base'!C18 -> 1.6 | B10: ='Orçamento-base'!G18 -> POSTE CONICO CONTINUO EM ACO GALVANIZADO, RETO, FLANGEADO, H = 3 M, DIAMETRO INFERIOR = *95* MM | C10: ='Orçamento-base'!I18 -> UN | D10: ='Orçamento-base'!H18 -> 1 | E10: conforme projeto
A11: ='Orçamento-base'!C19 -> 1.7 | B11: ='Orçamento-base'!G19 -> ASSENTAMENTO DE POSTE DE CONCRETO COM COMPRIMENTO NOMINAL DE 9 M, CARGA NOMINAL DE 300 DAN, ENGASTAMENTO BASE CONCRETADA COM 1 M DE CONCRETO E 0,5 M DE SOLO (NÃO INCLUI FORNECIMENTO). AF_11/2019 | C11: ='Orçamento-base'!I19 -> UN | D11: ='Orçamento-base'!H19 -> 1 | E11: conforme projeto
A12: ='Orçamento-base'!C20 -> 2 | B12: ='Orçamento-base'!G20 -> ESTRUTURA
A13: ='Orçamento-base'!C21 -> 2.1 | B13: ='Orçamento-base'!G21 -> ESCAVAÇÃO MANUAL DE VALA. AF_09/2024 | C13: ='Orçamento-base'!I21 -> m³ | D13: ='Orçamento-base'!H21 -> 3.5 | E13: = 38,88m x 0,20, x 0,45m | F13: *
A14: ='Orçamento-base'!C22 -> 2.2 | B14: ='Orçamento-base'!G22 -> ESTACA HÉLICE CONTÍNUA, DIÂMETRO DE 30 CM, INCLUSO CONCRETO FCK=30MPA E ARMADURA MÍNIMA (EXCLUSIVE BOMBEAMENTO, MOBILIZAÇÃO E DESMOBILIZAÇÃO). AF_12/2019_PA | C14: ='Orçamento-base'!I22 -> m | D14: ='Orçamento-base'!H22 -> 18 | E14: = 12 x 1,5m
A15: ='Orçamento-base'!C23 -> 2.3 | B15: ='Orçamento-base'!G23 -> BLOCO DE COROAMENTO 40X40X40, CONCRETO FCK 30MPA - UNID | C15: ='Orçamento-base'!I23 -> UN | D15: ='Orçamento-base'!H23 -> 12 | E15: conforme planta de fundações
A16: ='Orçamento-base'!C24 -> 2.4 | B16: ='Orçamento-base'!G24 -> VIGA DE BALDRAME 15X30, CONCRETO FCK 30MPA-M | C16: ='Orçamento-base'!I24 -> m | D16: ='Orçamento-base'!H24 -> 38.88 | E16: perimetro externo da casa e perimetro das paredes internas | F16: *
A17: ='Orçamento-base'!C25 -> 2.5 | B17: ='Orçamento-base'!G25 -> ASSENTAMENTO DE PEDRA GRÊS PARA ALICERCE, INCLUINDO TELA DE AÇO SOLDADA, PINO DE AÇO E ARGAMASSA M² | C17: ='Orçamento-base'!I25 -> M² | D17: ='Orçamento-base'!H25 -> 23.33 | E17: = 38,88m x 0,20m x 3 | F17: *
A18: ='Orçamento-base'!C26 -> 2.6 | B18: ='Orçamento-base'!G26 -> PAREDE EM EUCALIPTO, COM ACABAMENTO EM PINTURA ESMALTE SINTÉTICO - M² | C18: ='Orçamento-base'!I26 -> m² | D18: ='Orçamento-base'!H26 -> 75.2 | E18: =2,7m x 31,33m - aberturas 9,39m² | F18: *
A19: ='Orçamento-base'!C27 -> 2.7 | B19: ='Orçamento-base'!G27 -> PILAR EM CONCRETO ARMADO FCK 30MPA 40x20X20CM - M² | C19: ='Orçamento-base'!I27 -> UN | D19: ='Orçamento-base'!H27 -> 12 | E19: conforme planta de fundações | F19: *
A20: ='Orçamento-base'!C28 -> 2.8 | B20: ='Orçamento-base'!G28 -> IMPERMEABILIZAÇÃO DE SUPERFÍCIE COM EMULSÃO ASFÁLTICA, 2 DEMÃOS. AF_09/2023 | C20: ='Orçamento-base'!I28 -> m² | D20: ='Orçamento-base'!H28 -> 61.9 | E20: = (38,88 x 0,15)+(38,88 x 0,75) + (35,88 x 0,75) | F20: *
A21: ='Orçamento-base'!C29 -> 2.9 | B21: ='Orçamento-base'!G29 -> ALVENARIA DE VEDAÇÃO DE BLOCOS CERÂMICOS FURADOS NA HORIZONTAL DE 9X19X19 CM (ESPESSURA 9 CM) E ARGAMASSA DE ASSENTAMENTO COM PREPARO EM BETONEIRA. AF_12/2021 | C21: ='Orçamento-base'!I29 -> m² | D21: ='Orçamento-base'!H29 -> 16.74 | E21: = 8,2m x 2,25m - aberturas 1,71m²
A22: ='Orçamento-base'!C30 -> 2.10 | B22: ='Orçamento-base'!G30 -> VIGA BANHIERO 15X30, CONCRETO FCK 30MPA - M | C22: ='Orçamento-base'!I30 -> m | D22: ='Orçamento-base'!H30 -> 8.2 | E22: conforme projeto
A23: ='Orçamento-base'!C31 -> 2.11 | B23: ='Orçamento-base'!G31 -> LAJE PRÉ-MOLDADA UNIDIRECIONAL, BIAPOIADA, PARA FORRO, ENCHIMENTO EM CERÂMICA, VIGOTA CONVENCIONAL, ALTURA TOTAL DA LAJE (ENCHIMENTO+CAPA) = (8+3). AF_11/2020_PA | C23: ='Orçamento-base'!I31 -> m² | D23: ='Orçamento-base'!H31 -> 4 | E23: conforme projeto
A24: ='Orçamento-base'!C32 -> 2.12 | B24: ='Orçamento-base'!G32 -> REATERRO MECANIZADO DE VALA COM ESCAVADEIRA HIDRÁULICA (CAPACIDADE DA CAÇAMBA: 0,8 M³ / POTÊNCIA: 111 HP), LARGURA DE 1,5 A 2,5 M, PROFUNDIDADE ATÉ 1,5 M, COM SOLO DE 1ª CATEGORIA EM LOCAIS COM ALTO NÍVEL DE INTERFERÊNCIA. AF_04/2016 | C24: ='Orçamento-base'!I32 -> m³ | D24: ='Orçamento-base'!H32 -> 24.76 | E24: =(15,34m + 2,86m + 14,82m) x 0,75m | F24: *
A25: ='Orçamento-base'!C33 -> 2.13 | B25: ='Orçamento-base'!G33 -> LASTRO DE CONCRETO MAGRO, APLICADO EM PISOS, LAJES SOBRE SOLO OU RADIERS, ESPESSURA DE 3 CM. AF_01/2024 | C25: ='Orçamento-base'!I33 -> m² | D25: ='Orçamento-base'!H33 -> 38.63 | E25: área de piso conforme projeto
