Workbook
Name F_10: #REF!
Name F_105: #REF!
Name F_107: #REF!
Name F_11: #REF!
Name F_112: #REF!
Name F_113: #REF!
Name F_117: #REF!
Name F_12: #REF!
Name F_120: #REF!
Name F_122: #REF!
Name F_127: #REF!
Name F_13: #REF!
Name F_14: #REF!
Name F_140: #REF!
Name F_15: #REF!
Name F_150: #REF!
Name F_16: #REF!
Name F_160: #REF!
Name F_17: #REF!
Name F_185: #REF!
Name F_2: #REF!
Name F_205: #REF!
Name F_215: #REF!
Name F_245: #REF!
Name F_250: #REF!
Name F_255: #REF!
Name F_260: #REF!
Name F_270: #REF!
Name F_285: #REF!
Name F_29: #REF!
Name F_290: #REF!
Name F_295: #REF!
Name F_3: #REF!
Name F_30: #REF!
Name F_31: #REF!
Name F_320: #REF!
Name F_33: #REF!
Name F_34: #REF!
Name F_345: #REF!
Name F_35: #REF!
Name F_350: #REF!
Name F_360: #REF!
Name F_37: #REF!
Name F_380: #REF!
Name F_390: #REF!
Name F_395: #REF!
Name F_397: #REF!
Name F_400: #REF!
Name F_405: #REF!
Name F_410: #REF!
Name F_42: #REF!
Name F_420: #REF!
Name F_428: #REF!
Name F_435: #REF!
Name F_440: #REF!
Name F_445: #REF!
Name F_45: #REF!
Name F_450: #REF!
Name F_452: #REF!
Name F_460: #REF!

Sheet Identificação
A1: IDENTIFICAÇÃO
A2: Modalidade* | B2: Concorrência Lei 14.133/21 Eletrônica | D2: N° * | F2: Ano * | G2: 2026
A3: Descrição do Objeto | B3: Construção de Praça Infantil no Parque Centenário
A4: Órgão | B4: Prefeitura de Montenegro | F4: CNPJ *
A5: Tipo de Objeto* | B5: Obras e Serviços de Engenharia | C5: N° CENTRAL DE COMPRAS
A6: Preço Total Estimado | B6: ='Orçamento-base'!C6 -> 755521.03
A7: Preço Total Proposto | B7: =Proposta!C6 -> 0
A8: Qtd. Itens Orçamento | B8: =COUNT('Orçamento-base'!B12:B39894) -> 50
A9: Atenção! Para incluir mais de 50 lotes, selecione as células A62 a G62 e arraste as fórmulas para baixo, de acordo com o número de lotes necessário.
A10: *Campos de preenchimento obrigatório | C10: **Campos de preenchimento obrigatório para licitação composta por lotes
A11: Nº do lote** | B11: Descrição do Lote** | C11: Estimativa | G11: Proposta
C12: Valor do lote (R$) | G12: Valor do lote (R$)
A13: 1 | B13: Construção de Praça Infantil no Parque Centenário | C13: =SUMIF('Orçamento-base'!$A$12:$A$39896,Identificação!$A13,'Orçamento-base'!$K$12:$K$39896) -> 755521.03 | G13: =SUMIF(Proposta!$A$12:$A$39877,Identificação!$A13,Proposta!$H$12:$H$39877) -> 0
C14: =SUMIF('Orçamento-base'!$A$12:$A$39896,Identificação!$A14,'Orçamento-base'!$K$12:$K$39896) -> 0 | G14: =SUMIF(Proposta!$A$12:$A$39877,Identificação!$A14,Proposta!$H$12:$H$39877) -> 0
C15: =SUMIF('Orçamento-base'!$A$12:$A$39896,Identificação!$A15,'Orçamento-base'!$K$12:$K$39896) -> 0 | G15: =SUMIF(Proposta!$A$12:$A$39877,Identificação!$A15,Proposta!$H$12:$H$39877) -> 0
C16: =SUMIF('Orçamento-base'!$A$12:$A$39896,Identificação!$A16,'Orçamento-base'!$K$12:$K$39896) -> 0 | G16: =SUMIF(Proposta!$A$12:$A$39877,Identificação!$A16,Proposta!$H$12:$H$39877) -> 0
C17: =SUMIF('Orçamento-base'!$A$12:$A$39896,Identificação!$A17,'Orçamento-base'!$K$12:$K$39896) -> 0 | G17: =SUMIF(Proposta!$A$12:$A$39877,Identificação!$A17,Proposta!$H$12:$H$39877) -> 0
C18: =SUMIF('Orçamento-base'!$A$12:$A$39896,Identificação!$A18,'Orçamento-base'!$K$12:$K$39896) -> 0 | G18: =SUMIF(Proposta!$A$12:$A$39877,Identificação!$A18,Proposta!$H$12:$H$39877) -> 0
C19: =SUMIF('Orçamento-base'!$A$12:$A$39896,Identificação!$A19,'Orçamento-base'!$K$12:$K$39896) -> 0 | G19: =SUMIF(Proposta!$A$12:$A$39877,Identificação!$A19,Proposta!$H$12:$H$39877) -> 0
C20: =SUMIF('Orçamento-base'!$A$12:$A$39896,Identificação!$A20,'Orçamento-base'!$K$12:$K$39896) -> 0 | G20: =SUMIF(Proposta!$A$12:$A$39877,Identificação!$A20,Proposta!$H$12:$H$39877) -> 0
C21: =SUMIF('Orçamento-base'!$A$12:$A$39896,Identificação!$A21,'Orçamento-base'!$K$12:$K$39896) -> 0 | G21: =SUMIF(Proposta!$A$12:$A$39877,Identificação!$A21,Proposta!$H$12:$H$39877) -> 0
C22: =SUMIF('Orçamento-base'!$A$12:$A$39896,Identificação!$A22,'Orçamento-base'!$K$12:$K$39896) -> 0 | G22: =SUMIF(Proposta!$A$12:$A$39877,Identificação!$A22,Proposta!$H$12:$H$39877) -> 0
C23: =SUMIF('Orçamento-base'!$A$12:$A$39896,Identificação!$A23,'Orçamento-base'!$K$12:$K$39896) -> 0 | G23: =SUMIF(Proposta!$A$12:$A$39877,Identificação!$A23,Proposta!$H$12:$H$39877) -> 0
C24: =SUMIF('Orçamento-base'!$A$12:$A$39896,Identificação!$A24,'Orçamento-base'!$K$12:$K$39896) -> 0 | G24: =SUMIF(Proposta!$A$12:$A$39877,Identificação!$A24,Proposta!$H$12:$H$39877) -> 0
C25: =SUMIF('Orçamento-base'!$A$12:$A$39896,Identificação!$A25,'Orçamento-base'!$K$12:$K$39896) -> 0 | G25: =SUMIF(Proposta!$A$12:$A$39877,Identificação!$A25,Proposta!$H$12:$H$39877) -> 0
... C62: =SUMIF('Orçamento-base'!$A$12:$A$39896,Identificação!$A62,'Orçamento-base'!$K$12:$K$39896) -> 0 | G62: =SUMIF(Proposta!$A$12:$A$39877,Identificação!$A62,Proposta!$H$12:$H$39877) -> 0

Sheet Orçamento-base
A1: ORÇAMENTO
A2: Modalidade | C2: =IF(Identificação!B2=0,"",Identificação!B2) -> Concorrência Lei 14.133/21 Eletrônica | H2: N° | I2: =IF(Identificação!E2=0,"",Identificação!E2) | J2: Ano | K2: =IF(Identificação!G2=0,"",Identificação!G2) -> 2026
A3: Descrição do Objeto | C3: =IF(Identificação!B3=0,"",Identificação!B3) -> Construção de Praça Infantil no Parque Centenário
A4: Órgão | C4: =IF(Identificação!B4=0,"",Identificação!B4) -> Prefeitura de Montenegro | J4: CNPJ | K4: =IF(Identificação!G4=0,"",Identificação!G4)
A5: Tipo de Objeto | C5: =IF(Identificação!B5=0,"",Identificação!B5) -> Obras e Serviços de Engenharia
A6: Preço T. Estimado | C6: =SUMIFS(K12:K39896,B12:B39896,">0",K12:K39896,"<>0") -> 755521.03
A8: Atenção! Para incluir mais de 100 linhas de itens, selecione as células A113 a R113 e arraste as fórmulas para baixo, de acordo com o número de itens necessário.
A9: *Preenchimento obrigatório | F9: **Obrigatório só para Obras e Serviços de Engenharia | H9: ***Obrigatório só para licitação composta por Lotes
A10: Nº do Lote*** | B10: N° Ordem | C10: Nº Item* | D10: Fonte de Referência** | E10: Código de Referência** | F10: Data de Referência** | G10: Descrição do item* | H10: Estimativa | N10: Família | P10: Subfamília | R10: Tipo de Orçamento | S10: Pr. Unit. Material | T10: Pr. Unit. Mão de obra
H11: Qtd.* | I11: Unid.* | J11: Preço unitário (R$)* | K11: Preço Total (R$) | L11: % BDI** | M11: % Encargos Sociais** | N11: Código | O11: Descrição | P11: Código | Q11: Descrição
A12: 1 | B12: =IF(AND(G12<>"",H12>0,I12<>"",J12<>0,K12<>0),COUNT($B$11:B11)+1,"") | C12: 1 | G12: Serviços preliminares | J12: =IFERROR(IF(S12+T12<>0,ROUND(ROUND(S12,4)+ROUND(T12,4),4),""),"") | K12: =IFERROR(IF(H12*J12<>0,ROUND(ROUND(H12,4)*ROUND(J12,4),2),""),"") | O12: =IF(N12="","", INDIRECT("base!"&ADDRESS(MATCH(N12,#REF!:#REF!,0)+1,4,4))) | Q12: =IF(P12="","", INDIRECT("base!"&ADDRESS(MATCH(CONCATENATE(N12,"|",P12),#REF!:#REF!,0)+1,6,4)))
A13: 1 | B13: =IF(AND(G13<>"",H13>0,I13<>"",J13<>0,K13<>0),COUNT($B$11:B12)+1,"") -> 1 | C13: 1.1 | D13: SINAPI | E13: 103689 | F13: 46113 | G13: FORNECIMENTO E INSTALAÇÃO DE PLACA DE OBRA COM CHAPA GALVANIZADA E ESTRUTURA DE MADEIRA. AF_03/2022_PS | H13: 2.5 | I13: m² | J13: =IFERROR(IF(S13+T13<>0,ROUND(ROUND(S13,4)+ROUND(T13,4),4),""),"") -> 614.5 | K13: =IFERROR(IF(H13*J13<>0,ROUND(ROUND(H13,4)*ROUND(J13,4),2),""),"") -> 1536.25 | L13: 0.2486 | M13: 0.9612 | O13: =IF(N13="","", INDIRECT("base!"&ADDRESS(MATCH(N13,#REF!:#REF!,0)+1,4,4))) | Q13: =IF(P13="","", INDIRECT("base!"&ADDRESS(MATCH(CONCATENATE(N13,"|",P13),#REF!:#REF!,0)+1,6,4))) | S13: =TRUNC(U13+(U13*L13),2) -> 574.96 | T13: =TRUNC(V13+(V13*L13),2) -> 39.54 | U13: 460.49 | V13: 31.67
A14: 1 | B14: =IF(AND(G14<>"",H14>0,I14<>"",J14<>0,K14<>0),COUNT($B$11:B13)+1,"") -> 2 | C14: 1.2 | D14: SINAPI | E14: 90768 | F14: 46113 | G14: ARQUITETO DE OBRA JUNIOR COM ENCARGOS COMPLEMENTARES | H14: 24 | I14: H | J14: =IFERROR(IF(S14+T14<>0,ROUND(ROUND(S14,4)+ROUND(T14,4),4),""),"") -> 157.15 | K14: =IFERROR(IF(H14*J14<>0,ROUND(ROUND(H14,4)*ROUND(J14,4),2),""),"") -> 3771.6 | L14: 0.2486 | M14: 0.9612 | O14: =IF(N14="","", INDIRECT("base!"&ADDRESS(MATCH(N14,#REF!:#REF!,0)+1,4,4))) | Q14: =IF(P14="","", INDIRECT("base!"&ADDRESS(MATCH(CONCATENATE(N14,"|",P14),#REF!:#REF!,0)+1,6,4))) | S14: =TRUNC(U14+(U14*L14),2) -> 5.39 | T14: =TRUNC(V14+(V14*L14),2) -> 151.76 | U14: 4.32 | V14: 121.55
A15: 1 | B15: =IF(AND(G15<>"",H15>0,I15<>"",J15<>0,K15<>0),COUNT($B$11:B14)+1,"") -> 3 | C15: 1.3 | D15: SINAPI | E15: 90781 | F15: 46113 | G15: TOPOGRAFO COM ENCARGOS COMPLEMENTARES | H15: 16 | I15: H | J15: =IFERROR(IF(S15+T15<>0,ROUND(ROUND(S15,4)+ROUND(T15,4),4),""),"") -> 55.71 | K15: =IFERROR(IF(H15*J15<>0,ROUND(ROUND(H15,4)*ROUND(J15,4),2),""),"") -> 891.36 | L15: 0.2486 | M15: 0.9612 | O15: =IF(N15="","", INDIRECT("base!"&ADDRESS(MATCH(N15,#REF!:#REF!,0)+1,4,4))) | Q15: =IF(P15="","", INDIRECT("base!"&ADDRESS(MATCH(CONCATENATE(N15,"|",P15),#REF!:#REF!,0)+1,6,4))) | S15: =TRUNC(U15+(U15*L15),2) -> 6.5 | T15: =TRUNC(V15+(V15*L15),2) -> 49.21 | U15: 5.21 | V15: 39.42
A16: 1 | B16: =IF(AND(G16<>"",H16>0,I16<>"",J16<>0,K16<>0),COUNT($B$11:B15)+1,"") -> 4 | C16: 1.4 | D16: SINAPI | E16: 100575 | F16: 46113 | G16: REGULARIZAÇÃO DE SUPERFÍCIES COM MOTONIVELADORA. AF_09/2024 | H16: 1410.2 | I16: m² | J16: =IFERROR(IF(S16+T16<>0,ROUND(ROUND(S16,4)+ROUND(T16,4),4),""),"") -> 0.73 | K16: =IFERROR(IF(H16*J16<>0,ROUND(ROUND(H16,4)*ROUND(J16,4),2),""),"") -> 1029.45 | L16: 0.2486 | M16: 0.9612 | O16: =IF(N16="","", INDIRECT("base!"&ADDRESS(MATCH(N16,#REF!:#REF!,0)+1,4,4))) | Q16: =IF(P16="","", INDIRECT("base!"&ADDRESS(MATCH(CONCATENATE(N16,"|",P16),#REF!:#REF!,0)+1,6,4))) | S16: =TRUNC(U16+(U16*L16),2) -> 0.49 | T16: =TRUNC(V16+(V16*L16),2) -> 0.24 | U16: 0.4 | V16: 0.2
A17: 1 | B17: =IF(AND(G17<>"",H17>0,I17<>"",J17<>0,K17<>0),COUNT($B$11:B16)+1,"") -> 5 | C17: 1.5 | D17: SINAPI | E17: 6077 | F17: 46113 | G17: ARGILA OU BARRO PARA ATERRO/REATERRO (RETIRADO NA JAZIDA, SEM TRANSPORTE) | H17: 117.14724 | I17: m³ | J17: =IFERROR(IF(S17+T17<>0,ROUND(ROUND(S17,4)+ROUND(T17,4),4),""),"") -> 51.2 | K17: =IFERROR(IF(H17*J17<>0,ROUND(ROUND(H17,4)*ROUND(J17,4),2),""),"") -> 5997.94 | L17: 0.2486 | M17: 0.9612 | O17: =IF(N17="","", INDIRECT("base!"&ADDRESS(MATCH(N17,#REF!:#REF!,0)+1,4,4))) | Q17: =IF(P17="","", INDIRECT("base!"&ADDRESS(MATCH(CONCATENATE(N17,"|",P17),#REF!:#REF!,0)+1,6,4))) | S17: =TRUNC(U17+(U17*L17),2) -> 51.2 | T17: =TRUNC(V17+(V17*L17),2) -> 0 | U17: 41.01 | V17: 0
A18: 1 | B18: =IF(AND(G18<>"",H18>0,I18<>"",J18<>0,K18<>0),COUNT($B$11:B17)+1,"") -> 6 | C18: 1.6 | D18: SINAPI | E18: 105730 | F18: 46113 | G18: CONSTRUÇÃO DE BASE E SUB-BASE PARA PAVIMENTAÇÃO DE BRITA GRADUADA SIMPLES - EXCLUSIVE CARGA E TRANSPORTE. AF_09/2024 | H18: 9.477 | I18: m³ | J18: =IFERROR(IF(S18+T18<>0,ROUND(ROUND(S18,4)+ROUND(T18,4),4),""),"") -> 216.34 | K18: =IFERROR(IF(H18*J18<>0,ROUND(ROUND(H18,4)*ROUND(J18,4),2),""),"") -> 2050.25 | L18: 0.2486 | M18: 0.9612 | O18: =IF(N18="","", INDIRECT("base!"&ADDRESS(MATCH(N18,#REF!:#REF!,0)+1,4,4))) | Q18: =IF(P18="","", INDIRECT("base!"&ADDRESS(MATCH(CONCATENATE(N18,"|",P18),#REF!:#REF!,0)+1,6,4))) | S18: =TRUNC(U18+(U18*L18),2) -> 207.75 | T18: =TRUNC(V18+(V18*L18),2) -> 8.59 | U18: 166.39 | V18: 6.88
A19: 1 | B19: =IF(AND(G19<>"",H19>0,I19<>"",J19<>0,K19<>0),COUNT($B$11:B18)+1,"") -> 7 | C19: 1.7 | D19: SINAPI | E19: 97914 | F19: 46113 | G19: TRANSPORTE COM CAMINHÃO BASCULANTE DE 6 M³, EM VIA URBANA PAVIMENTADA, DMT ATÉ 30 KM (UNIDADE: M3XKM). AF_02/2026 - BRITA E ATERRO | H19: 1556.304 | I19: M3XKM | J19: =IFERROR(IF(S19+T19<>0,ROUND(ROUND(S19,4)+ROUND(T19,4),4),""),"") -> 4.27 | K19: =IFERROR(IF(H19*J19<>0,ROUND(ROUND(H19,4)*ROUND(J19,4),2),""),"") -> 6645.42 | L19: 0.2486 | M19: 0.9612 | O19: =IF(N19="","", INDIRECT("base!"&ADDRESS(MATCH(N19,#REF!:#REF!,0)+1,4,4))) | Q19: =IF(P19="","", INDIRECT("base!"&ADDRESS(MATCH(CONCATENATE(N19,"|",P19),#REF!:#REF!,0)+1,6,4))) | S19: =TRUNC(U19+(U19*L19),2) -> 3.75 | T19: =TRUNC(V19+(V19*L19),2) -> 0.52 | U19: 3.01 | V19: 0.42
A20: 1 | B20: =IF(AND(G20<>"",H20>0,I20<>"",J20<>0,K20<>0),COUNT($B$11:B19)+1,"") -> 8 | C20: 1.8 | D20: SICRO3 | E20: E9666 | F20: 46113 | G20: Mobilização e desmobilização de equipamentos - Cavalo mecânico com semirreboque com capacidade de 32 t - 302 kW | H20: 2 | I20: H | J20: =IFERROR(IF(S20+T20<>0,ROUND(ROUND(S20,4)+ROUND(T20,4),4),""),"") -> 582.24 | K20: =IFERROR(IF(H20*J20<>0,ROUND(ROUND(H20,4)*ROUND(J20,4),2),""),"") -> 1164.48 | L20: 0.2486 | M20: 0.9612 | O20: =IF(N20="","", INDIRECT("base!"&ADDRESS(MATCH(N20,#REF!:#REF!,0)+1,4,4))) | Q20: =IF(P20="","", INDIRECT("base!"&ADDRESS(MATCH(CONCATENATE(N20,"|",P20),#REF!:#REF!,0)+1,6,4))) | S20: =TRUNC(U20+(U20*L20),2) -> 582.24 | T20: =TRUNC(V20+(V20*L20),2) -> 0 | U20: 466.32 | V20: 0
A21: 1 | B21: =IF(AND(G21<>"",H21>0,I21<>"",J21<>0,K21<>0),COUNT($B$11:B20)+1,"") -> 9 | C21: 1.9 | D21: Próprio | E21: PRÓPRIA A | F21: 46113 | G21: ISOLAMENTO DE OBRA COM TELA PLÁSTICA | H21: 137.5 | I21: M | J21: =IFERROR(IF(S21+T21<>0,ROUND(ROUND(S21,4)+ROUND(T21,4),4),""),"") -> 15.42 | K21: =IFERROR(IF(H21*J21<>0,ROUND(ROUND(H21,4)*ROUND(J21,4),2),""),"") -> 2120.25 | L21: 0.2486 | M21: 0.9612 | O21: =IF(N21="","", INDIRECT("base!"&ADDRESS(MATCH(N21,#REF!:#REF!,0)+1,4,4))) | Q21: =IF(P21="","", INDIRECT("base!"&ADDRESS(MATCH(CONCATENATE(N21,"|",P21),#REF!:#REF!,0)+1,6,4))) | S21: =TRUNC(U21+(U21*L21),2) -> 13.74 | T21: =TRUNC(V21+(V21*L21),2) -> 1.68 | U21: 11.01 | V21: 1.35
A22: 1 | B22: =IF(AND(G22<>"",H22>0,I22<>"",J22<>0,K22<>0),COUNT($B$11:B21)+1,"") | C22: 2 | G22: Drenagem | J22: =IFERROR(IF(S22+T22<>0,ROUND(ROUND(S22,4)+ROUND(T22,4),4),""),"") | K22: =IFERROR(IF(H22*J22<>0,ROUND(ROUND(H22,4)*ROUND(J22,4),2),""),"") | O22: =IF(N22="","", INDIRECT("base!"&ADDRESS(MATCH(N22,#REF!:#REF!,0)+1,4,4))) | Q22: =IF(P22="","", INDIRECT("base!"&ADDRESS(MATCH(CONCATENATE(N22,"|",P22),#REF!:#REF!,0)+1,6,4)))
A23: 1 | B23: =IF(AND(G23<>"",H23>0,I23<>"",J23<>0,K23<>0),COUNT($B$11:B22)+1,"") -> 10 | C23: 2.1 | D23: Próprio | E23: DRENO 1 | F23: 46113 | G23: DRENO (SEÇÃO 0,50 X 0,50 M), COM 1 TUBO DE PEAD CORRUGADO PERFURADO, DN 160 MM, ENCHIMENTO COM BRITA 3, ENVOLVIDO COM MANTA GEOTÊXTIL, COM SELO DE AREIA MÉDIA. (Base 102680) | H23: 97.67 | I23: M | J23: =IFERROR(IF(S23+T23<>0,ROUND(ROUND(S23,4)+ROUND(T23,4),4),""),"") -> 125.03 | K23: =IFERROR(IF(H23*J23<>0,ROUND(ROUND(H23,4)*ROUND(J23,4),2),""),"") -> 12211.68 | L23: 0.2486 | M23: 0.9612 | O23: =IF(N23="","", INDIRECT("base!"&ADDRESS(MATCH(N23,#REF!:#REF!,0)+1,4,4))) | Q23: =IF(P23="","", INDIRECT("base!"&ADDRESS(MATCH(CONCATENATE(N23,"|",P23),#REF!:#REF!,0)+1,6,4))) | S23: =TRUNC(U23+(U23*L23),2) -> 113.67 | T23: =TRUNC(V23+(V23*L23),2) -> 11.36 | U23: 91.04 | V23: 9.1
A24: 1 | B24: =IF(AND(G24<>"",H24>0,I24<>"",J24<>0,K24<>0),COUNT($B$11:B23)+1,"") -> 11 | C24: 2.2 | D24: SINAPI | E24: 97933 | F24: 46113 | G24: CAIXA COM GRELHA SIMPLES RETANGULAR, EM CONCRETO PRÉ-MOLDADO, DIMENSÕES INTERNAS: 0,6X1,0X1,0 M. AF_12/2020 | H24: 1 | I24: UN | J24: =IFERROR(IF(S24+T24<>0,ROUND(ROUND(S24,4)+ROUND(T24,4),4),""),"") -> 1519.19 | K24: =IFERROR(IF(H24*J24<>0,ROUND(ROUND(H24,4)*ROUND(J24,4),2),""),"") -> 1519.19 | L24: 0.2486 | M24: 0.9612 | O24: =IF(N24="","", INDIRECT("base!"&ADDRESS(MATCH(N24,#REF!:#REF!,0)+1,4,4))) | Q24: =IF(P24="","", INDIRECT("base!"&ADDRESS(MATCH(CONCATENATE(N24,"|",P24),#REF!:#REF!,0)+1,6,4))) | S24: =TRUNC(U24+(U24*L24),2) -> 1478.97 | T24: =TRUNC(V24+(V24*L24),2) -> 40.22 | U24: 1184.51 | V24: 32.22
A25: 1 | B25: =IF(AND(G25<>"",H25>0,I25<>"",J25<>0,K25<>0),COUNT($B$11:B24)+1,"") -> 12 | C25: 2.3 | D25: SINAPI | E25: 102988 | F25: 46113 | G25: RECOMPOSIÇÃO DE PAVIMENTO EM PISO INTERTRAVADO, COM REAPROVEITAMENTO DOS BLOCOS INTERTRAVADOS, PARA FECHAMENTO DE VALAS - INCLUSO RETIRADA E COLOCAÇÃO DO MATERIAL. AF_12/2020 | H25: 4.34 | I25: m² | J25: =IFERROR(IF(S25+T25<>0,ROUND(ROUND(S25,4)+ROUND(T25,4),4),""),"") -> 74.37 | K25: =IFERROR(IF(H25*J25<>0,ROUND(ROUND(H25,4)*ROUND(J25,4),2),""),"") -> 322.77 | L25: 0.2486 | M25: 0.9612 | O25: =IF(N25="","", INDIRECT("base!"&ADDRESS(MATCH(N25,#REF!:#REF!,0)+1,4,4))) | Q25: =IF(P25="","", INDIRECT("base!"&ADDRESS(MATCH(CONCATENATE(N25,"|",P25),#REF!:#REF!,0)+1,6,4))) | S25: =TRUNC(U25+(U25*L25),2) -> 26.43 | T25: =TRUNC(V25+(V25*L25),2) -> 47.94 | U25: 21.17 | V25: 38.4
A26: 1 | B26: =IF(AND(G26<>"",H26>0,I26<>"",J26<>0,K26<>0),COUNT($B$11:B25)+1,"") -> 13 | C26: 2.4 | D26: SINAPI | E26: 90106 | F26: 46113 | G26: ESCAVAÇÃO MECANIZADA DE VALA COM PROFUNDIDADE ATÉ 1,5 M (MÉDIA MONTANTE E JUSANTE/UMA COMPOSIÇÃO POR TRECHO), RETROESCAV. (0,26 M3), LARGURA DE 0,8 M A 1,5 M, EM SOLO DE 1A CATEGORIA, LOCAIS COM BAIXO NÍVEL DE INTERFERÊNCIA. AF_09/2024 | H26: 11.4 | I26: m³ | J26: =IFERROR(IF(S26+T26<>0,ROUND(ROUND(S26,4)+ROUND(T26,4),4),""),"") -> 10.84 | K26: =IFERROR(IF(H26*J26<>0,ROUND(ROUND(H26,4)*ROUND(J26,4),2),""),"") -> 123.58 | L26: 0.2486 | M26: 0.9612 | O26: =IF(N26="","", INDIRECT("base!"&ADDRESS(MATCH(N26,#REF!:#REF!,0)+1,4,4))) | Q26: =IF(P26="","", INDIRECT("base!"&ADDRESS(MATCH(CONCATENATE(N26,"|",P26),#REF!:#REF!,0)+1,6,4))) | S26: =TRUNC(U26+(U26*L26),2) -> 7.16 | T26: =TRUNC(V26+(V26*L26),2) -> 3.68 | U26: 5.74 | V26: 2.95
A27: 1 | B27: =IF(AND(G27<>"",H27>0,I27<>"",J27<>0,K27<>0),COUNT($B$11:B26)+1,"") -> 14 | C27: 2.5 | D27: SINAPI | E27: 90696 | F27: 46113 | G27: TUBO DE PVC PARA REDE COLETORA DE ESGOTO DE PAREDE MACIÇA, DN 200 MM, JUNTA ELÁSTICA - FORNECIMENTO E ASSENTAMENTO. AF_01/2021 | H27: 9.5 | I27: M | J27: =IFERROR(IF(S27+T27<>0,ROUND(ROUND(S27,4)+ROUND(T27,4),4),""),"") -> 221.72 | K27: =IFERROR(IF(H27*J27<>0,ROUND(ROUND(H27,4)*ROUND(J27,4),2),""),"") -> 2106.34 | L27: 0.2486 | M27: 0.9612 | O27: =IF(N27="","", INDIRECT("base!"&ADDRESS(MATCH(N27,#REF!:#REF!,0)+1,4,4))) | Q27: =IF(P27="","", INDIRECT("base!"&ADDRESS(MATCH(CONCATENATE(N27,"|",P27),#REF!:#REF!,0)+1,6,4))) | S27: =TRUNC(U27+(U27*L27),2) -> 217.7 | T27: =TRUNC(V27+(V27*L27),2) -> 4.02 | U27: 174.36 | V27: 3.22
A28: 1 | B28: =IF(AND(G28<>"",H28>0,I28<>"",J28<>0,K28<>0),COUNT($B$11:B27)+1,"") -> 15 | C28: 2.6 | D28: SINAPI | E28: 104741 | F28: 46113 | G28: REATERRO MECANIZADO DE VALA COM MINICARREGADEIRA, COM PLACA VIBRATÓRIA. AF_08/2023 | H28: 11.4 | I28: m³ | J28: =IFERROR(IF(S28+T28<>0,ROUND(ROUND(S28,4)+ROUND(T28,4),4),""),"") -> 32.09 | K28: =IFERROR(IF(H28*J28<>0,ROUND(ROUND(H28,4)*ROUND(J28,4),2),""),"") -> 365.83 | L28: 0.2486 | M28: 0.9612 | O28: =IF(N28="","", INDIRECT("base!"&ADDRESS(MATCH(N28,#REF!:#REF!,0)+1,4,4))) | Q28: =IF(P28="","", INDIRECT("base!"&ADDRESS(MATCH(CONCATENATE(N28,"|",P28),#REF!:#REF!,0)+1,6,4))) | S28: =TRUNC(U28+(U28*L28),2) -> 20.75 | T28: =TRUNC(V28+(V28*L28),2) -> 11.34 | U28: 16.62 | V28: 9.09
A29: 1 | B29: =IF(AND(G29<>"",H29>0,I29<>"",J29<>0,K29<>0),COUNT($B$11:B28)+1,"") -> 16 | C29: 2.7 | D29: SINAPI | E29: 101618 | F29: 46113 | G29: PREPARO DE FUNDO DE VALA COM LARGURA MENOR QUE 1,5 M, COM CAMADA DE AREIA, LANÇAMENTO MANUAL. AF_01/2026 | H29: 1.235 | I29: m³ | J29: =IFERROR(IF(S29+T29<>0,ROUND(ROUND(S29,4)+ROUND(T29,4),4),""),"") -> 291.11 | K29: =IFERROR(IF(H29*J29<>0,ROUND(ROUND(H29,4)*ROUND(J29,4),2),""),"") -> 359.52 | L29: 0.2486 | M29: 0.9612 | O29: =IF(N29="","", INDIRECT("base!"&ADDRESS(MATCH(N29,#REF!:#REF!,0)+1,4,4))) | Q29: =IF(P29="","", INDIRECT("base!"&ADDRESS(MATCH(CONCATENATE(N29,"|",P29),#REF!:#REF!,0)+1,6,4))) | S29: =TRUNC(U29+(U29*L29),2) -> 173.06 | T29: =TRUNC(V29+(V29*L29),2) -> 118.05 | U29: 138.61 | V29: 94.55
A30: 1 | B30: =IF(AND(G30<>"",H30>0,I30<>"",J30<>0,K30<>0),COUNT($B$11:B29)+1,"") | C30: 3 | G30: Contrapiso e SBR | J30: =IFERROR(IF(S30+T30<>0,ROUND(ROUND(S30,4)+ROUND(T30,4),4),""),"") | K30: =IFERROR(IF(H30*J30<>0,ROUND(ROUND(H30,4)*ROUND(J30,4),2),""),"") | O30: =IF(N30="","", INDIRECT("base!"&ADDRESS(MATCH(N30,#REF!:#REF!,0)+1,4,4))) | Q30: =IF(P30="","", INDIRECT("base!"&ADDRESS(MATCH(CONCATENATE(N30,"|",P30),#REF!:#REF!,0)+1,6,4)))
A31: 1 | B31: =IF(AND(G31<>"",H31>0,I31<>"",J31<>0,K31<>0),COUNT($B$11:B30)+1,"") -> 17 | C31: 3.1 | D31: SINAPI | E31: 97101 | F31: 46113 | G31: EXECUÇÃO DE RADIER, ESPESSURA DE 10 CM, FCK = 30 MPA, COM USO DE FORMAS EM MADEIRA SERRADA. AF_09/2021 | H31: 569.7 | I31: m² | J31: =IFERROR(IF(S31+T31<>0,ROUND(ROUND(S31,4)+ROUND(T31,4),4),""),"") -> 225.97 | K31: =IFERROR(IF(H31*J31<>0,ROUND(ROUND(H31,4)*ROUND(J31,4),2),""),"") -> 128735.11 | L31: 0.2486 | M31: 0.9612 | O31: =IF(N31="","", INDIRECT("base!"&ADDRESS(MATCH(N31,#REF!:#REF!,0)+1,4,4))) | Q31: =IF(P31="","", INDIRECT("base!"&ADDRESS(MATCH(CONCATENATE(N31,"|",P31),#REF!:#REF!,0)+1,6,4))) | S31: =TRUNC(U31+(U31*L31),2) -> 199.9 | T31: =TRUNC(V31+(V31*L31),2) -> 26.07 | U31: 160.1 | V31: 20.88
A32: 1 | B32: =IF(AND(G32<>"",H32>0,I32<>"",J32<>0,K32<>0),COUNT($B$11:B31)+1,"") -> 18 | C32: 3.2 | D32: SINAPI | E32: 98575 | F32: 46113 | G32: TRATAMENTO DE JUNTA DE DILATAÇÃO, COM TARUGO DE POLIETILENO E SELANTE PU, INCLUSO PREENCHIMENTO COM ESPUMA EXPANSIVA PU. AF_09/2023 | H32: 37.62 | I32: M | J32: =IFERROR(IF(S32+T32<>0,ROUND(ROUND(S32,4)+ROUND(T32,4),4),""),"") -> 87.99 | K32: =IFERROR(IF(H32*J32<>0,ROUND(ROUND(H32,4)*ROUND(J32,4),2),""),"") -> 3310.18 | L32: 0.2486 | M32: 0.9612 | O32: =IF(N32="","", INDIRECT("base!"&ADDRESS(MATCH(N32,#REF!:#REF!,0)+1,4,4))) | Q32: =IF(P32="","", INDIRECT("base!"&ADDRESS(MATCH(CONCATENATE(N32,"|",P32),#REF!:#REF!,0)+1,6,4))) | S32: =TRUNC(U32+(U32*L32),2) -> 46.69 | T32: =TRUNC(V32+(V32*L32),2) -> 41.3 | U32: 37.4 | V32: 33.08
A33: 1 | B33: =IF(AND(G33<>"",H33>0,I33<>"",J33<>0,K33<>0),COUNT($B$11:B32)+1,"") -> 19 | C33: 3.3 | D33: Próprio | E33: Mercado H | F33: 46113 | G33: Fornecimento e instalação de piso em SBR monolítico, com 45mm de espessura, conforme memorial descritivo | H33: 569.7 | I33: m² | J33: =IFERROR(IF(S33+T33<>0,ROUND(ROUND(S33,4)+ROUND(T33,4),4),""),"") -> 479.88 | K33: =IFERROR(IF(H33*J33<>0,ROUND(ROUND(H33,4)*ROUND(J33,4),2),""),"") -> 273387.64 | L33: 0.2486 | M33: 0.9612 | O33: =IF(N33="","", INDIRECT("base!"&ADDRESS(MATCH(N33,#REF!:#REF!,0)+1,4,4))) | Q33: =IF(P33="","", INDIRECT("base!"&ADDRESS(MATCH(CONCATENATE(N33,"|",P33),#REF!:#REF!,0)+1,6,4))) | S33: =TRUNC(U33+(U33*L33),2) -> 479.88 | T33: =TRUNC(V33+(V33*L33),2) -> 0 | U33: 384.34 | V33: 0
A34: 1 | B34: =IF(AND(G34<>"",H34>0,I34<>"",J34<>0,K34<>0),COUNT($B$11:B33)+1,"") | C34: 4 | G34: Instalação dos brinquedos | J34: =IFERROR(IF(S34+T34<>0,ROUND(ROUND(S34,4)+ROUND(T34,4),4),""),"") | K34: =IFERROR(IF(H34*J34<>0,ROUND(ROUND(H34,4)*ROUND(J34,4),2),""),"") | O34: =IF(N34="","", INDIRECT("base!"&ADDRESS(MATCH(N34,#REF!:#REF!,0)+1,4,4))) | Q34: =IF(P34="","", INDIRECT("base!"&ADDRESS(MATCH(CONCATENATE(N34,"|",P34),#REF!:#REF!,0)+1,6,4)))
A35: 1 | B35: =IF(AND(G35<>"",H35>0,I35<>"",J35<>0,K35<>0),COUNT($B$11:B34)+1,"") -> 20 | C35: 4.1 | D35: Próprio | E35: Mercado A | F35: 46113 | G35: Playground 4 torres, conforme memorial descritivo - Fornecimento e Instalação | H35: 2 | I35: unid | J35: =IFERROR(IF(S35+T35<>0,ROUND(ROUND(S35,4)+ROUND(T35,4),4),""),"") -> 52860.21 | K35: =IFERROR(IF(H35*J35<>0,ROUND(ROUND(H35,4)*ROUND(J35,4),2),""),"") -> 105720.42 | L35: 0.1786 | M35: 0.9612 | O35: =IF(N35="","", INDIRECT("base!"&ADDRESS(MATCH(N35,#REF!:#REF!,0)+1,4,4))) | Q35: =IF(P35="","", INDIRECT("base!"&ADDRESS(MATCH(CONCATENATE(N35,"|",P35),#REF!:#REF!,0)+1,6,4))) | S35: =TRUNC(U35+(U35*L35),2) -> 52860.21 | T35: =TRUNC(V35+(V35*L35),2) -> 0 | U35: 44850 | V35: 0
A36: 1 | B36: =IF(AND(G36<>"",H36>0,I36<>"",J36<>0,K36<>0),COUNT($B$11:B35)+1,"") -> 21 | C36: 4.2 | D36: SBC | E36: 40063 | F36: 46113 | G36: PRACA - BALANCO COM 2 CADEIRAS, ESTRUTURA EM TUBO DE ACO CARBONO, PINTURA NO PROCESSO ELETROSTATICO E CORRENTES | H36: 2 | I36: UN | J36: =IFERROR(IF(S36+T36<>0,ROUND(ROUND(S36,4)+ROUND(T36,4),4),""),"") -> 2156.82 | K36: =IFERROR(IF(H36*J36<>0,ROUND(ROUND(H36,4)*ROUND(J36,4),2),""),"") -> 4313.64 | L36: 0.1786 | M36: 0.9612 | O36: =IF(N36="","", INDIRECT("base!"&ADDRESS(MATCH(N36,#REF!:#REF!,0)+1,4,4))) | Q36: =IF(P36="","", INDIRECT("base!"&ADDRESS(MATCH(CONCATENATE(N36,"|",P36),#REF!:#REF!,0)+1,6,4))) | S36: =TRUNC(U36+(U36*L36),2) -> 2156.82 | T36: =TRUNC(V36+(V36*L36),2) -> 0 | U36: 1829.99 | V36: 0
A37: 1 | B37: =IF(AND(G37<>"",H37>0,I37<>"",J37<>0,K37<>0),COUNT($B$11:B36)+1,"") -> 22 | C37: 4.3 | D37: SBC | E37: 21659 | F37: 46113 | G37: PRACA - GIRA-GIRA PARA PARQUINHO INFANTIL, 1,50m (8 LUGARES), METALICO EM TUBOS DE ACO CARBONO PINTADOS, ASSENTOS EM MADEIRA PINTADA, HASTE / BASE PARA CHUMBAMENTO | H37: 1 | I37: UN | J37: =IFERROR(IF(S37+T37<>0,ROUND(ROUND(S37,4)+ROUND(T37,4),4),""),"") -> 2475.06 | K37: =IFERROR(IF(H37*J37<>0,ROUND(ROUND(H37,4)*ROUND(J37,4),2),""),"") -> 2475.06 | L37: 0.1786 | M37: 0.9612 | O37: =IF(N37="","", INDIRECT("base!"&ADDRESS(MATCH(N37,#REF!:#REF!,0)+1,4,4))) | Q37: =IF(P37="","", INDIRECT("base!"&ADDRESS(MATCH(CONCATENATE(N37,"|",P37),#REF!:#REF!,0)+1,6,4))) | S37: =TRUNC(U37+(U37*L37),2) -> 2475.06 | T37: =TRUNC(V37+(V37*L37),2) -> 0 | U37: 2100 | V37: 0
A38: 1 | B38: =IF(AND(G38<>"",H38>0,I38<>"",J38<>0,K38<>0),COUNT($B$11:B37)+1,"") -> 23 | C38: 4.4 | D38: ORSE | E38: 2440 | F38: 46113 | G38: Gangorra com 3 pranchas em aço industrial ou madeira (Sergipark ou similar) | H38: 1 | I38: un | J38: =IFERROR(IF(S38+T38<>0,ROUND(ROUND(S38,4)+ROUND(T38,4),4),""),"") -> 4702.61 | K38: =IFERROR(IF(H38*J38<>0,ROUND(ROUND(H38,4)*ROUND(J38,4),2),""),"") -> 4702.61 | L38: 0.1786 | M38: 0.9612 | O38: =IF(N38="","", INDIRECT("base!"&ADDRESS(MATCH(N38,#REF!:#REF!,0)+1,4,4))) | Q38: =IF(P38="","", INDIRECT("base!"&ADDRESS(MATCH(CONCATENATE(N38,"|",P38),#REF!:#REF!,0)+1,6,4))) | S38: =TRUNC(U38+(U38*L38),2) -> 4702.61 | T38: =TRUNC(V38+(V38*L38),2) -> 0 | U38: 3990 | V38: 0
A39: 1 | B39: =IF(AND(G39<>"",H39>0,I39<>"",J39<>0,K39<>0),COUNT($B$11:B38)+1,"") -> 24 | C39: 4.5 | D39: Próprio | E39: MERCADO C | F39: 46113 | G39: Escalada Globo/Meia Lua, conforme memorial descritivo - Fornecimento e Instalação | H39: 1 | I39: unid | J39: =IFERROR(IF(S39+T39<>0,ROUND(ROUND(S39,4)+ROUND(T39,4),4),""),"") -> 6534.15 | K39: =IFERROR(IF(H39*J39<>0,ROUND(ROUND(H39,4)*ROUND(J39,4),2),""),"") -> 6534.15 | L39: 0.1786 | M39: 0.9612 | O39: =IF(N39="","", INDIRECT("base!"&ADDRESS(MATCH(N39,#REF!:#REF!,0)+1,4,4))) | Q39: =IF(P39="","", INDIRECT("base!"&ADDRESS(MATCH(CONCATENATE(N39,"|",P39),#REF!:#REF!,0)+1,6,4))) | S39: =TRUNC(U39+(U39*L39),2) -> 6534.15 | T39: =TRUNC(V39+(V39*L39),2) -> 0 | U39: 5544 | V39: 0
A40: 1 | B40: =IF(AND(G40<>"",H40>0,I40<>"",J40<>0,K40<>0),COUNT($B$11:B39)+1,"") -> 25 | C40: 4.6 | D40: Próprio | E40: Mercado B | F40: 46113 | G40: Trepa Trepa Geodésico (Scandere Domos/Domo de escalada), conforme memorial descritivo - Fornecimento e Instalação | H40: 1 | I40: unid | J40: =IFERROR(IF(S40+T40<>0,ROUND(ROUND(S40,4)+ROUND(T40,4),4),""),"") -> 6555.96 | K40: =IFERROR(IF(H40*J40<>0,ROUND(ROUND(H40,4)*ROUND(J40,4),2),""),"") -> 6555.96 | L40: 0.1786 | M40: 0.9612 | O40: =IF(N40="","", INDIRECT("base!"&ADDRESS(MATCH(N40,#REF!:#REF!,0)+1,4,4))) | Q40: =IF(P40="","", INDIRECT("base!"&ADDRESS(MATCH(CONCATENATE(N40,"|",P40),#REF!:#REF!,0)+1,6,4))) | S40: =TRUNC(U40+(U40*L40),2) -> 6555.96 | T40: =TRUNC(V40+(V40*L40),2) -> 0 | U40: 5562.5 | V40: 0
A41: 1 | B41: =IF(AND(G41<>"",H41>0,I41<>"",J41<>0,K41<>0),COUNT($B$11:B40)+1,"") | C41: 5 | G41: Mobiliário | J41: =IFERROR(IF(S41+T41<>0,ROUND(ROUND(S41,4)+ROUND(T41,4),4),""),"") | K41: =IFERROR(IF(H41*J41<>0,ROUND(ROUND(H41,4)*ROUND(J41,4),2),""),"") | O41: =IF(N41="","", INDIRECT("base!"&ADDRESS(MATCH(N41,#REF!:#REF!,0)+1,4,4))) | Q41: =IF(P41="","", INDIRECT("base!"&ADDRESS(MATCH(CONCATENATE(N41,"|",P41),#REF!:#REF!,0)+1,6,4)))
...

Sheet Proposta
A1: PROPOSTA
A2: Modalidade | C2: =IF(Identificação!B2=0,"",Identificação!B2) -> Concorrência Lei 14.133/21 Eletrônica | E2: N° | F2: =IF(Identificação!E2=0,"",Identificação!E2) | G2: Ano | H2: =IF(Identificação!G2=0,"",Identificação!G2) -> 2026
A3: Descrição do Objeto | C3: =IF(Identificação!B3=0,"",Identificação!B3) -> Construção de Praça Infantil no Parque Centenário
A4: Licitante | G4: CNPJ*
A5: Tipo de Objeto | C5: =IF(Identificação!B5=0,"",Identificação!B5) -> Obras e Serviços de Engenharia
A6: Preço Total Proposto | C6: =SUMIFS(H12:H39877,B12:B39877,">0",H12:H39877,"<>0") -> 0
A7: Atenção! Se existirem itens sem preço proposto, deixe a célula do preço unitário proposto em branco.
A8: Para incluir itens da proposta, selecione as células A13 a K13 e arraste para baixo, de acordo com o número de itens cadastrado na planilha Orçamento-base.
A9: *Campos de preenchimento obrigatório | F9: **Obrigatório só para Obras e Serviços de Engenharia
A10: Nº do lote | B10: Nº Ordem | C10: Nº Item | D10: Descrição do item | E10: Proposta
E11: Qtd. | F11: Unid. | G11: Preço unitário (R$)* | H11: Preço Total (R$) | I11: % BDI** | J11: % Encargos Sociais** | K11: Percentual de Desconto | L11: Pr. Unit. Material | M11: Pr. Unit. Mão de obra
A12: =IF('Orçamento-base'!A12>0,'Orçamento-base'!A12,"") -> 1 | B12: ='Orçamento-base'!B12 | C12: =IF('Orçamento-base'!C12>0,'Orçamento-base'!C12,"") -> 1 | D12: =IF('Orçamento-base'!G12>0,'Orçamento-base'!G12,"") -> Serviços preliminares | E12: =IF('Orçamento-base'!H12>0,'Orçamento-base'!H12,"") | F12: =IF('Orçamento-base'!I12>0,'Orçamento-base'!I12,"") | G12: =IFERROR(IF(L12+M12<>0,ROUND(ROUND(L12,4)+ROUND(M12,4),4),""),"") | H12: =IFERROR(IF(E12*G12<>0,ROUND(ROUND(E12,4)*ROUND(G12,4),2),""),"")
A13: =IF('Orçamento-base'!A13>0,'Orçamento-base'!A13,"") -> 1 | B13: ='Orçamento-base'!B13 -> 1 | C13: =IF('Orçamento-base'!C13>0,'Orçamento-base'!C13,"") -> 1.1 | D13: =IF('Orçamento-base'!G13>0,'Orçamento-base'!G13,"") -> FORNECIMENTO E INSTALAÇÃO DE PLACA DE OBRA COM CHAPA GALVANIZADA E ESTRUTURA DE MADEIRA. AF_03/2022_PS | E13: =IF('Orçamento-base'!H13>0,'Orçamento-base'!H13,"") -> 2.5 | F13: =IF('Orçamento-base'!I13>0,'Orçamento-base'!I13,"") -> m² | G13: =IFERROR(IF(L13+M13<>0,ROUND(ROUND(L13,4)+ROUND(M13,4),4),""),"") | H13: =IFERROR(IF(E13*G13<>0,ROUND(ROUND(E13,4)*ROUND(G13,4),2),""),"")
A14: =IF('Orçamento-base'!A14>0,'Orçamento-base'!A14,"") -> 1 | B14: ='Orçamento-base'!B14 -> 2 | C14: =IF('Orçamento-base'!C14>0,'Orçamento-base'!C14,"") -> 1.2 | D14: =IF('Orçamento-base'!G14>0,'Orçamento-base'!G14,"") -> ARQUITETO DE OBRA JUNIOR COM ENCARGOS COMPLEMENTARES | E14: =IF('Orçamento-base'!H14>0,'Orçamento-base'!H14,"") -> 24 | F14: =IF('Orçamento-base'!I14>0,'Orçamento-base'!I14,"") -> H | G14: =IFERROR(IF(L14+M14<>0,ROUND(ROUND(L14,4)+ROUND(M14,4),4),""),"") | H14: =IFERROR(IF(E14*G14<>0,ROUND(ROUND(E14,4)*ROUND(G14,4),2),""),"")
A15: =IF('Orçamento-base'!A15>0,'Orçamento-base'!A15,"") -> 1 | B15: ='Orçamento-base'!B15 -> 3 | C15: =IF('Orçamento-base'!C15>0,'Orçamento-base'!C15,"") -> 1.3 | D15: =IF('Orçamento-base'!G15>0,'Orçamento-base'!G15,"") -> TOPOGRAFO COM ENCARGOS COMPLEMENTARES | E15: =IF('Orçamento-base'!H15>0,'Orçamento-base'!H15,"") -> 16 | F15: =IF('Orçamento-base'!I15>0,'Orçamento-base'!I15,"") -> H | G15: =IFERROR(IF(L15+M15<>0,ROUND(ROUND(L15,4)+ROUND(M15,4),4),""),"") | H15: =IFERROR(IF(E15*G15<>0,ROUND(ROUND(E15,4)*ROUND(G15,4),2),""),"")
A16: =IF('Orçamento-base'!A16>0,'Orçamento-base'!A16,"") -> 1 | B16: ='Orçamento-base'!B16 -> 4 | C16: =IF('Orçamento-base'!C16>0,'Orçamento-base'!C16,"") -> 1.4 | D16: =IF('Orçamento-base'!G16>0,'Orçamento-base'!G16,"") -> REGULARIZAÇÃO DE SUPERFÍCIES COM MOTONIVELADORA. AF_09/2024 | E16: =IF('Orçamento-base'!H16>0,'Orçamento-base'!H16,"") -> 1410.2 | F16: =IF('Orçamento-base'!I16>0,'Orçamento-base'!I16,"") -> m² | G16: =IFERROR(IF(L16+M16<>0,ROUND(ROUND(L16,4)+ROUND(M16,4),4),""),"") | H16: =IFERROR(IF(E16*G16<>0,ROUND(ROUND(E16,4)*ROUND(G16,4),2),""),"")
A17: =IF('Orçamento-base'!A17>0,'Orçamento-base'!A17,"") -> 1 | B17: ='Orçamento-base'!B17 -> 5 | C17: =IF('Orçamento-base'!C17>0,'Orçamento-base'!C17,"") -> 1.5 | D17: =IF('Orçamento-base'!G17>0,'Orçamento-base'!G17,"") -> ARGILA OU BARRO PARA ATERRO/REATERRO (RETIRADO NA JAZIDA, SEM TRANSPORTE) | E17: =IF('Orçamento-base'!H17>0,'Orçamento-base'!H17,"") -> 117.14724 | F17: =IF('Orçamento-base'!I17>0,'Orçamento-base'!I17,"") -> m³ | G17: =IFERROR(IF(L17+M17<>0,ROUND(ROUND(L17,4)+ROUND(M17,4),4),""),"") | H17: =IFERROR(IF(E17*G17<>0,ROUND(ROUND(E17,4)*ROUND(G17,4),2),""),"")
A18: =IF('Orçamento-base'!A18>0,'Orçamento-base'!A18,"") -> 1 | B18: ='Orçamento-base'!B18 -> 6 | C18: =IF('Orçamento-base'!C18>0,'Orçamento-base'!C18,"") -> 1.6 | D18: =IF('Orçamento-base'!G18>0,'Orçamento-base'!G18,"") -> CONSTRUÇÃO DE BASE E SUB-BASE PARA PAVIMENTAÇÃO DE BRITA GRADUADA SIMPLES - EXCLUSIVE CARGA E TRANSPORTE. AF_09/2024 | E18: =IF('Orçamento-base'!H18>0,'Orçamento-base'!H18,"") -> 9.477 | F18: =IF('Orçamento-base'!I18>0,'Orçamento-base'!I18,"") -> m³ | G18: =IFERROR(IF(L18+M18<>0,ROUND(ROUND(L18,4)+ROUND(M18,4),4),""),"") | H18: =IFERROR(IF(E18*G18<>0,ROUND(ROUND(E18,4)*ROUND(G18,4),2),""),"")
A19: =IF('Orçamento-base'!A19>0,'Orçamento-base'!A19,"") -> 1 | B19: ='Orçamento-base'!B19 -> 7 | C19: =IF('Orçamento-base'!C19>0,'Orçamento-base'!C19,"") -> 1.7 | D19: =IF('Orçamento-base'!G19>0,'Orçamento-base'!G19,"") -> TRANSPORTE COM CAMINHÃO BASCULANTE DE 6 M³, EM VIA URBANA PAVIMENTADA, DMT ATÉ 30 KM (UNIDADE: M3XKM). AF_02/2026 - BRITA E ATERRO | E19: =IF('Orçamento-base'!H19>0,'Orçamento-base'!H19,"") -> 1556.304 | F19: =IF('Orçamento-base'!I19>0,'Orçamento-base'!I19,"") -> M3XKM | G19: =IFERROR(IF(L19+M19<>0,ROUND(ROUND(L19,4)+ROUND(M19,4),4),""),"") | H19: =IFERROR(IF(E19*G19<>0,ROUND(ROUND(E19,4)*ROUND(G19,4),2),""),"")
A20: =IF('Orçamento-base'!A20>0,'Orçamento-base'!A20,"") -> 1 | B20: ='Orçamento-base'!B20 -> 8 | C20: =IF('Orçamento-base'!C20>0,'Orçamento-base'!C20,"") -> 1.8 | D20: =IF('Orçamento-base'!G20>0,'Orçamento-base'!G20,"") -> Mobilização e desmobilização de equipamentos - Cavalo mecânico com semirreboque com capacidade de 32 t - 302 kW | E20: =IF('Orçamento-base'!H20>0,'Orçamento-base'!H20,"") -> 2 | F20: =IF('Orçamento-base'!I20>0,'Orçamento-base'!I20,"") -> H | G20: =IFERROR(IF(L20+M20<>0,ROUND(ROUND(L20,4)+ROUND(M20,4),4),""),"") | H20: =IFERROR(IF(E20*G20<>0,ROUND(ROUND(E20,4)*ROUND(G20,4),2),""),"")
A21: =IF('Orçamento-base'!A21>0,'Orçamento-base'!A21,"") -> 1 | B21: ='Orçamento-base'!B21 -> 9 | C21: =IF('Orçamento-base'!C21>0,'Orçamento-base'!C21,"") -> 1.9 | D21: =IF('Orçamento-base'!G21>0,'Orçamento-base'!G21,"") -> ISOLAMENTO DE OBRA COM TELA PLÁSTICA | E21: =IF('Orçamento-base'!H21>0,'Orçamento-base'!H21,"") -> 137.5 | F21: =IF('Orçamento-base'!I21>0,'Orçamento-base'!I21,"") -> M | G21: =IFERROR(IF(L21+M21<>0,ROUND(ROUND(L21,4)+ROUND(M21,4),4),""),"") | H21: =IFERROR(IF(E21*G21<>0,ROUND(ROUND(E21,4)*ROUND(G21,4),2),""),"")
A22: =IF('Orçamento-base'!A22>0,'Orçamento-base'!A22,"") -> 1 | B22: ='Orçamento-base'!B22 | C22: =IF('Orçamento-base'!C22>0,'Orçamento-base'!C22,"") -> 2 | D22: =IF('Orçamento-base'!G22>0,'Orçamento-base'!G22,"") -> Drenagem | E22: =IF('Orçamento-base'!H22>0,'Orçamento-base'!H22,"") | F22: =IF('Orçamento-base'!I22>0,'Orçamento-base'!I22,"") | G22: =IFERROR(IF(L22+M22<>0,ROUND(ROUND(L22,4)+ROUND(M22,4),4),""),"") | H22: =IFERROR(IF(E22*G22<>0,ROUND(ROUND(E22,4)*ROUND(G22,4),2),""),"")
A23: =IF('Orçamento-base'!A23>0,'Orçamento-base'!A23,"") -> 1 | B23: ='Orçamento-base'!B23 -> 10 | C23: =IF('Orçamento-base'!C23>0,'Orçamento-base'!C23,"") -> 2.1 | D23: =IF('Orçamento-base'!G23>0,'Orçamento-base'!G23,"") -> DRENO (SEÇÃO 0,50 X 0,50 M), COM 1 TUBO DE PEAD CORRUGADO PERFURADO, DN 160 MM, ENCHIMENTO COM BRITA 3, ENVOLVIDO COM MANTA GEOTÊXTIL, COM SELO DE AREIA MÉDIA. (Base 102680) | E23: =IF('Orçamento-base'!H23>0,'Orçamento-base'!H23,"") -> 97.67 | F23: =IF('Orçamento-base'!I23>0,'Orçamento-base'!I23,"") -> M | G23: =IFERROR(IF(L23+M23<>0,ROUND(ROUND(L23,4)+ROUND(M23,4),4),""),"") | H23: =IFERROR(IF(E23*G23<>0,ROUND(ROUND(E23,4)*ROUND(G23,4),2),""),"")
... A70: =IF('Orçamento-base'!A70>0,'Orçamento-base'!A70,"") -> 1 | B70: ='Orçamento-base'!B70 -> 50 | C70: =IF('Orçamento-base'!C70>0,'Orçamento-base'!C70,"") -> 9.6 | D70: =IF('Orçamento-base'!G70>0,'Orçamento-base'!G70,"") -> PINTURA DUAS DEMAOS TINTA ESMALTE ACETINADO EM SUPERFICIE METALICA | E70: =IF('Orçamento-base'!H70>0,'Orçamento-base'!H70,"") -> 21.38 | F70: =IF('Orçamento-base'!I70>0,'Orçamento-base'!I70,"") -> m² | G70: =IFERROR(IF(L70+M70<>0,ROUND(ROUND(L70,4)+ROUND(M70,4),4),""),"") | H70: =IFERROR(IF(E70*G70<>0,ROUND(ROUND(E70,4)*ROUND(G70,4),2),""),"")

Sheet Cronograma
B2: CRONOGRAMA DE EXECUÇÃO
B3: Estado do Rio Grande do Sul
B4: Prefeitura Municipal de Montenegro
B5: Secretaria Municipal de Gestão e Planejamento
B6: OBRA: | C6: ='Orçamento-base'!C3:K3 -> Construção de Praça Infantil no Parque Centenário
B8: Item | C8: Descrição dos Serviços | D8: VALOR TOTAL | E8: MÊS 1 | G8: MÊS 2 | I8: MÊS 3 | K8: MÊS 4 | M8: MÊS 5
E9: % | F9: VALOR | G9: % | H9: VALOR | I9: % | J9: VALOR | K9: % | L9: VALOR | M9: % | N9: VALOR
B10: ='Orçamento-base'!C12 -> 1 | C10: ='Orçamento-base'!G12 -> Serviços preliminares | D10: ='Orçamento-base'!K12
B11: ='Orçamento-base'!C13 -> 1.1 | C11: ='Orçamento-base'!G13 -> FORNECIMENTO E INSTALAÇÃO DE PLACA DE OBRA COM CHAPA GALVANIZADA E ESTRUTURA DE MADEIRA. AF_03/2022_PS | D11: ='Orçamento-base'!K13 -> 1536.25 | E11: 1 | F11: =E11*D11 -> 1536.25 | G11: 0 | H11: =G11*D11 -> 0 | I11: 0 | J11: =I11*D11 -> 0 | K11: 0 | L11: =K11*D11 -> 0 | M11: 0 | N11: =M11*D11 -> 0
B12: ='Orçamento-base'!C14 -> 1.2 | C12: ='Orçamento-base'!G14 -> ARQUITETO DE OBRA JUNIOR COM ENCARGOS COMPLEMENTARES | D12: ='Orçamento-base'!K14 -> 3771.6 | E12: 0.2 | F12: =E12*D12 -> 754.32 | G12: 0.2 | H12: =G12*D12 -> 754.32 | I12: 0.2 | J12: =I12*D12 -> 754.32 | K12: 0.2 | L12: =K12*D12 -> 754.32 | M12: 0.2 | N12: =M12*D12 -> 754.32
B13: ='Orçamento-base'!C15 -> 1.3 | C13: ='Orçamento-base'!G15 -> TOPOGRAFO COM ENCARGOS COMPLEMENTARES | D13: ='Orçamento-base'!K15 -> 891.36 | E13: 1 | F13: =E13*D13 -> 891.36 | G13: 0 | H13: =G13*D13 -> 0 | I13: 0 | J13: =I13*D13 -> 0 | K13: 0 | L13: =K13*D13 -> 0 | M13: 0 | N13: =M13*D13 -> 0
B14: ='Orçamento-base'!C16 -> 1.4 | C14: ='Orçamento-base'!G16 -> REGULARIZAÇÃO DE SUPERFÍCIES COM MOTONIVELADORA. AF_09/2024 | D14: ='Orçamento-base'!K16 -> 1029.45 | E14: 1 | F14: =E14*D14 -> 1029.45 | G14: 0 | H14: =G14*D14 -> 0 | I14: 0 | J14: =I14*D14 -> 0 | K14: 0 | L14: =K14*D14 -> 0 | M14: 0 | N14: =M14*D14 -> 0
B15: ='Orçamento-base'!C17 -> 1.5 | C15: ='Orçamento-base'!G17 -> ARGILA OU BARRO PARA ATERRO/REATERRO (RETIRADO NA JAZIDA, SEM TRANSPORTE) | D15: ='Orçamento-base'!K17 -> 5997.94 | E15: 1 | F15: =E15*D15 -> 5997.94 | G15: 0 | H15: =G15*D15 -> 0 | I15: 0 | J15: =I15*D15 -> 0 | K15: 0 | L15: =K15*D15 -> 0 | M15: 0 | N15: =M15*D15 -> 0
B16: ='Orçamento-base'!C18 -> 1.6 | C16: ='Orçamento-base'!G18 -> CONSTRUÇÃO DE BASE E SUB-BASE PARA PAVIMENTAÇÃO DE BRITA GRADUADA SIMPLES - EXCLUSIVE CARGA E TRANSPORTE. AF_09/2024 | D16: ='Orçamento-base'!K18 -> 2050.25 | E16: 1 | F16: =E16*D16 -> 2050.25 | G16: 0 | H16: =G16*D16 -> 0 | I16: 0 | J16: =I16*D16 -> 0 | K16: 0 | L16: =K16*D16 -> 0 | M16: 0 | N16: =M16*D16 -> 0
B17: ='Orçamento-base'!C19 -> 1.7 | C17: ='Orçamento-base'!G19 -> TRANSPORTE COM CAMINHÃO BASCULANTE DE 6 M³, EM VIA URBANA PAVIMENTADA, DMT ATÉ 30 KM (UNIDADE: M3XKM). AF_02/2026 - BRITA E ATERRO | D17: ='Orçamento-base'!K19 -> 6645.42 | E17: 1 | F17: =E17*D17 -> 6645.42 | G17: 0 | H17: =G17*D17 -> 0 | I17: 0 | J17: =I17*D17 -> 0 | K17: 0 | L17: =K17*D17 -> 0 | M17: 0 | N17: =M17*D17 -> 0
B18: ='Orçamento-base'!C20 -> 1.8 | C18: ='Orçamento-base'!G20 -> Mobilização e desmobilização de equipamentos - Cavalo mecânico com semirreboque com capacidade de 32 t - 302 kW | D18: ='Orçamento-base'!K20 -> 1164.48 | E18: 1 | F18: =E18*D18 -> 1164.48 | G18: 0 | H18: =G18*D18 -> 0 | I18: 0 | J18: =I18*D18 -> 0 | K18: 0 | L18: =K18*D18 -> 0 | M18: 0 | N18: =M18*D18 -> 0
B19: ='Orçamento-base'!C21 -> 1.9 | C19: ='Orçamento-base'!G21 -> ISOLAMENTO DE OBRA COM TELA PLÁSTICA | D19: ='Orçamento-base'!K21 -> 2120.25 | E19: 1 | F19: =E19*D19 -> 2120.25 | G19: 0 | H19: =G19*D19 -> 0 | I19: 0 | J19: =I19*D19 -> 0 | K19: 0 | L19: =K19*D19 -> 0 | M19: 0 | N19: =M19*D19 -> 0
B20: ='Orçamento-base'!C22 -> 2 | C20: ='Orçamento-base'!G22 -> Drenagem | D20: ='Orçamento-base'!K22
B21: ='Orçamento-base'!C23 -> 2.1 | C21: ='Orçamento-base'!G23 -> DRENO (SEÇÃO 0,50 X 0,50 M), COM 1 TUBO DE PEAD CORRUGADO PERFURADO, DN 160 MM, ENCHIMENTO COM BRITA 3, ENVOLVIDO COM MANTA GEOTÊXTIL, COM SELO DE AREIA MÉDIA. (Base 102680) | D21: ='Orçamento-base'!K23 -> 12211.68 | E21: 0 | F21: =E21*D21 -> 0 | G21: 1 | H21: =G21*D21 -> 12211.68 | I21: 0 | J21: =I21*D21 -> 0 | K21: 0 | L21: =K21*D21 -> 0 | M21: 0 | N21: =M21*D21 -> 0
B22: ='Orçamento-base'!C24 -> 2.2 | C22: ='Orçamento-base'!G24 -> CAIXA COM GRELHA SIMPLES RETANGULAR, EM CONCRETO PRÉ-MOLDADO, DIMENSÕES INTERNAS: 0,6X1,0X1,0 M. AF_12/2020 | D22: ='Orçamento-base'!K24 -> 1519.19 | E22: 0 | F22: =E22*D22 -> 0 | G22: 1 | H22: =G22*D22 -> 1519.19 | I22: 0 | J22: =I22*D22 -> 0 | K22: 0 | L22: =K22*D22 -> 0 | M22: 0 | N22: =M22*D22 -> 0
B23: ='Orçamento-base'!C25 -> 2.3 | C23: ='Orçamento-base'!G25 -> RECOMPOSIÇÃO DE PAVIMENTO EM PISO INTERTRAVADO, COM REAPROVEITAMENTO DOS BLOCOS INTERTRAVADOS, PARA FECHAMENTO DE VALAS - INCLUSO RETIRADA E COLOCAÇÃO DO MATERIAL. AF_12/2020 | D23: ='Orçamento-base'!K25 -> 322.77 | E23: 0 | F23: =E23*D23 -> 0 | G23: 1 | H23: =G23*D23 -> 322.77 | I23: 0 | J23: =I23*D23 -> 0 | K23: 0 | L23: =K23*D23 -> 0 | M23: 0 | N23: =M23*D23 -> 0
B24: ='Orçamento-base'!C26 -> 2.4 | C24: ='Orçamento-base'!G26 -> ESCAVAÇÃO MECANIZADA DE VALA COM PROFUNDIDADE ATÉ 1,5 M (MÉDIA MONTANTE E JUSANTE/UMA COMPOSIÇÃO POR TRECHO), RETROESCAV. (0,26 M3), LARGURA DE 0,8 M A 1,5 M, EM SOLO DE 1A CATEGORIA, LOCAIS COM BAIXO NÍVEL DE INTERFERÊNCIA. AF_09/2024 | D24: ='Orçamento-base'!K26 -> 123.58 | E24: 0 | F24: =E24*D24 -> 0 | G24: 1 | H24: =G24*D24 -> 123.58 | I24: 0 | J24: =I24*D24 -> 0 | K24: 0 | L24: =K24*D24 -> 0 | M24: 0 | N24: =M24*D24 -> 0
B25: ='Orçamento-base'!C27 -> 2.5 | C25: ='Orçamento-base'!G27 -> TUBO DE PVC PARA REDE COLETORA DE ESGOTO DE PAREDE MACIÇA, DN 200 MM, JUNTA ELÁSTICA - FORNECIMENTO E ASSENTAMENTO. AF_01/2021 | D25: ='Orçamento-base'!K27 -> 2106.34 | E25: 0 | F25: =E25*D25 -> 0 | G25: 1 | H25: =G25*D25 -> 2106.34 | I25: 0 | J25: =I25*D25 -> 0 | K25: 0 | L25: =K25*D25 -> 0 | M25: 0 | N25: =M25*D25 -> 0
B26: ='Orçamento-base'!C28 -> 2.6 | C26: ='Orçamento-base'!G28 -> REATERRO MECANIZADO DE VALA COM MINICARREGADEIRA, COM PLACA VIBRATÓRIA. AF_08/2023 | D26: ='Orçamento-base'!K28 -> 365.83 | E26: 0 | F26: =E26*D26 -> 0 | G26: 1 | H26: =G26*D26 -> 365.83 | I26: 0 | J26: =I26*D26 -> 0 | K26: 0 | L26: =K26*D26 -> 0 | M26: 0 | N26: =M26*D26 -> 0
B27: ='Orçamento-base'!C29 -> 2.7 | C27: ='Orçamento-base'!G29 -> PREPARO DE FUNDO DE VALA COM LARGURA MENOR QUE 1,5 M, COM CAMADA DE AREIA, LANÇAMENTO MANUAL. AF_01/2026 | D27: ='Orçamento-base'!K29 -> 359.52 | E27: 0 | F27: =E27*D27 -> 0 | G27: 1 | H27: =G27*D27 -> 359.52 | I27: 0 | J27: =I27*D27 -> 0 | K27: 0 | L27: =K27*D27 -> 0 | M27: 0 | N27: =M27*D27 -> 0
B28: ='Orçamento-base'!C30 -> 3 | C28: ='Orçamento-base'!G30 -> Contrapiso e SBR | D28: ='Orçamento-base'!K30
B29: ='Orçamento-base'!C31 -> 3.1 | C29: ='Orçamento-base'!G31 -> EXECUÇÃO DE RADIER, ESPESSURA DE 10 CM, FCK = 30 MPA, COM USO DE FORMAS EM MADEIRA SERRADA. AF_09/2021 | D29: ='Orçamento-base'!K31 -> 128735.11 | E29: 0 | F29: =E29*D29 -> 0 | G29: 0.2 | H29: =G29*D29 -> 25747.022 | I29: 0.8 | J29: =I29*D29 -> 102988.09 | K29: 0 | L29: =K29*D29 -> 0 | M29: 0 | N29: =M29*D29 -> 0
B30: ='Orçamento-base'!C32 -> 3.2 | C30: ='Orçamento-base'!G32 -> TRATAMENTO DE JUNTA DE DILATAÇÃO, COM TARUGO DE POLIETILENO E SELANTE PU, INCLUSO PREENCHIMENTO COM ESPUMA EXPANSIVA PU. AF_09/2023 | D30: ='Orçamento-base'!K32 -> 3310.18 | E30: 0 | F30: =E30*D30 -> 0 | G30: 0 | H30: =G30*D30 -> 0 | I30: 1 | J30: =I30*D30 -> 3310.18 | K30: 0 | L30: =K30*D30 -> 0 | M30: 0 | N30: =M30*D30 -> 0
B31: ='Orçamento-base'!C33 -> 3.3 | C31: ='Orçamento-base'!G33 -> Fornecimento e instalação de piso em SBR monolítico, com 45mm de espessura, conforme memorial descritivo | D31: ='Orçamento-base'!K33 -> 273387.64 | E31: 0 | F31: =E31*D31 -> 0 | G31: 0 | H31: =G31*D31 -> 0 | I31: 0 | J31: =I31*D31 -> 0 | K31: 1 | L31: =K31*D31 -> 273387.64 | M31: 0 | N31: =M31*D31 -> 0
B32: ='Orçamento-base'!C34 -> 4 | C32: ='Orçamento-base'!G34 -> Instalação dos brinquedos | D32: ='Orçamento-base'!K34
B33: ='Orçamento-base'!C35 -> 4.1 | C33: ='Orçamento-base'!G35 -> Playground 4 torres, conforme memorial descritivo - Fornecimento e Instalação | D33: ='Orçamento-base'!K35 -> 105720.42 | E33: 0 | F33: =E33*D33 -> 0 | G33: 0 | H33: =G33*D33 -> 0 | I33: 0 | J33: =I33*D33 -> 0 | K33: 0 | L33: =K33*D33 -> 0 | M33: 1 | N33: =M33*D33 -> 105720.42
B34: ='Orçamento-base'!C36 -> 4.2 | C34: ='Orçamento-base'!G36 -> PRACA - BALANCO COM 2 CADEIRAS, ESTRUTURA EM TUBO DE ACO CARBONO, PINTURA NO PROCESSO ELETROSTATICO E CORRENTES | D34: ='Orçamento-base'!K36 -> 4313.64 | E34: 0 | F34: =E34*D34 -> 0 | G34: 0 | H34: =G34*D34 -> 0 | I34: 0 | J34: =I34*D34 -> 0 | K34: 0 | L34: =K34*D34 -> 0 | M34: 1 | N34: =M34*D34 -> 4313.64
B35: ='Orçamento-base'!C37 -> 4.3 | C35: ='Orçamento-base'!G37 -> PRACA - GIRA-GIRA PARA PARQUINHO INFANTIL, 1,50m (8 LUGARES), METALICO EM TUBOS DE ACO CARBONO PINTADOS, ASSENTOS EM MADEIRA PINTADA, HASTE / BASE PARA CHUMBAMENTO | D35: ='Orçamento-base'!K37 -> 2475.06 | E35: 0 | F35: =E35*D35 -> 0 | G35: 0 | H35: =G35*D35 -> 0 | I35: 0 | J35: =I35*D35 -> 0 | K35: 0 | L35: =K35*D35 -> 0 | M35: 1 | N35: =M35*D35 -> 2475.06
B36: ='Orçamento-base'!C38 -> 4.4 | C36: ='Orçamento-base'!G38 -> Gangorra com 3 pranchas em aço industrial ou madeira (Sergipark ou similar) | D36: ='Orçamento-base'!K38 -> 4702.61 | E36: 0 | F36: =E36*D36 -> 0 | G36: 0 | H36: =G36*D36 -> 0 | I36: 0 | J36: =I36*D36 -> 0 | K36: 0 | L36: =K36*D36 -> 0 | M36: 1 | N36: =M36*D36 -> 4702.61
B37: ='Orçamento-base'!C39 -> 4.5 | C37: ='Orçamento-base'!G39 -> Escalada Globo/Meia Lua, conforme memorial descritivo - Fornecimento e Instalação | D37: ='Orçamento-base'!K39 -> 6534.15 | E37: 0 | F37: =E37*D37 -> 0 | G37: 0 | H37: =G37*D37 -> 0 | I37: 0 | J37: =I37*D37 -> 0 | K37: 0 | L37: =K37*D37 -> 0 | M37: 1 | N37: =M37*D37 -> 6534.15
B38: ='Orçamento-base'!C40 -> 4.6 | C38: ='Orçamento-base'!G40 -> Trepa Trepa Geodésico (Scandere Domos/Domo de escalada), conforme memorial descritivo - Fornecimento e Instalação | D38: ='Orçamento-base'!K40 -> 6555.96 | E38: 0 | F38: =E38*D38 -> 0 | G38: 0 | H38: =G38*D38 -> 0 | I38: 0 | J38: =I38*D38 -> 0 | K38: 0 | L38: =K38*D38 -> 0 | M38: 1 | N38: =M38*D38 -> 6555.96
B39: ='Orçamento-base'!C41 -> 5 | C39: ='Orçamento-base'!G41 -> Mobiliário | D39: ='Orçamento-base'!K41
B40: ='Orçamento-base'!C42 -> 5.1 | C40: ='Orçamento-base'!G42 -> BANCO EM CONCRETO ARMADO 0,6X3X0,45 | D40: ='Orçamento-base'!K42 -> 14898.9 | E40: 0 | F40: =E40*D40 -> 0 | G40: 0 | H40: =G40*D40 -> 0 | I40: 1 | J40: =I40*D40 -> 14898.9 | K40: 0 | L40: =K40*D40 -> 0 | M40: 0 | N40: =M40*D40 -> 0
B41: ='Orçamento-base'!C43 -> 5.2 | C41: ='Orçamento-base'!G43 -> MESA EM CONCRETO ARMADO 0,5X1,5X0,3 | D41: ='Orçamento-base'!K43 -> 3938.4 | E41: 0 | F41: =E41*D41 -> 0 | G41: 0 | H41: =G41*D41 -> 0 | I41: 1 | J41: =I41*D41 -> 3938.4 | K41: 0 | L41: =K41*D41 -> 0 | M41: 0 | N41: =M41*D41 -> 0
B42: ='Orçamento-base'!C44 -> 6 | C42: ='Orçamento-base'!G44 -> Instalações elétricas | D42: ='Orçamento-base'!K44
...

Sheet DMT Aterro
B3: PREFEITURA MUNICIPAL DE MONTENEGRO
B4: SECRETARIA MUNICIPAL DE GESTÃO E PLANEJAMENTO
B5: DEPARTAMENTO DE DESENVOLVIMENTO DE PROJETOS
B7: OBRA: Praça Parque Centenário
B8: DISTÂNCIA MÉDIA DE TRANSPORTE
B9: DESCRIÇÃO DA DMT | C9: NOME DA EMPRESA | D9: ENDEREÇO | E9: LOCALIZAÇÃO | F9: Distância da obra
B10: Aterro de argila | C10: Alpendre Administradora de Ativos LTDA | D10: RS-124, n°724 - Estação, Montenegro - RS, 95780-000 | E10: https://www.google.com.br/maps/dir//RS-124+-+Santa+Rita,+Montenegro+-+RS,+95780-000/@-29.6934796,-51.5045819,710m/data=!3m1!1e3!4m8!4m7!1m0!1m5!1m1!1s0x951bfab000271bc5:0xc43332d17e16868e!2m2!1d-51.5043922!2d-29.694459 | F10: 6.3
C11: Comercio de Argila Chassot | D11: Estrada Selma Wallauer, 2572 - Faxinal, Montenegro - RS | E11: https://www.google.com.br/maps/place/Estr.+Selma+Wallauer,+2572+-+Faxinal,+Montenegro+-+RS,+95780-000/@-29.6486719,-51.4621909,870m/data=!3m1!1e3!4m5!3m4!1s0x951bfba62a03a23b:0x31dbbdc654bc8024!8m2!3d-29.6494909!4d-51.4630018 | F11: 3.5
C12: Britagem Montenegro Ltda | D12: Estrada Antônio Carlos Fernandes Rosa - Passo da Amora, Montenegro - RS, 92929-899. | E12: https://www.google.com.br/maps/place/Britagem+Montenegro+Construtora+Irm%C3%A3os+Carollo/@-29.748118,-51.4880132,16.5z/data=!4m5!3m4!1s0x951be55a638c76dd:0x558f148ea09f4164!8m2!3d-29.7478186!4d-51.4895447 | F12: 14.1
C13: Mineração Vera Cruz Montenegro | D13: Endereço, Estr. da Pedreira, 361 - Passo da Serra, Montenegro - RS, 92929-899. | E13: https://www.google.com/maps/place/Minera%C3%A7%C3%A3o+Vera+Cruz+Montenegro/@-29.6894453,-51.5002336,15z/data=!4m5!3m4!1s0x0:0x2df6c1498d1d8664!8m2!3d-29.6894453!4d-51.5002336 | F13: 6.1
C14: Pedreira Vila Rica | D14: BR-386 Km 414 Vendinha, Montenegro - RS, 92532-000. | E14: https://www.google.com.br/maps/place/Pedreira+Vila+Rica/@-29.8126075,-51.4816198,1193m/data=!3m1!1e3!4m5!3m4!1s0x951be7ad191a1dd7:0xee65ef302a9602cd!8m2!3d-29.8140217!4d-51.4813049 | F14: 29.7
E15: MÉDIA | F15: =(F10+F11+F12+F13+F14)/5 -> 11.94

Sheet DMT Brita
B3: PREFEITURA MUNICIPAL DE MONTENEGRO
B4: SECRETARIA MUNICIPAL DE GESTÃO E PLANEJAMENTO
B5: DEPARTAMENTO DE DESENVOLVIMENTO DE PROJETOS
B7: OBRA: Praça Parque Centenário
B8: DISTÂNCIA MÉDIA DE TRANSPORTE
B9: DESCRIÇÃO DA DMT | C9: NOME DA EMPRESA | D9: ENDEREÇO | E9: LOCALIZAÇÃO | F9: Distância da obra
B10: Brita/Rachão/BBG/Macadame | C10: Mineração Vera Cruz Montenegro | D10: Endereço, Estr. da Pedreira, 361 - Passo da Serra, Montenegro - RS, 92929-899. | E10: https://www.google.com/maps/place/Minera%C3%A7%C3%A3o+Vera+Cruz+Montenegro/@-29.6894453,-51.5002336,15z/data=!4m5!3m4!1s0x0:0x2df6c1498d1d8664!8m2!3d-29.6894453!4d-51.5002336 | F10: 6.1
C11: Britagem Montenegro Ltda | D11: Estrada Antônio Carlos Fernandes Rosa - Passo da Amora, Montenegro - RS, 92929-899. | E11: https://www.google.com.br/maps/place/Britagem+Montenegro+Construtora+Irm%C3%A3os+Carollo/@-29.748118,-51.4880132,16.5z/data=!4m5!3m4!1s0x951be55a638c76dd:0x558f148ea09f4164!8m2!3d-29.7478186!4d-51.4895447 | F11: 14.1
C12: Pedreira Vila Rica | D12: BR-386 Km 414 Vendinha, Montenegro - RS, 92532-000. | E12: https://www.google.com.br/maps/place/Pedreira+Vila+Rica/@-29.8126075,-51.4816198,1193m/data=!3m1!1e3!4m5!3m4!1s0x951be7ad191a1dd7:0xee65ef302a9602cd!8m2!3d-29.8140217!4d-51.4813049 | F12: 29.7
E13: Média | F13: =(F10+F11+F12)/3 -> 16.633333

Sheet CPUs
C1: Composições Analíticas com Preço Unitário | E1: Bancos
C2: Nova praça do Parque Centenário | E2: SINAPI - 04/2026 - Rio Grande do Sul SBC - 05/2026 - Rio Grande do Sul SICRO3 - 01/2026 - Rio Grande do Sul ORSE - 02/2026 - Sergipe EMOP - 02/2026 - Rio de Janeiro SCO - 02/2026 - Rio de Janeiro
A4: Composições Analíticas com Preço Unitário
A5: 1.9 | B5: Código | C5: Banco | D5: Descrição | E5: Tipo | G5: Und | H5: Quant. | I5: Valor Unit | J5: Total
A6: Composição | B6: PRÓPRIA A | C6: Próprio | D6: ISOLAMENTO DE OBRA COM TELA PLÁSTICA | G6: M | H6: 1 | I6: 12.36 | J6: 12.36
A7: Composição Auxiliar | B7: 88316 | C7: SINAPI | D7: SERVENTE COM ENCARGOS COMPLEMENTARES | E7: Livro SINAPI: Cálculos e Parâmetros | G7: H | H7: 0.08 | I7: 23.48 | J7: 1.87
A8: Insumo | B8: 00004491 | C8: SINAPI | D8: PONTALETE *7,5 X 7,5* CM EM PINUS, MISTA OU EQUIVALENTE DA REGIAO - BRUTA | E8: Material | G8: M | H8: 1 | I8: 7.19 | J8: 7.19
A9: Insumo | B9: 00037524 | C9: SINAPI | D9: TELA PLASTICA LARANJA, TIPO TAPUME PARA SINALIZACAO, MALHA RETANGULAR, ROLO 1.20 X 50 M (L X C) | E9: Material | G9: M | H9: 1 | I9: 3.3 | J9: 3.3
E10: MO sem LS => | F10: 1.35 | G10: LS => | H10: 0 | I10: MO com LS => | J10: 1.35
E11: Valor do BDI => | F11: 0 | H11: Valor com BDI => | J11: 12.36
A13: 2.1 | B13: Código | C13: Banco | D13: Descrição | E13: Tipo | G13: Und | H13: Quant. | I13: Valor Unit | J13: Total
A14: Composição | B14: DRENO 1 | C14: Próprio | D14: DRENO (SEÇÃO 0,50 X 0,50 M), COM 1 TUBO DE PEAD CORRUGADO PERFURADO, DN 160 MM, ENCHIMENTO COM BRITA 3, ENVOLVIDO COM MANTA GEOTÊXTIL, COM SELO DE AREIA MÉDIA. (Base 102680) | E14: Drenos | G14: M | H14: 1 | I14: 100.14 | J14: 100.14
A15: Composição Auxiliar | B15: 93379 | C15: SINAPI | D15: REATERRO MECANIZADO DE VALA COM RETROESCAVADEIRA (CAPACIDADE DA CAÇAMBA DA RETRO: 0,26 M³/POTÊNCIA: 88 HP), LARGURA 0,8 A 1,5 M, PROFUNDIDADE ATÉ 1,5 M, COM SOLO (SEM SUBSTITUIÇÃO) DE 1ª CATEGORIA, COM COMPACTADOR DE SOLOS DE PERCUSSÃO AF_08/2023 | E15: Aterro e Reaterro de Valas | G15: m³ | H15: 0.15 | I15: 20.29 | J15: 3.04
A16: Composição Auxiliar | B16: 88316 | C16: SINAPI | D16: SERVENTE COM ENCARGOS COMPLEMENTARES | E16: Livro SINAPI: Cálculos e Parâmetros | G16: H | H16: 0.24 | I16: 23.48 | J16: 5.63
A17: Composição Auxiliar | B17: 88309 | C17: SINAPI | D17: PEDREIRO COM ENCARGOS COMPLEMENTARES | E17: Livro SINAPI: Cálculos e Parâmetros | G17: H | H17: 0.12 | I17: 28.14 | J17: 3.37
A18: Composição Auxiliar | B18: 90106 | C18: SINAPI | D18: ESCAVAÇÃO MECANIZADA DE VALA COM PROFUNDIDADE ATÉ 1,5 M (MÉDIA MONTANTE E JUSANTE/UMA COMPOSIÇÃO POR TRECHO), RETROESCAV. (0,26 M3), LARGURA DE 0,8 M A 1,5 M, EM SOLO DE 1A CATEGORIA, LOCAIS COM BAIXO NÍVEL DE INTERFERÊNCIA. AF_09/2024 | E18: Escavação de Valas | G18: m³ | H18: 0.4 | I18: 8.69 | J18: 3.47
A19: Composição Auxiliar | B19: 5915407 | C19: SICRO3 | D19: Carga, manobra e descarga de agregados ou solos em caminhão basculante de 10 m³ - carga com carregadeira de 3,40 m³ e descarga livre | G19: t | H19: 0.3315 | I19: 3 | J19: 0.99
A20: Insumo | B20: 00038053 | C20: SINAPI | D20: TUBO DRENO, CORRUGADO, ESPIRALADO, FLEXIVEL, PERFURADO, EM POLIETILENO DE ALTA DENSIDADE (PEAD), DN *160* MM, (6") PARA DRENAGEM - EM BARRA (NORMA DNIT 093/2006 - EM) | E20: Material | G20: M | H20: 1 | I20: 23.9 | J20: 23.9
A21: Insumo | B21: 00000370 | C21: SINAPI | D21: AREIA MEDIA - POSTO JAZIDA/FORNECEDOR (RETIRADO NA JAZIDA, SEM TRANSPORTE) | E21: Material | G21: m³ | H21: 0.125 | I21: 95 | J21: 11.87
A22: Insumo | B22: 00004722 | C22: SINAPI | D22: PEDRA BRITADA N. 3 (38 A 50 MM) POSTO PEDREIRA/FORNECEDOR, SEM FRETE | E22: Material | G22: m³ | H22: 0.25 | I22: 93.28 | J22: 23.32
A23: Insumo | B23: 00004021 | C23: SINAPI | D23: GEOTEXTIL NAO TECIDO AGULHADO DE FILAMENTOS CONTINUOS 100% POLIESTER, RESITENCIA A TRACAO = 14 KN/M | E23: Material | G23: m² | H23: 2.4 | I23: 10.23 | J23: 24.55
E24: MO sem LS => | F24: 9.1 | G24: LS => | H24: 0 | I24: MO com LS => | J24: 9.1
E25: Valor do BDI => | F25: 0 | H25: Valor com BDI => | J25: 100.14
A27: 5.1 | B27: Código | C27: Banco | D27: Descrição | E27: Tipo | G27: Und | H27: Quant. | I27: Valor Unit | J27: Total
A28: Composição | B28: COMP_47 | C28: Próprio | D28: BANCO EM CONCRETO ARMADO 0,6X3X0,45 | E28: INES - INSTALAÇÕES ESPECIAIS | G28: unid | H28: 1 | I28: 1988.76 | J28: 1988.76
A29: Composição Auxiliar | B29: 102488 | C29: SINAPI | D29: PREPARO DO PISO CIMENTADO PARA PINTURA - LIXAMENTO E LIMPEZA. AF_05/2021 | E29: Pintura para Pisos e para Sinalização Horizontal e Vertical | G29: m² | H29: 7.7 | I29: 3.72 | J29: 28.64
A30: Composição Auxiliar | B30: 92510 | C30: SINAPI | D30: MONTAGEM E DESMONTAGEM DE FÔRMA DE LAJE MACIÇA, PÉ-DIREITO SIMPLES, EM CHAPA DE MADEIRA COMPENSADA RESINADA, 2 UTILIZAÇÕES. AF_09/2020 | E30: Fôrmas para Estruturas de Concreto Armado | G30: m² | H30: 7.7 | I30: 75.24 | J30: 579.34
A31: Composição Auxiliar | B31: 95445 | C31: SINAPI | D31: CORTE E DOBRA DE AÇO CA-60, DIÂMETRO DE 5,0 MM, UTILIZADO EM ESTRIBO CONTÍNUO HELICOIDAL. AF_09/2021 | E31: FUES - FUNDAÇÕES E ESTRUTURAS | G31: KG | H31: 7.21 | I31: 8.41 | J31: 60.63
A32: Composição Auxiliar | B32: 98554 | C32: SINAPI | D32: IMPERMEABILIZAÇÃO DE SUPERFÍCIE COM MEMBRANA À BASE DE RESINA ACRÍLICA, 3 DEMÃOS. AF_09/2023 | E32: Impermeabilização, Proteção Mecânica e Tratamento de Junta | G32: m² | H32: 7.7 | I32: 48.12 | J32: 370.52
A33: Composição Auxiliar | B33: 96557 | C33: SINAPI | D33: CONCRETAGEM DE BLOCO DE COROAMENTO OU VIGA BALDRAME, FCK 30 MPA, COM USO DE BOMBA - LANÇAMENTO, ADENSAMENTO E ACABAMENTO. AF_01/2024 | E33: Fundações Rasas (Blocos, Sapatas, Vigas Baldrame) | G33: m³ | H33: 0.84 | I33: 762.72 | J33: 640.68
A34: Composição Auxiliar | B34: 92917 | C34: SINAPI | D34: ARMAÇÃO DE ESTRUTURAS DIVERSAS DE CONCRETO ARMADO, EXCETO VIGAS, PILARES, LAJES E FUNDAÇÕES, UTILIZANDO AÇO CA-50 DE 8,0 MM - MONTAGEM. AF_06/2022 | E34: Armação para Estruturas de Concreto Armado | G34: KG | H34: 23.23 | I34: 13.3 | J34: 308.95
E35: MO sem LS => | F35: 356.87 | G35: LS => | H35: 0 | I35: MO com LS => | J35: 356.87
E36: Valor do BDI => | F36: 0 | H36: Valor com BDI => | J36: 1988.76
A38: 5.2 | B38: Código | C38: Banco | D38: Descrição | E38: Tipo | G38: Und | H38: Quant. | I38: Valor Unit | J38: Total
A39: Composição | B39: COMP_48 | C39: Próprio | D39: MESA EM CONCRETO ARMADO 0,5X1,5X0,3 | E39: INES - INSTALAÇÕES ESPECIAIS | G39: unid | H39: 1 | I39: 525.72 | J39: 525.72
A40: Composição Auxiliar | B40: 102488 | C40: SINAPI | D40: PREPARO DO PISO CIMENTADO PARA PINTURA - LIXAMENTO E LIMPEZA. AF_05/2021 | E40: Pintura para Pisos e para Sinalização Horizontal e Vertical | G40: m² | H40: 4.06 | I40: 3.72 | J40: 15.1
A41: Composição Auxiliar | B41: 92510 | C41: SINAPI | D41: MONTAGEM E DESMONTAGEM DE FÔRMA DE LAJE MACIÇA, PÉ-DIREITO SIMPLES, EM CHAPA DE MADEIRA COMPENSADA RESINADA, 2 UTILIZAÇÕES. AF_09/2020 | E41: Fôrmas para Estruturas de Concreto Armado | G41: m² | H41: 1 | I41: 75.24 | J41: 75.24
A42: Composição Auxiliar | B42: 98554 | C42: SINAPI | D42: IMPERMEABILIZAÇÃO DE SUPERFÍCIE COM MEMBRANA À BASE DE RESINA ACRÍLICA, 3 DEMÃOS. AF_09/2023 | E42: Impermeabilização, Proteção Mecânica e Tratamento de Junta | G42: m² | H42: 4.06 | I42: 48.12 | J42: 195.36
A43: Composição Auxiliar | B43: 92917 | C43: SINAPI | D43: ARMAÇÃO DE ESTRUTURAS DIVERSAS DE CONCRETO ARMADO, EXCETO VIGAS, PILARES, LAJES E FUNDAÇÕES, UTILIZANDO AÇO CA-50 DE 8,0 MM - MONTAGEM. AF_06/2022 | E43: Armação para Estruturas de Concreto Armado | G43: KG | H43: 3.41 | I43: 13.3 | J43: 45.35
A44: Composição Auxiliar | B44: 95445 | C44: SINAPI | D44: CORTE E DOBRA DE AÇO CA-60, DIÂMETRO DE 5,0 MM, UTILIZADO EM ESTRIBO CONTÍNUO HELICOIDAL. AF_09/2021 | E44: FUES - FUNDAÇÕES E ESTRUTURAS | G44: KG | H44: 2.29 | I44: 8.41 | J44: 19.25
...

Sheet Tipo de Objeto x Familia
A1: Tipo de Objeto | B1: Código | C1: Família | D1: apoio1 | E1: apoio2 | F1: Tipo de Objeto | G1: Código Família | H1: Família
A2: Compras | B2: 2 | C2: equipamentos/materiais p/escritorio/escola/artes plasticas | D2: 1 | E2: =IF(A2=$F$2,B2,"") | F2: =IF(Identificação!$B$5=0,"",Identificação!$B$5) -> Obras e Serviços de Engenharia | G2: =IFERROR(SMALL($E$2:$E$250,D2),"") -> 7 | H2: =IFERROR(VLOOKUP(G2,#REF!,2,FALSE),"")
A3: Compras e Outros Serviços | B3: 2 | C3: equipamentos/materiais p/escritorio/escola/artes plasticas | D3: 2 | E3: =IF(A3=$F$2,B3,"") | G3: =IFERROR(SMALL($E$2:$E$250,D3),"") -> 8 | H3: =IFERROR(VLOOKUP(G3,#REF!,2,FALSE),"")
A4: Compras e Outros Serviços | B4: 3 | C4: servicos técnicos: projetos/auditorias/ consultorias/assessorias | D4: 3 | E4: =IF(A4=$F$2,B4,"") | G4: =IFERROR(SMALL($E$2:$E$250,D4),"") -> 9 | H4: =IFERROR(VLOOKUP(G4,#REF!,2,FALSE),"")
A5: Outros Serviços | B5: 3 | C5: servicos técnicos: projetos/auditorias/ consultorias/assessorias | D5: 4 | E5: =IF(A5=$F$2,B5,"") | G5: =IFERROR(SMALL($E$2:$E$250,D5),"") -> 10 | H5: =IFERROR(VLOOKUP(G5,#REF!,2,FALSE),"")
A6: Obras e Serviços de Engenharia | B6: 7 | C6: serviços de engenharia/obras: resíduos sólidos | D6: 5 | E6: =IF(A6=$F$2,B6,"") -> 7 | G6: =IFERROR(SMALL($E$2:$E$250,D6),"") -> 11 | H6: =IFERROR(VLOOKUP(G6,#REF!,2,FALSE),"")
A7: Obras e Serviços de Engenharia | B7: 8 | C7: serviços de engenharia/obras: edificações | D7: 6 | E7: =IF(A7=$F$2,B7,"") -> 8 | G7: =IFERROR(SMALL($E$2:$E$250,D7),"") -> 12 | H7: =IFERROR(VLOOKUP(G7,#REF!,2,FALSE),"")
