Workbook

Sheet Dados
B2: ENTRADA DE DADOS
B3: BDI | C3: BDI Desonerado: 24,33%. Ensaios geográficos: Itens com valor obtido por pesquisa de mercado (cesta de preços), já contemplando custos indiretos e encargos, não sendo aplicado BDI adicional para evitar duplicidade.
B4: BDI DIFERENCIADO
C5: Preços básicos médios de mercado com Leis Sociais e BDI incluidos;
B6: BASE | C6: Base de preços tabela do SINAPI ABRIL/2026 e SICRO/DNIT JANEIRO/2026 DESONERADOS;
B8: RR-2C
B9: CM-30
B11: ART
B12: DATA | C12: DATA: 26 de maio de 2026.

Sheet Identificação
B1: IDENTIFICAÇÃO
B2: Modalidade* | C2: Concorrência Lei 14.133/21 Eletrônica | E2: N° * | G2: Ano * | H2: 2026
B3: Descrição do Objeto | C3: Contratação de Empresa especializada para elaboração de projeto de pavimentação, drenagem pluvial e sinalização viária
B4: Órgão | C4: Prefeitura Municipal de Montenegro-RS | G4: CNPJ * | H4: 90.895.905/0001-60
B5: Tipo de Objeto* | C5: Obras e Serviços de Engenharia | D5: N° CENTRAL DE COMPRAS
B6: Preço Total Estimado | C6: ='Orçamento-base'!C6 -> 88305.11
B7: Preço Total Proposto | C7: =Proposta!D6 -> 0
B8: Qtd. Itens Orçamento | C8: =COUNT('Orçamento-base'!B13:B39785) -> 8
B9: Atenção! Para incluir mais de 50 lotes, selecione as células A62 a G62 e arraste as fórmulas para baixo, de acordo com o número de lotes necessário.
B10: *Campos de preenchimento obrigatório | D10: **Campos de preenchimento obrigatório para licitação composta por lotes
B11: Nº do lote** | C11: Descrição do Lote** | D11: Estimativa | H11: Proposta
D12: Valor do lote (R$) | H12: Valor do lote (R$)
B13: 1 | C13: Projeto executivo de pavimentação asfáltica, drenagem pluvial e sinalização viária da Estrada Getúlio Vargas - Aprox. 70.500,00m² - Extensão 5,9 Km | D13: =SUMIF('Orçamento-base'!$A$13:$A$39787,Identificação!$B13,'Orçamento-base'!$K$13:$K$39787) -> 54697.14 | H13: =SUMIF(Proposta!$B$12:$B$39856,$B13,Proposta!$I$12:$I$39856) -> 0
B14: 2 | C14: Projeto executivo de pavimentação asfáltica, drenagem pluvial e sinalização viária da Estrada Antônio Carlos F. da Rosa - Aprox. 88.800,00m² - Extensão 7,4Km | D14: =SUMIF('Orçamento-base'!$A$13:$A$39787,Identificação!$B14,'Orçamento-base'!$K$13:$K$39787) -> 0 | H14: =SUMIF(Proposta!$B$12:$B$39856,$B14,Proposta!$I$12:$I$39856) -> 0
B15: 3 | C15: Projeto executivo de pavimentação intertravada, drenagem pluvial e sinalização viária de Ruas do Bairro Imigração: Rua Dinamarca, Rua Paraguai e Travessia sem nome - Aprox. 3.500m² - Extensão 400m | D15: =SUMIF('Orçamento-base'!$A$13:$A$39787,Identificação!$B15,'Orçamento-base'!$K$13:$K$39787) -> 14036.1 | H15: =SUMIF(Proposta!$B$12:$B$39856,$B15,Proposta!$I$12:$I$39856) -> 0
B16: 4 | C16: Projeto executivo de pavimentação intertravada, drenagem pluvial e sinalização viária da Travessa José Pedro Steigleder - Aprox. 4.235m² - Extensão 770m | D16: =SUMIF('Orçamento-base'!$A$13:$A$39787,Identificação!$B16,'Orçamento-base'!$K$13:$K$39787) -> 19571.87 | H16: =SUMIF(Proposta!$B$12:$B$39856,$B16,Proposta!$I$12:$I$39856) -> 0
G18: =Dados!C12 -> DATA: 26 de maio de 2026.

Sheet Orçamento-base
A1: ORÇAMENTO
A2: Modalidade | C2: =Identificação!C2 -> Concorrência Lei 14.133/21 Eletrônica | H2: N° | I2: =Identificação!F2 -> 0 | J2: Ano | K2: =Identificação!H2 -> 2026
A3: Descrição do Objeto | C3: =Identificação!C3 -> Contratação de Empresa especializada para elaboração de projeto de pavimentação, drenagem pluvial e sinalização viária
A4: Órgão | C4: =Identificação!C4 -> Prefeitura Municipal de Montenegro-RS | J4: CNPJ | K4: =Identificação!H4 -> 90.895.905/0001-60
A5: Tipo de Objeto | C5: =Identificação!C5 -> Obras e Serviços de Engenharia
A6: Preço T. Estimado | C6: =SUMIFS(K13:K39787,B13:B39787,">0",K13:K39787,"<>0") -> 88305.11
A8: Atenção! Para incluir mais de 100 linhas de itens, selecione as células A113 a R113 e arraste as fórmulas para baixo, de acordo com o número de itens necessário.
A9: *Preenchimento obrigatório | F9: **Obrigatório só para Obras e Serviços de Engenharia | H9: ***Obrigatório só para licitação composta por Lotes | V9: INSERIR DO ORÇAFASCIO | X9: SUBTOTAIS SEM BDI | AC9: SUBCONTRATAÇÃO POR LOTE
A10: Nº do Lote*** | B10: N° Ordem | C10: Nº Item* | D10: Fonte de Referência** | E10: Código de Referência** | F10: Data de Referência** | G10: Descrição do item* | H10: Estimativa | N10: Família | P10: Subfamília | R10: Tipo de Orçamento | S10: Pr. Unit. Material | T10: Pr. Unit. Mão de obra | V10: Pr. Unit. Material | W10: Pr. Unit. Mão de obra | X10: Pr. Unit. Material | Y10: Pr. Unit. Mão de obra | AC10: % DE CADA ITEM | AD10: PERMITIDO SUBCONTRATAÇÃO
H11: Qtd.* | I11: Unid.* | J11: Preço unitário (R$)* | K11: Preço Total (R$) | L11: % BDI** | M11: % Encargos Sociais** | N11: Código | O11: Descrição | P11: Código | Q11: Descrição | AA11: Qtde. Orçafascio (Sem truncar)
A12: LOTE 1: PROJETO EXECUTIVO DE ENGENHARIA DA ESTRADA GETÚLIO VARGAS
A13: 1 | B13: =IF(AND(G13<>"",H13>0,I13<>"",J13<>0,K13<>0),COUNT($B$11:B11)+1,"") -> 1 | C13: 1.1 | D13: SINAPI | E13: PROJ6 | F13: 46113 | G13: Projeto executivo de pavimentação asfáltica, drenagem pluvial e sinalização viária da Estrada Getúlio Vargas - Aprox. 70.500,00m² - Extensão 5,9 Km | H13: =TRUNC(AA13,2) -> 1 | I13: UN | J13: =IFERROR(IF(S13+T13<>0,ROUND(ROUND(S13,4)+ROUND(T13,4),4),""),"") -> 18502.14 | K13: =IFERROR(IF(H13*J13<>0,ROUND(ROUND(H13,4)*ROUND(J13,4),2),""),"") -> 18502.14 | L13: =AA26 -> 0.2433 | M13: 0.8325 | N13: 15 | O13: =IF(N13="","", INDIRECT("base!"&ADDRESS(MATCH(N13,base!$C$2:$C$133,0)+1,4,4))) -> serviços de engenharia/obras: serviços especializados para construção | P13: 8 | Q13: =IF(P13="","", INDIRECT("base!"&ADDRESS(MATCH(CONCATENATE(N13,"|",P13),base!$G$2:$G$1817,0)+1,6,4))) -> montagem e desmontagem de estruturas temporárias | R13: Mão-de-obra e material | S13: =TRUNC((V13*L13)+V13,2) -> 1841.78 | T13: =TRUNC((W13*L13)+W13,2) -> 16660.36 | V13: 1481.37 | W13: 13400.12 | X13: =(H13*V13) -> 1481.37 | Y13: =(H13*W13) -> 13400.12 | AA13: 1 | AC13: =K13/(K13+K14) -> 0.33826522 | AD13: NÃO
A14: 1 | B14: =IF(AND(G14<>"",H14>0,I14<>"",J14<>0,K14<>0),COUNT($B$11:B13)+1,"") -> 2 | C14: 1.2 | D14: MERCADO | E14: ENS1 | F14: 46143 | G14: Ensaios Geotécnicos de Solo Para Projeto Executivo - ( Para trecho de 1Km) | H14: =TRUNC(AA14,2) -> 6 | I14: UN | J14: =IFERROR(IF(S14+T14<>0,ROUND(ROUND(S14,4)+ROUND(T14,4),4),""),"") -> 6032.5 | K14: =IFERROR(IF(H14*J14<>0,ROUND(ROUND(H14,4)*ROUND(J14,4),2),""),"") -> 36195 | L14: 0 | M14: 0.8325 | N14: 15 | O14: =IF(N14="","", INDIRECT("base!"&ADDRESS(MATCH(N14,base!$C$2:$C$133,0)+1,4,4))) -> serviços de engenharia/obras: serviços especializados para construção | P14: 8 | Q14: =IF(P14="","", INDIRECT("base!"&ADDRESS(MATCH(CONCATENATE(N14,"|",P14),base!$G$2:$G$1817,0)+1,6,4))) -> montagem e desmontagem de estruturas temporárias | R14: Mão-de-obra e material | S14: =TRUNC((V14*L14)+V14,2) -> 6032.5 | T14: =TRUNC((W14*L14)+W14,2) -> 0 | V14: 6032.5 | W14: 0 | X14: =(H14*V14) -> 36195 | Y14: =(H14*W14) -> 0 | AA14: 6 | AC14: =K14/(K14+K13) -> 0.66173478 | AD14: SIM
A15: LOTE 2: PROJETO EXECUTIVO DE ENGENHARIA DA ESTRADA ANTÔNIO CARLOS F. DA ROSA
A16: 2 | B16: 3 | C16: 2.1 | D16: SINAPI | E16: PROJ7 | F16: 46113 | G16: Projeto executivo de pavimentação asfáltica, drenagem pluvial e sinalização viária da Estrada Antônio Carlos F. da Rosa - Aprox. 88.800,00m² - Extensão 7,4Km | H16: 0 | I16: UN | J16: =IFERROR(IF(S16+T16<>0,ROUND(ROUND(S16,4)+ROUND(T16,4),4),""),"") -> 23673.85 | K16: =IFERROR(IF(H16*J16<>0,ROUND(ROUND(H16,4)*ROUND(J16,4),2),""),"") | L16: =AA26 -> 0.2433 | M16: 0.8325 | N16: 13 | O16: =IF(N16="","", INDIRECT("base!"&ADDRESS(MATCH(N16,base!$C$2:$C$133,0)+1,4,4))) -> serviços de engenharia/obras: saneamento | P16: 14 | Q16: =IF(P16="","", INDIRECT("base!"&ADDRESS(MATCH(CONCATENATE(N16,"|",P16),base!$G$2:$G$1817,0)+1,6,4))) -> rede de drenagem | R16: Mão-de-obra e material | S16: =TRUNC((V16*L16)+V16,2) -> 2077.46 | T16: =TRUNC((W16*L16)+W16,2) -> 21596.39 | V16: 1670.93 | W16: 17370.22 | X16: =(H16*V16) -> 0 | Y16: =(H16*W16) -> 0 | AA16: 1 | AC16: =K16/(K16+K17) -> #VALUE! | AD16: NÃO
A17: 2 | B17: 4 | C17: 2.2 | D17: MERCADO | E17: ENS2 | F17: 46143 | G17: Ensaios Geotécnicos de Solo Para Projeto Executivo - ( Para trecho de 1Km) II | H17: 0 | I17: UN | J17: =IFERROR(IF(S17+T17<>0,ROUND(ROUND(S17,4)+ROUND(T17,4),4),""),"") -> 5988.14 | K17: =IFERROR(IF(H17*J17<>0,ROUND(ROUND(H17,4)*ROUND(J17,4),2),""),"") | L17: 0 | M17: 0.8325 | N17: 13 | O17: =IF(N17="","", INDIRECT("base!"&ADDRESS(MATCH(N17,base!$C$2:$C$133,0)+1,4,4))) -> serviços de engenharia/obras: saneamento | P17: 14 | Q17: =IF(P17="","", INDIRECT("base!"&ADDRESS(MATCH(CONCATENATE(N17,"|",P17),base!$G$2:$G$1817,0)+1,6,4))) -> rede de drenagem | R17: Mão-de-obra e material | S17: =TRUNC((V17*L17)+V17,2) -> 5988.14 | T17: =TRUNC((W17*L17)+W17,2) -> 0 | V17: 5988.14 | W17: 0 | X17: =(H17*V17) -> 0 | Y17: =(H17*W17) -> 0 | AA17: 7 | AC17: =K17/(K17+K16) -> #VALUE! | AD17: SIM
A18: LOTE 3: PROJETO EXECUTIVO DE ENGENHARIA DE RUAS DO BAIRRO IMIGRAÇÃO
A19: 3 | B19: =IF(AND(G19<>"",H19>0,I19<>"",J19<>0,K19<>0),COUNT($B$11:B18)+1,"") -> 5 | C19: 3.1 | D19: SINAPI | E19: PROJ-400i | F19: 46113 | G19: Projeto executivo de pavimentação intertravada, drenagem pluvial e sinalização viária de Ruas do Bairro Imigração: Rua Dinamarca, Rua Paraguai e Travessia sem nome - Aprox. 3.500m² - Extensão 400m | H19: =TRUNC(AA19,2) -> 1 | I19: UN | J19: =IFERROR(IF(S19+T19<>0,ROUND(ROUND(S19,4)+ROUND(T19,4),4),""),"") -> 9890.83 | K19: =IFERROR(IF(H19*J19<>0,ROUND(ROUND(H19,4)*ROUND(J19,4),2),""),"") -> 9890.83 | L19: =AA26 -> 0.2433 | M19: 0.8325 | N19: 9 | O19: =IF(N19="","", INDIRECT("base!"&ADDRESS(MATCH(N19,base!$C$2:$C$133,0)+1,4,4))) -> serviços de engenharia/obras: rodovias, ferrovias e aeroportos | P19: 3 | Q19: =IF(P19="","", INDIRECT("base!"&ADDRESS(MATCH(CONCATENATE(N19,"|",P19),base!$G$2:$G$1817,0)+1,6,4))) -> rodovias e vias rurais pavimentadas | R19: Mão-de-obra e material | S19: =TRUNC((V19*L19)+V19,2) -> 813.27 | T19: =TRUNC((W19*L19)+W19,2) -> 9077.56 | V19: 654.13 | W19: 7301.19 | X19: =(H19*V19) -> 654.13 | Y19: =(H19*W19) -> 7301.19 | AA19: 1 | AC19: =K19/(K19+K20) -> 0.70467081 | AD19: NÃO
A20: 3 | B20: =IF(AND(G20<>"",H20>0,I20<>"",J20<>0,K20<>0),COUNT($B$11:B19)+1,"") -> 6 | C20: 3.2 | D20: MERCADO | E20: ENS3 | F20: 46143 | G20: Ensaios Geotécnicos de Solo Para Projeto Executivo - ( Para trecho de 400m) | H20: =TRUNC(AA20,2) -> 1 | I20: UN | J20: =IFERROR(IF(S20+T20<>0,ROUND(ROUND(S20,4)+ROUND(T20,4),4),""),"") -> 4145.27 | K20: =IFERROR(IF(H20*J20<>0,ROUND(ROUND(H20,4)*ROUND(J20,4),2),""),"") -> 4145.27 | L20: 0 | M20: 0.8325 | N20: 9 | O20: =IF(N20="","", INDIRECT("base!"&ADDRESS(MATCH(N20,base!$C$2:$C$133,0)+1,4,4))) -> serviços de engenharia/obras: rodovias, ferrovias e aeroportos | P20: 3 | Q20: =IF(P20="","", INDIRECT("base!"&ADDRESS(MATCH(CONCATENATE(N20,"|",P20),base!$G$2:$G$1817,0)+1,6,4))) -> rodovias e vias rurais pavimentadas | R20: Mão-de-obra e material | S20: =TRUNC((V20*L20)+V20,2) -> 4145.27 | T20: =TRUNC((W20*L20)+W20,2) -> 0 | V20: 4145.27 | W20: 0 | X20: =(H20*V20) -> 4145.27 | Y20: =(H20*W20) -> 0 | AA20: 1 | AC20: =K20/(K20+K19) -> 0.29532919 | AD20: SIM
A21: LOTE 4: PROJETO EXECUTIVO DE ENGENHARIA DA TRAVESSA JOSÉ PEDRO STEIGLEDER
A22: 4 | B22: =IF(AND(G22<>"",H22>0,I22<>"",J22<>0,K22<>0),COUNT($B$11:B21)+1,"") -> 7 | C22: 4.1 | D22: SINAPI | E22: PROJ-800i | F22: 46113 | G22: Projeto executivo de pavimentação intertravada, drenagem pluvial e sinalização viária da Travessa José Pedro Steigleder - Aprox. 4.235m² - Extensão 770m | H22: =TRUNC(AA22,2) -> 1 | I22: UN | J22: =IFERROR(IF(S22+T22<>0,ROUND(ROUND(S22,4)+ROUND(T22,4),4),""),"") -> 13137.36 | K22: =IFERROR(IF(H22*J22<>0,ROUND(ROUND(H22,4)*ROUND(J22,4),2),""),"") -> 13137.36 | L22: =AA26 -> 0.2433 | M22: 0.8325 | N22: 9 | O22: =IF(N22="","", INDIRECT("base!"&ADDRESS(MATCH(N22,base!$C$2:$C$133,0)+1,4,4))) -> serviços de engenharia/obras: rodovias, ferrovias e aeroportos | P22: 3 | Q22: =IF(P22="","", INDIRECT("base!"&ADDRESS(MATCH(CONCATENATE(N22,"|",P22),base!$G$2:$G$1817,0)+1,6,4))) -> rodovias e vias rurais pavimentadas | R22: Mão-de-obra e material | S22: =TRUNC((V22*L22)+V22,2) -> 944.42 | T22: =TRUNC((W22*L22)+W22,2) -> 12192.94 | V22: 759.61 | W22: 9806.92 | X22: =(H22*V22) -> 759.61 | Y22: =(H22*W22) -> 9806.92 | AA22: 1 | AC22: =K22/(K22+K23) -> 0.67123683 | AD22: NÃO
A23: 4 | B23: =IF(AND(G23<>"",H23>0,I23<>"",J23<>0,K23<>0),COUNT($B$11:B22)+1,"") -> 8 | C23: 4.2 | D23: MERCADO | E23: ENS4 | F23: 46143 | G23: Ensaios Geotécnicos de Solo Para Projeto Executivo - ( Para trecho de 800m) | H23: =TRUNC(AA23,2) -> 1 | I23: UN | J23: =IFERROR(IF(S23+T23<>0,ROUND(ROUND(S23,4)+ROUND(T23,4),4),""),"") -> 6434.51 | K23: =IFERROR(IF(H23*J23<>0,ROUND(ROUND(H23,4)*ROUND(J23,4),2),""),"") -> 6434.51 | L23: 0 | M23: 0.8325 | N23: 9 | O23: =IF(N23="","", INDIRECT("base!"&ADDRESS(MATCH(N23,base!$C$2:$C$133,0)+1,4,4))) -> serviços de engenharia/obras: rodovias, ferrovias e aeroportos | P23: 3 | Q23: =IF(P23="","", INDIRECT("base!"&ADDRESS(MATCH(CONCATENATE(N23,"|",P23),base!$G$2:$G$1817,0)+1,6,4))) -> rodovias e vias rurais pavimentadas | R23: Mão-de-obra e material | S23: =TRUNC((V23*L23)+V23,2) -> 6434.51 | T23: =TRUNC((W23*L23)+W23,2) -> 0 | V23: 6434.51 | W23: 0 | X23: =(H23*V23) -> 6434.51 | Y23: =(H23*W23) -> 0 | AA23: 1 | AC23: =K23/(K23+K22) -> 0.32876317 | AD23: SIM
AA25: BDI ADOTADO:
AA26: 0.2433

Sheet Composições
A1: COMPOSIÇÕES PRINCIPAIS
A2: Modalidade | C2: =Identificação!C2 -> Concorrência Lei 14.133/21 Eletrônica | G2: N° | H2: =Identificação!F2 -> 0 | I2: Ano | J2: =Identificação!H2 -> 2026
A3: Descrição do Objeto | C3: =Identificação!C3 -> Contratação de Empresa especializada para elaboração de projeto de pavimentação, drenagem pluvial e sinalização viária
A4: Órgão | C4: =Identificação!C4 -> Prefeitura Municipal de Montenegro-RS | I4: CNPJ | J4: =IF([3]Identificação!G4=0,"",[3]Identificação!G4) -> 90.895.905/0001-60
A5: Tipo de Objeto | C5: =Identificação!C5 -> Obras e Serviços de Engenharia
A6: Preço T. Estimado | C6: =Identificação!C6 -> 88305.11
A7: 1.1 | B7: Código | C7: Banco | D7: Descrição | E7: Tipo | G7: Und | H7: Quant. | I7: Valor Unit | J7: Total | L7: CONSIDERAÇÕES DAS COMPOSIÇÕES:
A8: Composição | B8: PROJ6 | C8: Próprio | D8: Projeto Executivo de Pavimentação Asfáltica, Drenagem Pluvial e Sinalização Viária de ESTRADA RURAL - Extensão de 6Km | E8: PAVI - PAVIMENTAÇÃO | G8: UN | H8: 1 | I8: 14881.49 | J8: 14881.49 | N8: 6KM
A9: Composição Auxiliar | B9: 88255 | C9: SINAPI | D9: AUXILIAR TÉCNICO DE ENGENHARIA COM ENCARGOS COMPLEMENTARES | E9: Livro SINAPI: Cálculos e Parâmetros | G9: H | H9: 24 | I9: 41.34 | J9: 992.16 | L9: aux projeto | M9: 24 | N9: Considerando 6h diárias e 4 dias de trabalho
A10: Composição Auxiliar | B10: 88252 | C10: SINAPI | D10: AUXILIAR DE SERVIÇOS GERAIS COM ENCARGOS COMPLEMENTARES | E10: Livro SINAPI: Cálculos e Parâmetros | G10: H | H10: 8 | I10: 24.66 | J10: 197.28 | L10: ensaio | M10: 6 | N10: Considerando 1 pacote de ensaios a cada Km
A11: Composição Auxiliar | B11: 90777 | C11: SINAPI | D11: ENGENHEIRO CIVIL DE OBRA JUNIOR COM ENCARGOS COMPLEMENTARES | E11: Livro SINAPI: Cálculos e Parâmetros | G11: H | H11: 12 | I11: 139.01 | J11: 1668.12 | L11: eng campo | M11: 12 | N11: Considerando 8h de visita de campo + 4h de deslocamento
A12: Composição Auxiliar | B12: 90777 | C12: SINAPI | D12: ENGENHEIRO CIVIL DE OBRA JUNIOR COM ENCARGOS COMPLEMENTARES | E12: Livro SINAPI: Cálculos e Parâmetros | G12: H | H12: 80 | I12: 139.01 | J12: 11120.8 | L12: eng projeto | M12: =72+8 -> 80 | N12: Considerando 8h diárias e 9 dias de trabalho + 8h de ajustes
A13: Insumo | B13: ART2026 | C13: Próprio | D13: Anotação de Responsabilidade Técnica | E13: Serviços | G13: unidade | H13: 1 | I13: 103.03 | J13: 103.03 | L13: veículo | M13: 12 | N13: Considerando um deslocamento de até 2h x2 (ida e volta) + 8h de visita
A14: Insumo | B14: E9512 | C14: SICRO3 | D14: Veículo leve - 53 kW | E14: Equipamento | G14: H | H14: 12 | I14: 66.6752 | J14: 800.1 | L14: aux campo | M14: 8 | N14: Considerando 8h diárias para o levantamento de campo
A18: 1.2 | B18: Código | C18: Banco | D18: Descrição | E18: Tipo | G18: Und | H18: Quant. | I18: Valor Unit | J18: Total
A19: Composição | B19: ENS1 | C19: Próprio | D19: Ensaios Geotécnicos de Solo Para Projeto Executivo - ( Para trecho de 1Km) | E19: SERT - SERVIÇOS TÉCNICOS | G19: UN | H19: 1 | I19: 6032.5 | J19: 6032.5 | N19: 7KM
A20: Composição Auxiliar | B20: MOB-ENS | C20: Próprio | D20: Mobilização e desmobilização de equipe e equipamentos para execução de ensaios geotécnicos | E20: TRAN - TRANSPORTES, CARGAS E DESCARGAS | G20: unid | H20: 0.1667 | I20: 1856.03 | J20: 309.4 | L20: eng campo | M20: 14 | N20: Considerando 10h de visita de campo + 4h de deslocamento
A21: Insumo | B21: ENSAIO-2 | C21: Próprio | D21: DETERMINAÇÃO DO ÍNDICE DE SUPORTE CALIFÓRNIA DE SOLOS - ISC OU CBR - (NORMA DNIT 172/016-ME / NBR 9895:2017) | E21: Serviços | G21: un | H21: 5 | I21: 259.99 | J21: 1299.95 | L21: eng projeto | M21: =(8*12)+8 -> 104 | N21: Considerando 8h diárias e 12 dias de trabalho + 8h de ajustes
A22: Insumo | B22: ENSAIO-1 | C22: Próprio | D22: ANÁLISE GRANULOMETRICA DE SOLOS POR PENEIRAMENTO (NBR 7181:2016) | E22: Serviços | G22: un | H22: 5 | I22: 201.98 | J22: 1009.9 | L22: ensaio | M22: 7 | N22: Considerando 1 pacote de ensaios a cada Km
A23: Insumo | B23: ENSAIO-5 | C23: Próprio | D23: PERFURAÇÃO DE SOLO SONDAGEM A TRADO (NBR 9603:2015) DN 20CM | E23: Serviços | G23: M | H23: 5 | I23: 275 | J23: 1375 | L23: aux projeto | M23: =6*6 -> 36 | N23: Considerando 6h diárias e 6 dias de trabalho
A24: Insumo | B24: ENSAIO-6 | C24: Próprio | D24: VERIFICAÇÃO DA COMPACTAÇÃO DO SOLO ENERGIA PROCTOR NORMAL (NBR 7182:2020) | E24: Serviços | G24: un | H24: 5 | I24: 208.5 | J24: 1042.5 | L24: aux campo | M24: 10 | N24: Considerando 10h diárias para o levantamento de campo
A25: Insumo | B25: ENSAIO-3 | C25: Próprio | D25: DETERMINAÇÃO DO LIMITE DE LIQUIDEZ DE SOLOS (NBR 6459:2017) | E25: Serviços | G25: un | H25: 5 | I25: 100.24 | J25: 501.2
A26: Insumo | B26: ENSAIO-4 | C26: Próprio | D26: DETERMINAÇÃO DO LIMITE DE PLASTICIDADE DE SOLOS (NBR 7180:2016) | E26: Serviços | G26: un | H26: 5 | I26: 98.91 | J26: 494.55 | L26: veículo | M26: 12 | N26: Considerando um deslocamento de até 2h x2 (ida e volta) + 8h de visita
A30: 2.1 | B30: Código | C30: Banco | D30: Descrição | E30: Tipo | G30: Und | H30: Quant. | I30: Valor Unit | J30: Total
A31: Composição | B31: PROJ7 | C31: Próprio | D31: Projeto Executivo de Pavimentação Asfáltica, Drenagem Pluvial e Sinalização Viária de ESTRADA RURAL - Extensão de 7Km | E31: PAVI - PAVIMENTAÇÃO | G31: UN | H31: 1 | I31: 19041.15 | J31: 19041.15
A32: Composição Auxiliar | B32: 88255 | C32: SINAPI | D32: AUXILIAR TÉCNICO DE ENGENHARIA COM ENCARGOS COMPLEMENTARES | E32: Livro SINAPI: Cálculos e Parâmetros | G32: H | H32: 36 | I32: 41.34 | J32: 1488.24
A33: Composição Auxiliar | B33: 90777 | C33: SINAPI | D33: ENGENHEIRO CIVIL DE OBRA JUNIOR COM ENCARGOS COMPLEMENTARES | E33: Livro SINAPI: Cálculos e Parâmetros | G33: H | H33: 104 | I33: 139.01 | J33: 14457.04
A34: Composição Auxiliar | B34: 90777 | C34: SINAPI | D34: ENGENHEIRO CIVIL DE OBRA JUNIOR COM ENCARGOS COMPLEMENTARES | E34: Livro SINAPI: Cálculos e Parâmetros | G34: H | H34: 14 | I34: 139.01 | J34: 1946.14
A35: Composição Auxiliar | B35: 88252 | C35: SINAPI | D35: AUXILIAR DE SERVIÇOS GERAIS COM ENCARGOS COMPLEMENTARES | E35: Livro SINAPI: Cálculos e Parâmetros | G35: H | H35: 10 | I35: 24.66 | J35: 246.6
A36: Insumo | B36: ART2026 | C36: Próprio | D36: Anotação de Responsabilidade Técnica | E36: Serviços | G36: unidade | H36: 1 | I36: 103.03 | J36: 103.03
A37: Insumo | B37: E9512 | C37: SICRO3 | D37: Veículo leve - 53 kW | E37: Equipamento | G37: H | H37: 12 | I37: 66.6752 | J37: 800.1
A40: 2.2 | B40: Código | C40: Banco | D40: Descrição | E40: Tipo | G40: Und | H40: Quant. | I40: Valor Unit | J40: Total
A41: Composição | B41: ENS2 | C41: Próprio | D41: Ensaios Geotécnicos de Solo para Projeto Executivo - ( Para trecho de 1Km) II | E41: SERT - SERVIÇOS TÉCNICOS | G41: UN | H41: 1 | I41: 5988.14 | J41: 5988.14
A42: Composição Auxiliar | B42: MOB-ENS | C42: Próprio | D42: Mobilização e desmobilização de equipe e equipamentos para execução de ensaios geotécnicos | E42: TRAN - TRANSPORTES, CARGAS E DESCARGAS | G42: unid | H42: 0.1428 | I42: 1856.03 | J42: 265.04
A43: Insumo | B43: ENSAIO-2 | C43: Próprio | D43: DETERMINAÇÃO DO ÍNDICE DE SUPORTE CALIFÓRNIA DE SOLOS - ISC OU CBR - (NORMA DNIT 172/016-ME / NBR 9895:2017) | E43: Serviços | G43: un | H43: 5 | I43: 259.99 | J43: 1299.95
A44: Insumo | B44: ENSAIO-6 | C44: Próprio | D44: VERIFICAÇÃO DA COMPACTAÇÃO DO SOLO ENERGIA PROCTOR NORMAL (NBR 7182:2020) | E44: Serviços | G44: un | H44: 5 | I44: 208.5 | J44: 1042.5
A45: Insumo | B45: ENSAIO-3 | C45: Próprio | D45: DETERMINAÇÃO DO LIMITE DE LIQUIDEZ DE SOLOS (NBR 6459:2017) | E45: Serviços | G45: un | H45: 5 | I45: 100.24 | J45: 501.2
A46: Insumo | B46: ENSAIO-1 | C46: Próprio | D46: ANÁLISE GRANULOMETRICA DE SOLOS POR PENEIRAMENTO (NBR 7181:2016) | E46: Serviços | G46: un | H46: 5 | I46: 201.98 | J46: 1009.9
A47: Insumo | B47: ENSAIO-5 | C47: Próprio | D47: PERFURAÇÃO DE SOLO SONDAGEM A TRADO (NBR 9603:2015) DN 20CM | E47: Serviços | G47: M | H47: 5 | I47: 275 | J47: 1375
A48: Insumo | B48: ENSAIO-4 | C48: Próprio | D48: DETERMINAÇÃO DO LIMITE DE PLASTICIDADE DE SOLOS (NBR 7180:2016) | E48: Serviços | G48: un | H48: 5 | I48: 98.91 | J48: 494.55
...

Sheet Eventograma
B1: CRONOGRAMA
B2: Modalidade | C2: =Identificação!C2 -> Concorrência Lei 14.133/21 Eletrônica | D2: N° | E2: =Identificação!F2 -> 0 | F2: Ano | G2: =Identificação!H2 -> 2026
B3: Descrição do Objeto | C3: =Identificação!C3 -> Contratação de Empresa especializada para elaboração de projeto de pavimentação, drenagem pluvial e sinalização viária
B4: Órgão | C4: =Identificação!C4 -> Prefeitura Municipal de Montenegro-RS | F4: CNPJ | G4: =IF([3]Identificação!G4=0,"",[3]Identificação!G4) -> 90.895.905/0001-60
B5: Tipo de Objeto | C5: =Identificação!C5 -> Obras e Serviços de Engenharia
B6: Preço T. Estimado | C6: =Identificação!C6 -> 88305.11
B8: LOTE | C8: Descrição dos Serviços | D8: VALOR TOTAL | E8: 1 MÊS | F8: %
D9: Mat./M.Obra
B10: 1 | C10: 1. PROJETO EXECUTIVO DE ENGENHARIA DA ESTRADA GETÚLIO VARGAS
B11: ='Orçamento-base'!C13 -> 1.1 | C11: ='Orçamento-base'!G13 -> Projeto executivo de pavimentação asfáltica, drenagem pluvial e sinalização viária da Estrada Getúlio Vargas - Aprox. 70.500,00m² - Extensão 5,9 Km | D11: ='Orçamento-base'!K13 -> 18502.14 | E11: =D11*F11 -> 18502.14 | F11: 1
B12: ='Orçamento-base'!C14 -> 1.2 | C12: ='Orçamento-base'!G14 -> Ensaios Geotécnicos de Solo Para Projeto Executivo - ( Para trecho de 1Km) | D12: ='Orçamento-base'!K14 -> 36195 | E12: =D12*F12 -> 36195 | F12: 1
D13: =TRUNC(SUM(D11:D12),2) -> 54697.14
B15: LOTE | C15: Descrição dos Serviços | D15: VALOR TOTAL | E15: 2 MESES | F15: %
D16: Mat./M.Obra
B17: 2 | C17: 2. PROJETO EXECUTIVO DE ENGENHARIA DA ESTRADA ANTÔNIO CARLOS F. DA ROSA
B18: ='Orçamento-base'!C16 -> 2.1 | C18: ='Orçamento-base'!G16 -> Projeto executivo de pavimentação asfáltica, drenagem pluvial e sinalização viária da Estrada Antônio Carlos F. da Rosa - Aprox. 88.800,00m² - Extensão 7,4Km | D18: ='Orçamento-base'!K16 | E18: =D18*F18 -> #VALUE! | F18: 1
B19: ='Orçamento-base'!C17 -> 2.2 | C19: ='Orçamento-base'!G17 -> Ensaios Geotécnicos de Solo Para Projeto Executivo - ( Para trecho de 1Km) II | D19: ='Orçamento-base'!K17 | E19: =D19*F19 -> #VALUE! | F19: 1
D20: =TRUNC(SUM(D18:D19),2) -> 0
B22: LOTE | C22: Descrição dos Serviços | D22: VALOR TOTAL | E22: 2 MESES | F22: %
D23: Mat./M.Obra
B24: 3 | C24: 3. PROJETO EXECUTIVO DE ENGENHARIA DE RUAS DO BAIRRO IMIGRAÇÃO
B25: ='Orçamento-base'!C19 -> 3.1 | C25: ='Orçamento-base'!G19 -> Projeto executivo de pavimentação intertravada, drenagem pluvial e sinalização viária de Ruas do Bairro Imigração: Rua Dinamarca, Rua Paraguai e Travessia sem nome - Aprox. 3.500m² - Extensão 400m | D25: ='Orçamento-base'!K19 -> 9890.83 | E25: =D25*F25 -> 9890.83 | F25: 1
B26: ='Orçamento-base'!C20 -> 3.2 | C26: ='Orçamento-base'!G20 -> Ensaios Geotécnicos de Solo Para Projeto Executivo - ( Para trecho de 400m) | D26: ='Orçamento-base'!K20 -> 4145.27 | E26: =D26*F26 -> 4145.27 | F26: 1
D27: =TRUNC(SUM(D25:D26),2) -> 14036.1
B29: LOTE | C29: Descrição dos Serviços | D29: VALOR TOTAL | E29: 2 MESES | F29: %
D30: Mat./M.Obra
B31: 4 | C31: 4. PROJETO EXECUTIVO DE ENGENHARIA DA TRAVESSA JOSÉ PEDRO STEIGLEDER
B32: ='Orçamento-base'!C22 -> 4.1 | C32: ='Orçamento-base'!G22 -> Projeto executivo de pavimentação intertravada, drenagem pluvial e sinalização viária da Travessa José Pedro Steigleder - Aprox. 4.235m² - Extensão 770m | D32: ='Orçamento-base'!K22 -> 13137.36 | E32: =D32*F32 -> 13137.36 | F32: 1
B33: ='Orçamento-base'!C23 -> 4.2 | C33: ='Orçamento-base'!G23 -> Ensaios Geotécnicos de Solo Para Projeto Executivo - ( Para trecho de 800m) | D33: ='Orçamento-base'!K23 -> 6434.51 | E33: =D33*F33 -> 6434.51 | F33: 1
D34: =TRUNC(SUM(D32:D33),2) -> 19571.87
B35: TOTAL DAS MEDIÇÕES | D35: =D13+D20+D27+D34 -> 88305.11 | F35: 1

Sheet Proposta
B1: PROPOSTA
B2: Modalidade | D2: =Identificação!C2 -> Concorrência Lei 14.133/21 Eletrônica | F2: N° | G2: =Identificação!F2 -> 0 | H2: Ano | I2: =Identificação!H2 -> 2026
B3: Descrição do Objeto | D3: =Identificação!C3 -> Contratação de Empresa especializada para elaboração de projeto de pavimentação, drenagem pluvial e sinalização viária
B4: Licitante | H4: CNPJ*
B5: Tipo de Objeto | D5: =Identificação!C5 -> Obras e Serviços de Engenharia
B6: Preço Total Proposto | D6: =SUMIFS(I12:I39856,C12:C39856,">0",I12:I39856,"<>0") -> 0
B7: Atenção! Se existirem itens sem preço proposto, deixe a célula do preço unitário proposto em branco.
B8: Para incluir itens da proposta, selecione as células A13 a K13 e arraste para baixo, de acordo com o número de itens cadastrado na planilha Orçamento-base.
B9: *Campos de preenchimento obrigatório | G9: **Obrigatório só para Obras e Serviços de Engenharia
B10: Nº do lote | C10: Nº Ordem | D10: Nº Item | E10: Descrição do item | F10: Proposta
F11: Qtd. | G11: Unid. | H11: Preço unitário (R$)* | I11: Preço Total (R$) | J11: % BDI** | K11: % Encargos Sociais** | L11: Percentual de Desconto | M11: Pr. Unit. Material | N11: Pr. Unit. Mão de obra
B12: ='Orçamento-base'!A12 -> LOTE 1: PROJETO EXECUTIVO DE ENGENHARIA DA ESTRADA GETÚLIO VARGAS
B13: ='Orçamento-base'!A13 -> 1 | C13: ='Orçamento-base'!B13 -> 1 | D13: ='Orçamento-base'!C13 -> 1.1 | E13: ='Orçamento-base'!G13 -> Projeto executivo de pavimentação asfáltica, drenagem pluvial e sinalização viária da Estrada Getúlio Vargas - Aprox. 70.500,00m² - Extensão 5,9 Km | F13: ='Orçamento-base'!H13 -> 1 | G13: ='Orçamento-base'!I13 -> UN | H13: =IFERROR(IF(M13+N13<>0,ROUND(ROUND(M13,4)+ROUND(N13,4),4),""),"") | I13: =IFERROR(IF(F13*H13<>0,ROUND(ROUND(F13,4)*ROUND(H13,4),2),""),"")
B14: ='Orçamento-base'!A14 -> 1 | C14: ='Orçamento-base'!B14 -> 2 | D14: ='Orçamento-base'!C14 -> 1.2 | E14: ='Orçamento-base'!G14 -> Ensaios Geotécnicos de Solo Para Projeto Executivo - ( Para trecho de 1Km) | F14: ='Orçamento-base'!H14 -> 6 | G14: ='Orçamento-base'!I14 -> UN | H14: =IFERROR(IF(M14+N14<>0,ROUND(ROUND(M14,4)+ROUND(N14,4),4),""),"") | I14: =IFERROR(IF(F14*H14<>0,ROUND(ROUND(F14,4)*ROUND(H14,4),2),""),"")
B15: ='Orçamento-base'!A15 -> LOTE 2: PROJETO EXECUTIVO DE ENGENHARIA DA ESTRADA ANTÔNIO CARLOS F. DA ROSA
B16: ='Orçamento-base'!A16 -> 2 | C16: ='Orçamento-base'!B16 -> 3 | D16: ='Orçamento-base'!C16 -> 2.1 | E16: ='Orçamento-base'!G16 -> Projeto executivo de pavimentação asfáltica, drenagem pluvial e sinalização viária da Estrada Antônio Carlos F. da Rosa - Aprox. 88.800,00m² - Extensão 7,4Km | F16: ='Orçamento-base'!H16 -> 0 | G16: ='Orçamento-base'!I16 -> UN | H16: =IFERROR(IF(M16+N16<>0,ROUND(ROUND(M16,4)+ROUND(N16,4),4),""),"") | I16: =IFERROR(IF(F16*H16<>0,ROUND(ROUND(F16,4)*ROUND(H16,4),2),""),"")
B17: ='Orçamento-base'!A17 -> 2 | C17: ='Orçamento-base'!B17 -> 4 | D17: ='Orçamento-base'!C17 -> 2.2 | E17: ='Orçamento-base'!G17 -> Ensaios Geotécnicos de Solo Para Projeto Executivo - ( Para trecho de 1Km) II | F17: ='Orçamento-base'!H17 -> 0 | G17: ='Orçamento-base'!I17 -> UN | H17: =IFERROR(IF(M17+N17<>0,ROUND(ROUND(M17,4)+ROUND(N17,4),4),""),"") | I17: =IFERROR(IF(F17*H17<>0,ROUND(ROUND(F17,4)*ROUND(H17,4),2),""),"")
B18: ='Orçamento-base'!A18 -> LOTE 3: PROJETO EXECUTIVO DE ENGENHARIA DE RUAS DO BAIRRO IMIGRAÇÃO
B19: ='Orçamento-base'!A19 -> 3 | C19: ='Orçamento-base'!B19 -> 5 | D19: ='Orçamento-base'!C19 -> 3.1 | E19: ='Orçamento-base'!G19 -> Projeto executivo de pavimentação intertravada, drenagem pluvial e sinalização viária de Ruas do Bairro Imigração: Rua Dinamarca, Rua Paraguai e Travessia sem nome - Aprox. 3.500m² - Extensão 400m | F19: ='Orçamento-base'!H19 -> 1 | G19: ='Orçamento-base'!I19 -> UN | H19: =IFERROR(IF(M19+N19<>0,ROUND(ROUND(M19,4)+ROUND(N19,4),4),""),"") | I19: =IFERROR(IF(F19*H19<>0,ROUND(ROUND(F19,4)*ROUND(H19,4),2),""),"")
B20: ='Orçamento-base'!A20 -> 3 | C20: ='Orçamento-base'!B20 -> 6 | D20: ='Orçamento-base'!C20 -> 3.2 | E20: ='Orçamento-base'!G20 -> Ensaios Geotécnicos de Solo Para Projeto Executivo - ( Para trecho de 400m) | F20: ='Orçamento-base'!H20 -> 1 | G20: ='Orçamento-base'!I20 -> UN | H20: =IFERROR(IF(M20+N20<>0,ROUND(ROUND(M20,4)+ROUND(N20,4),4),""),"") | I20: =IFERROR(IF(F20*H20<>0,ROUND(ROUND(F20,4)*ROUND(H20,4),2),""),"")
B21: ='Orçamento-base'!A21 -> LOTE 4: PROJETO EXECUTIVO DE ENGENHARIA DA TRAVESSA JOSÉ PEDRO STEIGLEDER
B22: ='Orçamento-base'!A22 -> 4 | C22: ='Orçamento-base'!B22 -> 7 | D22: ='Orçamento-base'!C22 -> 4.1 | E22: ='Orçamento-base'!G22 -> Projeto executivo de pavimentação intertravada, drenagem pluvial e sinalização viária da Travessa José Pedro Steigleder - Aprox. 4.235m² - Extensão 770m | F22: ='Orçamento-base'!H22 -> 1 | G22: ='Orçamento-base'!I22 -> UN | H22: =IFERROR(IF(M22+N22<>0,ROUND(ROUND(M22,4)+ROUND(N22,4),4),""),"") | I22: =IFERROR(IF(F22*H22<>0,ROUND(ROUND(F22,4)*ROUND(H22,4),2),""),"")
B23: ='Orçamento-base'!A23 -> 4 | C23: ='Orçamento-base'!B23 -> 8 | D23: ='Orçamento-base'!C23 -> 4.2 | E23: ='Orçamento-base'!G23 -> Ensaios Geotécnicos de Solo Para Projeto Executivo - ( Para trecho de 800m) | F23: ='Orçamento-base'!H23 -> 1 | G23: ='Orçamento-base'!I23 -> UN | H23: =IFERROR(IF(M23+N23<>0,ROUND(ROUND(M23,4)+ROUND(N23,4),4),""),"") | I23: =IFERROR(IF(F23*H23<>0,ROUND(ROUND(F23,4)*ROUND(H23,4),2),""),"")

Sheet Pesquisa Familia e Subfamilia
A1: Tipo de Objeto | B1: Código Família | C1: Família | D1: Código Subfamília | E1: Subfamília
A2: Compras | B2: 736 | C2: alimentacao humana especial/manipuladas/fracionada | D2: 460 | E2: laticinios e correlatos
A3: Compras | B3: 736 | C3: alimentacao humana especial/manipuladas/fracionada | D3: 640 | E3: produtos de origem animal in natura
A4: Compras | B4: 736 | C4: alimentacao humana especial/manipuladas/fracionada | D4: 641 | E4: produtos de origem vegetal in natura
A5: Compras | B5: 736 | C5: alimentacao humana especial/manipuladas/fracionada | D5: 643 | E5: produtos de panificacao
A6: Compras | B6: 736 | C6: alimentacao humana especial/manipuladas/fracionada | D6: 642 | E6: produtos nao pereciveis
A7: Compras | B7: 965 | C7: adubos/corretivos do solo | D7: 1 | E7: adubos
A8: Compras | B8: 965 | C8: adubos/corretivos do solo | D8: 89 | E8: corretivos do solo
A9: Compras | B9: 788 | C9: alimentacao humana - laticinios e correlatos | D9: 700 | E9: cremes vegetais
A10: Compras | B10: 788 | C10: alimentacao humana - laticinios e correlatos | D10: 133 | E10: derivados do leite
A11: Compras | B11: 788 | C11: alimentacao humana - laticinios e correlatos | D11: 456 | E11: leite
A12: Compras | B12: 788 | C12: alimentacao humana - laticinios e correlatos | D12: 500 | E12: manteiga
A13: Compras | B13: 788 | C13: alimentacao humana - laticinios e correlatos | D13: 676 | E13: queijo e similares
... A3482: Outros Serviços | B3482: 72 | C3482: servicos: vigilancia/seguranca/transporte de valores | D3482: 737 | E3482: servicos transporte de valores/contagem numerario
A3484: 1

Sheet base
C1: Cód. Família | D1: Família | E1: Cód. Subfamília | F1: Subfamília | I1: Sigla | J1: Descrição Unidade | K1: Modalidades | L1: Tipo de Objeto | M1: Tipo de Orcamento | N1: Fonte de Rerefência
C2: 2 | D2: equipamentos/materiais p/escritorio/escola/artes plasticas | E2: 89 | F2: tinta para carimbos | G2: 2|89 | I2: ades | J2: adesivo | K2: Chamada Pública / PNAE | L2: Alienação de Bens | M2: Mão-de-obra | N2: AGESUL
C3: 3 | D3: servicos técnicos: projetos/auditorias/ consultorias/assessorias | E3: 177 | F3: equipamentos p/escritorio | G3: 2|177 | I3: amp | J3: ampola | K3: Chamamento Público | L3: Compras | M3: Mão-de-obra e material | N3: AGETOP_CIVIL
C4: 7 | D4: serviços de engenharia/obras: resíduos sólidos | E4: 178 | F4: equipamentos p/reprografia/grafica/copiadoras | G4: 2|178 | I4: ano | J4: ano | K4: Chamamento Público / Credenciamento | L4: Compras e Outros Serviços | M4: Material | N4: AGETOP_ROD
C5: 8 | D5: serviços de engenharia/obras: edificações | E5: 179 | F5: equipamentos didaticos/ensino/treinamento | G5: 2|179 | I5: band | J5: bandeja | K5: Concorrência | L5: Concessão | M5: Serviço | N5: ANP
C6: 9 | D6: serviços de engenharia/obras: rodovias, ferrovias e aeroportos | E6: 221 | F6: filmes p/ plastificacao | G6: 2|221 | I6: bast | J6: bastão | K6: Concorrência Lei 14.133/21 Eletrônica | L6: Locações | N6: CAEMA
C7: 10 | D7: serviços de engenharia/obras: obras-de-arte-especiais | E7: 500 | F7: materiais/suprimentos p/equipamentos de escritorio | G7: 2|500 | I7: bg | J7: bisnaga | K7: Concorrência Lei 14.133/21 Presencial | L7: Não se aplica | N7: CAERN
C8: 11 | D8: serviços de engenharia/obras: urbanização | E8: 504 | F8: materiais permanentes p/escritorio | G8: 2|504 | I8: bl | J8: bloco | K8: Concurso | L8: Obras e Serviços de Engenharia | N8: CAU
C9: 12 | D9: serviços de engenharia/obras: infraestrutura de energia | E9: 508 | F9: materiais de consumo p/escritorio | G9: 2|508 | I9: bld | J9: balde | K9: Convite | L9: Outros Serviços | N9: CDHU
C10: 13 | D10: serviços de engenharia/obras: saneamento | E10: 514 | F10: materiais permanentes didaticos/escolares/desenho tecnico | G10: 2|514 | I10: bli | J10: blister | K10: Licitação Lei 13.303/16 Eletrônico | L10: Permissão | N10: CEEE
C11: 14 | D11: serviços de engenharia/obras: obras portuárias, marítimas e fluviais | E11: 518 | F11: materiais de consumo didaticos/escolares/desenho tecnico | G11: 2|518 | I11: bls | J11: bolsa | K11: Licitação Lei 13.303/16 Presencial | N11: CEHOP
C12: 15 | D12: serviços de engenharia/obras: serviços especializados para construção | E12: 522 | F12: materiais p/encadernacao/envelopamento | G12: 2|522 | I12: bob | J12: bobina | K12: Leilão Eletrônico | N12: COMPOSICAO_PROPRIA
C13: 16 | D13: serviços de engenharia/obras: inst. elétricas, hidráulicas e outras inst. em construções | E13: 526 | F13: materiais p/arquivamento | G13: 2|526 | I13: bomb | J13: bombona | K13: Leilão Presencial | N13: CONTRATACAO_PUBLICA
C14: 17 | D14: serviços de engenharia/obras: serviços técnicos de engenharia e arquitetura | E14: 528 | F14: materiais de consumo graficos | G14: 2|528 | I14: bot | J14: botijão | K14: Pregão Eletrônico | N14: CONVENCAO_COLETIVA
C15: 29 | D15: serviços: credenciamento de serviços de educação | E15: 632 | F15: pinceis profissional | G15: 2|632 | I15: brr | J15: barra | K15: Pregão Presencial | N15: CORSAN
C16: 30 | D16: serviços: credenciamento de serviços de saúde | E16: 1 | F16: auditoria | G16: 3|1 | I16: cap | J16: cápsula | K16: Pregão Lei 14.133/21 Eletrônico | N16: COTACAO
C17: 31 | D17: servicos: terceirizacao de mao-de-obra especializada | E17: 2 | F17: assessoria em geral | G17: 3|2 | I17: carr | J17: carretel | K17: Pregão Lei 14.133/21 Presencial | N17: CREA
C18: 33 | D18: materiais p/escritório | E18: 89 | F18: consultoria em geral | G18: 3|89 | I18: cart | J18: cartela | K18: Processo de Dispensa Eletrônica | N18: CUB/SINDUSCON
C19: 34 | D19: materiais/ suprimentos p/informatica | E19: 133 | F19: desenho | G19: 3|133 | I19: cento | J19: cento | K19: RDC Eletrônico | N19: DAER
C20: 35 | D20: equipamentos p/informatica | E20: 180 | F20: estudo / analise de medicamentos | G20: 3|180 | I20: ch | J20: chapa | K20: RDC Presencial | N20: DER_PR
C21: 37 | D21: servicos: terceirizacao de mao-de-obra | E21: 500 | F21: maqueteira | G21: 3|500 | I21: chi | J21: custo hora improdutiva | K21: Regras Internacionais | N21: EMBASA
C22: 42 | D22: servicos: transporte de cargas e passageiros | E22: 632 | F22: projetos em geral | G22: 3|632 | I22: chp | J22: custo hora produtiva | K22: Tomada de Preços | N22: IOPES
C23: 45 | D23: servicos: graficos/similares | E23: 1 | F23: aterro sanitário | G23: 7|1 | I23: cil | J23: cilindro | N23: ORSE
C24: 47 | D24: servicos: som, imagem e programacao visual | E24: 2 | F24: coleta de resíduos sólidos urbanos (rsu) | G24: 7|2 | I24: cj | J24: conjunto | N24: PLEO/FRANARIN
C25: 52 | D25: servicos: manutencao de veiculos, equipamentos e aeronaves | E25: 3 | F25: coleta e transporte de resíduos sólidos de serviços de saúde (rsss) | G25: 7|3 | I25: cm | J25: centimetro | N25: SBC
C26: 57 | D26: servicos: manut/equip/escrit/eletrodomesticos/refrigeracao | E26: 4 | F26: coleta seletiva | G26: 7|4 | I26: cmcol | J26: centimetro/coluna | N26: SEDOP
C27: 59 | D27: servicos: serralheria/marcen./carpin./metalurgica/fundicao | E27: 5 | F27: disposição final de resíduos sólidos de serviços de saúde (rsss) | G27: 7|5 | I27: cn | J27: cone | N27: SEINFRA
C28: 62 | D28: servicos: locacao de veiculos, equipamentos e aeronaves | E28: 6 | F28: disposição final de resíduos sólidos urbanos (rsu) | G28: 7|6 | I28: col | J28: coleção | N28: SETOP
C29: 63 | D29: serviços: locacao de imoveis | E29: 7 | F29: estação de transbordo | G29: 7|7 | I29: com | J29: comprimido | N29: SICFER
C30: 64 | D30: aquisição de imoveis | E30: 8 | F30: estação/central de tratamento de resíduos | G30: 7|8 | I30: cr | J30: cartucho | N30: SICRO/DNIT
C31: 70 | D31: maquinas p/autenticar/registrar/franquear e similares | E31: 9 | F31: recuperação de área degradada | G31: 7|9 | I31: crg | J31: carga | N31: SINAPI
C32: 72 | D32: servicos: vigilancia/seguranca/transporte de valores | E32: 10 | F32: transporte de resíduos sólidos urbanos (rsu) | G32: 7|10 | I32: cx | J32: caixa | N32: SIURB
C33: 77 | D33: servicos: alimentacao | E33: 11 | F33: triagem de resíduos sólidos urbanos (rsu) | G33: 7|11 | I33: dia | J33: dia | N33: SMOV/PMPA
C34: 82 | D34: servicos: hotelaria/agencias de viagem e turismo | E34: 12 | F34: unidade de triagem | G34: 7|12 | I34: dose | J34: dose | N34: SUDECAP
C35: 97 | D35: servicos: bilheteria / estacionamento | E35: 99 | F35: outro serviço de resíduos sólidos | G35: 7|99 | I35: drg | J35: drágea | N35: TCPO/PINI
C36: 105 | D36: livros/publicacoes/revistas | E36: 1 | F36: administrativo | G36: 8|1 | I36: dz | J36: dúzia
C37: 107 | D37: servicos: seguros | E37: 2 | F37: albergue/abrigo | G37: 8|2 | I37: eixo | J37: por eixo
C38: 112 | D38: servicos: contratacao parceria/invest./arrend/merchandising | E38: 3 | F38: auditório/teatro | G38: 8|3 | I38: emb | J38: embalagem
C39: 113 | D39: servicos: contratacao instituicao de ensino superior | E39: 4 | F39: creas/cras | G39: 8|4 | I39: env | J39: envelope
C40: 117 | D40: servicos: informatica-software/hardware | E40: 5 | F40: delegacia | G40: 8|5 | I40: es | J40: estojo
...

Sheet Tipo de Objeto x Familia
A1: Tipo de Objeto | B1: Código | C1: Família | D1: apoio1 | E1: apoio2 | F1: Tipo de Objeto | G1: Código Família | H1: Família
A2: Compras | B2: 2 | C2: equipamentos/materiais p/escritorio/escola/artes plasticas | D2: 1 | E2: =IF(A2=$F$2,B2,"") | F2: =IF(Identificação!$C$5=0,"",Identificação!$C$5) -> Obras e Serviços de Engenharia | G2: =IFERROR(SMALL($E$2:$E$250,D2),"") -> 7 | H2: =IFERROR(VLOOKUP(G2,base!$C$2:$D$133,2,FALSE()),"") -> serviços de engenharia/obras: resíduos sólidos
A3: Compras e Outros Serviços | B3: 2 | C3: equipamentos/materiais p/escritorio/escola/artes plasticas | D3: 2 | E3: =IF(A3=$F$2,B3,"") | G3: =IFERROR(SMALL($E$2:$E$250,D3),"") -> 8 | H3: =IFERROR(VLOOKUP(G3,base!$C$2:$D$133,2,FALSE()),"") -> serviços de engenharia/obras: edificações
A4: Compras e Outros Serviços | B4: 3 | C4: servicos técnicos: projetos/auditorias/ consultorias/assessorias | D4: 3 | E4: =IF(A4=$F$2,B4,"") | G4: =IFERROR(SMALL($E$2:$E$250,D4),"") -> 9 | H4: =IFERROR(VLOOKUP(G4,base!$C$2:$D$133,2,FALSE()),"") -> serviços de engenharia/obras: rodovias, ferrovias e aeroportos
A5: Outros Serviços | B5: 3 | C5: servicos técnicos: projetos/auditorias/ consultorias/assessorias | D5: 4 | E5: =IF(A5=$F$2,B5,"") | G5: =IFERROR(SMALL($E$2:$E$250,D5),"") -> 10 | H5: =IFERROR(VLOOKUP(G5,base!$C$2:$D$133,2,FALSE()),"") -> serviços de engenharia/obras: obras-de-arte-especiais
A6: Obras e Serviços de Engenharia | B6: 7 | C6: serviços de engenharia/obras: resíduos sólidos | D6: 5 | E6: =IF(A6=$F$2,B6,"") -> 7 | G6: =IFERROR(SMALL($E$2:$E$250,D6),"") -> 11 | H6: =IFERROR(VLOOKUP(G6,base!$C$2:$D$133,2,FALSE()),"") -> serviços de engenharia/obras: urbanização
A7: Obras e Serviços de Engenharia | B7: 8 | C7: serviços de engenharia/obras: edificações | D7: 6 | E7: =IF(A7=$F$2,B7,"") -> 8 | G7: =IFERROR(SMALL($E$2:$E$250,D7),"") -> 12 | H7: =IFERROR(VLOOKUP(G7,base!$C$2:$D$133,2,FALSE()),"") -> serviços de engenharia/obras: infraestrutura de energia
A8: Obras e Serviços de Engenharia | B8: 9 | C8: serviços de engenharia/obras: rodovias, ferrovias e aeroportos | D8: 7 | E8: =IF(A8=$F$2,B8,"") -> 9 | G8: =IFERROR(SMALL($E$2:$E$250,D8),"") -> 13 | H8: =IFERROR(VLOOKUP(G8,base!$C$2:$D$133,2,FALSE()),"") -> serviços de engenharia/obras: saneamento
A9: Obras e Serviços de Engenharia | B9: 10 | C9: serviços de engenharia/obras: obras-de-arte-especiais | D9: 8 | E9: =IF(A9=$F$2,B9,"") -> 10 | G9: =IFERROR(SMALL($E$2:$E$250,D9),"") -> 14 | H9: =IFERROR(VLOOKUP(G9,base!$C$2:$D$133,2,FALSE()),"") -> serviços de engenharia/obras: obras portuárias, marítimas e fluviais
A10: Obras e Serviços de Engenharia | B10: 11 | C10: serviços de engenharia/obras: urbanização | D10: 9 | E10: =IF(A10=$F$2,B10,"") -> 11 | G10: =IFERROR(SMALL($E$2:$E$250,D10),"") -> 15 | H10: =IFERROR(VLOOKUP(G10,base!$C$2:$D$133,2,FALSE()),"") -> serviços de engenharia/obras: serviços especializados para construção
A11: Obras e Serviços de Engenharia | B11: 12 | C11: serviços de engenharia/obras: infraestrutura de energia | D11: 10 | E11: =IF(A11=$F$2,B11,"") -> 12 | G11: =IFERROR(SMALL($E$2:$E$250,D11),"") -> 16 | H11: =IFERROR(VLOOKUP(G11,base!$C$2:$D$133,2,FALSE()),"") -> serviços de engenharia/obras: inst. elétricas, hidráulicas e outras inst. em construções
A12: Obras e Serviços de Engenharia | B12: 13 | C12: serviços de engenharia/obras: saneamento | D12: 11 | E12: =IF(A12=$F$2,B12,"") -> 13 | G12: =IFERROR(SMALL($E$2:$E$250,D12),"") -> 17 | H12: =IFERROR(VLOOKUP(G12,base!$C$2:$D$133,2,FALSE()),"") -> serviços de engenharia/obras: serviços técnicos de engenharia e arquitetura
A13: Obras e Serviços de Engenharia | B13: 14 | C13: serviços de engenharia/obras: obras portuárias, marítimas e fluviais | D13: 12 | E13: =IF(A13=$F$2,B13,"") -> 14 | G13: =IFERROR(SMALL($E$2:$E$250,D13),"") | H13: =IFERROR(VLOOKUP(G13,base!$C$2:$D$133,2,FALSE()),"")
A14: Obras e Serviços de Engenharia | B14: 15 | C14: serviços de engenharia/obras: serviços especializados para construção | D14: 13 | E14: =IF(A14=$F$2,B14,"") -> 15 | G14: =IFERROR(SMALL($E$2:$E$250,D14),"") | H14: =IFERROR(VLOOKUP(G14,base!$C$2:$D$133,2,FALSE()),"")
... A250: Compras e Outros Serviços | B250: 990 | C250: produtos quimicos de limpeza/higiene | D250: 249 | E250: =IF(A250=$F$2,B250,"") | G250: =IFERROR(SMALL($E$2:$E$250,D250),"") | H250: =IFERROR(VLOOKUP(G250,base!$C$2:$D$133,2,FALSE()),"")
