Workbook
Name F_10: base!$E$62:$E$66
Name F_105: base!$E$362:$E$381
Name F_107: base!$E$382:$E$384
Name F_11: base!$E$67:$E$82
Name F_112: base!$E$385:$E$402
Name F_113: base!$E$403
Name F_117: base!$E$404:$E$411
Name F_12: base!$E$83:$E$91
Name F_120: base!$E$412:$E$421
Name F_122: base!$E$422:$E$424
Name F_127: base!$E$425:$E$430
Name F_13: base!$E$92:$E$107
Name F_14: base!$E$108:$E$118
Name F_140: base!$E$431:$E$438
Name F_15: base!$E$119:$E$132
Name F_150: base!$E$439:$E$444
Name F_16: base!$E$133:$E$145
Name F_160: base!$E$445:$E$452
Name F_17: base!$E$146:$E$164
Name F_185: base!$E$453:$E$464
Name F_2: base!$E$2:$E$15
Name F_205: base!$E$465:$E$471
Name F_215: base!$E$472:$E$491
Name F_245: base!$E$492:$E$517
Name F_250: base!$E$518:$E$525
Name F_255: base!$E$526:$E$529
Name F_260: base!$E$530:$E$533
Name F_270: base!$E$534:$E$540
Name F_285: base!$E$541:$E$552
Name F_29: base!$E$165:$E$168
Name F_290: base!$E$553:$E$558
Name F_295: base!$E$559:$E$572
Name F_3: base!$E$16:$E$22
Name F_30: base!$E$169:$E$171
Name F_31: base!$E$172:$E$201
Name F_320: base!$E$573:$E$592
Name F_33: base!$E$202
Name F_34: base!$E$203:$E$209
Name F_345: base!$E$593:$E$595
Name F_35: base!$E$210:$E$234
Name F_350: base!$E$596:$E$625
Name F_360: base!$E$626:$E$652
Name F_37: base!$E$235:$E$257
Name F_380: base!$E$653:$E$668
Name F_390: base!$E$669:$E$681
Name F_395: base!$E$682:$E$695
Name F_397: base!$E$696:$E$706
Name F_400: base!$E$707:$E$714
Name F_405: base!$E$715:$E$732
Name F_410: base!$E$733:$E$738
Name F_42: base!$E$258:$E$269
Name F_420: base!$E$739:$E$756
Name F_428: base!$E$757:$E$768
Name F_435: base!$E$769:$E$772
Name F_440: base!$E$773:$E$810
Name F_445: base!$E$811:$E$832
Name F_45: base!$E$270:$E$284
Name F_450: base!$E$833:$E$858
Name F_452: base!$E$859:$E$865
Name F_460: base!$E$866:$E$881

Sheet Identificação
A1: IDENTIFICAÇÃO
A2: Modalidade* | B2: Chamamento Público / Credenciamento | D2: N° * | E2: 3 | F2: Ano * | G2: 2025
A3: Descrição do Objeto | B3: CONSULTAS-ESPECIALIDADES
A4: Órgão | B4: PREFEITURA DE COTIPORA | F4: CNPJ * | G4: 90898487000164
A5: Tipo de Objeto* | B5: Não se aplica | C5: N° CENTRAL DE COMPRAS
A6: Preço Total Estimado | B6: ='Orçamento-base'!C6 -> 227903.8
A7: Preço Total Proposto | B7: =Proposta!C6 -> 0
A8: Qtd. Itens Orçamento | B8: =COUNT('Orçamento-base'!B12:B39951) -> 12
A9: Atenção! Para incluir mais de 50 lotes, selecione as células A62 a G62 e arraste as fórmulas para baixo, de acordo com o número de lotes necessário.
A10: *Campos de preenchimento obrigatório | C10: **Campos de preenchimento obrigatório para licitação composta por lotes
A11: Nº do lote** | B11: Descrição do Lote** | C11: Estimativa | G11: Proposta
C12: Valor do lote (R$) | G12: Valor do lote (R$)
C13: =SUMIF('Orçamento-base'!$A$12:$A$39953,Identificação!$A13,'Orçamento-base'!$K$12:$K$39953) -> 0 | G13: =SUMIF(Proposta!$A$12:$A$39953,Identificação!$A13,Proposta!$H$12:$H$39953) -> 0
C14: =SUMIF('Orçamento-base'!$A$12:$A$39953,Identificação!$A14,'Orçamento-base'!$K$12:$K$39953) -> 0 | G14: =SUMIF(Proposta!$A$12:$A$39953,Identificação!$A14,Proposta!$H$12:$H$39953) -> 0
C15: =SUMIF('Orçamento-base'!$A$12:$A$39953,Identificação!$A15,'Orçamento-base'!$K$12:$K$39953) -> 0 | G15: =SUMIF(Proposta!$A$12:$A$39953,Identificação!$A15,Proposta!$H$12:$H$39953) -> 0
C16: =SUMIF('Orçamento-base'!$A$12:$A$39953,Identificação!$A16,'Orçamento-base'!$K$12:$K$39953) -> 0 | G16: =SUMIF(Proposta!$A$12:$A$39953,Identificação!$A16,Proposta!$H$12:$H$39953) -> 0
C17: =SUMIF('Orçamento-base'!$A$12:$A$39953,Identificação!$A17,'Orçamento-base'!$K$12:$K$39953) -> 0 | G17: =SUMIF(Proposta!$A$12:$A$39953,Identificação!$A17,Proposta!$H$12:$H$39953) -> 0
C18: =SUMIF('Orçamento-base'!$A$12:$A$39953,Identificação!$A18,'Orçamento-base'!$K$12:$K$39953) -> 0 | G18: =SUMIF(Proposta!$A$12:$A$39953,Identificação!$A18,Proposta!$H$12:$H$39953) -> 0
C19: =SUMIF('Orçamento-base'!$A$12:$A$39953,Identificação!$A19,'Orçamento-base'!$K$12:$K$39953) -> 0 | G19: =SUMIF(Proposta!$A$12:$A$39953,Identificação!$A19,Proposta!$H$12:$H$39953) -> 0
C20: =SUMIF('Orçamento-base'!$A$12:$A$39953,Identificação!$A20,'Orçamento-base'!$K$12:$K$39953) -> 0 | G20: =SUMIF(Proposta!$A$12:$A$39953,Identificação!$A20,Proposta!$H$12:$H$39953) -> 0
C21: =SUMIF('Orçamento-base'!$A$12:$A$39953,Identificação!$A21,'Orçamento-base'!$K$12:$K$39953) -> 0 | G21: =SUMIF(Proposta!$A$12:$A$39953,Identificação!$A21,Proposta!$H$12:$H$39953) -> 0
C22: =SUMIF('Orçamento-base'!$A$12:$A$39953,Identificação!$A22,'Orçamento-base'!$K$12:$K$39953) -> 0 | G22: =SUMIF(Proposta!$A$12:$A$39953,Identificação!$A22,Proposta!$H$12:$H$39953) -> 0
C23: =SUMIF('Orçamento-base'!$A$12:$A$39953,Identificação!$A23,'Orçamento-base'!$K$12:$K$39953) -> 0 | G23: =SUMIF(Proposta!$A$12:$A$39953,Identificação!$A23,Proposta!$H$12:$H$39953) -> 0
C24: =SUMIF('Orçamento-base'!$A$12:$A$39953,Identificação!$A24,'Orçamento-base'!$K$12:$K$39953) -> 0 | G24: =SUMIF(Proposta!$A$12:$A$39953,Identificação!$A24,Proposta!$H$12:$H$39953) -> 0
... C62: =SUMIF('Orçamento-base'!$A$12:$A$39953,Identificação!$A62,'Orçamento-base'!$K$12:$K$39953) -> 0 | G62: =SUMIF(Proposta!$A$12:$A$39953,Identificação!$A62,Proposta!$H$12:$H$39953) -> 0

Sheet Orçamento-base
A1: ORÇAMENTO
A2: Modalidade | C2: =IF(Identificação!B2=0,"",Identificação!B2) -> Chamamento Público / Credenciamento | H2: N° | I2: =IF(Identificação!E2=0,"",Identificação!E2) -> 3 | J2: Ano | K2: =IF(Identificação!G2=0,"",Identificação!G2) -> 2025
A3: Descrição do Objeto | C3: =IF(Identificação!B3=0,"",Identificação!B3) -> CONSULTAS-ESPECIALIDADES
A4: Órgão | C4: =IF(Identificação!B4=0,"",Identificação!B4) -> PREFEITURA DE COTIPORA | J4: CNPJ | K4: =IF(Identificação!G4=0,"",Identificação!G4) -> 90898487000164
A5: Tipo de Objeto | C5: =IF(Identificação!B5=0,"",Identificação!B5) -> Não se aplica
A6: Preço T. Estimado | C6: =SUMIFS(K12:K39953,B12:B39953,">0",K12:K39953,"<>0") -> 227903.8
A8: Atenção! Para incluir mais de 100 linhas de itens, selecione as células A113 a R113 e arraste as fórmulas para baixo, de acordo com o número de itens necessário.
A9: *Preenchimento obrigatório | F9: **Obrigatório só para Obras e Serviços de Engenharia | H9: ***Obrigatório só para licitação composta por Lotes
A10: Nº do Lote*** | B10: N° Ordem | C10: Nº Item* | D10: Fonte de Referência** | E10: Código de Referência** | F10: Data de Referência** | G10: Descrição do item* | H10: Estimativa | N10: Família | P10: Subfamília | R10: Tipo de Orçamento
H11: Qtd.* | I11: Unid.* | J11: Preço unitário (R$)* | K11: Preço Total (R$) | L11: % BDI** | M11: % Encargos Sociais** | N11: Código | O11: Descrição | P11: Código | Q11: Descrição
B12: =IF(AND(G12<>"",H12>0,I12<>"",J12<>0,K12<>0),COUNT($B$11:B11)+1,"") -> 1 | C12: 1 | G12: COLOPROCTOLOGIA | H12: 60 | I12: un | J12: 141.67 | K12: =IFERROR(IF(H12*J12<>0,ROUND(ROUND(H12,4)*ROUND(J12,4),2),""),"") -> 8500.2 | O12: =IF(N12="","", INDIRECT("base!"&ADDRESS(MATCH(N12,base!$C$2:'base'!$C$133,0)+1,4,4))) | Q12: =IF(P12="","", INDIRECT("base!"&ADDRESS(MATCH(CONCATENATE(N12,"|",P12),base!$G$2:'base'!$G$1817,0)+1,6,4)))
B13: =IF(AND(G13<>"",H13>0,I13<>"",J13<>0,K13<>0),COUNT($B$11:B12)+1,"") -> 2 | C13: 2 | G13: REUMATOLOGISTA | H13: 60 | I13: un | J13: 229.29 | K13: =IFERROR(IF(H13*J13<>0,ROUND(ROUND(H13,4)*ROUND(J13,4),2),""),"") -> 13757.4 | O13: =IF(N13="","", INDIRECT("base!"&ADDRESS(MATCH(N13,base!$C$2:'base'!$C$133,0)+1,4,4))) | Q13: =IF(P13="","", INDIRECT("base!"&ADDRESS(MATCH(CONCATENATE(N13,"|",P13),base!$G$2:'base'!$G$1817,0)+1,6,4)))
B14: =IF(AND(G14<>"",H14>0,I14<>"",J14<>0,K14<>0),COUNT($B$11:B13)+1,"") -> 3 | C14: 3 | G14: OTORRINOLARINGOLOGISTA | H14: 50 | I14: un | J14: 178.38 | K14: =IFERROR(IF(H14*J14<>0,ROUND(ROUND(H14,4)*ROUND(J14,4),2),""),"") -> 8919 | O14: =IF(N14="","", INDIRECT("base!"&ADDRESS(MATCH(N14,base!$C$2:'base'!$C$133,0)+1,4,4))) | Q14: =IF(P14="","", INDIRECT("base!"&ADDRESS(MATCH(CONCATENATE(N14,"|",P14),base!$G$2:'base'!$G$1817,0)+1,6,4)))
B15: =IF(AND(G15<>"",H15>0,I15<>"",J15<>0,K15<>0),COUNT($B$11:B14)+1,"") -> 4 | C15: 4 | G15: GASTROENTEROLOGISTA | H15: 60 | I15: un | J15: 173.7 | K15: =IFERROR(IF(H15*J15<>0,ROUND(ROUND(H15,4)*ROUND(J15,4),2),""),"") -> 10422 | O15: =IF(N15="","", INDIRECT("base!"&ADDRESS(MATCH(N15,base!$C$2:'base'!$C$133,0)+1,4,4))) | Q15: =IF(P15="","", INDIRECT("base!"&ADDRESS(MATCH(CONCATENATE(N15,"|",P15),base!$G$2:'base'!$G$1817,0)+1,6,4)))
B16: =IF(AND(G16<>"",H16>0,I16<>"",J16<>0,K16<>0),COUNT($B$11:B15)+1,"") -> 5 | C16: 5 | G16: UROLOGISTA | H16: 60 | I16: un | J16: 177.75 | K16: =IFERROR(IF(H16*J16<>0,ROUND(ROUND(H16,4)*ROUND(J16,4),2),""),"") -> 10665 | O16: =IF(N16="","", INDIRECT("base!"&ADDRESS(MATCH(N16,base!$C$2:'base'!$C$133,0)+1,4,4))) | Q16: =IF(P16="","", INDIRECT("base!"&ADDRESS(MATCH(CONCATENATE(N16,"|",P16),base!$G$2:'base'!$G$1817,0)+1,6,4)))
B17: =IF(AND(G17<>"",H17>0,I17<>"",J17<>0,K17<>0),COUNT($B$11:B16)+1,"") -> 6 | C17: 6 | G17: ENDOCRINOGISTA | H17: 60 | I17: un | J17: 200.67 | K17: =IFERROR(IF(H17*J17<>0,ROUND(ROUND(H17,4)*ROUND(J17,4),2),""),"") -> 12040.2 | O17: =IF(N17="","", INDIRECT("base!"&ADDRESS(MATCH(N17,base!$C$2:'base'!$C$133,0)+1,4,4))) | Q17: =IF(P17="","", INDIRECT("base!"&ADDRESS(MATCH(CONCATENATE(N17,"|",P17),base!$G$2:'base'!$G$1817,0)+1,6,4)))
B18: =IF(AND(G18<>"",H18>0,I18<>"",J18<>0,K18<>0),COUNT($B$11:B17)+1,"") -> 7 | C18: 7 | G18: PNEUMOLOGISTA | H18: 60 | I18: un | J18: 181.9 | K18: =IFERROR(IF(H18*J18<>0,ROUND(ROUND(H18,4)*ROUND(J18,4),2),""),"") -> 10914 | O18: =IF(N18="","", INDIRECT("base!"&ADDRESS(MATCH(N18,base!$C$2:'base'!$C$133,0)+1,4,4))) | Q18: =IF(P18="","", INDIRECT("base!"&ADDRESS(MATCH(CONCATENATE(N18,"|",P18),base!$G$2:'base'!$G$1817,0)+1,6,4)))
B19: =IF(AND(G19<>"",H19>0,I19<>"",J19<>0,K19<>0),COUNT($B$11:B18)+1,"") -> 8 | C19: 8 | G19: CIRURGIÃO VASCULAR | H19: 100 | I19: un | J19: 165.22 | K19: =IFERROR(IF(H19*J19<>0,ROUND(ROUND(H19,4)*ROUND(J19,4),2),""),"") -> 16522 | O19: =IF(N19="","", INDIRECT("base!"&ADDRESS(MATCH(N19,base!$C$2:'base'!$C$133,0)+1,4,4))) | Q19: =IF(P19="","", INDIRECT("base!"&ADDRESS(MATCH(CONCATENATE(N19,"|",P19),base!$G$2:'base'!$G$1817,0)+1,6,4)))
B20: =IF(AND(G20<>"",H20>0,I20<>"",J20<>0,K20<>0),COUNT($B$11:B19)+1,"") -> 9 | C20: 9 | G20: DERMATOLOGISTA | H20: 150 | I20: un | J20: 173.51 | K20: =IFERROR(IF(H20*J20<>0,ROUND(ROUND(H20,4)*ROUND(J20,4),2),""),"") -> 26026.5 | O20: =IF(N20="","", INDIRECT("base!"&ADDRESS(MATCH(N20,base!$C$2:'base'!$C$133,0)+1,4,4))) | Q20: =IF(P20="","", INDIRECT("base!"&ADDRESS(MATCH(CONCATENATE(N20,"|",P20),base!$G$2:'base'!$G$1817,0)+1,6,4)))
B21: =IF(AND(G21<>"",H21>0,I21<>"",J21<>0,K21<>0),COUNT($B$11:B20)+1,"") -> 10 | C21: 10 | G21: TRAUMATO/ORTOPEDISTA | H21: 250 | I21: un | J21: 162.22 | K21: =IFERROR(IF(H21*J21<>0,ROUND(ROUND(H21,4)*ROUND(J21,4),2),""),"") -> 40555 | O21: =IF(N21="","", INDIRECT("base!"&ADDRESS(MATCH(N21,base!$C$2:'base'!$C$133,0)+1,4,4))) | Q21: =IF(P21="","", INDIRECT("base!"&ADDRESS(MATCH(CONCATENATE(N21,"|",P21),base!$G$2:'base'!$G$1817,0)+1,6,4)))
B22: =IF(AND(G22<>"",H22>0,I22<>"",J22<>0,K22<>0),COUNT($B$11:B21)+1,"") -> 11 | C22: 11 | G22: CIRURGIÃO GERAL | H22: 250 | I22: un | J22: 154.33 | K22: =IFERROR(IF(H22*J22<>0,ROUND(ROUND(H22,4)*ROUND(J22,4),2),""),"") -> 38582.5 | O22: =IF(N22="","", INDIRECT("base!"&ADDRESS(MATCH(N22,base!$C$2:'base'!$C$133,0)+1,4,4))) | Q22: =IF(P22="","", INDIRECT("base!"&ADDRESS(MATCH(CONCATENATE(N22,"|",P22),base!$G$2:'base'!$G$1817,0)+1,6,4)))
B23: =IF(AND(G23<>"",H23>0,I23<>"",J23<>0,K23<>0),COUNT($B$11:B22)+1,"") -> 12 | C23: 12 | G23: OFTALMOLOGISTA | H23: 200 | I23: un | J23: 155 | K23: =IFERROR(IF(H23*J23<>0,ROUND(ROUND(H23,4)*ROUND(J23,4),2),""),"") -> 31000 | O23: =IF(N23="","", INDIRECT("base!"&ADDRESS(MATCH(N23,base!$C$2:'base'!$C$133,0)+1,4,4))) | Q23: =IF(P23="","", INDIRECT("base!"&ADDRESS(MATCH(CONCATENATE(N23,"|",P23),base!$G$2:'base'!$G$1817,0)+1,6,4)))
B24: =IF(AND(G24<>"",H24>0,I24<>"",J24<>0,K24<>0),COUNT($B$11:B23)+1,"") | K24: =IFERROR(IF(H24*J24<>0,ROUND(ROUND(H24,4)*ROUND(J24,4),2),""),"") | O24: =IF(N24="","", INDIRECT("base!"&ADDRESS(MATCH(N24,base!$C$2:'base'!$C$133,0)+1,4,4))) | Q24: =IF(P24="","", INDIRECT("base!"&ADDRESS(MATCH(CONCATENATE(N24,"|",P24),base!$G$2:'base'!$G$1817,0)+1,6,4)))
B25: =IF(AND(G25<>"",H25>0,I25<>"",J25<>0,K25<>0),COUNT($B$11:B24)+1,"") | K25: =IFERROR(IF(H25*J25<>0,ROUND(ROUND(H25,4)*ROUND(J25,4),2),""),"") | O25: =IF(N25="","", INDIRECT("base!"&ADDRESS(MATCH(N25,base!$C$2:'base'!$C$133,0)+1,4,4))) | Q25: =IF(P25="","", INDIRECT("base!"&ADDRESS(MATCH(CONCATENATE(N25,"|",P25),base!$G$2:'base'!$G$1817,0)+1,6,4)))
B26: =IF(AND(G26<>"",H26>0,I26<>"",J26<>0,K26<>0),COUNT($B$11:B25)+1,"") | K26: =IFERROR(IF(H26*J26<>0,ROUND(ROUND(H26,4)*ROUND(J26,4),2),""),"") | O26: =IF(N26="","", INDIRECT("base!"&ADDRESS(MATCH(N26,base!$C$2:'base'!$C$133,0)+1,4,4))) | Q26: =IF(P26="","", INDIRECT("base!"&ADDRESS(MATCH(CONCATENATE(N26,"|",P26),base!$G$2:'base'!$G$1817,0)+1,6,4)))
B27: =IF(AND(G27<>"",H27>0,I27<>"",J27<>0,K27<>0),COUNT($B$11:B26)+1,"") | K27: =IFERROR(IF(H27*J27<>0,ROUND(ROUND(H27,4)*ROUND(J27,4),2),""),"") | O27: =IF(N27="","", INDIRECT("base!"&ADDRESS(MATCH(N27,base!$C$2:'base'!$C$133,0)+1,4,4))) | Q27: =IF(P27="","", INDIRECT("base!"&ADDRESS(MATCH(CONCATENATE(N27,"|",P27),base!$G$2:'base'!$G$1817,0)+1,6,4)))
B28: =IF(AND(G28<>"",H28>0,I28<>"",J28<>0,K28<>0),COUNT($B$11:B27)+1,"") | K28: =IFERROR(IF(H28*J28<>0,ROUND(ROUND(H28,4)*ROUND(J28,4),2),""),"") | O28: =IF(N28="","", INDIRECT("base!"&ADDRESS(MATCH(N28,base!$C$2:'base'!$C$133,0)+1,4,4))) | Q28: =IF(P28="","", INDIRECT("base!"&ADDRESS(MATCH(CONCATENATE(N28,"|",P28),base!$G$2:'base'!$G$1817,0)+1,6,4)))
B29: =IF(AND(G29<>"",H29>0,I29<>"",J29<>0,K29<>0),COUNT($B$11:B28)+1,"") | K29: =IFERROR(IF(H29*J29<>0,ROUND(ROUND(H29,4)*ROUND(J29,4),2),""),"") | O29: =IF(N29="","", INDIRECT("base!"&ADDRESS(MATCH(N29,base!$C$2:'base'!$C$133,0)+1,4,4))) | Q29: =IF(P29="","", INDIRECT("base!"&ADDRESS(MATCH(CONCATENATE(N29,"|",P29),base!$G$2:'base'!$G$1817,0)+1,6,4)))
B30: =IF(AND(G30<>"",H30>0,I30<>"",J30<>0,K30<>0),COUNT($B$11:B29)+1,"") | K30: =IFERROR(IF(H30*J30<>0,ROUND(ROUND(H30,4)*ROUND(J30,4),2),""),"") | O30: =IF(N30="","", INDIRECT("base!"&ADDRESS(MATCH(N30,base!$C$2:'base'!$C$133,0)+1,4,4))) | Q30: =IF(P30="","", INDIRECT("base!"&ADDRESS(MATCH(CONCATENATE(N30,"|",P30),base!$G$2:'base'!$G$1817,0)+1,6,4)))
B31: =IF(AND(G31<>"",H31>0,I31<>"",J31<>0,K31<>0),COUNT($B$11:B30)+1,"") | K31: =IFERROR(IF(H31*J31<>0,ROUND(ROUND(H31,4)*ROUND(J31,4),2),""),"") | O31: =IF(N31="","", INDIRECT("base!"&ADDRESS(MATCH(N31,base!$C$2:'base'!$C$133,0)+1,4,4))) | Q31: =IF(P31="","", INDIRECT("base!"&ADDRESS(MATCH(CONCATENATE(N31,"|",P31),base!$G$2:'base'!$G$1817,0)+1,6,4)))
B32: =IF(AND(G32<>"",H32>0,I32<>"",J32<>0,K32<>0),COUNT($B$11:B31)+1,"") | K32: =IFERROR(IF(H32*J32<>0,ROUND(ROUND(H32,4)*ROUND(J32,4),2),""),"") | O32: =IF(N32="","", INDIRECT("base!"&ADDRESS(MATCH(N32,base!$C$2:'base'!$C$133,0)+1,4,4))) | Q32: =IF(P32="","", INDIRECT("base!"&ADDRESS(MATCH(CONCATENATE(N32,"|",P32),base!$G$2:'base'!$G$1817,0)+1,6,4)))
B33: =IF(AND(G33<>"",H33>0,I33<>"",J33<>0,K33<>0),COUNT($B$11:B32)+1,"") | K33: =IFERROR(IF(H33*J33<>0,ROUND(ROUND(H33,4)*ROUND(J33,4),2),""),"") | O33: =IF(N33="","", INDIRECT("base!"&ADDRESS(MATCH(N33,base!$C$2:'base'!$C$133,0)+1,4,4))) | Q33: =IF(P33="","", INDIRECT("base!"&ADDRESS(MATCH(CONCATENATE(N33,"|",P33),base!$G$2:'base'!$G$1817,0)+1,6,4)))
B34: =IF(AND(G34<>"",H34>0,I34<>"",J34<>0,K34<>0),COUNT($B$11:B33)+1,"") | K34: =IFERROR(IF(H34*J34<>0,ROUND(ROUND(H34,4)*ROUND(J34,4),2),""),"") | O34: =IF(N34="","", INDIRECT("base!"&ADDRESS(MATCH(N34,base!$C$2:'base'!$C$133,0)+1,4,4))) | Q34: =IF(P34="","", INDIRECT("base!"&ADDRESS(MATCH(CONCATENATE(N34,"|",P34),base!$G$2:'base'!$G$1817,0)+1,6,4)))
B35: =IF(AND(G35<>"",H35>0,I35<>"",J35<>0,K35<>0),COUNT($B$11:B34)+1,"") | K35: =IFERROR(IF(H35*J35<>0,ROUND(ROUND(H35,4)*ROUND(J35,4),2),""),"") | O35: =IF(N35="","", INDIRECT("base!"&ADDRESS(MATCH(N35,base!$C$2:'base'!$C$133,0)+1,4,4))) | Q35: =IF(P35="","", INDIRECT("base!"&ADDRESS(MATCH(CONCATENATE(N35,"|",P35),base!$G$2:'base'!$G$1817,0)+1,6,4)))
... B113: =IF(AND(G113<>"",H113>0,I113<>"",J113<>0,K113<>0),COUNT($B$11:B112)+1,"") | K113: =IFERROR(IF(H113*J113<>0,ROUND(ROUND(H113,4)*ROUND(J113,4),2),""),"") | O113: =IF(N113="","", INDIRECT("base!"&ADDRESS(MATCH(N113,base!$C$2:'base'!$C$133,0)+1,4,4))) | Q113: =IF(P113="","", INDIRECT("base!"&ADDRESS(MATCH(CONCATENATE(N113,"|",P113),base!$G$2:'base'!$G$1817,0)+1,6,4)))

Sheet Proposta
A1: PROPOSTA
A2: Modalidade | C2: =IF(Identificação!B2=0,"",Identificação!B2) -> Chamamento Público / Credenciamento | E2: N° | F2: =IF(Identificação!E2=0,"",Identificação!E2) -> 3 | G2: Ano | H2: =IF(Identificação!G2=0,"",Identificação!G2) -> 2025
A3: Descrição do Objeto | C3: =IF(Identificação!B3=0,"",Identificação!B3) -> CONSULTAS-ESPECIALIDADES
A4: Licitante | G4: CNPJ*
A5: Tipo de Objeto | C5: =IF(Identificação!B5=0,"",Identificação!B5) -> Não se aplica
A6: Preço Total Proposto | C6: =SUMIFS(H12:H39953,B12:B39953,">0",H12:H39953,"<>0") -> 0
A7: Atenção! Se existirem itens sem preço proposto, deixe a célula do preço unitário proposto em branco.
A8: Para incluir itens da proposta, selecione as células A13 a K13 e arraste para baixo, de acordo com o número de itens cadastrado na planilha Orçamento-base.
A9: *Campos de preenchimento obrigatório | F9: **Obrigatório só para Obras e Serviços de Engenharia
A10: Nº do lote | B10: Nº Ordem | C10: Nº Item | D10: Descrição do item | E10: Proposta
E11: Qtd. | F11: Unid. | G11: Preço unitário (R$)* | H11: Preço Total (R$) | I11: % BDI** | J11: % Encargos Sociais** | K11: Percentual de Desconto
A12: =IF('Orçamento-base'!A12>0,'Orçamento-base'!A12,"") | B12: ='Orçamento-base'!B12 -> 1 | C12: =IF('Orçamento-base'!C12>0,'Orçamento-base'!C12,"") -> 1 | D12: =IF('Orçamento-base'!G12>0,'Orçamento-base'!G12,"") -> COLOPROCTOLOGIA | E12: =IF('Orçamento-base'!H12>0,'Orçamento-base'!H12,"") -> 60 | F12: =IF('Orçamento-base'!I12>0,'Orçamento-base'!I12,"") -> un | H12: =IFERROR(IF(E12*G12<>0,ROUND(ROUND(E12,4)*ROUND(G12,4),2),""),"")
A13: =IF('Orçamento-base'!A13>0,'Orçamento-base'!A13,"") | B13: ='Orçamento-base'!B13 -> 2 | C13: =IF('Orçamento-base'!C13>0,'Orçamento-base'!C13,"") -> 2 | D13: =IF('Orçamento-base'!G13>0,'Orçamento-base'!G13,"") -> REUMATOLOGISTA | E13: =IF('Orçamento-base'!H13>0,'Orçamento-base'!H13,"") -> 60 | F13: =IF('Orçamento-base'!I13>0,'Orçamento-base'!I13,"") -> un | H13: =IFERROR(IF(E13*G13<>0,ROUND(ROUND(E13,4)*ROUND(G13,4),2),""),"")

Sheet Pesquisa Familia e Subfamilia
A1: Tipo de Objeto | B1: Código Família | C1: Família | D1: Código Subfamília | E1: Subfamília
A2: Compras | B2: 736 | C2: alimentacao humana especial/manipuladas/fracionada | D2: 460 | E2: laticinios e correlatos
A3: Compras | B3: 736 | C3: alimentacao humana especial/manipuladas/fracionada | D3: 640 | E3: produtos de origem animal in natura
A4: Compras | B4: 736 | C4: alimentacao humana especial/manipuladas/fracionada | D4: 641 | E4: produtos de origem vegetal in natura
A5: Compras | B5: 736 | C5: alimentacao humana especial/manipuladas/fracionada | D5: 643 | E5: produtos de panificacao
A6: Compras | B6: 736 | C6: alimentacao humana especial/manipuladas/fracionada | D6: 642 | E6: produtos nao pereciveis
A7: Compras | B7: 965 | C7: adubos/corretivos do solo | D7: 1 | E7: adubos
A8: Compras | B8: 965 | C8: adubos/corretivos do solo | D8: 89 | E8: corretivos do solo
A9: Compras | B9: 788 | C9: alimentacao humana - laticinios e correlatos | D9: 700 | E9: cremes vegetais
A10: Compras | B10: 788 | C10: alimentacao humana - laticinios e correlatos | D10: 133 | E10: derivados do leite
A11: Compras | B11: 788 | C11: alimentacao humana - laticinios e correlatos | D11: 456 | E11: leite
A12: Compras | B12: 788 | C12: alimentacao humana - laticinios e correlatos | D12: 500 | E12: manteiga
A13: Compras | B13: 788 | C13: alimentacao humana - laticinios e correlatos | D13: 676 | E13: queijo e similares
... A3482: Outros Serviços | B3482: 72 | C3482: servicos: vigilancia/seguranca/transporte de valores | D3482: 737 | E3482: servicos transporte de valores/contagem numerario
A3484: 1

Sheet Tipo de Objeto x Familia
A1: Tipo de Objeto | B1: Código | C1: Família | D1: apoio1 | E1: apoio2 | F1: Tipo de Objeto | G1: Código Família | H1: Família
A2: Compras | B2: 2 | C2: equipamentos/materiais p/escritorio/escola/artes plasticas | D2: 1 | E2: =IF(A2=$F$2,B2,"") | F2: =IF(Identificação!$B$5=0,"",Identificação!$B$5) -> Não se aplica | G2: =IFERROR(SMALL($E$2:$E$250,D2),"") | H2: =IFERROR(VLOOKUP(G2,base!$C$2:$D$133,2,FALSE),"")
A3: Compras e Outros Serviços | B3: 2 | C3: equipamentos/materiais p/escritorio/escola/artes plasticas | D3: 2 | E3: =IF(A3=$F$2,B3,"") | G3: =IFERROR(SMALL($E$2:$E$250,D3),"") | H3: =IFERROR(VLOOKUP(G3,base!$C$2:$D$133,2,FALSE),"")
A4: Compras e Outros Serviços | B4: 3 | C4: servicos técnicos: projetos/auditorias/ consultorias/assessorias | D4: 3 | E4: =IF(A4=$F$2,B4,"") | G4: =IFERROR(SMALL($E$2:$E$250,D4),"") | H4: =IFERROR(VLOOKUP(G4,base!$C$2:$D$133,2,FALSE),"")
A5: Outros Serviços | B5: 3 | C5: servicos técnicos: projetos/auditorias/ consultorias/assessorias | D5: 4 | E5: =IF(A5=$F$2,B5,"") | G5: =IFERROR(SMALL($E$2:$E$250,D5),"") | H5: =IFERROR(VLOOKUP(G5,base!$C$2:$D$133,2,FALSE),"")
A6: Obras e Serviços de Engenharia | B6: 7 | C6: serviços de engenharia/obras: resíduos sólidos | D6: 5 | E6: =IF(A6=$F$2,B6,"") | G6: =IFERROR(SMALL($E$2:$E$250,D6),"") | H6: =IFERROR(VLOOKUP(G6,base!$C$2:$D$133,2,FALSE),"")
A7: Obras e Serviços de Engenharia | B7: 8 | C7: serviços de engenharia/obras: edificações | D7: 6 | E7: =IF(A7=$F$2,B7,"") | G7: =IFERROR(SMALL($E$2:$E$250,D7),"") | H7: =IFERROR(VLOOKUP(G7,base!$C$2:$D$133,2,FALSE),"")
A8: Obras e Serviços de Engenharia | B8: 9 | C8: serviços de engenharia/obras: rodovias, ferrovias e aeroportos | D8: 7 | E8: =IF(A8=$F$2,B8,"") | G8: =IFERROR(SMALL($E$2:$E$250,D8),"") | H8: =IFERROR(VLOOKUP(G8,base!$C$2:$D$133,2,FALSE),"")
A9: Obras e Serviços de Engenharia | B9: 10 | C9: serviços de engenharia/obras: obras-de-arte-especiais | D9: 8 | E9: =IF(A9=$F$2,B9,"") | G9: =IFERROR(SMALL($E$2:$E$250,D9),"") | H9: =IFERROR(VLOOKUP(G9,base!$C$2:$D$133,2,FALSE),"")
A10: Obras e Serviços de Engenharia | B10: 11 | C10: serviços de engenharia/obras: urbanização | D10: 9 | E10: =IF(A10=$F$2,B10,"") | G10: =IFERROR(SMALL($E$2:$E$250,D10),"") | H10: =IFERROR(VLOOKUP(G10,base!$C$2:$D$133,2,FALSE),"")
A11: Obras e Serviços de Engenharia | B11: 12 | C11: serviços de engenharia/obras: infraestrutura de energia | D11: 10 | E11: =IF(A11=$F$2,B11,"") | G11: =IFERROR(SMALL($E$2:$E$250,D11),"") | H11: =IFERROR(VLOOKUP(G11,base!$C$2:$D$133,2,FALSE),"")
A12: Obras e Serviços de Engenharia | B12: 13 | C12: serviços de engenharia/obras: saneamento | D12: 11 | E12: =IF(A12=$F$2,B12,"") | G12: =IFERROR(SMALL($E$2:$E$250,D12),"") | H12: =IFERROR(VLOOKUP(G12,base!$C$2:$D$133,2,FALSE),"")
A13: Obras e Serviços de Engenharia | B13: 14 | C13: serviços de engenharia/obras: obras portuárias, marítimas e fluviais | D13: 12 | E13: =IF(A13=$F$2,B13,"") | G13: =IFERROR(SMALL($E$2:$E$250,D13),"") | H13: =IFERROR(VLOOKUP(G13,base!$C$2:$D$133,2,FALSE),"")
A14: Obras e Serviços de Engenharia | B14: 15 | C14: serviços de engenharia/obras: serviços especializados para construção | D14: 13 | E14: =IF(A14=$F$2,B14,"") | G14: =IFERROR(SMALL($E$2:$E$250,D14),"") | H14: =IFERROR(VLOOKUP(G14,base!$C$2:$D$133,2,FALSE),"")
... A250: Compras e Outros Serviços | B250: 990 | C250: produtos quimicos de limpeza/higiene | D250: 249 | E250: =IF(A250=$F$2,B250,"") | G250: =IFERROR(SMALL($E$2:$E$250,D250),"") | H250: =IFERROR(VLOOKUP(G250,base!$C$2:$D$133,2,FALSE),"")

Sheet base
C1: Cód. Família | D1: Família | E1: Cód. Subfamília | F1: Subfamília | I1: Sigla | J1: Descrição Unidade | K1: Modalidades | L1: Tipo de Objeto | M1: Tipo de Orcamento | N1: Fonte de Rerefência
C2: 2 | D2: equipamentos/materiais p/escritorio/escola/artes plasticas | E2: 89 | F2: tinta para carimbos | G2: 2|89 | I2: ades | J2: adesivo | K2: Chamada Pública / PNAE | L2: Alienação de Bens | M2: Mão-de-obra | N2: AGESUL
C3: 3 | D3: servicos técnicos: projetos/auditorias/ consultorias/assessorias | E3: 177 | F3: equipamentos p/escritorio | G3: 2|177 | I3: amp | J3: ampola | K3: Chamamento Público | L3: Compras | M3: Mão-de-obra e material | N3: AGETOP_CIVIL
C4: 7 | D4: serviços de engenharia/obras: resíduos sólidos | E4: 178 | F4: equipamentos p/reprografia/grafica/copiadoras | G4: 2|178 | I4: ano | J4: ano | K4: Chamamento Público / Credenciamento | L4: Compras e Outros Serviços | M4: Material | N4: AGETOP_ROD
C5: 8 | D5: serviços de engenharia/obras: edificações | E5: 179 | F5: equipamentos didaticos/ensino/treinamento | G5: 2|179 | I5: band | J5: bandeja | K5: Concorrência | L5: Concessão | M5: Serviço | N5: ANP
C6: 9 | D6: serviços de engenharia/obras: rodovias, ferrovias e aeroportos | E6: 221 | F6: filmes p/ plastificacao | G6: 2|221 | I6: bast | J6: bastão | K6: Concorrência Lei 14.133/21 Eletrônica | L6: Locações | N6: CAEMA
C7: 10 | D7: serviços de engenharia/obras: obras-de-arte-especiais | E7: 500 | F7: materiais/suprimentos p/equipamentos de escritorio | G7: 2|500 | I7: bg | J7: bisnaga | K7: Concorrência Lei 14.133/21 Presencial | L7: Não se aplica | N7: CAERN
C8: 11 | D8: serviços de engenharia/obras: urbanização | E8: 504 | F8: materiais permanentes p/escritorio | G8: 2|504 | I8: bl | J8: bloco | K8: Concurso | L8: Obras e Serviços de Engenharia | N8: CAU
C9: 12 | D9: serviços de engenharia/obras: infraestrutura de energia | E9: 508 | F9: materiais de consumo p/escritorio | G9: 2|508 | I9: bld | J9: balde | K9: Convite | L9: Outros Serviços | N9: CDHU
C10: 13 | D10: serviços de engenharia/obras: saneamento | E10: 514 | F10: materiais permanentes didaticos/escolares/desenho tecnico | G10: 2|514 | I10: bli | J10: blister | K10: Licitação Lei 13.303/16 Eletrônico | L10: Permissão | N10: CEEE
C11: 14 | D11: serviços de engenharia/obras: obras portuárias, marítimas e fluviais | E11: 518 | F11: materiais de consumo didaticos/escolares/desenho tecnico | G11: 2|518 | I11: bls | J11: bolsa | K11: Licitação Lei 13.303/16 Presencial | N11: CEHOP
C12: 15 | D12: serviços de engenharia/obras: serviços especializados para construção | E12: 522 | F12: materiais p/encadernacao/envelopamento | G12: 2|522 | I12: bob | J12: bobina | K12: Leilão Eletrônico | N12: COMPOSICAO_PROPRIA
C13: 16 | D13: serviços de engenharia/obras: inst. elétricas, hidráulicas e outras inst. em construções | E13: 526 | F13: materiais p/arquivamento | G13: 2|526 | I13: bomb | J13: bombona | K13: Leilão Presencial | N13: CONTRATACAO_PUBLICA
C14: 17 | D14: serviços de engenharia/obras: serviços técnicos de engenharia e arquitetura | E14: 528 | F14: materiais de consumo graficos | G14: 2|528 | I14: bot | J14: botijão | K14: Pregão Eletrônico | N14: CONVENCAO_COLETIVA
C15: 29 | D15: serviços: credenciamento de serviços de educação | E15: 632 | F15: pinceis profissional | G15: 2|632 | I15: brr | J15: barra | K15: Pregão Presencial | N15: CORSAN
C16: 30 | D16: serviços: credenciamento de serviços de saúde | E16: 1 | F16: auditoria | G16: 3|1 | I16: cap | J16: cápsula | K16: Pregão Lei 14.133/21 Eletrônico | N16: COTACAO
C17: 31 | D17: servicos: terceirizacao de mao-de-obra especializada | E17: 2 | F17: assessoria em geral | G17: 3|2 | I17: carr | J17: carretel | K17: Pregão Lei 14.133/21 Presencial | N17: CREA
C18: 33 | D18: materiais p/escritório | E18: 89 | F18: consultoria em geral | G18: 3|89 | I18: cart | J18: cartela | K18: Processo de Dispensa Eletrônica | N18: CUB/SINDUSCON
C19: 34 | D19: materiais/ suprimentos p/informatica | E19: 133 | F19: desenho | G19: 3|133 | I19: cento | J19: cento | K19: RDC Eletrônico | N19: DAER
C20: 35 | D20: equipamentos p/informatica | E20: 180 | F20: estudo / analise de medicamentos | G20: 3|180 | I20: ch | J20: chapa | K20: RDC Presencial | N20: DER_PR
C21: 37 | D21: servicos: terceirizacao de mao-de-obra | E21: 500 | F21: maqueteira | G21: 3|500 | I21: chi | J21: custo hora improdutiva | K21: Regras Internacionais | N21: EMBASA
C22: 42 | D22: servicos: transporte de cargas e passageiros | E22: 632 | F22: projetos em geral | G22: 3|632 | I22: chp | J22: custo hora produtiva | K22: Tomada de Preços | N22: IOPES
C23: 45 | D23: servicos: graficos/similares | E23: 1 | F23: aterro sanitário | G23: 7|1 | I23: cil | J23: cilindro | N23: ORSE
C24: 47 | D24: servicos: som, imagem e programacao visual | E24: 2 | F24: coleta de resíduos sólidos urbanos (rsu) | G24: 7|2 | I24: cj | J24: conjunto | N24: PLEO/FRANARIN
C25: 52 | D25: servicos: manutencao de veiculos, equipamentos e aeronaves | E25: 3 | F25: coleta e transporte de resíduos sólidos de serviços de saúde (rsss) | G25: 7|3 | I25: cm | J25: centimetro | N25: SBC
C26: 57 | D26: servicos: manut/equip/escrit/eletrodomesticos/refrigeracao | E26: 4 | F26: coleta seletiva | G26: 7|4 | I26: cmcol | J26: centimetro/coluna | N26: SEDOP
C27: 59 | D27: servicos: serralheria/marcen./carpin./metalurgica/fundicao | E27: 5 | F27: disposição final de resíduos sólidos de serviços de saúde (rsss) | G27: 7|5 | I27: cn | J27: cone | N27: SEINFRA
C28: 62 | D28: servicos: locacao de veiculos, equipamentos e aeronaves | E28: 6 | F28: disposição final de resíduos sólidos urbanos (rsu) | G28: 7|6 | I28: col | J28: coleção | N28: SETOP
C29: 63 | D29: serviços: locacao de imoveis | E29: 7 | F29: estação de transbordo | G29: 7|7 | I29: com | J29: comprimido | N29: SICFER
C30: 64 | D30: aquisição de imoveis | E30: 8 | F30: estação/central de tratamento de resíduos | G30: 7|8 | I30: cr | J30: cartucho | N30: SICRO/DNIT
C31: 70 | D31: maquinas p/autenticar/registrar/franquear e similares | E31: 9 | F31: recuperação de área degradada | G31: 7|9 | I31: crg | J31: carga | N31: SINAPI
C32: 72 | D32: servicos: vigilancia/seguranca/transporte de valores | E32: 10 | F32: transporte de resíduos sólidos urbanos (rsu) | G32: 7|10 | I32: cx | J32: caixa | N32: SIURB
C33: 77 | D33: servicos: alimentacao | E33: 11 | F33: triagem de resíduos sólidos urbanos (rsu) | G33: 7|11 | I33: dia | J33: dia | N33: SMOV/PMPA
C34: 82 | D34: servicos: hotelaria/agencias de viagem e turismo | E34: 12 | F34: unidade de triagem | G34: 7|12 | I34: dose | J34: dose | N34: SUDECAP
C35: 97 | D35: servicos: bilheteria / estacionamento | E35: 99 | F35: outro serviço de resíduos sólidos | G35: 7|99 | I35: drg | J35: drágea | N35: TCPO/PINI
C36: 105 | D36: livros/publicacoes/revistas | E36: 1 | F36: administrativo | G36: 8|1 | I36: dz | J36: dúzia
C37: 107 | D37: servicos: seguros | E37: 2 | F37: albergue/abrigo | G37: 8|2 | I37: eixo | J37: por eixo
C38: 112 | D38: servicos: contratacao parceria/invest./arrend/merchandising | E38: 3 | F38: auditório/teatro | G38: 8|3 | I38: emb | J38: embalagem
C39: 113 | D39: servicos: contratacao instituicao de ensino superior | E39: 4 | F39: creas/cras | G39: 8|4 | I39: env | J39: envelope
C40: 117 | D40: servicos: informatica-software/hardware | E40: 5 | F40: delegacia | G40: 8|5 | I40: es | J40: estojo
...
