Workbook
Name OLE_LINK1: 'Planilha de materiais'!$A$1

Sheet PADRÃO
M1: NOME DA EMPRESA
M2: CONTRATO XXX/202X
B3: PLANILHA INICIAL Contrato nº 12/ 2023 ano 2023 | M3: PLANILHA INICIAL Contrato nº XXX/XXXX ano XXXX
B4: 1 | C4: Composição da Remuneração | F4: Nº de dias | G4: Nº Auxiliares | H4: Nº Horas/Mês | I4: % | J4: Valor (R$) | M4: 1 | N4: Composição da Remuneração | Q4: Nº de dias | R4: Nº Auxiliares | S4: Nº Horas/Mês | T4: % | U4: Valor (R$)
B5: A | C5: Salário-base 220 horas trabalhadas | F5: 1314.09 | H5: 200 | J5: =F5/220*H5 -> 1194.6273 | M5: A | N5: Salário-base 220 horas trabalhadas | Q5: 0 | S5: 200 | U5: 0
B6: B | C6: Adicional de insalubridade | H6: =F5 -> 1314.09 | I6: 0.2 | J6: =H6*I6 -> 262.818 | M6: B | N6: Adicional de insalubridade (Verificar convenção coletiva) | T6: 0 | U6: =S6*T6 -> 0
B7: C | C7: Outros (especificar) | J7: 0 | M7: C | N7: Outros (especificar) | U7: 0
B8: Total da Remuneração | J8: =SUM(J5:J7) -> 1457.4453 | M8: Total da Remuneração | U8: =SUM(U5:U7) -> 0
B9: MÓDULO 2 : BENEFÍCIOS MENSAIS E DIÁRIOS | M9: MÓDULO 2 : BENEFÍCIOS MENSAIS E DIÁRIOS
B10: 2 | C10: Benefícios Mensais e Diários | I10: Valor unit.(R$) | J10: Valor (R$) | M10: 2 | N10: Benefícios Mensais e Diários | T10: Valor unit.(R$) | U10: Valor (R$)
B11: A | C11: Transporte Cálculo do valor: [(2xVTx21) – (6%xSB)] | M11: A | N11: Transporte Cálculo do valor: [(2xVT x Qtde de dias) – (6%xSB)]
C12: A.1) Valor da passagem do transporte coletivo no município de prestação dos serviços: 21 dias | F12: 6.1 | G12: 42 | H12: =F12*G12 -> 256.2 | I12: =-J5*6% -> -71.677636 | J12: =H12+I12 -> 184.52236 | N12: A.1) Valor da passagem do transporte coletivo no município de prestação dos serviços: | Q12: 0 | R12: 0 | S12: =Q12*R12 -> 0 | T12: =-U5*6% -> 0 | U12: =S12+T12 -> 0
C13: A.2) Quantidade de passagens por dia por empregado: | J13: 0 | N13: A.2) Quantidade de passagens por dia por empregado: | U13: 0
B14: B | C14: Auxílio-alimentação (vales, cesta básica, entre outros) Cálculo do valor = [(21xVA)x(1-0,19)] | J14: =ROUND(((F5*I15*(1-0.19))*G5),2) -> 0 | M14: B | N14: Auxílio-alimentação (vales, cesta básica, entre outros) Cálculo do valor = [(nº de dias xVA)x(1-percentual de desconto)] | U14: =ROUND(((Q5*T15*(1-0.19))*R5),2) -> 0
C15: B.1) Valor do auxílio-alimentação (cláusula 18 da CCT ): | F15: 20.43 | G15: 0.008 | H15: =(F15*G15)*100 -> 16.344 | I15: 21 | J15: =I15*H15 -> 343.224 | N15: B.1) Valor do auxílio-alimentação (conforme CCT ): | Q15: 0 | R15: 0 | S15: =(Q15*R15)*100 -> 0 | T15: 0 | U15: =T15*S15 -> 0
B16: C | C16: Assistência médica e familiar | J16: =I16*G5 -> 0 | M16: C | N16: Assistência médica e familiar | U16: =T16*R5 -> 0
B17: D | C17: Auxílio-creche | J17: =I17*G5 -> 0 | M17: D | N17: Auxílio-creche | U17: =T17*R5 -> 0
B18: E | C18: Plano de Benefício Social Familiar | I18: 17.32 | J18: =I18 -> 17.32 | M18: E | N18: Plano de Benefício Social Familiar | T18: 0 | U18: =T18 -> 0
B19: F | C19: Outros (especificar) | J19: =I19*G5 -> 0 | M19: F | N19: Outros (especificar) | U19: =T19*R5 -> 0
C20: Total de Benefícios Mensais e Diários | J20: =SUM(J12:J19) -> 545.06636 | N20: Total de Benefícios Mensais e Diários | U20: =SUM(U12:U19) -> 0
B21: MÓDULO 3: INSUMOS DIVERSOS | M21: MÓDULO 3: INSUMOS DIVERSOS
B22: 3 | C22: Insumos diversos | I22: Valor unit.(R$) | J22: Valor (R$) | M22: 3 | N22: Insumos diversos | U22: Valor (R$)
B23: A | C23: Uniformes | J23: 31.74 | M23: A | N23: Depreciação | U23: 0
B24: B | C24: Materiais | J24: 0 | M24: B | N24: Combustível | U24: 0
B25: C | C25: Equipamentos | J25: 240 | M25: C | N25: Manutenção | U25: 0
B26: D | C26: Outros - Depreciação de equipamentos | J26: 0 | M26: D | N26: Outros | U26: =ROUND(+J26*1.0450664,2) -> 0
B27: Total de Insumos Diversos | J27: =SUM(J23:J26) -> 271.74 | M27: Total de Insumos Diversos | U27: =SUM(U23:U26) -> 0
B28: MÓDULO 4: ENCARGOS SOCIAIS E TRABALHISTAS | M28: MÓDULO 4: ENCARGOS SOCIAIS E TRABALHISTAS
B29: Submódulo 4.1 - Encargos Previdenciários, FGTS e outras contribuições: | M29: Submódulo 4.1 - Encargos Previdenciários, FGTS e outras contribuições:
B30: 4.1 | C30: Encargos Previdenciários e FGTS | I30: Percentual (%) | J30: Valor (R$) | M30: 4.1 | N30: Encargos Previdenciários e FGTS | T30: Percentual (%) | U30: Valor (R$)
B31: A | C31: INSS | I31: 0.2 | J31: =ROUND($J$8*I31,2) -> 291.49 | M31: A | N31: INSS | T31: 0.2 | U31: =ROUND(U$8*T31,2) -> 0
B32: B | C32: SESI ou SESC | I32: 0.015 | J32: =ROUND($J$8*I32,2) -> 21.86 | M32: B | N32: SESI ou SESC | T32: 0.015 | U32: =ROUND(U$8*T32,2) -> 0
B33: C | C33: SENAI ou SENAC | I33: 0.01 | J33: =ROUND($J$8*I33,2) -> 14.57 | M33: C | N33: SENAI ou SENAC | T33: 0.01 | U33: =ROUND(U$8*T33,2) -> 0
B34: D | C34: INCRA | I34: 0.002 | J34: =ROUND($J$8*I34,2) -> 2.91 | M34: D | N34: INCRA | T34: 0.002 | U34: =ROUND(U$8*T34,2) -> 0
B35: E | C35: Salário educação | I35: 0.025 | J35: =ROUND($J$8*I35,2) -> 36.44 | M35: E | N35: Salário educação | T35: 0.025 | U35: =ROUND(U$8*T35,2) -> 0
B36: F | C36: FGTS | I36: 0.08 | J36: =ROUND($J$8*I36,2) -> 116.6 | M36: F | N36: FGTS | T36: 0.08 | U36: =ROUND(U$8*T36,2) -> 0
B37: G | C37: Seguro Acidente de Trabalho = SAT = (RAT x FAP) SAT = ( %Riscos Ambientais do Trabalho x Fator Acidentário de Prevenção de cada empresa ) | E37: RAT = | F37: 0.03 | G37: FAP = | H37: 1 | I37: =ROUND((F37*H37),6) -> 0.03 | J37: =ROUND($J$8*I37,2) -> 43.72 | M37: G | N37: Seguro Acidente de Trabalho = SAT = (RAT x FAP) SAT = ( %Riscos Ambientais do Trabalho x Fator Acidentário de Prevenção de cada empresa ) | P37: RAT = | Q37: 0.03 | R37: FAP = | S37: 1 | T37: =ROUND((Q37*S37),6) -> 0.03 | U37: =ROUND(U$8*T37,2) -> 0
B38: H | C38: SEBRAE | I38: 0.006 | J38: =ROUND($J$8*I38,2) -> 8.74 | M38: H | N38: SEBRAE | T38: 0.006 | U38: =ROUND(U$8*T38,2) -> 0
B39: TOTAL | I39: =SUM(I31:I38) -> 0.368 | J39: =SUM(J31:J38) -> 536.33 | M39: TOTAL | T39: =SUM(T31:T38) -> 0.368 | U39: =SUM(U31:U38) -> 0
B40: Nota (1) - Os percentuais dos encargos previdenciários do FGTS e demais contribuições são aqueles estabelecidos pela legislação vigente. Nota (2) - Percentuais incidentes sobre a remuneração. | M40: Nota (1) - Os percentuais dos encargos previdenciários do FGTS e demais contribuições são aqueles estabelecidos pela legislação vigente. Nota (2) - Percentuais incidentes sobre a remuneração.
...

Sheet auxiliar de limpeza - 40hs
A1: ANEXO XIII do Pregão nº 27/2021 PLANILHA DE CUSTOS E FORMAÇÃO DE PREÇOS
A2: Nº do processo: 667/2021
A3: Licitação nº: | F3: Pregão Eletrônico nº 027/2021
A4: Dia: 20/07/2021
A5: Discriminação dos Serviços (dados referentes à contratação) | O5: =1500*7 -> 10500
A6: A | B6: Data de apresentação da proposta (dia/mês/ano) | O6: =O5*12 -> 126000
A7: B | B7: Município/UF | H7: Glorinha | O7: 40000
A8: C | B8: Ano do Acordo, Convenção Coletiva ou Sentença Normativa em Dissídio Coletivo, Vigencia, Registro TEM | H8: 01/01/21 a 31/12/21 RS000051/2021 | O8: =12000*7 -> 84000
A9: D | B9: Número de meses de execução contratual | H9: 12 | J9: manual | O9: =O6+O7+O8 -> 250000
A11: ANEXO III - A MÃO DE OBRA Mão de obra vinculada à execução contratual
A12: Dados complementares para composição dos custos referente à mão de obra
A13: 1 | B13: Tipo de serviço | H13: Limpeza e Higienização
A14: 2 | B14: Salário normativo da categoria profissional | H14: 1184.93 | J14: manual
A15: 3 | B15: Categoria profissional | H15: Auxiliar de Limpeza
A16: 4 | B16: Data base da categoria (dia/mês/ano) | H16: 1º de janeiro de 2021
A20: MÓDULO 1: COMPOSIÇÃO DA REMUNERAÇÃO
A21: 1 | B21: Composição da Remuneração | E21: Nº de dias | F21: Nº Trabalhadores | G21: Nº Horas/Mês | H21: % | I21: Valor (R$)
A22: A | B22: Salário-base (para a jornada de 40 horas semanais) | E22: 21 | F22: 1 | G22: 200 | I22: =ROUND(((H14/220)*G22*F22*(E22/21)),2) -> 1077.21 | J22: formula | K22: valores em amarelo manual
A23: B | B23: Adicional de insalubridade | H23: 0.4 | I23: =ROUND(H23*I22,2) -> 430.88 | J23: formula | K23: % manual
A24: C | B24: Outros (especificar) | I24: =ROUND((H24*I22),2) -> 0 | J24: manual
A25: Total da Remuneração | I25: =SUM(I22:I24) -> 1508.09 | J25: formula
A26: MÓDULO 2 : BENEFÍCIOS MENSAIS E DIÁRIOS
A27: 2 | B27: Benefícios Mensais e Diários | H27: Valor unit.(R$) | I27: Valor (R$)
A28: A | B28: Transporte Cálculo do valor: [(2xVTx21) – (6%xSB)] | I28: =ROUND(((H30*H29*E22*F22)-(0.06*I22)),2) -> 191.57 | J28: formula
B29: A.1) Valor da passagem do transporte coletivo no município de prestação dos serviços: | H29: 6.1 | I29: - | J29: manual falta valor
B30: A.2) Quantidade de passagens por dia por empregado: | H30: 2 | J30: manual falta valor
A31: B | B31: Auxílio-alimentação (vales, cesta básica, entre outros) Cálculo do valor = [(21xVA)x(1-0,19)] | I31: =ROUND(((E22*H32*(1-0.19))*F22),2) -> 309.58 | J31: formula
B32: B.1) Valor do auxílio-alimentação (cláusula 18 da CCT ): | H32: 18.2 | I32: - | J32: formula | K32: em amarelo manual
A33: C | B33: Assistência médica e familiar | H33: 0 | I33: =H33*F22 -> 0 | J33: formula | K33: em amarelo manual | O33: 274004.4
A34: D | B34: Auxílio-creche | H34: 0 | I34: =H34*F22 -> 0 | J34: formula | K34: em amarelo manual | O34: 90032.88
A35: E | B35: Plano de Benefício Social Familiar | H35: 15.62 | I35: =H35*F22 -> 15.62 | J35: formula | K35: em amarelo manual
A36: F | B36: Outros (especificar) | H36: 0 | I36: =H36*F22 -> 0 | J36: formula | K36: em amarelo manual | O36: =O33+O34 -> 364037.28
B37: Total de Benefícios Mensais e Diários | I37: =SUM(I28:I36) -> 516.77 | J37: formula | O37: 283500
A39: Nota: o valor informado deverá ser o custo real do insumo (descontado o valor eventualmente pago pelo empregado).
O40: =O36-O37 -> 80537.28
A41: MÓDULO 3: INSUMOS DIVERSOS
A42: 3 | B42: Insumos diversos | H42: Valor unit.(R$) | I42: Valor (R$)
A43: A | B43: Uniformes | H43: =99.1/12 -> 8.2583333 | I43: =H43*F22 -> 8.2583333 | J43: formula | O43: 16465
A44: B | B44: Materiais | H44: 196.31 | I44: =H44*F22 -> 196.31 | J44: formula | O44: 7 | P44: =O43/7 -> 2352.1429
A45: C | B45: Equipamentos | H45: ='ANEXO V'!P20 -> 0 | I45: =H45*F22 -> 0 | J45: formula | O45: 5 | P45: =P44*5 -> 11760.714
...

Sheet RESUMO
A2: ANEXO XIII - RESUMOS
A3: PLANILHAS DE CUSTOS E DE FORMAÇÃO DE PREÇOS
A4: PROCESSO n° 667/2021
A5: PREGÃO ELETRÔNICO Nº 027/2021
C6: Horas Semanal | D6: Postos | E6: Módulo 1: Composição da Remuneração | F6: Módulo 2: Benefícios Mensais e Diários | G6: Módulo 3: Insumos Diversos | H6: Módulo 4: Encargos Sociais e Trabalhistas | I6: Módulo 5: Custos Indiretos , Lucro e Tributos | J6: Valor Mensal por posto (unidade) | K6: Total Mensal
A7: Auxiliar de Limpeza | C7: 40hs | D7: ='auxiliar de limpeza - 40hs'!F22 -> 1 | E7: =+'auxiliar de limpeza - 40hs'!I132 -> 1508.09 | F7: =+'auxiliar de limpeza - 40hs'!I133 -> 516.77 | G7: =+'auxiliar de limpeza - 40hs'!I134 -> 204.56833 | H7: =+'auxiliar de limpeza - 40hs'!I135 -> 1007.05 | I7: =+'auxiliar de limpeza - 40hs'!I137 -> 136.64 | J7: =(+I7+H7+G7+F7+E7)/D7 -> 3373.1183 | K7: =+J7*D7 -> 3373.1183
A9: Auxiliar de Limpeza | C9: 12x36Hs | D9: =#REF! -> #REF! | E9: =+#REF! -> #REF! | F9: =+#REF! -> #REF! | G9: =+#REF! -> #REF! | H9: =+#REF! -> #REF! | I9: =+#REF! -> #REF! | J9: =(+I9+H9+G9+F9+E9)/D9 -> #REF! | K9: =+J9*D9 -> #REF!
A11: TOTAL MENSAL DOS SERVIÇOS | K11: =SUM(K7:K10) -> #REF!
A13: N° | B13: Função | C13: Horas Mês | D13: Efetivo | E13: Módulo 1: Composição da Remuneração | F13: Módulo 2: Benefícios Mensais e Diários | G13: Módulo 3: Insumos Diversos | H13: Módulo 4: Encargos Sociais e Trabalhistas | I13: Módulo 5: Custos Indiretos , Lucro e Tributos | J13: Total Mensal
A14: 1.1 | B14: Auxiliar de Limpeza | C14: 200 | D14: 5 | E14: =+E7*$D14 -> 7540.45 | F14: =+F7*$D14 -> 2583.85 | G14: =+G7*$D14 -> 1022.8417 | H14: =+H7*$D14 -> 5035.25 | I14: =+I7*$D14 -> 683.2 | J14: =+I14+H14+G14+F14+E14 -> 16865.592
A15: 1.3 | B15: Auxiliar de Limpeza | C15: 12x36Hs | D15: 2 | E15: =+E9*D15 -> #REF! | F15: =+F9*D15 -> #REF! | G15: =+G9*D15 -> #REF! | H15: =+H9*D15 -> #REF! | I15: =+I9*D15 -> #REF! | J15: =+I15+H15+G15+F15+E15 -> #REF!
B16: Totais: | D16: =SUM(D14:D15) -> 7 | E16: =SUM(E14:E15) -> #REF! | F16: =SUM(F14:F15) -> #REF! | G16: =SUM(G14:G15) -> #REF! | H16: =SUM(H14:H15) -> #REF! | I16: =SUM(I14:I15) -> #REF! | J16: =SUM(J14:J15) -> #REF!
A18: QUADRO RESUMO DO CONTRATO
A19: Serviço | G19: Valor Mensal por Unidade de Serviço | H19: Quantidade de Unidade de Serviços | I19: Valor mensal do serviço
A20: SERVENTE DE LIMPEZA - 40HS | G20: =+J7 -> 3373.1183 | H20: 5 | I20: =G20*H20 -> 16865.592
A21: SERVENTE DE LIMPEZA - 12X36 | G21: =+J9 -> #REF! | H21: 2 | I21: =G21*H21 -> #REF!
A22: Valor Mensal do Contrato | I22: =SUM(I20:I21) -> #REF!

Sheet ANEXO V
A2: ANEXO V
A3: PLANILHA DE QUANTIDADES E ORÇAMENTO DE EQUIPAMENTOS, UNIFORMES E MATERIAIS
A5: Instruções:
A6: As quantidades eventualmente preenchidas nestas planilhas são apenas as estimadas.
A7: As quantidades referem-se ao necessário para os 12(doze) meses de contrato.
A8: Deve-se descrever todos os uniformes/materiais/equipamentos necessários à consecução do serviço.
A10: MÓDULO 3 – UNIFORMES, MATERIAIS E EQUIPAMENTOS
A12: UNIFORMES SERVENTES DE LIMPEZA
A13: Qtde | B13: Descrição | C13: Custo unitário | D13: Vida útil (meses) | E13: Custo anual (R$) | F13: Custo mensal (R$) | K13: EQUIPAMENTOS - SERVENTES DE LIMPEZA | V13: EQUIPAMENTOS - AUXILIAR DE MANUTENÇÃO PREDIAL
A14: 4 | B14: Calça de abrigo | C14: 40 | D14: 12 | E14: =ROUND(C14*A14,2) -> 160 | F14: =E14/12 -> 13.333333 | K14: Qtde | L14: Descrição | N14: Custo Unitário | O14: Vida útil (meses) | P14: Custo mensal (R$) | V14: Qtde | W14: Descrição | Y14: Custo Unitário | Z14: Vida útil (meses) | AA14: Custo mensal (R$)
A15: 4 | B15: Camiseta de manga curta | C15: 25 | D15: 12 | E15: =C15*A15 -> 100 | F15: =E15/12 -> 8.3333333 | K15: 1 | L15: Aspirador de pó e líquidos, com potência de, no mínimo, 1200W | N15: 0 | O15: 120 | P15: =(N15*K15)/O15 -> 0 | V15: 1 | W15: Aparadora de grama com fio de nylon, com potência de, no mínimo, 1000 W | Z15: 120 | AA15: =(Y15*V15)/Z15 -> 0
A16: 2 | B16: Camiseta de manga longa | C16: 30 | D16: 12 | E16: =C16*A16 -> 60 | F16: =E16/12 -> 5 | K16: 2 | L16: Mangueira plástica de 20 m para lavagem | N16: 0 | O16: 120 | P16: =(N16*K16)/O16 -> 0 | V16: 1 | W16: Cavadeira articulada com cabo de madeira | Z16: 120 | AA16: =(Y16*V16)/Z16 -> 0
A17: 1 | B17: Blusão de moletom | C17: 40 | D17: 12 | E17: =C17*A17 -> 40 | F17: =E17/12 -> 3.3333333 | K17: 1 | L17: Escadas cinco degraus | N17: 0 | O17: 120 | P17: =(N17*K17)/O17 -> 0 | V17: 2 | W17: Vassoura de aço com cabo de madeira | Z17: 120 | AA17: =(Y17*V17)/Z17 -> 0
A18: 2 | B18: Par de Botinas/Sapatos PU | C18: 40 | D18: 12 | E18: =C18*A18 -> 80 | F18: =E18/12 -> 6.6666667 | K18: 1 | L18: Escada nove degraus | N18: 0 | O18: 120 | P18: =(N18*K18)/O18 -> 0 | V18: 2 | W18: Garfo para jardinagem com cabo de madeira | Z18: 120 | AA18: =(Y18*V18)/Z18 -> 0
A19: 1 | B19: Crachá de identificação | C19: 10 | D19: 12 | E19: =C19*A19 -> 10 | F19: =E19/12 -> 0.83333333 | K19: Custo Total Mensal | P19: =SUM(P15:P18) -> 0 | V19: 1 | W19: Pá de corte com cabo de madeira | Z19: 120 | AA19: =(Y19*V19)/Z19 -> 0
D20: Custo Total Mensal | F20: =ROUND(SUM(F14:F19),2) -> 37.5 | K20: Custo Unitário Mensal | P20: =ROUND(P19/8,2) -> 0 | V20: 1 | W20: Pá de concha com cabo de madeira | Z20: 120 | AA20: =(Y20*V20)/Z20 -> 0
D21: Custo Unitário Mensal | F21: =ROUND(F20/3,2) -> 12.5 | Q21: arredondamento 2 casas após a vírgula | V21: 1 | W21: Picareta com cabo de madeira | Z21: 120 | AA21: =(Y21*V21)/Z21 -> 0
V22: 1 | W22: Alicate de pressão 10” | Z22: 120 | AA22: =(Y22*V22)/Z22 -> 0
A23: UNIFORMES COPEIRO | V23: 1 | W23: Furadeira de impacto com potência de, no mínimo, 550W | Z23: 120 | AA23: =(Y23*V23)/Z23 -> 0
A24: Qtde | B24: Descrição | C24: Custo unitário | D24: Vida útil (meses) | E24: Custo anual (R$) | F24: Custo mensal (R$) | V24: 2 | W24: Serrote universal de dentes finos | Z24: 120 | AA24: =(Y24*V24)/Z24 -> 0
A25: 4 | B25: Calça de abrigo | C25: 50 | D25: 12 | E25: =C25*A25 -> 200 | F25: =E25/12 -> 16.666667 | V25: 2 | W25: Trena simples de 5 m | Z25: 120 | AA25: =(Y25*V25)/Z25 -> 0
A26: 4 | B26: Camiseta de manga curta | C26: 25 | D26: 12 | E26: =C26*A26 -> 100 | F26: =E26/12 -> 8.3333333 | V26: 1 | W26: Serra tico tico, com alimentação elétrica e potência mínima de 400W | Z26: 120 | AA26: =(Y26*V26)/Z26 -> 0
A27: 2 | B27: Camiseta de manga longa | C27: 30 | D27: 12 | E27: =C27*A27 -> 60 | F27: =E27/12 -> 5 | V27: 1 | W27: Serra circular, com alimentação elétrica e potência mínima de 1400W; | Z27: 120 | AA27: =(Y27*V27)/Z27 -> 0
A28: 1 | B28: Blusão de moletom | C28: 60 | D28: 12 | E28: =C28*A28 -> 60 | F28: =E28/12 -> 5 | V28: 1 | W28: Roçadeira à gasolina, com potência mínima de 1,25KW | Z28: 120 | AA28: =(Y28*V28)/Z28 -> 0
A29: 2 | B29: Par de Botinas/Sapatos PU | C29: 35 | D29: 12 | E29: =C29*A29 -> 70 | F29: =E29/12 -> 5.8333333 | V29: 1 | W29: Soprador de folhas à gasolina, com potência de, no mínimo, 0,8kW / 1,1 hp; | Z29: 120 | AA29: =(Y29*V29)/Z29 -> 0
A30: 1 | B30: Crachá de identificação | C30: 10 | D30: 12 | E30: =C30*A30 -> 10 | F30: =E30/12 -> 0.83333333 | V30: 1 | W30: Serrote para poda, tipo simples | Z30: 120 | AA30: =(Y30*V30)/Z30 -> 0
A31: 1 | B31: Avental | C31: 15 | D31: 12 | E31: =C31*A31 -> 15 | F31: =E31/12 -> 1.25 | V31: 2 | W31: Martelo de unha, com “cabeça metálica” e cabo de madeira | Z31: 120 | AA31: =(Y31*V31)/Z31 -> 0
D32: Custo Total Mensal | F32: =SUM(F25:F31) -> 42.916667 | V32: 1 | W32: Parafusadeira de impacto | Z32: 120 | AA32: =(Y32*V32)/Z32 -> 0
D33: Custo Unitário Mensal | F33: =ROUND(F32/1,2) -> 42.92 | V33: 1 | W33: Tesoura de poda profissional | Z33: 120 | AA33: =(Y33*V33)/Z33 -> 0
V34: 1 | W34: Balde metálico para concreto de, no mínimo, 10L; | Z34: 120 | AA34: =(Y34*V34)/Z34 -> 0
V35: 1 | W35: Desempenadeira de aço, tamanho mínimo de 30x12cm | Z35: 120 | AA35: =(Y35*V35)/Z35 -> 0
A39: MATERIAIS DE CONSUMO E INSTRUMENTOS | V39: Custo Total Mensal | AA39: =SUM(AA15:AA35) -> 0
A40: Qtde | B40: Descrição | D40: Custo unitário | E40: Custo anual (R$) | F40: Custo Mensal (R$) | V40: Custo Unitário Mensal | AA40: =ROUND(AA39/1,2) -> 0
A41: 0 | B41: ALCOOL LIQUIDO GALÃO(5L) | D41: 47.25 | E41: =D41*A41*12 -> 0 | F41: =E41/12 -> 0 | AB41: arredondamento 2 casas após a vírgula
A42: 0 | B42: Água Sanitária (5L) | D42: 8.83 | E42: =D42*A42*12 -> 0 | F42: =E42/12 -> 0
A43: 0 | B43: Desinfetante Fragrância Lavanda ( 5L) | D43: 13.645 | E43: =D43*A43*12 -> 0 | F43: =E43/12 -> 0
A44: 0 | B44: Detergente Neutro (5L) | D44: 19.63 | E44: =D44*A44*12 -> 0 | F44: =E44/12 -> 0
A45: 0 | B45: Esponjas dupla face (Un) | D45: 1.5 | E45: =D45*A45*12 -> 0 | F45: =E45/12 -> 0
A46: 0 | B46: Flanela para limpeza (Un) | D46: 1.99 | E46: =D46*A46*12 -> 0 | F46: =E46/12 -> 0
A47: 0 | B47: LUSTRA MOVEL(UN) | D47: 3.51 | E47: =D47*A47*12 -> 0 | F47: =E47/12 -> 0
...

Sheet Planilha de materiais
C54: VALOR TOTAL R$ 16.490,00
