Workbook
Name _bookmark26: 'Memória de Cálculo'!$A$10
Name _Toc211873033: 'Memória de Cálculo'!$A$14
Name _Toc211873034: 'Memória de Cálculo'!$A$29
Name _Toc211873035: 'Memória de Cálculo'!$A$33
Name _Toc211873036: 'Memória de Cálculo'!$A$36
Name _Toc211873037: 'Memória de Cálculo'!$A$38

Sheet Resumo
A1: Prefeitura Municipal de Nova Prata
A3: Resumo demonstrativo de valores mensais para cumprimento da roçada de 157.297,64m² na cidade de Nova Prata
AG7: =(AD7+AE7+AF7)*AC7 -> 0
A8: Quantitativo* | B8: Serviço | C8: Valor Individual
A9: 1 | B9: Prestação de Serviços de Corte de Grama e Roçadas Urbanas por m², Incluso a Limpeza de Bocas de Lobo, roçada com Acabamento de Meio Fio, Varrição Manual e, Soprada com Recolhimento de Resíduos, Raspagem e Capina Manual | C9: ='Detalhamento do cálculo'!AJ13 -> 0.87000003 | AF9: 0
A10: *Metro²
A12: Totalizador Mensal
A13: Quantitativo
A14: 157297.64 | B14: =B9 -> Prestação de Serviços de Corte de Grama e Roçadas Urbanas por m², Incluso a Limpeza de Bocas de Lobo, roçada com Acabamento de Meio Fio, Varrição Manual e, Soprada com Recolhimento de Resíduos, Raspagem e Capina Manual | C14: =C9*A14 -> 136848.95
A18: Nova Prata, 25 de Setembrode 2026

Sheet Detalhamento do cálculo
R1: CUSTOS ADMINISTRATIVO MAQUINAS E FERRAMENTAS | X1: ENCARGOS SOCIAIS E RESCISÓRIOS
B2: PLANILHA DE CUSTOS | L2: LEVANTAMENTO DE INFORMAÇÕES DE SAÚDE E SEGURANÇA E UNIFORMES - SST | R2: Administração, Veículo de apoio e Transporte | X2: Calculado com base com tributação do Geral
G3: LEVANTAMENTO DE PRODUTIVIDADE | AB3: Resumo do Custo Geral
B4: LEVANTAMENTO DE INFORMAÇÕES TRABALHISTAS | L4: Cálculo realizado com Base nos valores praticados na Região e levantamento de itens com base em Laudos de Saúde e Segurança do trabalho por similaridade | R4: Informações Base Mensal | X4: Informações Base Mensal | AB4: Serviço | AC4: Quantitativo | AD4: Custos
B5: Cálculos Realizados com Base na Convenção Coletiva de trabalho vigente (01/01/2026 a 31/12/2026) e a legislação Trabalhista Vigente. | G5: Cálculo realizado com Base em pesquisa e medição da atividade pelos profissionais contratos pelo município | R5: Discriminação | S5: Unidade | T5: Quantitativo | U5: Valor Unitário | V5: Valor Total (Mensal) | X5: GRUPO | Y5: Descição | Z5: Percentual | AD5: Trabalhista | AE5: SST | AF5: ADM/ MAQ/FER | AG5: SOMATÓRIO | AH5: Tributário e Lucr. Indiv. | AI5: SOMATÓRIO | AJ5: TOTAL GERAL
R6: Custo do Veículo de Apoio (Manutenção, depreciação e Combustível) ¹ | S6: Km Rodado | T6: =30*21 -> 630 | U6: 1.2 | V6: =U6*T6 -> 756 | X6: A.1 | Y6: INSS | Z6: 0.2 | AB6: =Resumo!A1 -> Prefeitura Municipal de Nova Prata
G7: Levantamento de Informações Base: | L7: Categoria Profissional: Roçador Limpeza Urbana - CBO 6220 - 44 horas | X7: A.2 | Y7: RAT/FAP | Z7: 0.03 | AB7: Roçador | AC7: 9 | AD7: 5439.99 | AE7: 274.44 | AF7: 1756.14 | AG7: =(AD7+AE7+AF7)*AC7 -> 67235.13 | AH7: =Z56 -> 3213.8439 | AI7: =AH7*AC7 -> 28924.595 | AJ7: =AI7+AG7 -> 96159.725
B8: Categoria Profissional: Roçador Limpeza Urbana - CBO 6220 - 44 horas | G8: Produtividade Horas/Homem | L8: Informações Base | X8: A.3 | Y8: SESI | Z8: 0.015 | AB8: Varredor (soprador) | AC8: 3 | AD8: 5439.99 | AE8: 229.92 | AF8: =AF7 -> 1756.14 | AG8: =(AD8+AE8+AF8)*AC8 -> 22278.15 | AH8: =AH7 -> 3213.8439 | AI8: =AH8*AC8 -> 9641.5318 | AJ8: =AI8+AG8 -> 31919.682
B9: Informações Base | G9: Quantidade | H9: Hrs Contradas | I9: Horas Contratadas-Hora Repouso | J9: Horas úteis dia | L9: Mão de Obra | M9: Quantitativo | N9: V. Unitário | O9: V. Total | P9: V. Mensal | R9: ¹ Estimativa de rodagem de 30 Km/dia | X9: A.4 | Y9: SENAI | Z9: 0.01 | AB9: Supervisor | AC9: 1 | AD9: 5322.79 | AE9: 174.76 | AF9: 58.15 | AG9: =(AD9+AE9+AF9)*AC9 -> 5555.7 | AH9: =AH8 -> 3213.8439 | AI9: =AH9*AC9 -> 3213.8439 | AJ9: =AI9+AG9 -> 8769.5439
B10: Mão de Obra | C10: Quantitativo | G10: 1 | H10: 220 | I10: =8.8*21 -> 184.8 | J10: =((I10/21)*85%)+0.32 -> 7.8 | L10: Jaqueta com reflexivo | M10: 2 | N10: ='Documentos Base'!B5 -> 155 | O10: =N10*M10 -> 310 | P10: =O10/12 -> 25.833333 | X10: A.5 | Y10: INCRA | Z10: 0.002 | AB10: Valor Total: | AC10: =SUM(AC7:AC9) -> 13 | AD10: =SUM(AD7:AD9) -> 16202.77 | AE10: =SUM(AE7:AE9) -> 679.12 | AF10: =SUM(AF7:AF9) -> 3570.43 | AG10: =SUM(AG7:AG9) -> 95068.98 | AH10: =SUM(AH7:AH9) -> 9641.5318 | AI10: =SUM(AI7:AI9) -> 41779.971 | AJ10: =SUM(AJ7:AJ9) -> 136848.95
B11: Roçador | C11: 9 | G11: Gastos/Hora por litro | L11: Calça | M11: 4 | N11: ='Documentos Base'!B6 -> 120.65 | O11: =N11*M11 -> 482.6 | P11: =O11/12 -> 40.216667 | R11: Rateio dos Custos Administrativos | X11: A.6 | Y11: SEBRAE | Z11: 0.006 | AJ11: =157297.64 -> 157297.64
B12: Horas Semanais | C12: 1.8333333 | G12: ítem | H12: Quantidade | I12: Gasto Litros por hora | L12: Camisa manga curta | M12: 4 | N12: ='Documentos Base'!B7 -> 35 | O12: =N12*M12 -> 140 | P12: =O12/12 -> 11.666667 | R12: Custo Total | S12: =V6 -> 756 | X12: A.7 | Y12: SALARIO EDUCAÇÃO | Z12: 0.025
B13: Horas Mensais (horas + repouso) | C13: 9.1666667 | G13: Roçadeira | H13: 1 | I13: =((600*60)/45/1000) -> 0.8 | L13: Camisa manga longa | M13: 2 | N13: ='Documentos Base'!B8 -> 48.3 | O13: =N13*M13 -> 96.6 | P13: =O13/12 -> 8.05 | R13: Quantitativo Total | S13: 13 | X13: A.8 | Y13: FGTS | Z13: 0.08 | AJ13: =(AJ10/AJ11) -> 0.87000003
B14: Piso Categoria | C14: 1966.73 | G14: Soprador | H14: 1 | I14: =((1500*60)/120/1000) -> 0.75 | L14: Calçado de segurança | M14: 2 | N14: ='Documentos Base'!B9 -> 151.9 | O14: =N14*M14 -> 303.8 | P14: =O14/12 -> 25.316667 | R14: Rateio pelo quantitativo | S14: =S12/S13 -> 58.153846 | X14: Encargos Sociais (A) | Z14: =SUM(Z6:Z13) -> 0.368
B15: Piso Categoria Proporcional 44 horas | C15: =C14/220*220 -> 1966.73 | G15: Produtividade em m² | L15: Boné Árabe | M15: 2 | N15: ='Documentos Base'!B10 -> 10.416667 | O15: =N15*M15 -> 20.833333 | P15: =O15/12 -> 1.7361111 | X15: B.1 | Y15: Provisão Férias | Z15: 0.0833
B16: Percentual Insalubridade | C16: 0.4 | G16: Atividade | H16: Quant. | I16: Produtividade dia (m²) | J16: Produtividade Mês (m²) | L16: Colete reflexivo | M16: 2 | N16: ='Documentos Base'!B11 -> 37.9 | O16: =N16*M16 -> 75.8 | P16: =O16/12 -> 6.3166667 | X16: B.2 | Y16: Provisão 1/3 Férias | Z16: 0.0278
B17: Valor Insalubridade | C17: =C14*C16 -> 786.692 | G17: Roçar | H17: 1 | I17: =(650/2/3)*J10 -> 845 | J17: =I17*21 -> 17745 | L17: Luva de proteção | M17: 12 | N17: ='Documentos Base'!B12 -> 25.9 | O17: =N17*M17 -> 310.8 | P17: =O17/12 -> 25.9 | R17: Ferramentas e Equipamentos | X17: B.3 | Y17: Provisão 13º Salário | Z17: 0.0833
B18: Auxilio Alimentação diário | C18: 27.15 | G18: Soprar e Recolher | H18: 1 | I18: =300*J10 -> 2340 | J18: =I18*21 -> 49140 | L18: Óculos de proteção | M18: 2 | N18: ='Documentos Base'!B13 -> 6.55 | O18: =N18*M18 -> 13.1 | P18: =O18/12 -> 1.0916667 | R18: Discriminação | S18: Quant. Anual | T18: V. Unitário | U18: V. Total | V18: V. Mensal | X18: B.4 | Y18: Encargos Sociais ( Grupo A) ¹ | Z18: =(Z17)*Z14 -> 0.0306544 | AJ18: =AJ10/AJ11 -> 0.87000003
B19: Auxilio Alimentação Mensal (Média 21 dias úteis) | C19: =C18*21 -> 570.15 | L19: Protetor auricular | M19: 12 | N19: ='Documentos Base'!B14 -> 4.27 | O19: =N19*M19 -> 51.24 | P19: =O19/12 -> 4.27 | R19: Roçadeira costal | S19: 9 | T19: 3100 | U19: =T19*S19 -> 27900 | V19: =U19/12 -> 2325 | X19: 13º e Férias | Z19: =SUM(Z15:Z18) -> 0.2250544 | AJ19: =AJ13*AJ11 -> 136848.95
B20: - Desconto alimentação: 19% ¹ | C20: =-C19*19% -> -108.3285 | L20: Protetor solar FPS 30 | M20: 12 | N20: ='Documentos Base'!B15 -> 22.04 | O20: =N20*M20 -> 264.48 | P20: =O20/12 -> 22.04 | R20: Soprador | S20: 3 | T20: 2340.5 | U20: =T20*S20 -> 7021.5 | V20: =U20/12 -> 585.125 | X20: C.1 | Y20: Aviso Prévio Indenizado (Salário) | Z20: 0.0833
B21: Valor Líquido Auxilio Alimentação | C21: =C19+C20 -> 461.8215 | L21: Capa de chuva amarela com reflexivo | M21: 1 | N21: ='Documentos Base'!B16 -> 31.25 | O21: =N21*M21 -> 31.25 | P21: =O21/12 -> 2.6041667 | R21: Enxada de Pequeno porte | S21: 3 | T21: ='Documentos Base'!B31 -> 87.9 | U21: =T21*S21 -> 263.7 | V21: =U21/12 -> 21.975 | X21: C.2 | Y21: 1/12 avos de 13 Aviso Prévio | Z21: =Z20/12 -> 0.0069416667
B22: Vale Transporte diário | C22: 5.6 | G22: Pessoas para a execução | L22: Proteção Facial | M22: 1 | N22: ='Documentos Base'!B17 -> 46.68 | O22: =N22*M22 -> 46.68 | P22: =O22/12 -> 3.89 | R22: Pá de Concha | S22: 3 | T22: ='Documentos Base'!B32 -> 30.99 | U22: =T22*S22 -> 92.97 | V22: =U22/12 -> 7.7475 | X22: C.3 | Y22: 1/12 avos de Férias | Z22: =Z21 -> 0.0069416667
B23: Vale transporte ² (Média 21 dias úteis) | C23: =C22*21*2 -> 235.2 | G23: Cargo | H23: Produtividade mês | I23: Quantidade de Pessoas | L23: Perneira | M23: 2 | N23: ='Documentos Base'!B18 -> 34 | O23: =N23*M23 -> 68 | P23: =O23/12 -> 5.6666667 | R23: Vassoura | S23: 6 | T23: ='Documentos Base'!B33 -> 33.99 | U23: =T23*S23 -> 203.94 | V23: =U23/12 -> 16.995 | X23: C.4 | Y23: 1/12 avos de 1/3 Férias | Z23: =Z22/3 -> 0.0023138889
B24: - Desconto Vale Transporte: 6% | C24: =-C15*6% -> -118.0038 | G24: Roçador | H24: =J17 -> 17745 | I24: =157297.64/H24 -> 8.8643359 | L24: Luva Anti Vibração | M24: 2 | N24: 94.15 | O24: =N24*M24 -> 188.3 | P24: =O24/12 -> 15.691667 | R24: Sacos Plásticos 100 litros | S24: =800*12 -> 9600 | T24: 0.43 | U24: =T24*S24 -> 4128 | V24: =U24/12 -> 344 | X24: C.6 | Y24: Multa de FGTS (40%) | Z24: =Z13*40% -> 0.032
B25: Valor Líquido Vale Transporte | C25: =C23+C24 -> 117.1962 | G25: Varredor (Soprador | H25: =J18 -> 49140 | I25: =157297.64/H25 -> 3.2010102 | L25: Avental de raspa | M25: 1 | N25: ='Documentos Base'!B20 -> 31.25 | O25: =N25*M25 -> 31.25 | P25: =O25/12 -> 2.6041667 | R25: Vassoura de aço | S25: 3 | T25: 48.95 | U25: =T25*S25 -> 146.85 | V25: =U25/12 -> 12.2375 | X25: C.7 | Y25: Encargos Sociais ( Grupo A) | Z25: =Z21*Z14 -> 0.0025545333
B26: Plano de Benefício Social | C26: =25.52+0.00021 -> 25.52021 | L26: Jaleco manga longa | M26: 2 | N26: 100 | O26: =N26*M26 -> 200 | P26: =(O26/12)- 0.00111 -> 16.665557 | R26: Enxada larga | S26: 3 | T26: ='Documentos Base'!B36 -> 71.9 | U26: =T26*S26 -> 215.7 | V26: =U26/12 -> 17.975 | X26: Indenizações Resciórias | Z26: =SUM(Z20:Z25) -> 0.13405176
B27: Prêmio Assiduidade | C27: 80 | L27: Total EPI | N27: =SUM(N10:N26) -> 955.25667 | O27: =SUM(O10:O26) -> 2634.7333 | P27: =SUM(P10:P26) -> 219.56 | R27: Carrinho de mão | S27: 3 | T27: ='Documentos Base'!B37 -> 177.69 | U27: =T27*S27 -> 533.07 | V27: =U27/12 -> 44.4225 | X27: Somatório Total | Z27: =Z26+Z19+Z14 -> 0.72710616
B28: Percentual Encargos Sociais e Rescisórios | C28: =$Z$27 -> 0.72710616 | R28: Recipiente para gasolina, C/ bico (20L) | S28: 12 | T28: 57.75 | U28: =T28*S28 -> 693 | V28: =U28/12 -> 57.75 | X28: ¹ Considerado Férias Indenizadas na rescisão, sem encargos sociais
B29: Encargos Sociais e Rescisórios | C29: =(C15+C17)*C28 -> 2002.0301 | L29: Categoria Profissional: Varredor - CBO 5142 - 44 horas | R29: Faca/Lâmina para roçadeira | S29: 9 | T29: 44.88 | U29: =T29*S29 -> 403.92 | V29: =U29/12 -> 33.66
B30: VALOR TOTAL | C30: =C29+C26+C25+C21+C17+C15+C27 -> 5439.99 | L30: Informações Base | R30: Fio de Nylon - 226 metros (em rolo) | S30: =((((4*C11))*21)/226)*12 -> 40.141593 | T30: 154 | U30: =T30*S30 -> 6181.8053 | V30: =U30/12 -> 515.15044 | Y30: CUSTOS TRIBUTÁRIOS E LUCRATIVIDADE
B31: ¹ Realizar Cadastramento no PAT | L31: Mão de Obra | M31: Quantitativo | N31: V. Unitário | O31: V. Total | P31: V. Mensal | R31: Gasolina pura - litros | S31: =(((I13*7.8*9)*21)+(I14*7.8*3)*21)*12 -> 18574.92 | T31: 5.89 | U31: =T31*S31 -> 109406.28 | V31: =(U31/12) -> 9117.1899 | Y31: Calculado com base com tributação do Geral
B32: ² Transporte Urbano Municipal | L32: Jaqueta com reflexivo | M32: 2 | N32: ='Documentos Base'!B5 -> 155 | O32: =N32*M32 -> 310 | P32: =O32/12 -> 25.833333 | R32: Óleo dois tempos - litros | S32: =S31/50 -> 371.4984 | T32: 80 | U32: =T32*S32 -> 29719.872 | V32: =U32/12 -> 2476.656
L33: Calça | M33: 4 | N33: ='Documentos Base'!B6 -> 120.65 | O33: =N33*M33 -> 482.6 | P33: =O33/12 -> 40.216667 | R33: Total | S33: =SUM(S19:S32) -> 28640.56 | T33: =SUM(T19:T32) -> 6234.87 | U33: =SUM(U19:U32) -> 186910.61 | V33: =SUM(V19:V32) -> 15575.884 | Y33: Informações Base Mensal
B34: Categoria Profissional: Varredor (Soprador) - CBO 5142 - 44 horas | L34: Camisa manga curta | M34: 4 | N34: ='Documentos Base'!B7 -> 35 | O34: =N34*M34 -> 140 | P34: =O34/12 -> 11.666667 | Y34: Discriminação | Z34: Percentual
B35: Informações Base | L35: Camisa manga longa | M35: 2 | N35: ='Documentos Base'!B8 -> 48.3 | O35: =N35*M35 -> 96.6 | P35: =O35/12 -> 8.05 | Y35: ISS | Z35: 0.03
B36: Mão de Obra | C36: Quantitativo | L36: Calçado de segurança | M36: 2 | N36: ='Documentos Base'!B9 -> 151.9 | O36: =N36*M36 -> 303.8 | P36: =O36/12 -> 25.316667 | R36: Rateio das Ferramentas e Equipamentos | Y36: PIS | Z36: 0.0065
B37: Varredor | C37: 3 | L37: Boné Árabe | M37: 2 | N37: ='Documentos Base'!B10 -> 10.416667 | O37: =N37*M37 -> 20.833333 | P37: =O37/12 -> 1.7361111 | R37: Custo Total | S37: =V33 -> 15575.884 | Y37: COFINS | Z37: 0.03
B38: Horas Semanais | C38: 1.8333333 | L38: Colete reflexivo | M38: 2 | N38: ='Documentos Base'!B11 -> 37.9 | O38: =N38*M38 -> 75.8 | P38: =O38/12 -> 6.3166667 | R38: Qantitativo Total | S38: 12 | Y38: IRPJ ¹ | Z38: =((100*32%)*15%)/100 -> 0.048
B39: Horas Mensais (horas + repouso) | C39: 9.1666667 | L39: Luva de proteção | M39: 12 | N39: ='Documentos Base'!B12 -> 25.9 | O39: =N39*M39 -> 310.8 | P39: =O39/12 -> 25.9 | R39: Rateio pelo quantitativo | S39: =S37/S38 -> 1297.9903 | Y39: Adicional IRPJ ² | Z39: =(((100*32%)-20)*10%)/100 -> 0.012
B40: Piso Categoria | C40: 1966.73 | L40: Óculos de proteção | M40: 2 | N40: ='Documentos Base'!B13 -> 6.55 | O40: =N40*M40 -> 13.1 | P40: =O40/12 -> 1.0916667 | Y40: Contribuição Social ³ | Z40: =((100*32%)*9%)/100 -> 0.0288
...

Sheet Documentos Base
A4: EPI
A5: Jaqueta com reflexivo | B5: 155 | C5: https://produto.mercadolivre.com.br/MLB-3144184245-jaqueta-com-refletivo-2-bolsos-laterais-forrada-manta-grossa-_JM?matt_tool=51094617&matt_internal_campaign_id=&matt_word=&matt_source=google&matt_campaign_id=22090354046&matt_ad_group_id=173090527396&matt_match_type=&matt_network=g&matt_device=c&matt_creative=727882727028&matt_keyword=&matt_ad_position=&matt_ad_type=pla&matt_merchant_id=705550631&matt_product_id=MLB3144184245-176390697627&matt_product_partition_id=2387573780376&matt_target_id=pla-2387573780376&cq_src=google_ads&cq_cmp=22090354046&cq_net=g&cq_plt=gp&cq_med=pla&gad_source=1&gad_campaignid=22090354046&gbraid=0AAAAAD93qcBe4cp9r87liAOCm8hutpIqG&gclid=EAIaIQobChMIjY_y9OrOjwMVolRIAB2vbz3YEAQYASABEgJV__D_BwE
A6: Calça | B6: 120.65 | C6: https://www.preveoeste.com.br/calca-brim-azul-royal-com-elastico-396-p143518
A7: Camisa manga curta | B7: 35 | C7: https://proformes.com.br/produto/camiseta-gola-redonda-cinza/
A8: Camisa manga longa | B8: 48.3 | C8: https://www.lojauniformes.com.br/area-da-saude/camiseta-manga-longa-unissex?variant_id=15009&parceiro=4585&gad_source=1&gad_campaignid=16877447991&gbraid=0AAAAADG0hHqCZOaHgKC5CK-hM08j3cs92&gclid=EAIaIQobChMItb-BoPjOjwMVRF5IAB1uBwCXEAQYASABEgIDuPD_BwE
A9: Calçado de segurança | B9: 151.9 | C9: https://www.preveoeste.com.br/botina-preta-biqueira-composite-palmilha-antiperfuro-ca-49088-2271-p144457
A10: Boné | B10: =31.25/3 -> 10.416667 | C10: https://www.preveoeste.com.br/bone-epi-arabe-sol-helanca-ca-44963-azul-3-unidades-kt1828-p141084
A11: Colete reflexivo | B11: 37.9 | C11: https://www.preveoeste.com.br/colete-refletivo-sem-bolso-com-ziper-steelflex-1756-p139522
A12: Luva de proteção | B12: 25.9 | C12: https://produto.mercadolivre.com.br/MLB-1622726632-par-luva-jardim-jardineiro-jardinagem-rocador-luvas-ss1005-_JM?matt_tool=48995110&matt_internal_campaign_id=&matt_word=&matt_source=google&matt_campaign_id=22603531562&matt_ad_group_id=181244933895&matt_match_type=&matt_network=g&matt_device=c&matt_creative=758138322200&matt_keyword=&matt_ad_position=&matt_ad_type=pla&matt_merchant_id=249882364&matt_product_id=MLB1622726632&matt_product_partition_id=2424443221566&matt_target_id=pla-2424443221566&cq_src=google_ads&cq_cmp=22603531562&cq_net=g&cq_plt=gp&cq_med=pla&gad_source=1&gad_campaignid=22603531562&gbraid=0AAAAAD93qcDNMM_aJYLiF7qZ7233h36I1&gclid=EAIaIQobChMI76Tf4_7OjwMVA2FIAB2yExO2EAQYAyABEgJPcfD_BwE
A13: Óculos de proteção | B13: 6.55 | C13: https://www.preveoeste.com.br/oculos-de-protecao-incolor-argon-ca-35765-libus-2014-p140955
A14: Protetor auricular | B14: 4.27 | C14: https://www.preveoeste.com.br/protetor-auricular-pomp-plus-com-cordao-ca-5745-3m-543-p2424
A15: Protetor solar com repelente FPS 30 | B15: 22.04 | C15: https://www.preveoeste.com.br/protetor-solar-30-fps-com-repelente-120ml-nutriex-1969-p140409
A16: Capa de chuva amarela com reflexivo | B16: 31.25 | C16: https://www.preveoeste.com.br/capa-pvc-amarela-130m-com-forro-e-capuz-ca-28622-capere-415-p143485
A17: Proteção Facial | B17: 46.68 | C17: https://produto.mercadolivre.com.br/MLB-974145885-proteco-facial-telado-aco-para-rocadeira-motosserra-_JM?searchVariation=36061696308#polycard_client=search-nordic&searchVariation=36061696308&search_layout=stack&position=2&type=item&tracking_id=54470d70-fb21-410a-96ee-2a398645874f
A18: Perneira | B18: 34 | C18: https://produto.mercadolivre.com.br/MLB-3493280677-perneira-profissional-bidim-resistente-com-velcro-e-presilha-_JM?matt_tool=48995110&matt_internal_campaign_id=&matt_word=&matt_source=google&matt_campaign_id=22603531562&matt_ad_group_id=181244933895&matt_match_type=&matt_network=g&matt_device=c&matt_creative=758138322200&matt_keyword=&matt_ad_position=&matt_ad_type=pla&matt_merchant_id=5372719795&matt_product_id=MLB3493280677&matt_product_partition_id=2424443221566&matt_target_id=pla-2424443221566&cq_src=google_ads&cq_cmp=22603531562&cq_net=g&cq_plt=gp&cq_med=pla&gad_source=1&gad_campaignid=22603531562&gbraid=0AAAAAD93qcDNMM_aJYLiF7qZ7233h36I1&gclid=EAIaIQobChMI-ofRvYPPjwMVeZbuAR32twf4EAQYAiABEgJfHvD_BwE
A19: Luva Proteção Anti Vibração | B19: 94.15 | C19: https://www.superepi.com.br/luva-de-protecao-antivibrcao-e-impacto-delta-plus-nysos-ca-41405-p1048915?tsid=16&gad_source=1&gad_campaignid=21872091581&gbraid=0AAAAADtYNEo2-WNHYOS5BS6M3epkjQR3A&gclid=EAIaIQobChMI6cLSnYfPjwMVMUVIAB1NDyoAEAQYAyABEgKHlvD_BwE
A20: Avental de raspa | B20: 31.25 | C20: https://produto.mercadolivre.com.br/MLB-5228843990-avental-para-seguranca-proteco-operador-de-rocadeira-_JM#polycard_client=search-nordic&search_layout=grid&position=5&type=item&tracking_id=e3c86a7b-5c9d-4fc4-9681-6c1278acf841&wid=MLB5228843990&sid=search
A21: Jaleco manga longa | B21: 100
A23: EPC
A24: ='Detalhamento do cálculo'!L63 -> Cones de sinalização | B24: 29.99 | C24: https://www.mercadolivre.com.br/10-cones-sinalizaco-laranjabranco-pvc-75cm-trnsito-grande/p/MLB46157783?pdp_filters=item_id%3AMLB4072886629&from=gshop&matt_tool=45048704&matt_internal_campaign_id=&matt_word=&matt_source=google&matt_campaign_id=22090354304&matt_ad_group_id=173090584236&matt_match_type=&matt_network=g&matt_device=c&matt_creative=727882731540&matt_keyword=&matt_ad_position=&matt_ad_type=pla&matt_merchant_id=735098660&matt_product_id=MLB46157783-product&matt_product_partition_id=2388008876306&matt_target_id=pla-2388008876306&cq_src=google_ads&cq_cmp=22090354304&cq_net=g&cq_plt=gp&cq_med=pla&gad_source=1&gad_campaignid=22090354304&gbraid=0AAAAAD93qcDDENWSkm2FQSAHTRclwjW1P&gclid=EAIaIQobChMIjv2vj7_RjwMVfFVIAB1mUxS1EAQYASABEgIvLvD_BwE
A25: ='Detalhamento do cálculo'!L64 -> Rede de proteção | B25: 1625 | C25: https://www.mercadolivre.com.br/protetor-de-rocagem-flexivel-50m-x-15m-altura-47420017/up/MLBU1093277741#polycard_client=search-nordic&search_layout=grid&position=19&type=product&tracking_id=de11f135-779d-4c61-8952-199386e0ec41&wid=MLB1796655563&sid=search
A26: ='Detalhamento do cálculo'!L65 -> Fita de isolamento | B26: 33.26 | C26: https://www.mercadolivre.com.br/plastcor-fita-zebrada-zebrada-unidade-1-200-m-7-cm/p/MLB36534095?product_trigger_id=MLB27327339&pdp_filters=item_id%3AMLB3502776881&applied_product_filters=MLB27327339&from=gshop&picker=true&matt_tool=45048704&matt_internal_campaign_id=&matt_word=&matt_source=google&matt_campaign_id=22090354304&matt_ad_group_id=173090584236&matt_match_type=&matt_network=g&matt_device=c&matt_creative=727882731540&matt_keyword=&matt_ad_position=&matt_ad_type=pla&matt_merchant_id=735125422&matt_product_id=MLB27327339-product&matt_product_partition_id=2419083544924&matt_target_id=pla-2419083544924&cq_src=google_ads&cq_cmp=22090354304&cq_net=g&cq_plt=gp&cq_med=pla&gad_source=1&gad_campaignid=22090354304&gbraid=0AAAAAD93qcDDENWSkm2FQSAHTRclwjW1P&gclid=EAIaIQobChMIqJ3YqMHRjwMVvypECB2Mmi40EAQYAiABEgJOH_D_BwE&quantity=1
A28: FERRAMENTAS E EQUIPAMENTOS
A29: Roçadeira costal | B29: 3100
A30: Soprador | B30: 2340.5
A31: Enxada de Pequeno porte | B31: 87.9 | C31: https://www.leroymerlin.com.br/enxada-estreita-com-cabo-25x145,4cm-tramontina_91975184?region=outros&srsltid=AfmBOopUQAT0AIaF2yG-qH3wJVTbUEqQqbMBrHcLYWPENp7wvrtjKZ-Ouoc&region_id=52000
A32: Pá de Concha | B32: 30.99 | C32: https://www.fg.com.br/pa-ajuntadeira-quadrada-nr-3-com-cabo-y---nove54/p
A33: Vassoura | B33: 33.99 | C33: https://www.fg.com.br/vassoura-tipo-gari-cepa-de-madeira-65-cm-5-fileiras-com-cabo---nove54/p
A34: Sacos Plásticos 100 litros | B34: =43.9/100 -> 0.439 | C34: https://www.jaledistribuidora.com.br/sacos-para-lixo/pretos/sacos-para-lixo-100l-preto-elaj-reforcado-c100un
A35: Vassoura de aço | B35: 48.99 | C35: https://www.fg.com.br/vassoura-de-aco-regulavel-22-dentes-com-cabo-77840-721---tramontina/p
A36: Enxada larga | B36: 71.9 | C36: https://www.lojadomecanico.com.br/produto/133387/31/327/enxada-larga-25-cabo-de-madeira-145-cm-tramontina-77254754/153/?srsltid=AfmBOorVJzkhSJPiTzzrk1h4NISbSQyGlgQQcL7iOf-7ihSg_GtKxMU6TCM
A37: Carrinho de mão | B37: 177.69 | C37: https://www.leroymerlin.com.br/carrinho-de-mao-em-aco-carbono-pneu-macico-chapa-26mm-45l_1571958083?referrer=category-page
A38: Recipiente para gasolina, com bico (20L) | B38: 57.76 | C38: https://www.santeconline.com.br/galao-plastico-azul-20-litros-1411-cipla-39748
A39: Faca/Lâmina para roçadeira | B39: 44.88 | C39: https://www.mercadolivre.com.br/lamina-de-3-pontas-para-rocadeiras-255-mm-x-254-mm-vonder/up/MLBU2708580555?pdp_filters=item_id:MLB5163307964
A40: Fio de Nylon 226 metros | B40: 154 | C40: https://www.amazon.com.br/Nylon-Ro%C3%A7adeira-Quadrado-Toyama-Vulcan/dp/B0CK3XXG8S/ref=asc_df_B0CK3XXG8S?mcid=269d09c4fbe6318dad93ac2358db717d&tag=googleshopp00-20&linkCode=df0&hvadid=709885039561&hvpos=&hvnetw=g&hvrand=11707318808001632177&hvpone=&hvptwo=&hvqmt=&hvdev=c&hvdvcmdl=&hvlocint=&hvlocphy=20104&hvtargid=pla-2245025115096&psc=1&language=pt_BR&gad_source=1
A41: Gasolina pura | B41: 5.89 | C41: Postos da região
A42: Óleo dois tempos 500 ml | B42: 42.53 | C42: https://www.mercadolivre.com.br/oleo-castrol-8017h-500ml-stihl/p/MLB20953468#polycard_client=search-nordic&search_layout=stack&position=3&type=product&tracking_id=b3a7f45e-f749-43ff-be8d-ec104766eff8&wid=MLB3420112954&sid=search
A43: Proporção Gasolina x Oleo dois tempos | C43: https://www.stihl.com.br/pt/dicas/manutencao/dicas-para-rocadeiras/mistura-combustivel-rocadeira

Sheet BDI
A2: Componente | B2: Percentual | C2: Observação
A3: Administração central | B3: =('Detalhamento do cálculo'!C81+'Detalhamento do cálculo'!S12+'Detalhamento do cálculo'!P57)/12/100/100 -> 0.051655613 | C3: Custos indiretos da sede
A4: Seguros e garantias | B4: 0.01 | C4: Seguro civil, garantias contratuais
A5: Riscos e contingências | B5: ='Detalhamento do cálculo'!Z7 -> 0.03 | C5: Imprevistos operacionais
A6: Lucro | B6: ='Detalhamento do cálculo'!Z41 -> 0.1499999 | C6: Margem da empresa
A7: Subtotal (antes dos tributos) | B7: =SUM(B3:B6) -> 0.24165551 | C7: Soma dos itens acima
A8: Tributos (IRPJ, CSLL, PIS, COFINS, ISS) | B8: ='Detalhamento do cálculo'!Z35+'Detalhamento do cálculo'!Z36+'Detalhamento do cálculo'!Z37+'Detalhamento do cálculo'!Z38+'Detalhamento do cálculo'!Z40 -> 0.1433 | C8: Lucro Presumido – serviços
A9: BDI Final | B9: =B8+B7 -> 0.38495551 | C9: Aplicado sobre o custo direto

Sheet Memória de Cálculo
A2: MEMÓRIA DE CALCULO
A4: Este projeto básico apresenta o resultado de um estudo desenvolvido junto a Prefeitura de Nova Prata, no que tange aos serviços de corte de grama e roçadas urbanas por m², incluso a limpeza de bocas de lobo, roçada com acabamento de meio fio, varrição manual e, soprada com recolhimento de resíduos, raspagem e capina manual, a fim de atender as necessidades da Secretaria de obras saneamento.
A5: A contratação se dará por m² (metro quadrado).
A6: Todos os parâmetros, fórmulas e teorias aplicadas nesse trabalho foram buscadas, principalmente em licitações de igual serviço e legislação vigente.
A7: O corte de Grama e roçadas deverá ser realizado em uma área que compreende o total de 157.297.64 m² a ser executado dentro da localidade do Munícipio de Nova Prata, conforme mapeamento realizado com suas respectivas áreas
A8: A Contratante, a seu critério, de acordo com as necessidades dos serviços, poderá determinar alteração no número de cortes, roçadas, limpezas, varrições, sopradas e capinas de forma a manter a limpeza e harmonização de toda a vegetação do município a serem realizadas nas vias e logradouros públicos, ajustando se necessário a quantidade de máquinas, combustíveis, servidores e equipamentos que se fizerem necessários para o bom andamento dos serviços e conclusão da metragem determinada.
A10: 1. MÃO DE OBRA
A12: A partir do dimensionamento dos cargos necessários para a execução do objeto estabeleceu-se o detalhamento por cargo dos custos relacionados a mão de obra
A14: 1.1. Piso Salarial e Convenções Coletivas:
A15: O custo da mão de obra foi estimado, no projeto básico, com base no piso salarial estabelecido nas convenções coletivas de cada categoria profissional. A convenção utilizada foi a que abrange a cidade de Nova Prata, onde o serviço será prestado.
A16: Todos os direitos e os benefícios previstos às categorias de trabalhadores envolvidos em uma prestação de serviços desta natureza, estabelecidos nas convenções coletivas, na Consolidação das Leis Trabalhistas (CLT) e em outros dispositivos legais aplicáveis à situação, foram considerados na planilha orçamentária do projeto básico.
A17: Portanto, as propostas por parte da empresa devem estar de acordo com os salários determinados nas planilhas orçamentarias, também se recomenda previsão, no edital e no contrato que a repactuação da parcela de mão de obra será realizada a partir dos índices das Convenções Coletivas em suas datas-bases.
... A77: Diante das variáveis e da literautua admistrativa da área de serviços, taxa de lucro considerada foi de 15,00%.
